Workbook

Sheet RESUM
G2: =B21 -> MAC QT 315 L | N2: Codi | O2: DT-QT 315 L
N3: Edició | O3: 08
G4: - Fitxa Tècnica - | N4: Pàgina | O4: 1 de 2
N5: Data | O5: 45239
B8: =B21 -> MAC QT 315 L | C8: =C21 -> MAC QI 315 L | D8: =D21 -> MAC QI 315 L | E8: =E21 -> MAC QI 315 L | F8: =F21 -> MAC QI 315 L | G8: =G21 -> MAC QI 315 L | H8: =H21 -> MAC QI 315 L | I8: =I21 -> MAC QI 315 L | ... O8: =O21 -> 0
B9: =B22 -> A61 | C9: =C22 -> B61 | D9: =D22 -> C61 | E9: =E22 -> D61 | F9: =F22 -> E61 | G9: =G22 -> F61 | H9: =H22 -> C62 | I9: =I22 -> D62 | ... O9: =O22 -> 0
A10: Pols | B10: 6 | C10: =B10 -> 6 | D10: =C10 -> 6 | E10: =D10 -> 6 | F10: =E10 -> 6 | G10: =F10 -> 6 | H10: =G10 -> 6 | I10: =H10 -> 6 | J10: =I10 -> 6 | ... O10: =N10 -> 6
A11: Nm | B11: 6200 | C11: 6200 | D11: 6200 | E11: 6200 | F11: 6200 | G11: 6200 | H11: 6200 | I11: 5900 | J11: 5600 | K11: 5200
A12: rpm | B12: 347.58 | C12: 387.44 | D12: 427.856 | E12: 487.75 | F12: 567.472 | G12: 667.488 | H12: 767.91 | I12: 868.56 | J12: 1008.984 | K12: 1189.8
A13: KW | B13: 225.67065 | C13: 251.55026 | D13: 277.79085 | E13: 316.67778 | F13: 368.43828 | G13: 433.37492 | H13: 498.57515 | I13: 536.6368 | J13: 591.69912 | K13: 647.89694
A14: V | B14: 400 | C14: 400 | D14: 400 | E14: 400 | F14: 400 | G14: 400 | H14: 400 | I14: 400 | J14: 400 | K14: 400
A15: A | B15: 423.59939 | C15: 466.18116 | D15: 515.66082 | E15: 580.251 | F15: 666.63124 | G15: 777.67119 | H15: 891.29534 | I15: 960.36103 | J15: 1055.7431 | K15: 1158.8952
A16: Hz | B16: 18 | C16: 20 | D16: 22 | E16: 25 | F16: 29 | G16: 34 | H16: 39 | I16: 44 | J16: 51 | K16: 60
A17: Cos fi | B17: 0.84433268 | C17: 0.84837008 | D17: 0.84058963 | E17: 0.84483371 | F17: 0.84934065 | G17: 0.8498193 | H17: 0.84852236 | I17: 0.8436502 | J17: 0.84285534 | K17: 0.83786395
A18: Rend / eff. | B18: 0.91072139 | C18: 0.91804524 | D18: 0.9250158 | E18: 0.93241625 | F18: 0.93923995 | G18: 0.94649985 | H18: 0.9515357 | I18: 0.95601101 | J18: 0.95977406 | K18: 0.96309166
A19: J (Kg m2) | B19: 13.89 | C19: 13.89 | D19: 13.89 | E19: 13.89 | F19: 13.89 | G19: 13.89 | H19: 13.89 | I19: 13.89 | J19: 13.89 | K19: 13.89
B20: ESQUEMA EQUIVALENTE POR FASE EN ESTRELLA / PHASE STAR EQUIVALENT SCHEMA
B21: MAC QT 315 L | C21: MAC QI 315 L | D21: MAC QI 315 L | E21: MAC QI 315 L | F21: MAC QI 315 L | G21: MAC QI 315 L | H21: MAC QI 315 L | I21: MAC QI 315 L | J21: MAC QI 315 L | K21: MAC QI 315 L | M21: 0 | N21: 0 | O21: 0
B22: A61 | C22: B61 | D22: C61 | E22: D61 | F22: E61 | G22: F61 | H22: C62 | I22: D62 | J22: E62 | K22: F62
A23: Rs (mOhm) | B23: 20.779779 | C23: 17.222349 | D23: 13.982839 | E23: 11.003619 | F23: 8.4492521 | G23: 6.0976267 | H23: 4.6609462 | I23: 3.6678731 | J23: 2.8164174 | K23: 2.0325422
A24: Rr (mOhm) | B24: 18.251806 | C24: 15.00676 | D24: 12.094651 | E24: 9.509553 | F24: 7.2459868 | G24: 5.2987451 | H24: 3.9559379 | I24: 3.1117458 | J24: 2.3720454 | K24: 1.7352968
A25: Rfe (Ohm) | B25: 56.054576 | C25: 50.418094 | D25: 44.029135 | E25: 38.352581 | F25: 32.627246 | G25: 26.803988 | H25: 22.116624 | I25: 18.876746 | J25: 15.74761 | K25: 12.68671
A26: Ls (mH) | B26: 0.70089962 | C26: 0.57925473 | D26: 0.46919727 | E26: 0.37072375 | F26: 0.28383538 | G26: 0.20853212 | H26: 0.15639909 | I26: 0.12357458 | J26: 0.094611795 | K26: 0.069510706
A27: Lr (mH) | B27: 0.57046953 | C27: 0.46842361 | D27: 0.38263137 | E27: 0.30037724 | F27: 0.22829367 | G27: 0.16748885 | H27: 0.12634984 | I27: 0.10067238 | J27: 0.077326396 | K27: 0.057400885
A28: Lm (mH) | B28: 12.582191 | C28: 10.609447 | D28: 8.2729963 | E28: 6.6694262 | F28: 5.1986685 | G28: 3.8360302 | H28: 2.8188793 | I28: 2.2145843 | J28: 1.7145461 | K28: 1.2697668
A29: Ts (s) | B29: 0.63923156 | C29: 0.64966176 | D29: 0.62520879 | E29: 0.63980312 | F29: 0.64887446 | G29: 0.66330106 | H29: 0.63834215 | I29: 0.63746995 | J29: 0.64236142 | K29: 0.65891741
A30: Tr (s) | B30: 0.72062239 | C30: 0.73819205 | D30: 0.7156575 | E30: 0.73292651 | F30: 0.74896108 | G30: 0.75555984 | H30: 0.74450843 | I30: 0.74403786 | J30: 0.75541239 | K30: 0.76480732
A31: Kt | B31: 63.263681 | C31: 57.51238 | D31: 51.761194 | E31: 46.009949 | F31: 40.258706 | G31: 34.507463 | H31: 29.884339 | I31: 26.563856 | J31: 23.243375 | K31: 19.922893
A32: Im (A/fase) | B32: 143.9823 | C32: 154.1579 | D32: 180.23627 | E32: 197.40415 | F32: 218.82332 | G32: 253.86341 | H32: 303.17013 | I32: 343.6836 | J32: 384.51693 | K32: 443.82809

Sheet driving mode datasheet
L1: Codigo | M1: =RESUM!O2 -> DT-QT 315 L
D2: =RESUM!G2 -> MAC QT 315 L | L2: Edición | M2: =RESUM!O3 -> 08
D3: - Hoja de Datos Técnicos Modo Motor - | L3: Página | M3: 1 de 3
D4: - Driving mode Technical Datasheet - | L4: Fecha | M4: =RESUM!O5 -> 45239
A7: Ventilador / Fan | E7: Rodamientos | G7: Delantero | H7: 6024 ZZ C3 | J7: Trasero | M7: 6024 ZZ C3
A8: Tipo de Refrigeración | C8: IC 06 | E8: Bearings | G8: Drive End | J8: Non Drive End
A9: Cooling Mode | E9: Nº de polos | F9: =RESUM!B10 -> 6 | G9: Momento de inercia | I9: =RESUM!B19 -> 13.89 | K9: Peso Motor | M9: 2275 | P9: 400V 50Hz | S9: IM B3
A10: Alimentación / Supply | E10: No of poles | G10: Rotor Inertia | K10: Motor Weight | P10: 480V 60Hz | Q10: 1 | S10: IM B35
A11: Potencia / Power | C11: =IF($Q$10=1,P11,IF($Q$10=2,Q11,"")) -> 4 KW | E11: Protección | G11: IP 23 | H11: Construcción | J11: IM B3 | K11: standard | L11: Equilibrado grado | N11: B | P11: 4 KW | Q11: 4 KW
A12: Corriente / Current | C12: =IF($Q$10=1,P12,IF($Q$10=2,Q12,"")) -> 7,4 A | E12: Protection Degree | H12: Mounting | J12: IM B35 | K12: on request | L12: Balancing degree | P12: 7,4 A | Q12: 7,4 A
A13: Velocidad / Speed | C13: =IF($Q$10=1,P13,IF($Q$10=2,Q13,"")) -> 2925rpm | E13: Nivel de ruido | G13: < 90 dB | I13: Velocidad máxima mecánica | L13: 4000 | P13: 2925rpm | Q13: 3500rpm
A14: Caudal / Air flow | C14: =IF($Q$10=1,P14,IF($Q$10=2,Q14,"")) -> 4000 m3/h | E14: Noise Level | I14: Max. Mechanical Speed | P14: 4000 m3/h | Q14: 4000 m3/h
A15: Presión / Pressure | C15: =IF($Q$10=1,P15,IF($Q$10=2,Q15,"")) -> 2450 Pa | E15: Aislamiento | F15: Cl. H | G15: Incremento Temperatura | I15: Cl. F | J15: Termistores | K15: PTC155º C | L15: Termómetros | N15: 3xPt100 | P15: 2450 Pa | Q15: 2450 Pa
A16: Por favor, indicar en los pedidos la alimentación deseada para el ventilador / Please indicate the required fan supply voltage when placing your order | E16: Insulation | G16: Temperature Rise | J16: Thermistors | L16: Thermometers
E17: Ambiente | F17: < 40 ºC < 1000 m | I17: Conmutación Variador | K17: 4 kHz ; IVIC C/B acc. EN60034-25
E18: Ambient | I18: Inverter Switching
A19: Normas de referencia | C19: EN60034 | D19: Sondas rodamientos | F19: 2 x Pt100 | G19: Alojamientos de los rodamientos eléctricamente aislados | K19: Anillo SGR de puesta a tierra del eje en NDE
A20: Reference Standards | D20: Bearing Probes | G20: Electrically insulated bearing housings | K20: SGR shaft grounding ring on NDE
A21: Tensión de Base del Motor | E21: Vb ± 5% | F21: 500 | H21: Tensión Máxima de Salida del Convertidor | L21: Vc | M21: 500
A22: Motor Base Voltage | H22: Inverter max. Output Voltage
F23: =IF(F21>500," Vb ha de ser / must be < 500 V"," ") | G23: =IF(M21>500," Vc ha de ser / must be < 500 V"," ") | N23: =IF(M21<F21,"Vc ha de ser / must be > Vb"," ")
B24: Servicio / Service | F24: S1 | H24: Servicio / Service S6 - | L24: 0.4 | M24: =IF(L24>80%,"max 80%","")
M25: =IF(L24<20%,"min 20%","")
A26: Bobinado Winding | B26: Nm | C26: A ± 2% | D26: KW | E26: rpm | F26: Hz | G26: Velocidad a Pot.Cte Const. Power Speed. (rpm) | H26: Nm | I26: A ± 5% | J26: KW | K26: rpm | L26: Hz | M26: Velocidad a Pot.Cte Const. Power Speed. (rpm) | N26: Corriente en vacio No Load Current (A) | O26: eff | P26: cos fi | Q26: Hz | R26: rpm | S26: rpm llisc. | U26: Nm S6 | V26: A S6 | W26: Alim | X26: Nm lim | Y26: rpm lim | Z26: KW lim | AA26: rpm lim KW s6 | AB26: rpm lim Nm s6 | AC26: rpm lim s1 | AD26: Coef
A27: =RESUM!B9 -> A61 | B27: =RESUM!B11 -> 6200 | C27: =RESUM!B15 -> 423.59939 | D27: =E27*$B27*PI()/30000 -> 284.10428 | E27: =(F27*120/$F$9-$S27) -> 437.58 | F27: =$Q27*$F$21/400 -> 22.5 | G27: =IF(AC27<$L$13,AC27,$L$13) -> 710.29329 | H27: =IF(U27<X27*0.95,U27,X27*0.95) -> 9232.2638 | I27: =MIN(V27:W27) -> 610.4389 | J27: =MIN(Z27,H27*E27*PI()/30000) -> 423.05252 | K27: =MIN(E27,M27) -> 437.58 | L27: =(K27+S27*H27/B27)*$F$9/120 -> 22.803715 | M27: =MIN($L$13,MAX(AB27,AA27)) -> 451.09655 | N27: =RESUM!B32 -> 143.9823 | O27: ='driving mode parameters'!B18 -> 0.92394433 | P27: ='driving mode parameters'!B17 -> 0.83819682 | Q27: =RESUM!B16 -> 18 | R27: =RESUM!B12 -> 347.58 | S27: =Q27*120/$F$9-R27 -> 12.42 | U27: =B27/((C27^2-N27^2)^0.5)*(V27^2-N27^2)^0.5 -> 9232.2638 | V27: =IF(AND($L$24>=20%,$L$24<=80%)=TRUE,((C27^2*0.9-N27^2*(1-$L$24))/$L$24)^0.5,0) -> 610.4389 | W27: =(((V27^2-N27^2)^0.5*X27/U27)^2+N27^2)^0.5 -> 893.39673 | X27: =X28 -> 13722.252 | Y27: =Y$32*F27/F$32*(B$32/B27)^0.5 -> 368.07886 | Z27: =X27*Y27*PI()/30000 -> 528.92597 | AA27: =AC27*(D27/J27)^(1/AD27) -> 451.09655 | AB27: =AC27*(B27*E27/AC27/H27)^(1/(1+AD27)) -> 443.84425 | AC27: =0.95*Y27*(Z27/D27)^(1/AD27) -> 710.29329 | AD27: ='limit 480V'!Z25 -> 0.877
A28: =RESUM!C9 -> B61 | B28: =RESUM!C11 -> 6200 | C28: =RESUM!C15 -> 466.18116 | D28: =E28*$B28*PI()/30000 -> 316.4765 | E28: =(F28*120/$F$9-$S28) -> 487.44 | F28: =$Q28*$F$21/400 -> 25 | G28: =IF(AC28<$L$13,AC28,$L$13) -> 786.92591 | H28: =IF(U28<X28*0.95,U28,X28*0.95) -> 9236.3476 | I28: =MIN(V28:W28) -> 673.30081 | J28: =MIN(Z28,H28*E28*PI()/30000) -> 471.46565 | K28: =IF(E28<M28,E28,M28) -> 487.44 | L28: =(K28+S28*H28/B28)*$F$9/120 -> 25.307553 | M28: =MIN($L$13,MAX(AB28,AA28)) -> 499.51282 | N28: =RESUM!C32 -> 154.1579 | O28: ='driving mode parameters'!C18 -> 0.92986574 | P28: ='driving mode parameters'!C17 -> 0.84301612 | Q28: =RESUM!C16 -> 20 | R28: =RESUM!C12 -> 387.44 | S28: =Q28*120/$F$9-R28 -> 12.56 | U28: =B28/((C28^2-N28^2)^0.5)*(V28^2-N28^2)^0.5 -> 9236.3476 | V28: =IF(AND($L$24>=20%,$L$24<=80%)=TRUE,((C28^2*0.9-N28^2*(1-$L$24))/$L$24)^0.5,0) -> 673.30081 | W28: =(((V28^2-N28^2)^0.5*X28/U28)^2+N28^2)^0.5 -> 985.86448 | X28: =X29 -> 13722.252 | Y28: =Y$32*F28/F$32*(B$32/B28)^0.5 -> 408.97651 | Z28: =X28*Y28*PI()/30000 -> 587.69553 | AA28: =AC28*(D28/J28)^(1/AD28) -> 499.51282 | AB28: =AC28*(B28*E28/AC28/H28)^(1/(1+AD28)) -> 493.04409 | AC28: =0.95*Y28*(Z28/D28)^(1/AD28) -> 786.92591 | AD28: =AD27 -> 0.877
A29: =RESUM!D9 -> C61 | B29: =RESUM!D11 -> 6200 | C29: =RESUM!D15 -> 515.66082 | D29: =E29*$B29*PI()/30000 -> 349.20972 | E29: =(F29*120/$F$9-$S29) -> 537.856 | F29: =$Q29*$F$21/400 -> 27.5 | G29: =IF(AC29<$L$13,AC29,$L$13) -> 862.55088 | H29: =IF(U29<X29*0.95,U29,X29*0.95) -> 9227.8155 | I29: =MIN(V29:W29) -> 741.32383 | J29: =MIN(Z29,H29*E29*PI()/30000) -> 519.74885 | K29: =IF(E29<M29,E29,M29) -> 537.856 | L29: =(K29+S29*H29/B29)*$F$9/120 -> 27.796531 | M29: =MIN($L$13,MAX(AB29,AA29)) -> 548.09416 | N29: =RESUM!D32 -> 180.23627 | O29: ='driving mode parameters'!D18 -> 0.93532536 | P29: ='driving mode parameters'!D17 -> 0.83604345 | Q29: =RESUM!D16 -> 22 | R29: =RESUM!D12 -> 427.856 | S29: =Q29*120/$F$9-R29 -> 12.144 | U29: =B29/((C29^2-N29^2)^0.5)*(V29^2-N29^2)^0.5 -> 9227.8155 | V29: =IF(AND($L$24>=20%,$L$24<=80%)=TRUE,((C29^2*0.9-N29^2*(1-$L$24))/$L$24)^0.5,0) -> 741.32383 | W29: =(((V29^2-N29^2)^0.5*X29/U29)^2+N29^2)^0.5 -> 1084.3934 | X29: =X30 -> 13722.252 | Y29: =Y$32*F29/F$32*(B$32/B29)^0.5 -> 449.87417 | Z29: =X29*Y29*PI()/30000 -> 646.46508 | AA29: =AC29*(D29/J29)^(1/AD29) -> 548.09416 | AB29: =AC29*(B29*E29/AC29/H29)^(1/(1+AD29)) -> 542.6156 | AC29: =0.95*Y29*(Z29/D29)^(1/AD29) -> 862.55088 | AD29: =AD28 -> 0.877
A30: =RESUM!E9 -> D61 | B30: =RESUM!E11 -> 6200 | C30: =RESUM!E15 -> 580.251 | D30: =E30*$B30*PI()/30000 -> 397.83559 | E30: =(F30*120/$F$9-$S30) -> 612.75 | F30: =$Q30*$F$21/400 -> 31.25 | G30: =IF(AC30<$L$13,AC30,$L$13) -> 977.34479 | H30: =IF(U30<X30*0.95,U30,X30*0.95) -> 9232.1268 | I30: =MIN(V30:W30) -> 836.12359 | J30: =MIN(Z30,H30*E30*PI()/30000) -> 592.39815 | K30: =IF(E30<M30,E30,M30) -> 612.75 | L30: =(K30+S30*H30/B30)*$F$9/120 -> 31.549545 | M30: =MIN($L$13,MAX(AB30,AA30)) -> 620.70744 | N30: =RESUM!E32 -> 197.40415 | O30: ='driving mode parameters'!E18 -> 0.94124181 | P30: ='driving mode parameters'!E17 -> 0.84111598 | Q30: =RESUM!E16 -> 25 | R30: =RESUM!E12 -> 487.75 | S30: =Q30*120/$F$9-R30 -> 12.25 | U30: =B30/((C30^2-N30^2)^0.5)*(V30^2-N30^2)^0.5 -> 9232.1268 | V30: =IF(AND($L$24>=20%,$L$24<=80%)=TRUE,((C30^2*0.9-N30^2*(1-$L$24))/$L$24)^0.5,0) -> 836.12359 | W30: =(((V30^2-N30^2)^0.5*X30/U30)^2+N30^2)^0.5 -> 1223.674 | X30: =X31 -> 13722.252 | Y30: =Y$32*F30/F$32*(B$32/B30)^0.5 -> 511.22064 | Z30: =X30*Y30*PI()/30000 -> 734.61941 | AA30: =AC30*(D30/J30)^(1/AD30) -> 620.70744 | AB30: =AC30*(B30*E30/AC30/H30)^(1/(1+AD30)) -> 616.45522 | AC30: =0.95*Y30*(Z30/D30)^(1/AD30) -> 977.34479 | AD30: =AD29 -> 0.877
A31: =RESUM!F9 -> E61 | B31: =RESUM!F11 -> 6200 | C31: =RESUM!F15 -> 666.63124 | D31: =E31*$B31*PI()/30000 -> 462.58134 | E31: =(F31*120/$F$9-$S31) -> 712.472 | F31: =$Q31*$F$21/400 -> 36.25 | G31: =IF(AC31<$L$13,AC31,$L$13) -> 1130.6686 | H31: =IF(U31<X31*0.95,U31,X31*0.95) -> 9237.3957 | I31: =MIN(V31:W31) -> 963.36298 | J31: =MIN(Z31,H31*E31*PI()/30000) -> 689.20111 | K31: =IF(E31<M31,E31,M31) -> 712.472 | L31: =(K31+S31*H31/B31)*$F$9/120 -> 36.556875 | M31: =MIN($L$13,MAX(AB31,AA31)) -> 717.61571 | N31: =RESUM!F32 -> 218.82332 | O31: ='driving mode parameters'!F18 -> 0.94667474 | P31: ='driving mode parameters'!F17 -> 0.84639098 | Q31: =RESUM!F16 -> 29 | R31: =RESUM!F12 -> 567.472 | S31: =Q31*120/$F$9-R31 -> 12.528 | U31: =B31/((C31^2-N31^2)^0.5)*(V31^2-N31^2)^0.5 -> 9237.3957 | V31: =IF(AND($L$24>=20%,$L$24<=80%)=TRUE,((C31^2*0.9-N31^2*(1-$L$24))/$L$24)^0.5,0) -> 963.36298 | W31: =(((V31^2-N31^2)^0.5*X31/U31)^2+N31^2)^0.5 -> 1410.7532 | X31: =X32 -> 13722.252 | Y31: =Y$32*F31/F$32*(B$32/B31)^0.5 -> 593.01595 | Z31: =X31*Y31*PI()/30000 -> 852.15851 | AA31: =AC31*(D31/J31)^(1/AD31) -> 717.61571 | AB31: =AC31*(B31*E31/AC31/H31)^(1/(1+AD31)) -> 714.87071 | AC31: =0.95*Y31*(Z31/D31)^(1/AD31) -> 1130.6686 | AD31: =AD30 -> 0.877
A32: =RESUM!G9 -> F61 | B32: =RESUM!G11 -> 6200 | C32: =RESUM!G15 -> 777.67119 | D32: =E32*$B32*PI()/30000 -> 543.74954 | E32: =(F32*120/$F$9-$S32) -> 837.488 | F32: =$Q32*$F$21/400 -> 42.5 | G32: =IF(AC32<$L$13,AC32,$L$13) -> 1321.6849 | H32: =IF(U32<X32*0.95,U32,X32*0.95) -> 9238.1698 | I32: =MIN(V32:W32) -> 1124.3078 | J32: =MIN(Z32,H32*E32*PI()/30000) -> 810.2017 | K32: =IF($E$32<$M$32,$E$32,$M$32) -> 837.488 | L32: =(K32+S32*H32/B32)*$F$9/120 -> 42.806561 | M32: =MIN($L$13,MAX(AB32,AA32)) -> 838.77026 | N32: =RESUM!G32 -> 253.86341 | O32: ='driving mode parameters'!G18 -> 0.95232517 | P32: ='driving mode parameters'!G17 -> 0.84778747 | Q32: =RESUM!G16 -> 34 | R32: =RESUM!G12 -> 667.488 | S32: =Q32*120/$F$9-R32 -> 12.512 | U32: =B32/((C32^2-N32^2)^0.5)*(V32^2-N32^2)^0.5 -> 9238.1698 | V32: =IF(AND($L$24>=20%,$L$24<=80%)=TRUE,((C32^2*0.9-N32^2*(1-$L$24))/$L$24)^0.5,0) -> 1124.3078 | W32: =(((V32^2-N32^2)^0.5*X32/U32)^2+N32^2)^0.5 -> 1646.5901 | X32: ='limit 480V'!K27*0.95 -> 13722.252 | Y32: ='limit 480V'!I27/'limit 480V'!Y27*M21 -> 695.26007 | Z32: =X32*Y32*PI()/30000 -> 999.0824 | AA32: =AC32*(D32/J32)^(1/AD32) -> 838.77026 | AB32: =AC32*(B32*E32/AC32/H32)^(1/(1+AD32)) -> 838.08687 | AC32: =0.95*Y32*(Z32/D32)^(1/AD32) -> 1321.6849 | AD32: =AD31 -> 0.877 | AE32: =AB32*(J32/D32)^(1/2/AD32) -> 1052.0381
A33: =RESUM!H9 -> C62 | B33: =RESUM!H11 -> 6200 | C33: =RESUM!H15 -> 891.29534 | D33: =E33*$B33*PI()/30000 -> 625.18134 | E33: =(F33*120/$F$9-$S33) -> 962.91 | F33: =$Q33*$F$21/400 -> 48.75 | G33: =IF(AC33<$L$13,AC33,$L$13) -> 1511.9901 | H33: =IF(U33<X33*0.95,U33,X33*0.95) -> 9232.1536 | I33: =MIN(V33:W33) -> 1284.3475 | J33: =MIN(Z33,H33*E33*PI()/30000) -> 930.93066 | K33: =IF(E33<M33,E33,M33) -> 961.66865 | L33: =(K33+S33*H33/B33)*$F$9/120 -> 48.983567 | M33: =MIN($L$13,MAX(AB33,AA33)) -> 961.66865 | N33: =RESUM!H32 -> 303.17013 | O33: ='driving mode parameters'!H18 -> 0.95604992 | P33: ='driving mode parameters'!H17 -> 0.84717508 | Q33: =RESUM!H16 -> 39 | R33: =RESUM!H12 -> 767.91 | S33: =Q33*120/$F$9-R33 -> 12.09 | U33: =B33/((C33^2-N33^2)^0.5)*(V33^2-N33^2)^0.5 -> 9232.1536 | V33: =IF(AND($L$24>=20%,$L$24<=80%)=TRUE,((C33^2*0.9-N33^2*(1-$L$24))/$L$24)^0.5,0) -> 1284.3475 | W33: =(((V33^2-N33^2)^0.5*X33/U33)^2+N33^2)^0.5 -> 1879.6593 | X33: =X32 -> 13722.252 | Y33: =Y$32*F33/F$32*(B$32/B33)^0.5 -> 797.5042 | Z33: =X33*Y33*PI()/30000 -> 1146.0063 | AA33: =AC33*(D33/J33)^(1/AD33) -> 960.25515 | AB33: =AC33*(B33*E33/AC33/H33)^(1/(1+AD33)) -> 961.66865 | AC33: =0.95*Y33*(Z33/D33)^(1/AD33) -> 1511.9901 | AD33: =AD32 -> 0.877
A34: =RESUM!I9 -> D62 | B34: =RESUM!I11 -> 5900 | C34: =RESUM!I15 -> 960.36103 | D34: =E34*$B34*PI()/30000 -> 672.56305 | E34: =(F34*120/$F$9-$S34) -> 1088.56 | F34: =$Q34*$F$21/400 -> 55 | G34: =IF(AC34<$L$13,AC34,$L$13) -> 1899.0918 | H34: =IF(U34<X34*0.95,U34,X34*0.95) -> 8777.4862 | I34: =MIN(V34:W34) -> 1377.6728 | J34: =MIN(Z34,H34*E34*PI()/30000) -> 1000.5784 | K34: =IF(E34<M34,E34,M34) -> 1088.56 | L34: =(K34+S34*H34/B34)*$F$9/120 -> 55.27897 | M34: =MIN($L$13,MAX(AB34,AA34)) -> 1207.3467 | N34: =RESUM!I32 -> 343.6836 | O34: ='driving mode parameters'!I18 -> 0.95914172 | P34: ='driving mode parameters'!I17 -> 0.84311159 | Q34: =RESUM!I16 -> 44 | R34: =RESUM!I12 -> 868.56 | S34: =Q34*120/$F$9-R34 -> 11.44 | U34: =B34/((C34^2-N34^2)^0.5)*(V34^2-N34^2)^0.5 -> 8777.4862 | V34: =IF(AND($L$24>=20%,$L$24<=80%)=TRUE,((C34^2*0.9-N34^2*(1-$L$24))/$L$24)^0.5,0) -> 1377.6728 | W34: =(((V34^2-N34^2)^0.5*X34/U34)^2+N34^2)^0.5 -> 2113.8114 | X34: =X33 -> 13722.252 | Y34: =Y$32*F34/F$32*(B$32/B34)^0.5 -> 922.33967 | Z34: =X34*Y34*PI()/30000 -> 1325.3937 | AA34: =AC34*(D34/J34)^(1/AD34) -> 1207.3467 | AB34: =AC34*(B34*E34/AC34/H34)^(1/(1+AD34)) -> 1142.5322 | AC34: =0.95*Y34*(Z34/D34)^(1/AD34) -> 1899.0918 | AD34: =AD33 -> 0.877
A35: =RESUM!J9 -> E62 | B35: =RESUM!J11 -> 5600 | C35: =RESUM!J15 -> 1055.7431 | D35: =E35*$B35*PI()/30000 -> 741.23893 | E35: =(F35*120/$F$9-$S35) -> 1263.984 | F35: =$Q35*$F$21/400 -> 63.75 | G35: =IF(AC35<$L$13,AC35,$L$13) -> 2465.355 | H35: =IF(U35<X35*0.95,U35,X35*0.95) -> 8328.3222 | I35: =MIN(V35:W35) -> 1511.9707 | J35: =MIN(Z35,H35*E35*PI()/30000) -> 1102.3708 | K35: =IF(E35<M35,E35,M35) -> 1263.984 | L35: =(K35+S35*H35/B35)*$F$9/120 -> 64.01835 | M35: =MIN($L$13,MAX(AB35,AA35)) -> 1567.9601 | N35: =RESUM!J32 -> 384.51693 | O35: ='driving mode parameters'!J18 -> 0.96162303 | P35: ='driving mode parameters'!J17 -> 0.84307164 | Q35: =RESUM!J16 -> 51 | R35: =RESUM!J12 -> 1008.984 | S35: =Q35*120/$F$9-R35 -> 11.016 | U35: =B35/((C35^2-N35^2)^0.5)*(V35^2-N35^2)^0.5 -> 8328.3222 | V35: =IF(AND($L$24>=20%,$L$24<=80%)=TRUE,((C35^2*0.9-N35^2*(1-$L$24))/$L$24)^0.5,0) -> 1511.9707 | W35: =(((V35^2-N35^2)^0.5*X35/U35)^2+N35^2)^0.5 -> 2439.7985 | X35: =X34 -> 13722.252 | Y35: =Y$32*F35/F$32*(B$32/B35)^0.5 -> 1097.3379 | Z35: =X35*Y35*PI()/30000 -> 1576.8646 | AA35: =AC35*(D35/J35)^(1/AD35) -> 1567.9601 | AB35: =AC35*(B35*E35/AC35/H35)^(1/(1+AD35)) -> 1397.8858 | AC35: =0.95*Y35*(Z35/D35)^(1/AD35) -> 2465.355 | AD35: =AD34 -> 0.877
A36: =RESUM!K9 -> F62 | B36: =RESUM!K11 -> 5200 | C36: =RESUM!K15 -> 1158.8952 | D36: =E36*$B36*PI()/30000 -> 811.25975 | E36: =(F36*120/$F$9-$S36) -> 1489.8 | F36: =$Q36*$F$21/400 -> 75 | G36: =IF(AC36<$L$13,AC36,$L$13) -> 3409.4359 | H36: =IF(U36<X36*0.95,U36,X36*0.95) -> 7725.1598 | I36: =MIN(V36:W36) -> 1651.1695 | J36: =MIN(Z36,H36*E36*PI()/30000) -> 1205.2137 | K36: =IF(E36<M36,E36,M36) -> 1489.8 | L36: =(K36+S36*H36/B36)*$F$9/120 -> 75.24766 | M36: =MIN($L$13,MAX(AB36,AA36)) -> 2171.0444 | N36: =RESUM!K32 -> 443.82809 | O36: ='driving mode parameters'!K18 -> 0.96338513 | P36: ='driving mode parameters'!K17 -> 0.83904486 | Q36: =RESUM!K16 -> 60 | R36: =RESUM!K12 -> 1189.8 | S36: =Q36*120/$F$9-R36 -> 10.2 | U36: =B36/((C36^2-N36^2)^0.5)*(V36^2-N36^2)^0.5 -> 7725.1598 | V36: =IF(AND($L$24>=20%,$L$24<=80%)=TRUE,((C36^2*0.9-N36^2*(1-$L$24))/$L$24)^0.5,0) -> 1651.1695 | W36: =(((V36^2-N36^2)^0.5*X36/U36)^2+N36^2)^0.5 -> 2859.6923 | X36: =X35 -> 13722.252 | Y36: =Y$32*F36/F$32*(B$32/B36)^0.5 -> 1339.7192 | Z36: =X36*Y36*PI()/30000 -> 1925.1644 | AA36: =AC36*(D36/J36)^(1/AD36) -> 2171.0444 | AB36: =AC36*(B36*E36/AC36/H36)^(1/(1+AD36)) -> 1776.3965 | AC36: =0.95*Y36*(Z36/D36)^(1/AD36) -> 3409.4359 | AD36: =AD35 -> 0.877
A37: =RESUM!L9 -> 0 | B37: =RESUM!L11 -> 0 | C37: =RESUM!L15 -> 0 | D37: =E37*$B37*PI()/30000 -> 0 | E37: =(F37*120/$F$9-$S37) -> 0 | F37: =$Q37*$F$21/400 -> 0 | G37: =IF(AC37<$L$13,AC37,$L$13) -> #DIV/0! | H37: =IF(U37<X37*0.95,U37,X37*0.95) -> #DIV/0! | I37: =MIN(V37:W37) -> #DIV/0! | J37: =MIN(Z37,H37*E37*PI()/30000) -> #DIV/0! | K37: =IF(E37<M37,E37,M37) -> #DIV/0! | L37: =(K37+S37*H37/B37)*$F$9/120 -> #DIV/0! | M37: =MIN($L$13,MAX(AB37,AA37)) -> #DIV/0! | N37: =RESUM!L32 -> 0 | O37: ='driving mode parameters'!L18 -> #DIV/0! | P37: ='driving mode parameters'!L17 -> #DIV/0! | Q37: =RESUM!L16 -> 0 | R37: =RESUM!L12 -> 0 | S37: =Q37*120/$F$9-R37 -> 0 | U37: =B37/((C37^2-N37^2)^0.5)*(V37^2-N37^2)^0.5 -> #DIV/0! | V37: =IF(AND($L$24>=20%,$L$24<=80%)=TRUE,((C37^2*0.9-N37^2*(1-$L$24))/$L$24)^0.5,0) -> 0 | W37: =(((V37^2-N37^2)^0.5*X37/U37)^2+N37^2)^0.5 -> #DIV/0! | X37: =X36 -> 13722.252 | Y37: =Y$32*F37/F$32*(B$32/B37)^0.5 -> #DIV/0! | Z37: =X37*Y37*PI()/30000 -> #DIV/0! | AA37: =AC37*(D37/J37)^(1/AD37) -> #DIV/0! | AB37: =AC37*(B37*E37/AC37/H37)^(1/(1+AD37)) -> #DIV/0! | AC37: =0.95*Y37*(Z37/D37)^(1/AD37) -> #DIV/0! | AD37: =AD36 -> 0.877
A38: =RESUM!M9 -> 0 | B38: =RESUM!M11 -> 0 | C38: =RESUM!M15 -> 0 | D38: =E38*$B38*PI()/30000 -> 0 | E38: =(F38*120/$F$9-$S38) -> 0 | F38: =$Q38*$F$21/400 -> 0 | G38: =IF(AC38<$L$13,AC38,$L$13) -> #DIV/0! | H38: =IF(U38<X38*0.95,U38,X38*0.95) -> #DIV/0! | I38: =MIN(V38:W38) -> #DIV/0! | J38: =MIN(Z38,H38*E38*PI()/30000) -> #DIV/0! | K38: =IF(E38<M38,E38,M38) -> #DIV/0! | L38: =(K38+S38*H38/B38)*$F$9/120 -> #DIV/0! | M38: =MIN($L$13,MAX(AB38,AA38)) -> #DIV/0! | N38: =RESUM!M32 -> 0 | O38: ='driving mode parameters'!M18 -> #DIV/0! | P38: ='driving mode parameters'!M17 -> #DIV/0! | Q38: =RESUM!M16 -> 0 | R38: =RESUM!M12 -> 0 | S38: =Q38*120/$F$9-R38 -> 0 | U38: =B38/((C38^2-N38^2)^0.5)*(V38^2-N38^2)^0.5 -> #DIV/0! | V38: =IF(AND($L$24>=20%,$L$24<=80%)=TRUE,((C38^2*0.9-N38^2*(1-$L$24))/$L$24)^0.5,0) -> 0 | W38: =(((V38^2-N38^2)^0.5*X38/U38)^2+N38^2)^0.5 -> #DIV/0! | X38: =X37 -> 13722.252 | Y38: =Y$32*F38/F$32*(B$32/B38)^0.5 -> #DIV/0! | Z38: =X38*Y38*PI()/30000 -> #DIV/0! | AA38: =AC38*(D38/J38)^(1/AD38) -> #DIV/0! | AB38: =AC38*(B38*E38/AC38/H38)^(1/(1+AD38)) -> #DIV/0! | AC38: =0.95*Y38*(Z38/D38)^(1/AD38) -> #DIV/0! | AD38: =AD37 -> 0.877
A39: =RESUM!N9 -> 0 | B39: =RESUM!N11 -> 0 | C39: =RESUM!N15 -> 0 | D39: =E39*$B39*PI()/30000 -> 0 | E39: =(F39*120/$F$9-$S39) -> 0 | F39: =$Q39*$F$21/400 -> 0 | G39: =IF(AC39<$L$13,AC39,$L$13) -> #DIV/0! | H39: =IF(U39<X39*0.95,U39,X39*0.95) -> #DIV/0! | I39: =MIN(V39:W39) -> #DIV/0! | J39: =MIN(Z39,H39*E39*PI()/30000) -> #DIV/0! | K39: =IF(E39<M39,E39,M39) -> #DIV/0! | L39: =(K39+S39*H39/B39)*$F$9/120 -> #DIV/0! | M39: =MIN($L$13,MAX(AB39,AA39)) -> #DIV/0! | N39: =RESUM!N32 -> 0 | O39: ='driving mode parameters'!N18 -> #DIV/0! | P39: ='driving mode parameters'!N17 -> #DIV/0! | Q39: =RESUM!N16 -> 0 | R39: =RESUM!N12 -> 0 | S39: =Q39*120/$F$9-R39 -> 0 | U39: =B39/((C39^2-N39^2)^0.5)*(V39^2-N39^2)^0.5 -> #DIV/0! | V39: =IF(AND($L$24>=20%,$L$24<=80%)=TRUE,((C39^2*0.9-N39^2*(1-$L$24))/$L$24)^0.5,0) -> 0 | W39: =(((V39^2-N39^2)^0.5*X39/U39)^2+N39^2)^0.5 -> #DIV/0! | X39: =X38 -> 13722.252 | Y39: =Y$32*F39/F$32*(B$32/B39)^0.5 -> #DIV/0! | Z39: =X39*Y39*PI()/30000 -> #DIV/0! | AA39: =AC39*(D39/J39)^(1/AD39) -> #DIV/0! | AB39: =AC39*(B39*E39/AC39/H39)^(1/(1+AD39)) -> #DIV/0! | AC39: =0.95*Y39*(Z39/D39)^(1/AD39) -> #DIV/0! | AD39: =AD38 -> 0.877
A40: =RESUM!O9 -> 0 | B40: =RESUM!O11 -> 0 | C40: =RESUM!O15 -> 0 | D40: =E40*$B40*PI()/30000 -> 0 | E40: =(F40*120/$F$9-$S40) -> 0 | F40: =$Q40*$F$21/400 -> 0 | G40: =IF(AC40<$L$13,AC40,$L$13) -> #DIV/0! | H40: =IF(U40<X40*0.95,U40,X40*0.95) -> #DIV/0! | I40: =MIN(V40:W40) -> #DIV/0! | J40: =MIN(Z40,H40*E40*PI()/30000) -> #DIV/0! | K40: =IF(E40<M40,E40,M40) -> #DIV/0! | L40: =(K40+S40*H40/B40)*$F$9/120 -> #DIV/0! | M40: =MIN($L$13,MAX(AB40,AA40)) -> #DIV/0! | N40: =RESUM!O32 -> 0 | O40: ='driving mode parameters'!O18 -> #DIV/0! | P40: ='driving mode parameters'!O17 -> #DIV/0! | Q40: =RESUM!O16 -> 0 | R40: =RESUM!O12 -> 0 | S40: =Q40*120/$F$9-R40 -> 0 | U40: =B40/((C40^2-N40^2)^0.5)*(V40^2-N40^2)^0.5 -> #DIV/0! | V40: =IF(AND($L$24>=20%,$L$24<=80%)=TRUE,((C40^2*0.9-N40^2*(1-$L$24))/$L$24)^0.5,0) -> 0 | W40: =(((V40^2-N40^2)^0.5*X40/U40)^2+N40^2)^0.5 -> #DIV/0! | X40: =X39 -> 13722.252 | Y40: =Y$32*F40/F$32*(B$32/B40)^0.5 -> #DIV/0! | Z40: =X40*Y40*PI()/30000 -> #DIV/0! | AA40: =AC40*(D40/J40)^(1/AD40) -> #DIV/0! | AB40: =AC40*(B40*E40/AC40/H40)^(1/(1+AD40)) -> #DIV/0! | AC40: =0.95*Y40*(Z40/D40)^(1/AD40) -> #DIV/0! | AD40: =AD39 -> 0.877
A41: Otras Velocidades disponibles bajo consulta / Other speeds available on request | H41: La tensión para el servicio S6 es mayor que Vb / Voltage for S6 duty is bigger than Vb
A72: Elabora: | E72: Revisa: | K72: Aprueba:
...

Sheet driving mode parameters
H2: =RESUM!G2 -> MAC QT 315 L
H4: Parámetros modo motor / Driving mode parameters
N5: Fecha - Date | O5: =RESUM!O5 -> 45239
B8: =RESUM!B8 -> MAC QT 315 L | C8: =RESUM!C8 -> MAC QI 315 L | D8: =RESUM!D8 -> MAC QI 315 L | E8: =RESUM!E8 -> MAC QI 315 L | F8: =RESUM!F8 -> MAC QI 315 L | G8: =RESUM!G8 -> MAC QI 315 L | H8: =RESUM!H8 -> MAC QI 315 L | I8: =RESUM!I8 -> MAC QI 315 L | ... O8: =RESUM!O8 -> 0
B9: =RESUM!B9 -> A61 | C9: =RESUM!C9 -> B61 | D9: =RESUM!D9 -> C61 | E9: =RESUM!E9 -> D61 | F9: =RESUM!F9 -> E61 | G9: =RESUM!G9 -> F61 | H9: =RESUM!H9 -> C62 | I9: =RESUM!I9 -> D62 | ... O9: =RESUM!O9 -> 0
A10: Poles | B10: =RESUM!B10 -> 6 | C10: =RESUM!C10 -> 6 | D10: =RESUM!D10 -> 6 | E10: =RESUM!E10 -> 6 | F10: =RESUM!F10 -> 6 | G10: =RESUM!G10 -> 6 | H10: =RESUM!H10 -> 6 | I10: =RESUM!I10 -> 6 | ... O10: =RESUM!O10 -> 6
A11: Nm | B11: =RESUM!B11 -> 6200 | C11: =RESUM!C11 -> 6200 | D11: =RESUM!D11 -> 6200 | E11: =RESUM!E11 -> 6200 | F11: =RESUM!F11 -> 6200 | G11: =RESUM!G11 -> 6200 | H11: =RESUM!H11 -> 6200 | I11: =RESUM!I11 -> 5900 | ... O11: =RESUM!O11 -> 0
A12: rpm | B12: ='driving mode datasheet'!E27 -> 437.58 | C12: ='driving mode datasheet'!E28 -> 487.44 | D12: ='driving mode datasheet'!E29 -> 537.856 | E12: ='driving mode datasheet'!E30 -> 612.75 | F12: ='driving mode datasheet'!E31 -> 712.472 | G12: ='driving mode datasheet'!E32 -> 837.488 | H12: ='driving mode datasheet'!E33 -> 962.91 | I12: ='driving mode datasheet'!E34 -> 1088.56 | J12: ='driving mode datasheet'!E35 -> 1263.984 | K12: ='driving mode datasheet'!E36 -> 1489.8 | L12: ='driving mode datasheet'!E37 -> 0 | M12: ='driving mode datasheet'!E38 -> 0 | N12: ='driving mode datasheet'!E39 -> 0 | O12: ='driving mode datasheet'!E40 -> 0 | U12: =RESUM!C10 -> 6 | V12: =RESUM!D10 -> 6
A13: KW | B13: =B11*B12*PI()/30000 -> 284.10428 | C13: =C11*C12*PI()/30000 -> 316.4765 | D13: =D11*D12*PI()/30000 -> 349.20972 | E13: =E11*E12*PI()/30000 -> 397.83559 | F13: =F11*F12*PI()/30000 -> 462.58134 | G13: =G11*G12*PI()/30000 -> 543.74954 | H13: =H11*H12*PI()/30000 -> 625.18134 | I13: =I11*I12*PI()/30000 -> 672.56305 | ... O13: =O11*O12*PI()/30000 -> 0
A14: V | B14: ='driving mode datasheet'!F21 -> 500 | C14: =B14 -> 500 | D14: =C14 -> 500 | E14: =D14 -> 500 | F14: =E14 -> 500 | G14: =F14 -> 500 | H14: =G14 -> 500 | I14: =H14 -> 500 | J14: =I14 -> 500 | ... O14: =N14 -> 500
A15: A | B15: =RESUM!B15 -> 423.59939 | C15: =RESUM!C15 -> 466.18116 | D15: =RESUM!D15 -> 515.66082 | E15: =RESUM!E15 -> 580.251 | F15: =RESUM!F15 -> 666.63124 | G15: =RESUM!G15 -> 777.67119 | H15: =RESUM!H15 -> 891.29534 | I15: =RESUM!I15 -> 960.36103 | ... O15: =RESUM!O15 -> 0
A16: Hz | B16: ='driving mode datasheet'!F27 -> 22.5 | C16: ='driving mode datasheet'!F28 -> 25 | D16: ='driving mode datasheet'!F29 -> 27.5 | E16: ='driving mode datasheet'!F30 -> 31.25 | F16: ='driving mode datasheet'!F31 -> 36.25 | G16: ='driving mode datasheet'!F32 -> 42.5 | H16: ='driving mode datasheet'!F33 -> 48.75 | I16: ='driving mode datasheet'!F34 -> 55 | J16: ='driving mode datasheet'!F35 -> 63.75 | K16: ='driving mode datasheet'!F36 -> 75 | L16: ='driving mode datasheet'!F37 -> 0 | M16: ='driving mode datasheet'!F38 -> 0 | N16: ='driving mode datasheet'!F39 -> 0 | O16: ='driving mode datasheet'!F40 -> 0
A17: Cos fi | B17: =B13/B18*1000/B14/B15/3^0.5 -> 0.83819682 | C17: =C13/C18*1000/C14/C15/3^0.5 -> 0.84301612 | D17: =D13/D18*1000/D14/D15/3^0.5 -> 0.83604345 | E17: =E13/E18*1000/E14/E15/3^0.5 -> 0.84111598 | F17: =F13/F18*1000/F14/F15/3^0.5 -> 0.84639098 | G17: =G13/G18*1000/G14/G15/3^0.5 -> 0.84778747 | H17: =H13/H18*1000/H14/H15/3^0.5 -> 0.84717508 | I17: =I13/I18*1000/I14/I15/3^0.5 -> 0.84311159 | ... O17: =O13/O18*1000/O14/O15/3^0.5 -> #DIV/0!
A18: Rend / eff. | B18: =B13*1000/(B13*1000+3*B23/1000*B15^2+3*B24/1000*(B15^2-B32^2)+3*(2*PI()*B16*B28/1000*B32)^2/B25) -> 0.92394433 | C18: =C13*1000/(C13*1000+3*C23/1000*C15^2+3*C24/1000*(C15^2-C32^2)+3*(2*PI()*C16*C28/1000*C32)^2/C25) -> 0.92986574 | D18: =D13*1000/(D13*1000+3*D23/1000*D15^2+3*D24/1000*(D15^2-D32^2)+3*(2*PI()*D16*D28/1000*D32)^2/D25) -> 0.93532536 | E18: =E13*1000/(E13*1000+3*E23/1000*E15^2+3*E24/1000*(E15^2-E32^2)+3*(2*PI()*E16*E28/1000*E32)^2/E25) -> 0.94124181 | F18: =F13*1000/(F13*1000+3*F23/1000*F15^2+3*F24/1000*(F15^2-F32^2)+3*(2*PI()*F16*F28/1000*F32)^2/F25) -> 0.94667474 | G18: =G13*1000/(G13*1000+3*G23/1000*G15^2+3*G24/1000*(G15^2-G32^2)+3*(2*PI()*G16*G28/1000*G32)^2/G25) -> 0.95232517 | H18: =H13*1000/(H13*1000+3*H23/1000*H15^2+3*H24/1000*(H15^2-H32^2)+3*(2*PI()*H16*H28/1000*H32)^2/H25) -> 0.95604992 | I18: =I13*1000/(I13*1000+3*I23/1000*I15^2+3*I24/1000*(I15^2-I32^2)+3*(2*PI()*I16*I28/1000*I32)^2/I25) -> 0.95914172 | ... O18: =O13*1000/(O13*1000+3*O23/1000*O15^2+3*O24/1000*(O15^2-O32^2)+3*(2*PI()*O16*O28/1000*O32)^2/O25) -> #DIV/0!
A19: J (Kg m2) | B19: =RESUM!B19 -> 13.89 | C19: =RESUM!C19 -> 13.89 | D19: =RESUM!D19 -> 13.89 | E19: =RESUM!E19 -> 13.89 | F19: =RESUM!F19 -> 13.89 | G19: =RESUM!G19 -> 13.89 | H19: =RESUM!H19 -> 13.89 | I19: =RESUM!I19 -> 13.89 | ... O19: =RESUM!O19 -> 0
B20: ESQUEMA EQUIVALENTE POR FASE EN ESTRELLA / PHASE STAR EQUIVALENT SCHEMA
B21: =RESUM!B21 -> MAC QT 315 L | C21: =RESUM!C21 -> MAC QI 315 L | D21: =RESUM!D21 -> MAC QI 315 L | E21: =RESUM!E21 -> MAC QI 315 L | F21: =RESUM!F21 -> MAC QI 315 L | G21: =RESUM!G21 -> MAC QI 315 L | H21: =RESUM!H21 -> MAC QI 315 L | I21: =RESUM!I21 -> MAC QI 315 L | ... O21: =RESUM!O21 -> 0
B22: =RESUM!B22 -> A61 | C22: =RESUM!C22 -> B61 | D22: =RESUM!D22 -> C61 | E22: =RESUM!E22 -> D61 | F22: =RESUM!F22 -> E61 | G22: =RESUM!G22 -> F61 | H22: =RESUM!H22 -> C62 | I22: =RESUM!I22 -> D62 | ... O22: =RESUM!O22 -> 0
A23: Rs (mOhm) | B23: =RESUM!B23 -> 20.779779 | C23: =RESUM!C23 -> 17.222349 | D23: =RESUM!D23 -> 13.982839 | E23: =RESUM!E23 -> 11.003619 | F23: =RESUM!F23 -> 8.4492521 | G23: =RESUM!G23 -> 6.0976267 | H23: =RESUM!H23 -> 4.6609462 | I23: =RESUM!I23 -> 3.6678731 | ... O23: =RESUM!O23 -> 0
A24: Rr (mOhm) | B24: =RESUM!B24 -> 18.251806 | C24: =RESUM!C24 -> 15.00676 | D24: =RESUM!D24 -> 12.094651 | E24: =RESUM!E24 -> 9.509553 | F24: =RESUM!F24 -> 7.2459868 | G24: =RESUM!G24 -> 5.2987451 | H24: =RESUM!H24 -> 3.9559379 | I24: =RESUM!I24 -> 3.1117458 | ... O24: =RESUM!O24 -> 0
A25: Rfe (Ohm) | B25: =RESUM!B25 -> 56.054576 | C25: =RESUM!C25 -> 50.418094 | D25: =RESUM!D25 -> 44.029135 | E25: =RESUM!E25 -> 38.352581 | F25: =RESUM!F25 -> 32.627246 | G25: =RESUM!G25 -> 26.803988 | H25: =RESUM!H25 -> 22.116624 | I25: =RESUM!I25 -> 18.876746 | ... O25: =RESUM!O25 -> 0
A26: Ls (mH) | B26: =RESUM!B26 -> 0.70089962 | C26: =RESUM!C26 -> 0.57925473 | D26: =RESUM!D26 -> 0.46919727 | E26: =RESUM!E26 -> 0.37072375 | F26: =RESUM!F26 -> 0.28383538 | G26: =RESUM!G26 -> 0.20853212 | H26: =RESUM!H26 -> 0.15639909 | I26: =RESUM!I26 -> 0.12357458 | ... O26: =RESUM!O26 -> 0
A27: Lr (mH) | B27: =RESUM!B27 -> 0.57046953 | C27: =RESUM!C27 -> 0.46842361 | D27: =RESUM!D27 -> 0.38263137 | E27: =RESUM!E27 -> 0.30037724 | F27: =RESUM!F27 -> 0.22829367 | G27: =RESUM!G27 -> 0.16748885 | H27: =RESUM!H27 -> 0.12634984 | I27: =RESUM!I27 -> 0.10067238 | ... O27: =RESUM!O27 -> 0
A28: Lm (mH) | B28: =RESUM!B28 -> 12.582191 | C28: =RESUM!C28 -> 10.609447 | D28: =RESUM!D28 -> 8.2729963 | E28: =RESUM!E28 -> 6.6694262 | F28: =RESUM!F28 -> 5.1986685 | G28: =RESUM!G28 -> 3.8360302 | H28: =RESUM!H28 -> 2.8188793 | I28: =RESUM!I28 -> 2.2145843 | ... O28: =RESUM!O28 -> 0
A29: Ts (s) | B29: =RESUM!B29 -> 0.63923156 | C29: =RESUM!C29 -> 0.64966176 | D29: =RESUM!D29 -> 0.62520879 | E29: =RESUM!E29 -> 0.63980312 | F29: =RESUM!F29 -> 0.64887446 | G29: =RESUM!G29 -> 0.66330106 | H29: =RESUM!H29 -> 0.63834215 | I29: =RESUM!I29 -> 0.63746995 | ... O29: =RESUM!O29 -> 0
A30: Tr (s) | B30: =RESUM!B30 -> 0.72062239 | C30: =RESUM!C30 -> 0.73819205 | D30: =RESUM!D30 -> 0.7156575 | E30: =RESUM!E30 -> 0.73292651 | F30: =RESUM!F30 -> 0.74896108 | G30: =RESUM!G30 -> 0.75555984 | H30: =RESUM!H30 -> 0.74450843 | I30: =RESUM!I30 -> 0.74403786 | ... O30: =RESUM!O30 -> 0
A31: Kt | B31: =RESUM!B31 -> 63.263681 | C31: =RESUM!C31 -> 57.51238 | D31: =RESUM!D31 -> 51.761194 | E31: =RESUM!E31 -> 46.009949 | F31: =RESUM!F31 -> 40.258706 | G31: =RESUM!G31 -> 34.507463 | H31: =RESUM!H31 -> 29.884339 | I31: =RESUM!I31 -> 26.563856 | ... O31: =RESUM!O31 -> 0
A32: Im (A/fase) | B32: =RESUM!B32 -> 143.9823 | C32: =RESUM!C32 -> 154.1579 | D32: =RESUM!D32 -> 180.23627 | E32: =RESUM!E32 -> 197.40415 | F32: =RESUM!F32 -> 218.82332 | G32: =RESUM!G32 -> 253.86341 | H32: =RESUM!H32 -> 303.17013 | I32: =RESUM!I32 -> 343.6836 | ... O32: =RESUM!O32 -> 0
B33: =RESUM!B33 -> 0 | C33: =RESUM!C33 -> 0 | D33: =RESUM!D33 -> 0 | E33: =RESUM!E33 -> 0 | F33: =RESUM!F33 -> 0 | G33: =RESUM!G33 -> 0 | H33: =RESUM!H33 -> 0 | I33: =RESUM!I33 -> 0 | ... O33: =RESUM!O33 -> 0
A61: s rpm | B61: =B16*120/B10-B12 -> 12.42 | C61: =C16*120/U12-C12 -> 12.56 | D61: =D16*120/V12-D12 -> 12.144 | E61: =E16*120/E10-E12 -> 12.25 | F61: =F16*120/F10-F12 -> 12.528 | G61: =G16*120/G10-G12 -> 12.512 | H61: =H16*120/H10-H12 -> 12.09 | I61: =I16*120/I10-I12 -> 11.44 | J61: =J16*120/J10-J12 -> 11.016 | K61: =K16*120/K10-K12 -> 10.2 | L61: =L16*120/L10-L12 -> 0 | ... Q61: =Q16*120/Q10-Q12 -> #DIV/0!
A62: MODO GENERADOR a fnom
A63: E | B63: =2*PI()*B16*B28/1000*B32 -> 256.11071 | C63: =2*PI()*C16*C28/1000*C32 -> 256.90846 | D63: =2*PI()*D16*D28/1000*D32 -> 257.64254 | E63: =2*PI()*E16*E28/1000*E32 -> 258.5084 | F63: =2*PI()*F16*F28/1000*F32 -> 259.1037 | G63: =2*PI()*G16*G28/1000*G32 -> 260.04644 | H63: =2*PI()*H16*H28/1000*H32 -> 261.7685 | I63: =2*PI()*I16*I28/1000*I32 -> 263.02291 | ... Q63: =2*PI()*Q16*Q28/1000*Q32 -> 0
A64: urq | B64: =B23/1000*(B15^2-B32^2)^0.5 -> 8.27822 | C64: =C23/1000*(C15^2-C32^2)^0.5 -> 7.5770551 | D64: =D23/1000*(D15^2-D32^2)^0.5 -> 6.755621 | E64: =E23/1000*(E15^2-E32^2)^0.5 -> 6.004013 | F64: =F23/1000*(F15^2-F32^2)^0.5 -> 5.3204368 | G64: =G23/1000*(G15^2-G32^2)^0.5 -> 4.482174 | H64: =H23/1000*(H15^2-H32^2)^0.5 -> 3.9065716 | I64: =I23/1000*(I15^2-I32^2)^0.5 -> 3.2891945 | ... Q64: =Q23/1000*(Q15^2-Q32^2)^0.5 -> 0
A65: urd | B65: =B23/1000*B32 -> 2.9919202 | C65: =C23/1000*C32 -> 2.6549612 | D65: =D23/1000*D32 -> 2.5202146 | E65: =E23/1000*E32 -> 2.1721602 | F65: =F23/1000*F32 -> 1.8488934 | G65: =G23/1000*G32 -> 1.5479643 | H65: =H23/1000*H32 -> 1.4130597 | I65: =I23/1000*I32 -> 1.2605878 | ... Q65: =Q23/1000*Q32 -> 0
A66: exd | B66: =2*PI()*B16*B26/1000*B32 -> 14.266824 | C66: =2*PI()*C16*C26/1000*C32 -> 14.026691 | D66: =2*PI()*D16*D26/1000*D32 -> 14.612019 | E66: =2*PI()*E16*E26/1000*E32 -> 14.369332 | F66: =2*PI()*F16*F26/1000*F32 -> 14.146468 | G66: =2*PI()*G16*G26/1000*G32 -> 14.136499 | H66: =2*PI()*H16*H26/1000*H32 -> 14.523628 | I66: =2*PI()*I16*I26/1000*I32 -> 14.676771 | ... Q66: =2*PI()*Q16*Q26/1000*Q32 -> 0
A67: exq | B67: =2*PI()*B16*B26/1000*(B15^2-B32^2)^0.5 -> 39.474284 | C67: =2*PI()*C16*C26/1000*(C15^2-C32^2)^0.5 -> 40.031099 | D67: =2*PI()*D16*D26/1000*(D15^2-D32^2)^0.5 -> 39.168593 | E67: =2*PI()*E16*E26/1000*(E15^2-E32^2)^0.5 -> 39.717908 | F67: =2*PI()*F16*F26/1000*(F15^2-F32^2)^0.5 -> 40.708344 | G67: =2*PI()*G16*G26/1000*(G15^2-G32^2)^0.5 -> 40.932628 | H67: =2*PI()*H16*H26/1000*(H15^2-H32^2)^0.5 -> 40.152298 | I67: =2*PI()*I16*I26/1000*(I15^2-I32^2)^0.5 -> 38.295431 | ... Q67: =2*PI()*Q16*Q26/1000*(Q15^2-Q32^2)^0.5 -> 0
A68: Vq | B68: =B63+B66-B64 -> 262.09931 | C68: =C63+C66-C64 -> 263.3581 | D68: =D63+D66-D64 -> 265.49894 | E68: =E63+E66-E64 -> 266.87371 | F68: =F63+F66-F64 -> 267.92973 | G68: =G63+G66-G64 -> 269.70077 | H68: =H63+H66-H64 -> 272.38556 | I68: =I63+I66-I64 -> 274.41049 | ... Q68: =Q63+Q66-Q64 -> 0
A69: Vd | B69: =B65-B67 -> -36.482364 | C69: =C65-C67 -> -37.376138 | D69: =D65-D67 -> -36.648379 | E69: =E65-E67 -> -37.545748 | F69: =F65-F67 -> -38.859451 | G69: =G65-G67 -> -39.384664 | H69: =H65-H67 -> -38.739238 | I69: =I65-I67 -> -37.034843 | ... Q69: =Q65-Q67 -> 0
A70: V | B70: =3^0.5*(B68^2+B69^2)^0.5 -> 458.34598 | C70: =3^0.5*(C68^2+C69^2)^0.5 -> 460.72051 | D70: =3^0.5*(D68^2+D69^2)^0.5 -> 464.21803 | E70: =3^0.5*(E68^2+E69^2)^0.5 -> 466.79095 | F70: =3^0.5*(F68^2+F69^2)^0.5 -> 468.92344 | G70: =3^0.5*(G68^2+G69^2)^0.5 -> 472.09 | H70: =3^0.5*(H68^2+H69^2)^0.5 -> 476.53317 | I70: =3^0.5*(I68^2+I69^2)^0.5 -> 479.60201 | ... Q70: =3^0.5*(Q68^2+Q69^2)^0.5 -> 0
A72: Correcció a | B72: =B14 -> 500
...

Sheet absorbing mode datasheet
L1: Codigo | M1: =RESUM!O2 -> DT-QT 315 L
D2: =RESUM!G2 -> MAC QT 315 L | L2: Edición | M2: ='driving mode datasheet'!M2 -> 08
D3: - Hoja de Datos Técnicos Modo Generador - | L3: Página | M3: ='driving mode datasheet'!M3 -> 1 de 3
D4: - Absorbing Mode Technical Datasheet - | L4: Fecha | M4: ='driving mode datasheet'!M4 -> 45239
A7: Ventilador / Fan | E7: Rodamientos | G7: Delantero | H7: ='driving mode datasheet'!H7 -> 6024 ZZ C3 | J7: ='driving mode datasheet'!J7 -> Trasero | M7: ='driving mode datasheet'!M7 -> 6024 ZZ C3
A8: Tipo de Refrigeración | C8: ='driving mode datasheet'!C8 -> IC 06 | E8: Bearings | G8: Drive End | J8: ='driving mode datasheet'!J8 -> Non Drive End
A9: Cooling Mode | E9: Nº de polos | F9: ='driving mode datasheet'!F9 -> 6 | G9: Momento de inercia | I9: ='driving mode datasheet'!I9 -> 13.89 | K9: Peso Motor | M9: ='driving mode datasheet'!M9 -> 2275 | P9: ='driving mode datasheet'!P9 -> 400V 50Hz
A10: Alimentación / Supply | E10: No of poles | G10: Rotor Inertia | K10: Motor Weight | P10: ='driving mode datasheet'!P10 -> 480V 60Hz | Q10: 1
A11: Potencia / Power | C11: =IF($Q$10=1,P11,IF($Q$10=2,Q11,"")) -> 4 KW | E11: Protección | G11: ='driving mode datasheet'!G11 -> IP 23 | H11: Construcción | J11: ='driving mode datasheet'!J11 -> IM B3 | K11: standard | L11: Equilibrado grado | N11: ='driving mode datasheet'!N11 -> B | P11: ='driving mode datasheet'!P11 -> 4 KW | Q11: ='driving mode datasheet'!Q11 -> 4 KW
A12: Corriente / Current | C12: =IF($Q$10=1,P12,IF($Q$10=2,Q12,"")) -> 7,4 A | E12: Protection Degree | H12: Mounting | J12: ='driving mode datasheet'!J12 -> IM B35 | K12: on request | L12: Balancing degree | P12: ='driving mode datasheet'!P12 -> 7,4 A | Q12: ='driving mode datasheet'!Q12 -> 7,4 A
A13: Velocidad / Speed | C13: =IF($Q$10=1,P13,IF($Q$10=2,Q13,"")) -> 2925rpm | E13: Nivel de ruido | G13: ='driving mode datasheet'!G13 -> < 90 dB | I13: Velocidad máxima mecánica | L13: ='driving mode datasheet'!L13 -> 4000 | P13: ='driving mode datasheet'!P13 -> 2925rpm | Q13: ='driving mode datasheet'!Q13 -> 3500rpm
A14: Caudal / Air flow | C14: =IF($Q$10=1,P14,IF($Q$10=2,Q14,"")) -> 4000 m3/h | E14: Noise Level | I14: Max. Mechanical Speed | P14: ='driving mode datasheet'!P14 -> 4000 m3/h | Q14: ='driving mode datasheet'!Q14 -> 4000 m3/h
A15: Presión / Pressure | C15: =IF($Q$10=1,P15,IF($Q$10=2,Q15,"")) -> 2450 Pa | E15: Aislamiento | F15: ='driving mode datasheet'!F15 -> Cl. H | G15: Incremento Temperatura | I15: ='driving mode datasheet'!I15 -> Cl. F | J15: Termistores | K15: ='driving mode datasheet'!K15 -> PTC155º C | L15: Termómetros | N15: ='driving mode datasheet'!N15 -> 3xPt100 | P15: ='driving mode datasheet'!P15 -> 2450 Pa | Q15: ='driving mode datasheet'!Q15 -> 2450 Pa
A16: Por favor, indicar en los pedidos la alimentación deseada para el ventilador / Please indicate the required fan supply voltage when placing your order | E16: Insulation | G16: Temperature Rise | J16: Thermistors | L16: Thermometers
E17: Ambiente | F17: ='driving mode datasheet'!F17 -> < 40 ºC < 1000 m | I17: Conmutación Variador | K17: ='driving mode datasheet'!K17 -> 4 kHz ; IVIC C/B acc. EN60034-25
E18: Ambient | I18: Inverter Switching
A19: Normas de referencia | C19: ='driving mode datasheet'!C19 -> EN60034 | E19: Alojamientos de los rodamientos eléctricamente aislados | J19: Anillo SGR de puesta a tierra del eje en NDE
A20: Reference Standards | E20: Electrically insulated bearing housings | J20: SGR shaft grounding ring on NDE
A21: Tensión de Base del Motor | E21: Vb ± 5% | F21: 400 | H21: Tensión Máxima de Salida del Convertidor | L21: Vc | M21: 400
A22: Motor Base Voltage | H22: Inverter max. Output Voltage
F23: =IF(F21>500," Vb ha de ser / must be < 500 V"," ") | G23: =IF(M21>500," Vc ha de ser / must be < 500 V"," ") | N23: =IF(M21<F21,"Vc ha de ser / must be > Vb"," ")
B24: Servicio / Service | F24: S1 | H24: Servicio / Service S6 - | L24: 0.4 | M24: =IF(L24>80%,"max 80%","")
M25: =IF(L24<20%,"min 20%","")
A26: Bobinado Winding | B26: Nm | C26: A ± 2% | D26: KW | E26: rpm | F26: Hz | G26: Velocidad a Pot.Cte Const. Power Speed. (rpm) | H26: Nm | I26: A ± 5% | J26: KW | K26: rpm | L26: Hz | M26: Velocidad a Pot.Cte Const. Power Speed. (rpm) | N26: Corriente en vacio No Load Current (A) | O26: eff | P26: cos fi | Q26: Hz | R26: rpm | S26: rpm llisc. | U26: Nm S6 | V26: A S6 | W26: Alim | X26: Nm lim | Y26: rpm lim | Z26: KW lim | AA26: rpm lim KW s6 | AB26: rpm lim Nm s6 | AC26: rpm lim s1 | AD26: Coef
A27: =RESUM!B9 -> A61 | B27: =RESUM!B11 -> 6200 | C27: =RESUM!B15 -> 423.59939 | D27: =E27*$B27*PI()/30000 -> 267.76883 | E27: =(F27*120/$F$9-$S27) -> 412.42 | F27: =$Q27*$F$21/'driving mode datasheet'!$F$21 -> 20 | G27: =IF(AC27<$L$13,AC27,$L$13) -> 590.58602 | H27: =IF(U27<X27*0.95,U27,X27*0.95) -> 9232.2638 | I27: =MIN(V27:W27) -> 610.4389 | J27: =MIN(Z27,H27*E27*PI()/30000) -> 398.72782 | K27: =MIN(E27,M27) -> 394.52822 | L27: =(K27+S27*H27/B27)*$F$9/120 -> 18.801695 | M27: =MIN($L$13,MAX(AB27,AA27)) -> 394.52822 | N27: =RESUM!B32 -> 143.9823 | O27: ='driving mode parameters'!B81 -> 0.92740061 | P27: ='driving mode parameters'!B82 -> 0.84106158 | Q27: ='driving mode parameters'!B75 -> 25 | R27: ='driving mode parameters'!B76 -> 512.42 | S27: =Q27*120/$F$9-R27 -> -12.42 | U27: =B27/((C27^2-N27^2)^0.5)*(V27^2-N27^2)^0.5 -> 9232.2638 | V27: =IF(AND($L$24>=20%,$L$24<=80%)=TRUE,((C27^2*0.9-N27^2*(1-$L$24))/$L$24)^0.5,0) -> 610.4389 | W27: =(((V27^2-N27^2)^0.5*X27/U27)^2+N27^2)^0.5 -> 893.39673 | X27: =X28 -> 13722.252 | Y27: ='driving mode datasheet'!Y27*$M$21/'driving mode datasheet'!$M$21*F27/'driving mode datasheet'!F27*'driving mode datasheet'!F$21/'absorbing mode datasheet'!F$21 -> 327.18121 | Z27: =X27*Y27*PI()/30000 -> 470.15642 | AA27: =AC27*(D27/J27)^(1/AD27) -> 375.07227 | AB27: =AC27*(B27*E27/AC27/H27)^(1/(1+AD27)) -> 394.52822 | AC27: =0.95*Y27*(Z27/D27)^(1/AD27) -> 590.58602 | AD27: ='limit 480V'!Z25 -> 0.877
A28: =RESUM!C9 -> B61 | B28: =RESUM!C11 -> 6200 | C28: =RESUM!C15 -> 466.18116 | D28: =E28*$B28*PI()/30000 -> 288.63613 | E28: =(F28*120/$F$9-$S28) -> 444.56 | F28: =$Q28*$F$21/'driving mode datasheet'!$F$21 -> 21.6 | G28: =IF(AC28<$L$13,AC28,$L$13) -> 639.22956 | H28: =IF(U28<X28*0.95,U28,X28*0.95) -> 9236.3476 | I28: =MIN(V28:W28) -> 673.30081 | J28: =MIN(Z28,H28*E28*PI()/30000) -> 429.99091 | K28: =IF(E28<M28,E28,M28) -> 425.99009 | L28: =(K28+S28*H28/B28)*$F$9/120 -> 20.363952 | M28: =MIN($L$13,MAX(AB28,AA28)) -> 425.99009 | N28: =RESUM!C32 -> 154.1579 | O28: ='driving mode parameters'!C81 -> 0.93123986 | P28: ='driving mode parameters'!C82 -> 0.82751516 | Q28: ='driving mode parameters'!C75 -> 27 | R28: ='driving mode parameters'!C76 -> 552.56 | S28: =Q28*120/$F$9-R28 -> -12.56 | U28: =B28/((C28^2-N28^2)^0.5)*(V28^2-N28^2)^0.5 -> 9236.3476 | V28: =IF(AND($L$24>=20%,$L$24<=80%)=TRUE,((C28^2*0.9-N28^2*(1-$L$24))/$L$24)^0.5,0) -> 673.30081 | W28: =(((V28^2-N28^2)^0.5*X28/U28)^2+N28^2)^0.5 -> 985.86448 | X28: =X29 -> 13722.252 | Y28: ='driving mode datasheet'!Y28*$M$21/'driving mode datasheet'!$M$21*F28/'driving mode datasheet'!F28*'driving mode datasheet'!F$21/'absorbing mode datasheet'!F$21 -> 353.35571 | Z28: =X28*Y28*PI()/30000 -> 507.76893 | AA28: =AC28*(D28/J28)^(1/AD28) -> 405.76039 | AB28: =AC28*(B28*E28/AC28/H28)^(1/(1+AD28)) -> 425.99009 | AC28: =0.95*Y28*(Z28/D28)^(1/AD28) -> 639.22956 | AD28: =AD27 -> 0.877
A29: =RESUM!D9 -> C61 | B29: =RESUM!D11 -> 6200 | C29: =RESUM!D15 -> 515.66082 | D29: =E29*$B29*PI()/30000 -> 319.53063 | E29: =(F29*120/$F$9-$S29) -> 492.144 | F29: =$Q29*$F$21/'driving mode datasheet'!$F$21 -> 24 | G29: =IF(AC29<$L$13,AC29,$L$13) -> 713.23692 | H29: =IF(U29<X29*0.95,U29,X29*0.95) -> 9227.8155 | I29: =MIN(V29:W29) -> 741.32383 | J29: =MIN(Z29,H29*E29*PI()/30000) -> 475.57577 | K29: =IF(E29<M29,E29,M29) -> 473.55543 | L29: =(K29+S29*H29/B29)*$F$9/120 -> 22.774041 | M29: =MIN($L$13,MAX(AB29,AA29)) -> 473.55543 | N29: =RESUM!D32 -> 180.23627 | O29: ='driving mode parameters'!D81 -> 0.93717119 | P29: ='driving mode parameters'!D82 -> 0.83406148 | Q29: ='driving mode parameters'!D75 -> 30 | R29: ='driving mode parameters'!D76 -> 612.144 | S29: =Q29*120/$F$9-R29 -> -12.144 | U29: =B29/((C29^2-N29^2)^0.5)*(V29^2-N29^2)^0.5 -> 9227.8155 | V29: =IF(AND($L$24>=20%,$L$24<=80%)=TRUE,((C29^2*0.9-N29^2*(1-$L$24))/$L$24)^0.5,0) -> 741.32383 | W29: =(((V29^2-N29^2)^0.5*X29/U29)^2+N29^2)^0.5 -> 1084.3934 | X29: =X30 -> 13722.252 | Y29: ='driving mode datasheet'!Y29*$M$21/'driving mode datasheet'!$M$21*F29/'driving mode datasheet'!F29*'driving mode datasheet'!F$21/'absorbing mode datasheet'!F$21 -> 392.61745 | Z29: =X29*Y29*PI()/30000 -> 564.18771 | AA29: =AC29*(D29/J29)^(1/AD29) -> 453.21499 | AB29: =AC29*(B29*E29/AC29/H29)^(1/(1+AD29)) -> 473.55543 | AC29: =0.95*Y29*(Z29/D29)^(1/AD29) -> 713.23692 | AD29: =AD28 -> 0.877
A30: =RESUM!E9 -> D61 | B30: =RESUM!E11 -> 6200 | C30: =RESUM!E15 -> 580.251 | D30: =E30*$B30*PI()/30000 -> 350.76406 | E30: =(F30*120/$F$9-$S30) -> 540.25 | F30: =$Q30*$F$21/'driving mode datasheet'!$F$21 -> 26.4 | G30: =IF(AC30<$L$13,AC30,$L$13) -> 786.39627 | H30: =IF(U30<X30*0.95,U30,X30*0.95) -> 9232.1268 | I30: =MIN(V30:W30) -> 836.12359 | J30: =MIN(Z30,H30*E30*PI()/30000) -> 522.30617 | K30: =IF(E30<M30,E30,M30) -> 520.78137 | L30: =(K30+S30*H30/B30)*$F$9/120 -> 25.127024 | M30: =MIN($L$13,MAX(AB30,AA30)) -> 520.78137 | N30: =RESUM!E32 -> 197.40415 | O30: ='driving mode parameters'!E81 -> 0.94110522 | P30: ='driving mode parameters'!E82 -> 0.81741531 | Q30: ='driving mode parameters'!E75 -> 33 | R30: ='driving mode parameters'!E76 -> 672.25 | S30: =Q30*120/$F$9-R30 -> -12.25 | U30: =B30/((C30^2-N30^2)^0.5)*(V30^2-N30^2)^0.5 -> 9232.1268 | V30: =IF(AND($L$24>=20%,$L$24<=80%)=TRUE,((C30^2*0.9-N30^2*(1-$L$24))/$L$24)^0.5,0) -> 836.12359 | W30: =(((V30^2-N30^2)^0.5*X30/U30)^2+N30^2)^0.5 -> 1223.674 | X30: =X31 -> 13722.252 | Y30: ='driving mode datasheet'!Y30*$M$21/'driving mode datasheet'!$M$21*F30/'driving mode datasheet'!F30*'driving mode datasheet'!F$21/'absorbing mode datasheet'!F$21 -> 431.8792 | Z30: =X30*Y30*PI()/30000 -> 620.60648 | AA30: =AC30*(D30/J30)^(1/AD30) -> 499.43686 | AB30: =AC30*(B30*E30/AC30/H30)^(1/(1+AD30)) -> 520.78137 | AC30: =0.95*Y30*(Z30/D30)^(1/AD30) -> 786.39627 | AD30: =AD29 -> 0.877
A31: =RESUM!F9 -> E61 | B31: =RESUM!F11 -> 6200 | C31: =RESUM!F15 -> 666.63124 | D31: =E31*$B31*PI()/30000 -> 413.27375 | E31: =(F31*120/$F$9-$S31) -> 636.528 | F31: =$Q31*$F$21/'driving mode datasheet'!$F$21 -> 31.2 | G31: =IF(AC31<$L$13,AC31,$L$13) -> 932.62335 | H31: =IF(U31<X31*0.95,U31,X31*0.95) -> 9237.3957 | I31: =MIN(V31:W31) -> 963.36298 | J31: =MIN(Z31,H31*E31*PI()/30000) -> 615.73761 | K31: =IF(E31<M31,E31,M31) -> 615.28183 | L31: =(K31+S31*H31/B31)*$F$9/120 -> 29.830816 | M31: =MIN($L$13,MAX(AB31,AA31)) -> 615.28183 | N31: =RESUM!F32 -> 218.82332 | O31: ='driving mode parameters'!F81 -> 0.94752388 | P31: ='driving mode parameters'!F82 -> 0.84451778 | Q31: ='driving mode parameters'!F75 -> 39 | R31: ='driving mode parameters'!F76 -> 792.528 | S31: =Q31*120/$F$9-R31 -> -12.528 | U31: =B31/((C31^2-N31^2)^0.5)*(V31^2-N31^2)^0.5 -> 9237.3957 | V31: =IF(AND($L$24>=20%,$L$24<=80%)=TRUE,((C31^2*0.9-N31^2*(1-$L$24))/$L$24)^0.5,0) -> 963.36298 | W31: =(((V31^2-N31^2)^0.5*X31/U31)^2+N31^2)^0.5 -> 1410.7532 | X31: =X32 -> 13722.252 | Y31: ='driving mode datasheet'!Y31*$M$21/'driving mode datasheet'!$M$21*F31/'driving mode datasheet'!F31*'driving mode datasheet'!F$21/'absorbing mode datasheet'!F$21 -> 510.40269 | Z31: =X31*Y31*PI()/30000 -> 733.44402 | AA31: =AC31*(D31/J31)^(1/AD31) -> 591.91983 | AB31: =AC31*(B31*E31/AC31/H31)^(1/(1+AD31)) -> 615.28183 | AC31: =0.95*Y31*(Z31/D31)^(1/AD31) -> 932.62335 | AD31: =AD30 -> 0.877
A32: =RESUM!G9 -> F61 | B32: =RESUM!G11 -> 6200 | C32: =RESUM!G15 -> 777.67119 | D32: =E32*$B32*PI()/30000 -> 475.59256 | E32: =(F32*120/$F$9-$S32) -> 732.512 | F32: =$Q32*$F$21/'driving mode datasheet'!$F$21 -> 36 | G32: =IF(AC32<$L$13,AC32,$L$13) -> 1079.3598 | H32: =IF(U32<X32*0.95,U32,X32*0.95) -> 9238.1698 | I32: =MIN(V32:W32) -> 1124.3078 | J32: =MIN(Z32,H32*E32*PI()/30000) -> 708.64593 | K32: =IF($E$32<$M$32,$E$32,$M$32) -> 709.90888 | L32: =(K32+S32*H32/B32)*$F$9/120 -> 34.563283 | M32: =MIN($L$13,MAX(AB32,AA32)) -> 709.90888 | N32: =RESUM!G32 -> 253.86341 | O32: ='driving mode parameters'!G81 -> 0.95233043 | P32: ='driving mode parameters'!G82 -> 0.83776057 | Q32: ='driving mode parameters'!G75 -> 45 | R32: ='driving mode parameters'!G76 -> 912.512 | S32: =Q32*120/$F$9-R32 -> -12.512 | U32: =B32/((C32^2-N32^2)^0.5)*(V32^2-N32^2)^0.5 -> 9238.1698 | V32: =IF(AND($L$24>=20%,$L$24<=80%)=TRUE,((C32^2*0.9-N32^2*(1-$L$24))/$L$24)^0.5,0) -> 1124.3078 | W32: =(((V32^2-N32^2)^0.5*X32/U32)^2+N32^2)^0.5 -> 1646.5901 | X32: ='limit 480V'!K27*0.95 -> 13722.252 | Y32: ='driving mode datasheet'!Y32*$M$21/'driving mode datasheet'!$M$21*F32/'driving mode datasheet'!F32*'driving mode datasheet'!F$21/'absorbing mode datasheet'!F$21 -> 588.92618 | Z32: =X32*Y32*PI()/30000 -> 846.28156 | AA32: =AC32*(D32/J32)^(1/AD32) -> 684.98547 | AB32: =AC32*(B32*E32/AC32/H32)^(1/(1+AD32)) -> 709.90888 | AC32: =0.95*Y32*(Z32/D32)^(1/AD32) -> 1079.3598 | AD32: =AD31 -> 0.877 | AE32: =AB32*(J32/D32)^(1/2/AD32) -> 891.13819
A33: =RESUM!H9 -> C62 | B33: =RESUM!H11 -> 6200 | C33: =RESUM!H15 -> 891.29534 | D33: =E33*$B33*PI()/30000 -> 537.64777 | E33: =(F33*120/$F$9-$S33) -> 828.09 | F33: =$Q33*$F$21/'driving mode datasheet'!$F$21 -> 40.8 | G33: =IF(AC33<$L$13,AC33,$L$13) -> 1226.796 | H33: =IF(U33<X33*0.95,U33,X33*0.95) -> 9232.1536 | I33: =MIN(V33:W33) -> 1284.3475 | J33: =MIN(Z33,H33*E33*PI()/30000) -> 800.58819 | K33: =IF(E33<M33,E33,M33) -> 804.84268 | L33: =(K33+S33*H33/B33)*$F$9/120 -> 39.341999 | M33: =MIN($L$13,MAX(AB33,AA33)) -> 804.84268 | N33: =RESUM!H32 -> 303.17013 | O33: ='driving mode parameters'!H81 -> 0.95556187 | P33: ='driving mode parameters'!H82 -> 0.82955355 | Q33: ='driving mode parameters'!H75 -> 51 | R33: ='driving mode parameters'!H76 -> 1032.09 | S33: =Q33*120/$F$9-R33 -> -12.09 | U33: =B33/((C33^2-N33^2)^0.5)*(V33^2-N33^2)^0.5 -> 9232.1536 | V33: =IF(AND($L$24>=20%,$L$24<=80%)=TRUE,((C33^2*0.9-N33^2*(1-$L$24))/$L$24)^0.5,0) -> 1284.3475 | W33: =(((V33^2-N33^2)^0.5*X33/U33)^2+N33^2)^0.5 -> 1879.6593 | X33: =X32 -> 13722.252 | Y33: ='driving mode datasheet'!Y33*$M$21/'driving mode datasheet'!$M$21*F33/'driving mode datasheet'!F33*'driving mode datasheet'!F$21/'absorbing mode datasheet'!F$21 -> 667.44967 | Z33: =X33*Y33*PI()/30000 -> 959.1191 | AA33: =AC33*(D33/J33)^(1/AD33) -> 779.13021 | AB33: =AC33*(B33*E33/AC33/H33)^(1/(1+AD33)) -> 804.84268 | AC33: =0.95*Y33*(Z33/D33)^(1/AD33) -> 1226.796 | AD33: =AD32 -> 0.877
A34: =RESUM!I9 -> D62 | B34: =RESUM!I11 -> 5900 | C34: =RESUM!I15 -> 960.36103 | D34: =E34*$B34*PI()/30000 -> 570.54422 | E34: =(F34*120/$F$9-$S34) -> 923.44 | F34: =$Q34*$F$21/'driving mode datasheet'!$F$21 -> 45.6 | G34: =IF(AC34<$L$13,AC34,$L$13) -> 1533.903 | H34: =IF(U34<X34*0.95,U34,X34*0.95) -> 8777.4862 | I34: =MIN(V34:W34) -> 1377.6728 | J34: =MIN(Z34,H34*E34*PI()/30000) -> 848.80407 | K34: =IF(E34<M34,E34,M34) -> 923.44 | L34: =(K34+S34*H34/B34)*$F$9/120 -> 45.32103 | M34: =MIN($L$13,MAX(AB34,AA34)) -> 975.17807 | N34: =RESUM!I32 -> 343.6836 | O34: ='driving mode parameters'!I81 -> 0.95824439 | P34: ='driving mode parameters'!I82 -> 0.81965873 | Q34: ='driving mode parameters'!I75 -> 57 | R34: ='driving mode parameters'!I76 -> 1151.44 | S34: =Q34*120/$F$9-R34 -> -11.44 | U34: =B34/((C34^2-N34^2)^0.5)*(V34^2-N34^2)^0.5 -> 8777.4862 | V34: =IF(AND($L$24>=20%,$L$24<=80%)=TRUE,((C34^2*0.9-N34^2*(1-$L$24))/$L$24)^0.5,0) -> 1377.6728 | W34: =(((V34^2-N34^2)^0.5*X34/U34)^2+N34^2)^0.5 -> 2113.8114 | X34: =X33 -> 13722.252 | Y34: ='driving mode datasheet'!Y34*$M$21/'driving mode datasheet'!$M$21*F34/'driving mode datasheet'!F34*'driving mode datasheet'!F$21/'absorbing mode datasheet'!F$21 -> 764.70344 | Z34: =X34*Y34*PI()/30000 -> 1098.8719 | AA34: =AC34*(D34/J34)^(1/AD34) -> 975.17807 | AB34: =AC34*(B34*E34/AC34/H34)^(1/(1+AD34)) -> 947.26302 | AC34: =0.95*Y34*(Z34/D34)^(1/AD34) -> 1533.903 | AD34: =AD33 -> 0.877
A35: =RESUM!J9 -> E62 | B35: =RESUM!J11 -> 5600 | C35: =RESUM!J15 -> 1055.7431 | D35: =E35*$B35*PI()/30000 -> 625.73086 | E35: =(F35*120/$F$9-$S35) -> 1067.016 | F35: =$Q35*$F$21/'driving mode datasheet'!$F$21 -> 52.8 | G35: =IF(AC35<$L$13,AC35,$L$13) -> 1998.0066 | H35: =IF(U35<X35*0.95,U35,X35*0.95) -> 8328.3222 | I35: =MIN(V35:W35) -> 1511.9707 | J35: =MIN(Z35,H35*E35*PI()/30000) -> 930.58718 | K35: =IF(E35<M35,E35,M35) -> 1067.016 | L35: =(K35+S35*H35/B35)*$F$9/120 -> 52.53165 | M35: =MIN($L$13,MAX(AB35,AA35)) -> 1270.7276 | N35: =RESUM!J32 -> 384.51693 | O35: ='driving mode parameters'!J81 -> 0.96067242 | P35: ='driving mode parameters'!J82 -> 0.82013691 | Q35: ='driving mode parameters'!J75 -> 66 | R35: ='driving mode parameters'!J76 -> 1331.016 | S35: =Q35*120/$F$9-R35 -> -11.016 | U35: =B35/((C35^2-N35^2)^0.5)*(V35^2-N35^2)^0.5 -> 8328.3222 | V35: =IF(AND($L$24>=20%,$L$24<=80%)=TRUE,((C35^2*0.9-N35^2*(1-$L$24))/$L$24)^0.5,0) -> 1511.9707 | W35: =(((V35^2-N35^2)^0.5*X35/U35)^2+N35^2)^0.5 -> 2439.7985 | X35: =X34 -> 13722.252 | Y35: ='driving mode datasheet'!Y35*$M$21/'driving mode datasheet'!$M$21*F35/'driving mode datasheet'!F35*'driving mode datasheet'!F$21/'absorbing mode datasheet'!F$21 -> 908.85398 | Z35: =X35*Y35*PI()/30000 -> 1306.0149 | AA35: =AC35*(D35/J35)^(1/AD35) -> 1270.7276 | AB35: =AC35*(B35*E35/AC35/H35)^(1/(1+AD35)) -> 1157.7784 | AC35: =0.95*Y35*(Z35/D35)^(1/AD35) -> 1998.0066 | AD35: =AD34 -> 0.877
A36: =RESUM!K9 -> F62 | B36: =RESUM!K11 -> 5200 | C36: =RESUM!K15 -> 1158.8952 | D36: =E36*$B36*PI()/30000 -> 676.43098 | E36: =(F36*120/$F$9-$S36) -> 1242.2 | F36: =$Q36*$F$21/'driving mode datasheet'!$F$21 -> 61.6 | G36: =IF(AC36<$L$13,AC36,$L$13) -> 2752.5807 | H36: =IF(U36<X36*0.95,U36,X36*0.95) -> 7725.1598 | I36: =MIN(V36:W36) -> 1651.1695 | J36: =MIN(Z36,H36*E36*PI()/30000) -> 1004.911 | K36: =IF(E36<M36,E36,M36) -> 1242.2 | L36: =(K36+S36*H36/B36)*$F$9/120 -> 61.35234 | M36: =MIN($L$13,MAX(AB36,AA36)) -> 1752.7752 | N36: =RESUM!K32 -> 443.82809 | O36: ='driving mode parameters'!K81 -> 0.96211641 | P36: ='driving mode parameters'!K82 -> 0.80923099 | Q36: ='driving mode parameters'!K75 -> 77 | R36: ='driving mode parameters'!K76 -> 1550.2 | S36: =Q36*120/$F$9-R36 -> -10.2 | U36: =B36/((C36^2-N36^2)^0.5)*(V36^2-N36^2)^0.5 -> 7725.1598 | V36: =IF(AND($L$24>=20%,$L$24<=80%)=TRUE,((C36^2*0.9-N36^2*(1-$L$24))/$L$24)^0.5,0) -> 1651.1695 | W36: =(((V36^2-N36^2)^0.5*X36/U36)^2+N36^2)^0.5 -> 2859.6923 | X36: =X35 -> 13722.252 | Y36: ='driving mode datasheet'!Y36*$M$21/'driving mode datasheet'!$M$21*F36/'driving mode datasheet'!F36*'driving mode datasheet'!F$21/'absorbing mode datasheet'!F$21 -> 1100.3561 | Z36: =X36*Y36*PI()/30000 -> 1581.2017 | AA36: =AC36*(D36/J36)^(1/AD36) -> 1752.7752 | AB36: =AC36*(B36*E36/AC36/H36)^(1/(1+AD36)) -> 1459.0137 | AC36: =0.95*Y36*(Z36/D36)^(1/AD36) -> 2752.5807 | AD36: =AD35 -> 0.877
A37: =RESUM!L9 -> 0 | B37: =RESUM!L11 -> 0 | C37: =RESUM!L15 -> 0 | D37: =E37*$B37*PI()/30000 -> #DIV/0! | E37: =(F37*120/$F$9-$S37) -> #DIV/0! | F37: =$Q37*$F$21/'driving mode datasheet'!$F$21 -> #DIV/0! | G37: =IF(AC37<$L$13,AC37,$L$13) -> #DIV/0! | H37: =IF(U37<X37*0.95,U37,X37*0.95) -> #DIV/0! | I37: =MIN(V37:W37) -> #DIV/0! | J37: =MIN(Z37,H37*E37*PI()/30000) -> #DIV/0! | K37: =IF(E37<M37,E37,M37) -> #DIV/0! | L37: =(K37+S37*H37/B37)*$F$9/120 -> #DIV/0! | M37: =MIN($L$13,MAX(AB37,AA37)) -> #DIV/0! | N37: =RESUM!L32 -> 0 | O37: ='driving mode parameters'!L81 -> #DIV/0! | P37: ='driving mode parameters'!L82 -> #DIV/0! | Q37: ='driving mode parameters'!L75 -> #DIV/0! | R37: ='driving mode parameters'!L76 -> #DIV/0! | S37: =Q37*120/$F$9-R37 -> #DIV/0! | U37: =B37/((C37^2-N37^2)^0.5)*(V37^2-N37^2)^0.5 -> #DIV/0! | V37: =IF(AND($L$24>=20%,$L$24<=80%)=TRUE,((C37^2*0.9-N37^2*(1-$L$24))/$L$24)^0.5,0) -> 0 | W37: =(((V37^2-N37^2)^0.5*X37/U37)^2+N37^2)^0.5 -> #DIV/0! | X37: =X36 -> 13722.252 | Y37: ='driving mode datasheet'!Y37*$M$21/'driving mode datasheet'!$M$21*F37/'driving mode datasheet'!F37*'driving mode datasheet'!F$21/'absorbing mode datasheet'!F$21 -> #DIV/0! | Z37: =X37*Y37*PI()/30000 -> #DIV/0! | AA37: =AC37*(D37/J37)^(1/AD37) -> #DIV/0! | AB37: =AC37*(B37*E37/AC37/H37)^(1/(1+AD37)) -> #DIV/0! | AC37: =0.95*Y37*(Z37/D37)^(1/AD37) -> #DIV/0! | AD37: =AD36 -> 0.877
A38: =RESUM!M9 -> 0 | B38: =RESUM!M11 -> 0 | C38: =RESUM!M15 -> 0 | D38: =E38*$B38*PI()/30000 -> #DIV/0! | E38: =(F38*120/$F$9-$S38) -> #DIV/0! | F38: =$Q38*$F$21/'driving mode datasheet'!$F$21 -> #DIV/0! | G38: =IF(AC38<$L$13,AC38,$L$13) -> #DIV/0! | H38: =IF(U38<X38*0.95,U38,X38*0.95) -> #DIV/0! | I38: =MIN(V38:W38) -> #DIV/0! | J38: =MIN(Z38,H38*E38*PI()/30000) -> #DIV/0! | K38: =IF(E38<M38,E38,M38) -> #DIV/0! | L38: =(K38+S38*H38/B38)*$F$9/120 -> #DIV/0! | M38: =MIN($L$13,MAX(AB38,AA38)) -> #DIV/0! | N38: =RESUM!M32 -> 0 | O38: ='driving mode parameters'!M81 -> #DIV/0! | P38: ='driving mode parameters'!M82 -> #DIV/0! | Q38: ='driving mode parameters'!M75 -> #DIV/0! | R38: ='driving mode parameters'!M76 -> #DIV/0! | S38: =Q38*120/$F$9-R38 -> #DIV/0! | U38: =B38/((C38^2-N38^2)^0.5)*(V38^2-N38^2)^0.5 -> #DIV/0! | V38: =IF(AND($L$24>=20%,$L$24<=80%)=TRUE,((C38^2*0.9-N38^2*(1-$L$24))/$L$24)^0.5,0) -> 0 | W38: =(((V38^2-N38^2)^0.5*X38/U38)^2+N38^2)^0.5 -> #DIV/0! | X38: =X37 -> 13722.252 | Y38: ='driving mode datasheet'!Y38*$M$21/'driving mode datasheet'!$M$21*F38/'driving mode datasheet'!F38*'driving mode datasheet'!F$21/'absorbing mode datasheet'!F$21 -> #DIV/0! | Z38: =X38*Y38*PI()/30000 -> #DIV/0! | AA38: =AC38*(D38/J38)^(1/AD38) -> #DIV/0! | AB38: =AC38*(B38*E38/AC38/H38)^(1/(1+AD38)) -> #DIV/0! | AC38: =0.95*Y38*(Z38/D38)^(1/AD38) -> #DIV/0! | AD38: =AD37 -> 0.877
