Workbook

Sheet RESUM
G2: =B21 -> MAC QT 315 L | N2: Codi | O2: DT-QT 315 L
N3: Edició | O3: 08
G4: - Fitxa Tècnica - | N4: Pàgina | O4: 1 de 2
N5: Data | O5: 45239
B8: =B21 -> MAC QT 315 L | C8: =C21 -> MAC QI 315 L | D8: =D21 -> MAC QI 315 L | E8: =E21 -> MAC QI 315 L | F8: =F21 -> MAC QI 315 L | G8: =G21 -> MAC QI 315 L | H8: =H21 -> MAC QI 315 L | I8: =I21 -> MAC QI 315 L | ... O8: =O21 -> 0
B9: =B22 -> A61 | C9: =C22 -> B61 | D9: =D22 -> C61 | E9: =E22 -> D61 | F9: =F22 -> E61 | G9: =G22 -> F61 | H9: =H22 -> C62 | I9: =I22 -> D62 | ... O9: =O22 -> 0
A10: Pols | B10: 6 | C10: =B10 -> 6 | D10: =C10 -> 6 | E10: =D10 -> 6 | F10: =E10 -> 6 | G10: =F10 -> 6 | H10: =G10 -> 6 | I10: =H10 -> 6 | J10: =I10 -> 6 | ... O10: =N10 -> 6
A11: Nm | B11: 6200 | C11: 6200 | D11: 6200 | E11: 6200 | F11: 6200 | G11: 6200 | H11: 6200 | I11: 5900 | J11: 5600 | K11: 5200
A12: rpm | B12: 347.58 | C12: 387.44 | D12: 427.856 | E12: 487.75 | F12: 567.472 | G12: 667.488 | H12: 767.91 | I12: 868.56 | J12: 1008.984 | K12: 1189.8
A13: KW | B13: 225.67065 | C13: 251.55026 | D13: 277.79085 | E13: 316.67778 | F13: 368.43828 | G13: 433.37492 | H13: 498.57515 | I13: 536.6368 | J13: 591.69912 | K13: 647.89694
A14: V | B14: 400 | C14: 400 | D14: 400 | E14: 400 | F14: 400 | G14: 400 | H14: 400 | I14: 400 | J14: 400 | K14: 400
A15: A | B15: 423.59939 | C15: 466.18116 | D15: 515.66082 | E15: 580.251 | F15: 666.63124 | G15: 777.67119 | H15: 891.29534 | I15: 960.36103 | J15: 1055.7431 | K15: 1158.8952
A16: Hz | B16: 18 | C16: 20 | D16: 22 | E16: 25 | F16: 29 | G16: 34 | H16: 39 | I16: 44 | J16: 51 | K16: 60
A17: Cos fi | B17: 0.84433268 | C17: 0.84837008 | D17: 0.84058963 | E17: 0.84483371 | F17: 0.84934065 | G17: 0.8498193 | H17: 0.84852236 | I17: 0.8436502 | J17: 0.84285534 | K17: 0.83786395
A18: Rend / eff. | B18: 0.91072139 | C18: 0.91804524 | D18: 0.9250158 | E18: 0.93241625 | F18: 0.93923995 | G18: 0.94649985 | H18: 0.9515357 | I18: 0.95601101 | J18: 0.95977406 | K18: 0.96309166
A19: J (Kg m2) | B19: 13.89 | C19: 13.89 | D19: 13.89 | E19: 13.89 | F19: 13.89 | G19: 13.89 | H19: 13.89 | I19: 13.89 | J19: 13.89 | K19: 13.89
B20: ESQUEMA EQUIVALENTE POR FASE EN ESTRELLA / PHASE STAR EQUIVALENT SCHEMA
B21: MAC QT 315 L | C21: MAC QI 315 L | D21: MAC QI 315 L | E21: MAC QI 315 L | F21: MAC QI 315 L | G21: MAC QI 315 L | H21: MAC QI 315 L | I21: MAC QI 315 L | J21: MAC QI 315 L | K21: MAC QI 315 L | M21: 0 | N21: 0 | O21: 0
B22: A61 | C22: B61 | D22: C61 | E22: D61 | F22: E61 | G22: F61 | H22: C62 | I22: D62 | J22: E62 | K22: F62
A23: Rs (mOhm) | B23: 20.779779 | C23: 17.222349 | D23: 13.982839 | E23: 11.003619 | F23: 8.4492521 | G23: 6.0976267 | H23: 4.6609462 | I23: 3.6678731 | J23: 2.8164174 | K23: 2.0325422
A24: Rr (mOhm) | B24: 18.251806 | C24: 15.00676 | D24: 12.094651 | E24: 9.509553 | F24: 7.2459868 | G24: 5.2987451 | H24: 3.9559379 | I24: 3.1117458 | J24: 2.3720454 | K24: 1.7352968
A25: Rfe (Ohm) | B25: 56.054576 | C25: 50.418094 | D25: 44.029135 | E25: 38.352581 | F25: 32.627246 | G25: 26.803988 | H25: 22.116624 | I25: 18.876746 | J25: 15.74761 | K25: 12.68671
A26: Ls (mH) | B26: 0.70089962 | C26: 0.57925473 | D26: 0.46919727 | E26: 0.37072375 | F26: 0.28383538 | G26: 0.20853212 | H26: 0.15639909 | I26: 0.12357458 | J26: 0.094611795 | K26: 0.069510706
A27: Lr (mH) | B27: 0.57046953 | C27: 0.46842361 | D27: 0.38263137 | E27: 0.30037724 | F27: 0.22829367 | G27: 0.16748885 | H27: 0.12634984 | I27: 0.10067238 | J27: 0.077326396 | K27: 0.057400885
A28: Lm (mH) | B28: 12.582191 | C28: 10.609447 | D28: 8.2729963 | E28: 6.6694262 | F28: 5.1986685 | G28: 3.8360302 | H28: 2.8188793 | I28: 2.2145843 | J28: 1.7145461 | K28: 1.2697668
A29: Ts (s) | B29: 0.63923156 | C29: 0.64966176 | D29: 0.62520879 | E29: 0.63980312 | F29: 0.64887446 | G29: 0.66330106 | H29: 0.63834215 | I29: 0.63746995 | J29: 0.64236142 | K29: 0.65891741
A30: Tr (s) | B30: 0.72062239 | C30: 0.73819205 | D30: 0.7156575 | E30: 0.73292651 | F30: 0.74896108 | G30: 0.75555984 | H30: 0.74450843 | I30: 0.74403786 | J30: 0.75541239 | K30: 0.76480732
A31: Kt | B31: 63.263681 | C31: 57.51238 | D31: 51.761194 | E31: 46.009949 | F31: 40.258706 | G31: 34.507463 | H31: 29.884339 | I31: 26.563856 | J31: 23.243375 | K31: 19.922893
A32: Im (A/fase) | B32: 143.9823 | C32: 154.1579 | D32: 180.23627 | E32: 197.40415 | F32: 218.82332 | G32: 253.86341 | H32: 303.17013 | I32: 343.6836 | J32: 384.51693 | K32: 443.82809

Sheet driving mode datasheet
L1: Codigo | M1: =RESUM!O2 -> DT-QT 315 L
D2: =RESUM!G2 -> MAC QT 315 L | L2: Edición | M2: =RESUM!O3 -> 08
D3: - Hoja de Datos Técnicos Modo Motor - | L3: Página | M3: 1 de 3
D4: - Driving mode Technical Datasheet - | L4: Fecha | M4: =RESUM!O5 -> 45239
A7: Ventilador / Fan | E7: Rodamientos | G7: Delantero | H7: 6024 ZZ C3 | J7: Trasero | M7: 6024 ZZ C3
A8: Tipo de Refrigeración | C8: IC 06 | E8: Bearings | G8: Drive End | J8: Non Drive End
A9: Cooling Mode | E9: Nº de polos | F9: =RESUM!B10 -> 6 | G9: Momento de inercia | I9: =RESUM!B19 -> 13.89 | K9: Peso Motor | M9: 2275 | P9: 400V 50Hz | S9: IM B3
A10: Alimentación / Supply | E10: No of poles | G10: Rotor Inertia | K10: Motor Weight | P10: 480V 60Hz | Q10: 1 | S10: IM B35
A11: Potencia / Power | C11: =IF($Q$10=1,P11,IF($Q$10=2,Q11,"")) -> 4 KW | E11: Protección | G11: IP 23 | H11: Construcción | J11: IM B3 | K11: standard | L11: Equilibrado grado | N11: B | P11: 4 KW | Q11: 4 KW
A12: Corriente / Current | C12: =IF($Q$10=1,P12,IF($Q$10=2,Q12,"")) -> 7,4 A | E12: Protection Degree | H12: Mounting | J12: IM B35 | K12: on request | L12: Balancing degree | P12: 7,4 A | Q12: 7,4 A
A13: Velocidad / Speed | C13: =IF($Q$10=1,P13,IF($Q$10=2,Q13,"")) -> 2925rpm | E13: Nivel de ruido | G13: < 90 dB | I13: Velocidad máxima mecánica | L13: 4000 | P13: 2925rpm | Q13: 3500rpm
A14: Caudal / Air flow | C14: =IF($Q$10=1,P14,IF($Q$10=2,Q14,"")) -> 4000 m3/h | E14: Noise Level | I14: Max. Mechanical Speed | P14: 4000 m3/h | Q14: 4000 m3/h
A15: Presión / Pressure | C15: =IF($Q$10=1,P15,IF($Q$10=2,Q15,"")) -> 2450 Pa | E15: Aislamiento | F15: Cl. H | G15: Incremento Temperatura | I15: Cl. F | J15: Termistores | K15: PTC155º C | L15: Termómetros | N15: 3xPt100 | P15: 2450 Pa | Q15: 2450 Pa
A16: Por favor, indicar en los pedidos la alimentación deseada para el ventilador / Please indicate the required fan supply voltage when placing your order | E16: Insulation | G16: Temperature Rise | J16: Thermistors | L16: Thermometers
E17: Ambiente | F17: < 40 ºC < 1000 m | I17: Conmutación Variador | K17: 4 kHz ; IVIC C/B acc. EN60034-25
E18: Ambient | I18: Inverter Switching
A19: Normas de referencia | C19: EN60034 | D19: Sondas rodamientos | F19: 2 x Pt100 | G19: Alojamientos de los rodamientos eléctricamente aislados | K19: Anillo SGR de puesta a tierra del eje en NDE
A20: Reference Standards | D20: Bearing Probes | G20: Electrically insulated bearing housings | K20: SGR shaft grounding ring on NDE
A21: Tensión de Base del Motor | E21: Vb ± 5% | F21: 500 | H21: Tensión Máxima de Salida del Convertidor | L21: Vc | M21: 500
A22: Motor Base Voltage | H22: Inverter max. Output Voltage
F23: =IF(F21>500," Vb ha de ser / must be < 500 V"," ") | G23: =IF(M21>500," Vc ha de ser / must be < 500 V"," ") | N23: =IF(M21<F21,"Vc ha de ser / must be > Vb"," ")
B24: Servicio / Service | F24: S1 | H24: Servicio / Service S6 - | L24: 0.4 | M24: =IF(L24>80%,"max 80%","")
M25: =IF(L24<20%,"min 20%","")
A26: Bobinado Winding | B26: Nm | C26: A ± 2% | D26: KW | E26: rpm | F26: Hz | G26: Velocidad a Pot.Cte Const. Power Speed. (rpm) | H26: Nm | I26: A ± 5% | J26: KW | K26: rpm | L26: Hz | M26: Velocidad a Pot.Cte Const. Power Speed. (rpm) | N26: Corriente en vacio No Load Current (A) | O26: eff | P26: cos fi | Q26: Hz | R26: rpm | S26: rpm llisc. | U26: Nm S6 | V26: A S6 | W26: Alim | X26: Nm lim | Y26: rpm lim | Z26: KW lim | AA26: rpm lim KW s6 | AB26: rpm lim Nm s6 | AC26: rpm lim s1 | AD26: Coef
A27: =RESUM!B9 -> A61 | B27: =RESUM!B11 -> 6200 | C27: =RESUM!B15 -> 423.59939 | D27: =E27*$B27*PI()/30000 -> 284.10428 | E27: =(F27*120/$F$9-$S27) -> 437.58 | F27: =$Q27*$F$21/400 -> 22.5 | G27: =IF(AC27<$L$13,AC27,$L$13) -> 710.29329 | H27: =IF(U27<X27*0.95,U27,X27*0.95) -> 9232.2638 | I27: =MIN(V27:W27) -> 610.4389 | J27: =MIN(Z27,H27*E27*PI()/30000) -> 423.05252 | K27: =MIN(E27,M27) -> 437.58 | L27: =(K27+S27*H27/B27)*$F$9/120 -> 22.803715 | M27: =MIN($L$13,MAX(AB27,AA27)) -> 451.09655 | N27: =RESUM!B32 -> 143.9823 | O27: ='driving mode parameters'!B18 -> 0.92394433 | P27: ='driving mode parameters'!B17 -> 0.83819682 | Q27: =RESUM!B16 -> 18 | R27: =RESUM!B12 -> 347.58 | S27: =Q27*120/$F$9-R27 -> 12.42 | U27: =B27/((C27^2-N27^2)^0.5)*(V27^2-N27^2)^0.5 -> 9232.2638 | V27: =IF(AND($L$24>=20%,$L$24<=80%)=TRUE,((C27^2*0.9-N27^2*(1-$L$24))/$L$24)^0.5,0) -> 610.4389 | W27: =(((V27^2-N27^2)^0.5*X27/U27)^2+N27^2)^0.5 -> 893.39673 | X27: =X28 -> 13722.252 | Y27: =Y$32*F27/F$32*(B$32/B27)^0.5 -> 368.07886 | Z27: =X27*Y27*PI()/30000 -> 528.92597 | AA27: =AC27*(D27/J27)^(1/AD27) -> 451.09655 | AB27: =AC27*(B27*E27/AC27/H27)^(1/(1+AD27)) -> 443.84425 | AC27: =0.95*Y27*(Z27/D27)^(1/AD27) -> 710.29329 | AD27: ='limit 480V'!Z25 -> 0.877
A28: =RESUM!C9 -> B61 | B28: =RESUM!C11 -> 6200 | C28: =RESUM!C15 -> 466.18116 | D28: =E28*$B28*PI()/30000 -> 316.4765 | E28: =(F28*120/$F$9-$S28) -> 487.44 | F28: =$Q28*$F$21/400 -> 25 | G28: =IF(AC28<$L$13,AC28,$L$13) -> 786.92591 | H28: =IF(U28<X28*0.95,U28,X28*0.95) -> 9236.3476 | I28: =MIN(V28:W28) -> 673.30081 | J28: =MIN(Z28,H28*E28*PI()/30000) -> 471.46565 | K28: =IF(E28<M28,E28,M28) -> 487.44 | L28: =(K28+S28*H28/B28)*$F$9/120 -> 25.307553 | M28: =MIN($L$13,MAX(AB28,AA28)) -> 499.51282 | N28: =RESUM!C32 -> 154.1579 | O28: ='driving mode parameters'!C18 -> 0.92986574 | P28: ='driving mode parameters'!C17 -> 0.84301612 | Q28: =RESUM!C16 -> 20 | R28: =RESUM!C12 -> 387.44 | S28: =Q28*120/$F$9-R28 -> 12.56 | U28: =B28/((C28^2-N28^2)^0.5)*(V28^2-N28^2)^0.5 -> 9236.3476 | V28: =IF(AND($L$24>=20%,$L$24<=80%)=TRUE,((C28^2*0.9-N28^2*(1-$L$24))/$L$24)^0.5,0) -> 673.30081 | W28: =(((V28^2-N28^2)^0.5*X28/U28)^2+N28^2)^0.5 -> 985.86448 | X28: =X29 -> 13722.252 | Y28: =Y$32*F28/F$32*(B$32/B28)^0.5 -> 408.97651 | Z28: =X28*Y28*PI()/30000 -> 587.69553 | AA28: =AC28*(D28/J28)^(1/AD28) -> 499.51282 | AB28: =AC28*(B28*E28/AC28/H28)^(1/(1+AD28)) -> 493.04409 | AC28: =0.95*Y28*(Z28/D28)^(1/AD28) -> 786.92591 | AD28: =AD27 -> 0.877
A29: =RESUM!D9 -> C61 | B29: =RESUM!D11 -> 6200 | C29: =RESUM!D15 -> 515.66082 | D29: =E29*$B29*PI()/30000 -> 349.20972 | E29: =(F29*120/$F$9-$S29) -> 537.856 | F29: =$Q29*$F$21/400 -> 27.5 | G29: =IF(AC29<$L$13,AC29,$L$13) -> 862.55088 | H29: =IF(U29<X29*0.95,U29,X29*0.95) -> 9227.8155 | I29: =MIN(V29:W29) -> 741.32383 | J29: =MIN(Z29,H29*E29*PI()/30000) -> 519.74885 | K29: =IF(E29<M29,E29,M29) -> 537.856 | L29: =(K29+S29*H29/B29)*$F$9/120 -> 27.796531 | M29: =MIN($L$13,MAX(AB29,AA29)) -> 548.09416 | N29: =RESUM!D32 -> 180.23627 | O29: ='driving mode parameters'!D18 -> 0.93532536 | P29: ='driving mode parameters'!D17 -> 0.83604345 | Q29: =RESUM!D16 -> 22 | R29: =RESUM!D12 -> 427.856 | S29: =Q29*120/$F$9-R29 -> 12.144 | U29: =B29/((C29^2-N29^2)^0.5)*(V29^2-N29^2)^0.5 -> 9227.8155 | V29: =IF(AND($L$24>=20%,$L$24<=80%)=TRUE,((C29^2*0.9-N29^2*(1-$L$24))/$L$24)^0.5,0) -> 741.32383 | W29: =(((V29^2-N29^2)^0.5*X29/U29)^2+N29^2)^0.5 -> 1084.3934 | X29: =X30 -> 13722.252 | Y29: =Y$32*F29/F$32*(B$32/B29)^0.5 -> 449.87417 | Z29: =X29*Y29*PI()/30000 -> 646.46508 | AA29: =AC29*(D29/J29)^(1/AD29) -> 548.09416 | AB29: =AC29*(B29*E29/AC29/H29)^(1/(1+AD29)) -> 542.6156 | AC29: =0.95*Y29*(Z29/D29)^(1/AD29) -> 862.55088 | AD29: =AD28 -> 0.877
A30: =RESUM!E9 -> D61 | B30: =RESUM!E11 -> 6200 | C30: =RESUM!E15 -> 580.251 | D30: =E30*$B30*PI()/30000 -> 397.83559 | E30: =(F30*120/$F$9-$S30) -> 612.75 | F30: =$Q30*$F$21/400 -> 31.25 | G30: =IF(AC30<$L$13,AC30,$L$13) -> 977.34479 | H30: =IF(U30<X30*0.95,U30,X30*0.95) -> 9232.1268 | I30: =MIN(V30:W30) -> 836.12359 | J30: =MIN(Z30,H30*E30*PI()/30000) -> 592.39815 | K30: =IF(E30<M30,E30,M30) -> 612.75 | L30: =(K30+S30*H30/B30)*$F$9/120 -> 31.549545 | M30: =MIN($L$13,MAX(AB30,AA30)) -> 620.70744 | N30: =RESUM!E32 -> 197.40415 | O30: ='driving mode parameters'!E18 -> 0.94124181 | P30: ='driving mode parameters'!E17 -> 0.84111598 | Q30: =RESUM!E16 -> 25 | R30: =RESUM!E12 -> 487.75 | S30: =Q30*120/$F$9-R30 -> 12.25 | U30: =B30/((C30^2-N30^2)^0.5)*(V30^2-N30^2)^0.5 -> 9232.1268 | V30: =IF(AND($L$24>=20%,$L$24<=80%)=TRUE,((C30^2*0.9-N30^2*(1-$L$24))/$L$24)^0.5,0) -> 836.12359 | W30: =(((V30^2-N30^2)^0.5*X30/U30)^2+N30^2)^0.5 -> 1223.674 | X30: =X31 -> 13722.252 | Y30: =Y$32*F30/F$32*(B$32/B30)^0.5 -> 511.22064 | Z30: =X30*Y30*PI()/30000 -> 734.61941 | AA30: =AC30*(D30/J30)^(1/AD30) -> 620.70744 | AB30: =AC30*(B30*E30/AC30/H30)^(1/(1+AD30)) -> 616.45522 | AC30: =0.95*Y30*(Z30/D30)^(1/AD30) -> 977.34479 | AD30: =AD29 -> 0.877
A31: =RESUM!F9 -> E61 | B31: =RESUM!F11 -> 6200 | C31: =RESUM!F15 -> 666.63124 | D31: =E31*$B31*PI()/30000 -> 462.58134 | E31: =(F31*120/$F$9-$S31) -> 712.472 | F31: =$Q31*$F$21/400 -> 36.25 | G31: =IF(AC31<$L$13,AC31,$L$13) -> 1130.6686 | H31: =IF(U31<X31*0.95,U31,X31*0.95) -> 9237.3957 | I31: =MIN(V31:W31) -> 963.36298 | J31: =MIN(Z31,H31*E31*PI()/30000) -> 689.20111 | K31: =IF(E31<M31,E31,M31) -> 712.472 | L31: =(K31+S31*H31/B31)*$F$9/120 -> 36.556875 | M31: =MIN($L$13,MAX(AB31,AA31)) -> 717.61571 | N31: =RESUM!F32 -> 218.82332 | O31: ='driving mode parameters'!F18 -> 0.94667474 | P31: ='driving mode parameters'!F17 -> 0.84639098 | Q31: =RESUM!F16 -> 29 | R31: =RESUM!F12 -> 567.472 | S31: =Q31*120/$F$9-R31 -> 12.528 | U31: =B31/((C31^2-N31^2)^0.5)*(V31^2-N31^2)^0.5 -> 9237.3957 | V31: =IF(AND($L$24>=20%,$L$24<=80%)=TRUE,((C31^2*0.9-N31^2*(1-$L$24))/$L$24)^0.5,0) -> 963.36298 | W31: =(((V31^2-N31^2)^0.5*X31/U31)^2+N31^2)^0.5 -> 1410.7532 | X31: =X32 -> 13722.252 | Y31: =Y$32*F31/F$32*(B$32/B31)^0.5 -> 593.01595 | Z31: =X31*Y31*PI()/30000 -> 852.15851 | AA31: =AC31*(D31/J31)^(1/AD31) -> 717.61571 | AB31: =AC31*(B31*E31/AC31/H31)^(1/(1+AD31)) -> 714.87071 | AC31: =0.95*Y31*(Z31/D31)^(1/AD31) -> 1130.6686 | AD31: =AD30 -> 0.877
A32: =RESUM!G9 -> F61 | B32: =RESUM!G11 -> 6200 | C32: =RESUM!G15 -> 777.67119 | D32: =E32*$B32*PI()/30000 -> 543.74954 | E32: =(F32*120/$F$9-$S32) -> 837.488 | F32: =$Q32*$F$21/400 -> 42.5 | G32: =IF(AC32<$L$13,AC32,$L$13) -> 1321.6849 | H32: =IF(U32<X32*0.95,U32,X32*0.95) -> 9238.1698 | I32: =MIN(V32:W32) -> 1124.3078 | J32: =MIN(Z32,H32*E32*PI()/30000) -> 810.2017 | K32: =IF($E$32<$M$32,$E$32,$M$32) -> 837.488 | L32: =(K32+S32*H32/B32)*$F$9/120 -> 42.806561 | M32: =MIN($L$13,MAX(AB32,AA32)) -> 838.77026 | N32: =RESUM!G32 -> 253.86341 | O32: ='driving mode parameters'!G18 -> 0.95232517 | P32: ='driving mode parameters'!G17 -> 0.84778747 | Q32: =RESUM!G16 -> 34 | R32: =RESUM!G12 -> 667.488 | S32: =Q32*120/$F$9-R32 -> 12.512 | U32: =B32/((C32^2-N32^2)^0.5)*(V32^2-N32^2)^0.5 -> 9238.1698 | V32: =IF(AND($L$24>=20%,$L$24<=80%)=TRUE,((C32^2*0.9-N32^2*(1-$L$24))/$L$24)^0.5,0) -> 1124.3078 | W32: =(((V32^2-N32^2)^0.5*X32/U32)^2+N32^2)^0.5 -> 1646.5901 | X32: ='limit 480V'!K27*0.95 -> 13722.252 | Y32: ='limit 480V'!I27/'limit 480V'!Y27*M21 -> 695.26007 | Z32: =X32*Y32*PI()/30000 -> 999.0824 | AA32: =AC32*(D32/J32)^(1/AD32) -> 838.77026 | AB32: =AC32*(B32*E32/AC32/H32)^(1/(1+AD32)) -> 838.08687 | AC32: =0.95*Y32*(Z32/D32)^(1/AD32) -> 1321.6849 | AD32: =AD31 -> 0.877 | AE32: =AB32*(J32/D32)^(1/2/AD32) -> 1052.0381
A33: =RESUM!H9 -> C62 | B33: =RESUM!H11 -> 6200 | C33: =RESUM!H15 -> 891.29534 | D33: =E33*$B33*PI()/30000 -> 625.18134 | E33: =(F33*120/$F$9-$S33) -> 962.91 | F33: =$Q33*$F$21/400 -> 48.75 | G33: =IF(AC33<$L$13,AC33,$L$13) -> 1511.9901 | H33: =IF(U33<X33*0.95,U33,X33*0.95) -> 9232.1536 | I33: =MIN(V33:W33) -> 1284.3475 | J33: =MIN(Z33,H33*E33*PI()/30000) -> 930.93066 | K33: =IF(E33<M33,E33,M33) -> 961.66865 | L33: =(K33+S33*H33/B33)*$F$9/120 -> 48.983567 | M33: =MIN($L$13,MAX(AB33,AA33)) -> 961.66865 | N33: =RESUM!H32 -> 303.17013 | O33: ='driving mode parameters'!H18 -> 0.95604992 | P33: ='driving mode parameters'!H17 -> 0.84717508 | Q33: =RESUM!H16 -> 39 | R33: =RESUM!H12 -> 767.91 | S33: =Q33*120/$F$9-R33 -> 12.09 | U33: =B33/((C33^2-N33^2)^0.5)*(V33^2-N33^2)^0.5 -> 9232.1536 | V33: =IF(AND($L$24>=20%,$L$24<=80%)=TRUE,((C33^2*0.9-N33^2*(1-$L$24))/$L$24)^0.5,0) -> 1284.3475 | W33: =(((V33^2-N33^2)^0.5*X33/U33)^2+N33^2)^0.5 -> 1879.6593 | X33: =X32 -> 13722.252 | Y33: =Y$32*F33/F$32*(B$32/B33)^0.5 -> 797.5042 | Z33: =X33*Y33*PI()/30000 -> 1146.0063 | AA33: =AC33*(D33/J33)^(1/AD33) -> 960.25515 | AB33: =AC33*(B33*E33/AC33/H33)^(1/(1+AD33)) -> 961.66865 | AC33: =0.95*Y33*(Z33/D33)^(1/AD33) -> 1511.9901 | AD33: =AD32 -> 0.877
A34: =RESUM!I9 -> D62 | B34: =RESUM!I11 -> 5900 | C34: =RESUM!I15 -> 960.36103 | D34: =E34*$B34*PI()/30000 -> 672.56305 | E34: =(F34*120/$F$9-$S34) -> 1088.56 | F34: =$Q34*$F$21/400 -> 55 | G34: =IF(AC34<$L$13,AC34,$L$13) -> 1899.0918 | H34: =IF(U34<X34*0.95,U34,X34*0.95) -> 8777.4862 | I34: =MIN(V34:W34) -> 1377.6728 | J34: =MIN(Z34,H34*E34*PI()/30000) -> 1000.5784 | K34: =IF(E34<M34,E34,M34) -> 1088.56 | L34: =(K34+S34*H34/B34)*$F$9/120 -> 55.27897 | M34: =MIN($L$13,MAX(AB34,AA34)) -> 1207.3467 | N34: =RESUM!I32 -> 343.6836 | O34: ='driving mode parameters'!I18 -> 0.95914172 | P34: ='driving mode parameters'!I17 -> 0.84311159 | Q34: =RESUM!I16 -> 44 | R34: =RESUM!I12 -> 868.56 | S34: =Q34*120/$F$9-R34 -> 11.44 | U34: =B34/((C34^2-N34^2)^0.5)*(V34^2-N34^2)^0.5 -> 8777.4862 | V34: =IF(AND($L$24>=20%,$L$24<=80%)=TRUE,((C34^2*0.9-N34^2*(1-$L$24))/$L$24)^0.5,0) -> 1377.6728 | W34: =(((V34^2-N34^2)^0.5*X34/U34)^2+N34^2)^0.5 -> 2113.8114 | X34: =X33 -> 13722.252 | Y34: =Y$32*F34/F$32*(B$32/B34)^0.5 -> 922.33967 | Z34: =X34*Y34*PI()/30000 -> 1325.3937 | AA34: =AC34*(D34/J34)^(1/AD34) -> 1207.3467 | AB34: =AC34*(B34*E34/AC34/H34)^(1/(1+AD34)) -> 1142.5322 | AC34: =0.95*Y34*(Z34/D34)^(1/AD34) -> 1899.0918 | AD34: =AD33 -> 0.877
A35: =RESUM!J9 -> E62 | B35: =RESUM!J11 -> 5600 | C35: =RESUM!J15 -> 1055.7431 | D35: =E35*$B35*PI()/30000 -> 741.23893 | E35: =(F35*120/$F$9-$S35) -> 1263.984 | F35: =$Q35*$F$21/400 -> 63.75 | G35: =IF(AC35<$L$13,AC35,$L$13) -> 2465.355 | H35: =IF(U35<X35*0.95,U35,X35*0.95) -> 8328.3222 | I35: =MIN(V35:W35) -> 1511.9707 | J35: =MIN(Z35,H35*E35*PI()/30000) -> 1102.3708 | K35: =IF(E35<M35,E35,M35) -> 1263.984 | L35: =(K35+S35*H35/B35)*$F$9/120 -> 64.01835 | M35: =MIN($L$13,MAX(AB35,AA35)) -> 1567.9601 | N35: =RESUM!J32 -> 384.51693 | O35: ='driving mode parameters'!J18 -> 0.96162303 | P35: ='driving mode parameters'!J17 -> 0.84307164 | Q35: =RESUM!J16 -> 51 | R35: =RESUM!J12 -> 1008.984 | S35: =Q35*120/$F$9-R35 -> 11.016 | U35: =B35/((C35^2-N35^2)^0.5)*(V35^2-N35^2)^0.5 -> 8328.3222 | V35: =IF(AND($L$24>=20%,$L$24<=80%)=TRUE,((C35^2*0.9-N35^2*(1-$L$24))/$L$24)^0.5,0) -> 1511.9707 | W35: =(((V35^2-N35^2)^0.5*X35/U35)^2+N35^2)^0.5 -> 2439.7985 | X35: =X34 -> 13722.252 | Y35: =Y$32*F35/F$32*(B$32/B35)^0.5 -> 1097.3379 | Z35: =X35*Y35*PI()/30000 -> 1576.8646 | AA35: =AC35*(D35/J35)^(1/AD35) -> 1567.9601 | AB35: =AC35*(B35*E35/AC35/H35)^(1/(1+AD35)) -> 1397.8858 | AC35: =0.95*Y35*(Z35/D35)^(1/AD35) -> 2465.355 | AD35: =AD34 -> 0.877
A36: =RESUM!K9 -> F62 | B36: =RESUM!K11 -> 5200 | C36: =RESUM!K15 -> 1158.8952 | D36: =E36*$B36*PI()/30000 -> 811.25975 | E36: =(F36*120/$F$9-$S36) -> 1489.8 | F36: =$Q36*$F$21/400 -> 75 | G36: =IF(AC36<$L$13,AC36,$L$13) -> 3409.4359 | H36: =IF(U36<X36*0.95,U36,X36*0.95) -> 7725.1598 | I36: =MIN(V36:W36) -> 1651.1695 | J36: =MIN(Z36,H36*E36*PI()/30000) -> 1205.2137 | K36: =IF(E36<M36,E36,M36) -> 1489.8 | L36: =(K36+S36*H36/B36)*$F$9/120 -> 75.24766 | M36: =MIN($L$13,MAX(AB36,AA36)) -> 2171.0444 | N36: =RESUM!K32 -> 443.82809 | O36: ='driving mode parameters'!K18 -> 0.96338513 | P36: ='driving mode parameters'!K17 -> 0.83904486 | Q36: =RESUM!K16 -> 60 | R36: =RESUM!K12 -> 1189.8 | S36: =Q36*120/$F$9-R36 -> 10.2 | U36: =B36/((C36^2-N36^2)^0.5)*(V36^2-N36^2)^0.5 -> 7725.1598 | V36: =IF(AND($L$24>=20%,$L$24<=80%)=TRUE,((C36^2*0.9-N36^2*(1-$L$24))/$L$24)^0.5,0) -> 1651.1695 | W36: =(((V36^2-N36^2)^0.5*X36/U36)^2+N36^2)^0.5 -> 2859.6923 | X36: =X35 -> 13722.252 | Y36: =Y$32*F36/F$32*(B$32/B36)^0.5 -> 1339.7192 | Z36: =X36*Y36*PI()/30000 -> 1925.1644 | AA36: =AC36*(D36/J36)^(1/AD36) -> 2171.0444 | AB36: =AC36*(B36*E36/AC36/H36)^(1/(1+AD36)) -> 1776.3965 | AC36: =0.95*Y36*(Z36/D36)^(1/AD36) -> 3409.4359 | AD36: =AD35 -> 0.877
A37: =RESUM!L9 -> 0 | B37: =RESUM!L11 -> 0 | C37: =RESUM!L15 -> 0 | D37: =E37*$B37*PI()/30000 -> 0 | E37: =(F37*120/$F$9-$S37) -> 0 | F37: =$Q37*$F$21/400 -> 0 | G37: =IF(AC37<$L$13,AC37,$L$13) -> #DIV/0! | H37: =IF(U37<X37*0.95,U37,X37*0.95) -> #DIV/0! | I37: =MIN(V37:W37) -> #DIV/0! | J37: =MIN(Z37,H37*E37*PI()/30000) -> #DIV/0! | K37: =IF(E37<M37,E37,M37) -> #DIV/0! | L37: =(K37+S37*H37/B37)*$F$9/120 -> #DIV/0! | M37: =MIN($L$13,MAX(AB37,AA37)) -> #DIV/0! | N37: =RESUM!L32 -> 0 | O37: ='driving mode parameters'!L18 -> #DIV/0! | P37: ='driving mode parameters'!L17 -> #DIV/0! | Q37: =RESUM!L16 -> 0 | R37: =RESUM!L12 -> 0 | S37: =Q37*120/$F$9-R37 -> 0 | U37: =B37/((C37^2-N37^2)^0.5)*(V37^2-N37^2)^0.5 -> #DIV/0! | V37: =IF(AND($L$24>=20%,$L$24<=80%)=TRUE,((C37^2*0.9-N37^2*(1-$L$24))/$L$24)^0.5,0) -> 0 | W37: =(((V37^2-N37^2)^0.5*X37/U37)^2+N37^2)^0.5 -> #DIV/0! | X37: =X36 -> 13722.252 | Y37: =Y$32*F37/F$32*(B$32/B37)^0.5 -> #DIV/0! | Z37: =X37*Y37*PI()/30000 -> #DIV/0! | AA37: =AC37*(D37/J37)^(1/AD37) -> #DIV/0! | AB37: =AC37*(B37*E37/AC37/H37)^(1/(1+AD37)) -> #DIV/0! | AC37: =0.95*Y37*(Z37/D37)^(1/AD37) -> #DIV/0! | AD37: =AD36 -> 0.877
A38: =RESUM!M9 -> 0 | B38: =RESUM!M11 -> 0 | C38: =RESUM!M15 -> 0 | D38: =E38*$B38*PI()/30000 -> 0 | E38: =(F38*120/$F$9-$S38) -> 0 | F38: =$Q38*$F$21/400 -> 0 | G38: =IF(AC38<$L$13,AC38,$L$13) -> #DIV/0! | H38: =IF(U38<X38*0.95,U38,X38*0.95) -> #DIV/0! | I38: =MIN(V38:W38) -> #DIV/0! | J38: =MIN(Z38,H38*E38*PI()/30000) -> #DIV/0! | K38: =IF(E38<M38,E38,M38) -> #DIV/0! | L38: =(K38+S38*H38/B38)*$F$9/120 -> #DIV/0! | M38: =MIN($L$13,MAX(AB38,AA38)) -> #DIV/0! | N38: =RESUM!M32 -> 0 | O38: ='driving mode parameters'!M18 -> #DIV/0! | P38: ='driving mode parameters'!M17 -> #DIV/0! | Q38: =RESUM!M16 -> 0 | R38: =RESUM!M12 -> 0 | S38: =Q38*120/$F$9-R38 -> 0 | U38: =B38/((C38^2-N38^2)^0.5)*(V38^2-N38^2)^0.5 -> #DIV/0! | V38: =IF(AND($L$24>=20%,$L$24<=80%)=TRUE,((C38^2*0.9-N38^2*(1-$L$24))/$L$24)^0.5,0) -> 0 | W38: =(((V38^2-N38^2)^0.5*X38/U38)^2+N38^2)^0.5 -> #DIV/0! | X38: =X37 -> 13722.252 | Y38: =Y$32*F38/F$32*(B$32/B38)^0.5 -> #DIV/0! | Z38: =X38*Y38*PI()/30000 -> #DIV/0! | AA38: =AC38*(D38/J38)^(1/AD38) -> #DIV/0! | AB38: =AC38*(B38*E38/AC38/H38)^(1/(1+AD38)) -> #DIV/0! | AC38: =0.95*Y38*(Z38/D38)^(1/AD38) -> #DIV/0! | AD38: =AD37 -> 0.877
A39: =RESUM!N9 -> 0 | B39: =RESUM!N11 -> 0 | C39: =RESUM!N15 -> 0 | D39: =E39*$B39*PI()/30000 -> 0 | E39: =(F39*120/$F$9-$S39) -> 0 | F39: =$Q39*$F$21/400 -> 0 | G39: =IF(AC39<$L$13,AC39,$L$13) -> #DIV/0! | H39: =IF(U39<X39*0.95,U39,X39*0.95) -> #DIV/0! | I39: =MIN(V39:W39) -> #DIV/0! | J39: =MIN(Z39,H39*E39*PI()/30000) -> #DIV/0! | K39: =IF(E39<M39,E39,M39) -> #DIV/0! | L39: =(K39+S39*H39/B39)*$F$9/120 -> #DIV/0! | M39: =MIN($L$13,MAX(AB39,AA39)) -> #DIV/0! | N39: =RESUM!N32 -> 0 | O39: ='driving mode parameters'!N18 -> #DIV/0! | P39: ='driving mode parameters'!N17 -> #DIV/0! | Q39: =RESUM!N16 -> 0 | R39: =RESUM!N12 -> 0 | S39: =Q39*120/$F$9-R39 -> 0 | U39: =B39/((C39^2-N39^2)^0.5)*(V39^2-N39^2)^0.5 -> #DIV/0! | V39: =IF(AND($L$24>=20%,$L$24<=80%)=TRUE,((C39^2*0.9-N39^2*(1-$L$24))/$L$24)^0.5,0) -> 0 | W39: =(((V39^2-N39^2)^0.5*X39/U39)^2+N39^2)^0.5 -> #DIV/0! | X39: =X38 -> 13722.252 | Y39: =Y$32*F39/F$32*(B$32/B39)^0.5 -> #DIV/0! | Z39: =X39*Y39*PI()/30000 -> #DIV/0! | AA39: =AC39*(D39/J39)^(1/AD39) -> #DIV/0! | AB39: =AC39*(B39*E39/AC39/H39)^(1/(1+AD39)) -> #DIV/0! | AC39: =0.95*Y39*(Z39/D39)^(1/AD39) -> #DIV/0! | AD39: =AD38 -> 0.877
A40: =RESUM!O9 -> 0 | B40: =RESUM!O11 -> 0 | C40: =RESUM!O15 -> 0 | D40: =E40*$B40*PI()/30000 -> 0 | E40: =(F40*120/$F$9-$S40) -> 0 | F40: =$Q40*$F$21/400 -> 0 | G40: =IF(AC40<$L$13,AC40,$L$13) -> #DIV/0! | H40: =IF(U40<X40*0.95,U40,X40*0.95) -> #DIV/0! | I40: =MIN(V40:W40) -> #DIV/0! | J40: =MIN(Z40,H40*E40*PI()/30000) -> #DIV/0! | K40: =IF(E40<M40,E40,M40) -> #DIV/0! | L40: =(K40+S40*H40/B40)*$F$9/120 -> #DIV/0! | M40: =MIN($L$13,MAX(AB40,AA40)) -> #DIV/0! | N40: =RESUM!O32 -> 0 | O40: ='driving mode parameters'!O18 -> #DIV/0! | P40: ='driving mode parameters'!O17 -> #DIV/0! | Q40: =RESUM!O16 -> 0 | R40: =RESUM!O12 -> 0 | S40: =Q40*120/$F$9-R40 -> 0 | U40: =B40/((C40^2-N40^2)^0.5)*(V40^2-N40^2)^0.5 -> #DIV/0! | V40: =IF(AND($L$24>=20%,$L$24<=80%)=TRUE,((C40^2*0.9-N40^2*(1-$L$24))/$L$24)^0.5,0) -> 0 | W40: =(((V40^2-N40^2)^0.5*X40/U40)^2+N40^2)^0.5 -> #DIV/0! | X40: =X39 -> 13722.252 | Y40: =Y$32*F40/F$32*(B$32/B40)^0.5 -> #DIV/0! | Z40: =X40*Y40*PI()/30000 -> #DIV/0! | AA40: =AC40*(D40/J40)^(1/AD40) -> #DIV/0! | AB40: =AC40*(B40*E40/AC40/H40)^(1/(1+AD40)) -> #DIV/0! | AC40: =0.95*Y40*(Z40/D40)^(1/AD40) -> #DIV/0! | AD40: =AD39 -> 0.877
A41: Otras Velocidades disponibles bajo consulta / Other speeds available on request | H41: La tensión para el servicio S6 es mayor que Vb / Voltage for S6 duty is bigger than Vb
A72: Elabora: | E72: Revisa: | K72: Aprueba:
D74: =M4 -> 45239 | J74: =D74 -> 45239 | N74: =J74 -> 45239
D76: =D2 -> MAC QT 315 L
D77: - Hoja de Curvas Características Modo Motor - | L77: Página | M77: 2 de 3
D78: - Driving Mode Power and Torque Diagrams - | L78: Fecha | M78: =M4 -> 45239
A81: Tensión de Base del Motor | E81: Vb ± 5% | F81: =F21 -> 500 | H81: Tensión Máxima de Salida del Convertidor | L81: Vc | M81: =M21 -> 500
A82: Motor Base Voltage | H82: Inverter max. Output Voltage
F83: =IF(F81>500," LA TENSIÓN DE BASE HA DE SER INFERIOR O IGUAL A 500 V"," ") | G83: =IF(M81>500," LA TENSIÓN MÁXIMA HA DE SER INFERIOR O IGUAL A 500 V"," ") | N83: =IF(M81<F81," LA TENSIÓN MÁXIMA HA DE SER SUPERIOR O IGUAL A LA DE BASE"," ")
B84: Servicio / Service | F84: =F24 -> S1 | H84: =H24 -> Servicio / Service S6 - | L84: =L24 -> 0.4
K85: =H29 -> 9227.8155 | L85: =L29 -> 27.796531
A86: Bobinado Winding | B86: Nm | C86: A ± 2% | D86: KW | E86: rpm | F86: Hz | G86: Velocidad a Pot.Cte Const. Power Speed. (rpm) | H86: Nm | I86: A ± 5% | J86: KW | K86: rpm | L86: Hz | M86: Velocidad a Pot.Cte Const. Power Speed. (rpm) | N86: Corriente en vacio No Load Current (A) | O86: eff | P86: cos fi | Q86: Hz | R86: rpm | S86: rpm llisc. | U86: Nm S6 | V86: A S6 | W86: Alim | X86: Nm lim | Y86: rpm lim | Z86: KW lim | AA86: rpm lim KW s6 | AB86: rpm lim Nm s6 | AC86: rpm lim s1 | AD86: coef
A87: F61 | B87: =VLOOKUP($A$87,$A$27:$Y$40,2,FALSE) -> 6200 | C87: =VLOOKUP($A$87,$A$27:$Y$40,3,FALSE) -> 777.67119 | D87: =VLOOKUP($A$87,$A$27:$Y$40,4,FALSE) -> 543.74954 | E87: =VLOOKUP($A$87,$A$27:$Y$40,5,FALSE) -> 837.488 | F87: =VLOOKUP($A$87,$A$27:$Y$40,6,FALSE) -> 42.5 | G87: =VLOOKUP($A$87,$A$27:$Y$40,7,FALSE) -> 1321.6849 | H87: =VLOOKUP($A$87,$A$27:$Y$40,8,FALSE) -> 9238.1698 | I87: =VLOOKUP($A$87,$A$27:$Y$40,9,FALSE) -> 1124.3078 | J87: =VLOOKUP($A$87,$A$27:$Y$40,10,FALSE) -> 810.2017 | K87: =VLOOKUP($A$87,$A$27:$Y$40,11,FALSE) -> 837.488 | L87: =VLOOKUP($A$87,$A$27:$Y$40,12,FALSE) -> 42.806561 | M87: =VLOOKUP($A$87,$A$27:$Y$40,13,FALSE) -> 838.77026 | N87: =VLOOKUP($A$87,$A$27:$Y$40,14,FALSE) -> 253.86341 | O87: =VLOOKUP($A$87,$A$27:$Y$40,15,FALSE) -> 0.95232517 | P87: =VLOOKUP($A$87,$A$27:$Y$40,16,FALSE) -> 0.84778747 | Q87: =VLOOKUP($A$87,$A$27:$Y$40,17,FALSE) -> 34 | R87: =VLOOKUP($A$87,$A$27:$Y$40,18,FALSE) -> 667.488 | S87: =VLOOKUP($A$87,$A$27:$Y$40,19,FALSE) -> 12.512 | U87: =VLOOKUP($A$87,$A$27:$Y$40,21,FALSE) -> 9238.1698 | V87: =VLOOKUP($A$87,$A$27:$Y$40,22,FALSE) -> 1124.3078 | W87: =VLOOKUP($A$87,$A$27:$Y$40,23,FALSE) -> 1646.5901 | X87: =VLOOKUP($A$87,$A$27:$Y$40,24,FALSE) -> 13722.252 | Y87: =VLOOKUP($A$87,$A$27:$Y$40,25,FALSE) -> 695.26007 | Z87: =VLOOKUP($A$87,$A$27:$AD$40,26,FALSE) -> 999.0824 | AA87: =VLOOKUP($A$87,$A$27:$AD$40,27,FALSE) -> 838.77026 | AB87: =VLOOKUP($A$87,$A$27:$AD$40,28,FALSE) -> 838.08687 | AC87: =VLOOKUP($A$87,$A$27:$AD$40,29,FALSE) -> 1321.6849 | AD87: =VLOOKUP($A$87,$A$27:$AD$40,30,FALSE) -> 0.877
A88: =IF(O87=0,"ESTE BOBINADO NO EXISTE / THIS WINDING DOESN'T EXIST","")
A89: Carga / Load
A91: rpm | B91: Nm 1 | C91: Nm 2
P99: rpm S1 | Q99: kW S1 | R99: Nm S1 | S99: rpm S6 | T99: kW S6 | U99: Nm S6 | V99: rpm limit | W99: KW limit | X99: Nm Limit
P100: 10 | Q100: =IF($D$87<W100*0.9,$D$87,W100*0.9) -> 12.932918 | R100: =B87 -> 6200 | S100: =P100 -> 10 | T100: =U100*V100*PI()/30000 -> 9.6741887 | U100: =H87 -> 9238.1698 | V100: =P100 -> 10 | W100: =X100*V100*PI()/30000 -> 14.369909 | X100: ='limit 480V'!K27*0.95 -> 13722.252
P101: =E87 -> 837.488 | Q101: =R101*P101*PI()/30000 -> 543.74954 | R101: =B87 -> 6200 | S101: =K87 -> 837.488 | T101: =U101*S101*PI()/30000 -> 810.2017 | U101: =H87 -> 9238.1698 | V101: =Y87 -> 695.26007 | W101: =X101*V101*PI()/30000 -> 999.0824 | X101: =X100 -> 13722.252
P102: =P101 -> 837.488 | Q102: =R102*P102*PI()/30000 -> 543.74954 | R102: =R101*P101/P102 -> 6200 | S102: =S101 -> 837.488 | T102: =U102*S102*PI()/30000 -> 810.2017 | U102: =U101*S101/S102 -> 9238.1698 | V102: =V101 -> 695.26007 | W102: =X102*V102*PI()/30000 -> 999.0824 | X102: =X101 -> 13722.252
P103: =P102+($P$112-$P$102)/10 -> 885.90769 | Q103: =R103*P103*PI()/30000 -> 543.74954 | R103: =R102*P102/P103 -> 5861.1362 | S103: =S102+($S$112-$S$102)/10 -> 837.61623 | T103: =U103*S103*PI()/30000 -> 810.2017 | U103: =U102*S102/S103 -> 9236.7555 | V103: =IF(V102*1.1>MIN($L$13,$D$112),MIN($L$13,$D$112),V102*1.1) -> 764.78608 | W103: =X103*V103*PI()/30000 -> 918.96701 | X103: =X102*(V102/V103)^(1+$AD$87) -> 11474.435
P104: =P103+($P$112-$P$102)/10 -> 934.32737 | Q104: =R104*P104*PI()/30000 -> 543.74954 | R104: =R103*P103/P104 -> 5557.3943 | S104: =S103+($S$112-$S$102)/10 -> 837.74445 | T104: =U104*S104*PI()/30000 -> 810.2017 | U104: =U103*S103/S104 -> 9235.3417 | V104: =IF(V103*1.1>MIN($L$13,$D$112),MIN($L$13,$D$112),V103*1.1) -> 841.26469 | W104: =X104*V104*PI()/30000 -> 845.276 | X104: =X103*(V103/V104)^(1+$AD$87) -> 9594.8294
P105: =P104+($P$112-$P$102)/10 -> 982.74706 | Q105: =R105*P105*PI()/30000 -> 543.74954 | R105: =R104*P104/P105 -> 5283.583 | S105: =S104+($S$112-$S$102)/10 -> 837.87268 | T105: =U105*S105*PI()/30000 -> 810.2017 | U105: =U104*S104/S105 -> 9233.9284 | V105: =IF(V104*1.1>MIN($L$13,$D$112),MIN($L$13,$D$112),V104*1.1) -> 925.39116 | W105: =X105*V105*PI()/30000 -> 777.49419 | X105: =X104*(V104/V105)^(1+$AD$87) -> 8023.1182
P106: =P105+($P$112-$P$102)/10 -> 1031.1667 | Q106: =R106*P106*PI()/30000 -> 543.74954 | R106: =R105*P105/P106 -> 5035.4859 | S106: =S105+($S$112-$S$102)/10 -> 838.0009 | T106: =U106*S106*PI()/30000 -> 810.2017 | U106: =U105*S105/S106 -> 9232.5155 | V106: =IF(V105*1.1>MIN($L$13,$D$112),MIN($L$13,$D$112),V105*1.1) -> 1017.9303 | W106: =X106*V106*PI()/30000 -> 715.14773 | X106: =X105*(V105/V106)^(1+$AD$87) -> 6708.866
P107: =P106+($P$112-$P$102)/10 -> 1079.5864 | Q107: =R107*P107*PI()/30000 -> 543.74954 | R107: =R106*P106/P107 -> 4809.6433 | S107: =S106+($S$112-$S$102)/10 -> 838.12913 | T107: =U107*S107*PI()/30000 -> 810.2017 | U107: =U106*S106/S107 -> 9231.103 | V107: =IF(V106*1.1>MIN($L$13,$D$112),MIN($L$13,$D$112),V106*1.1) -> 1119.7233 | W107: =X107*V107*PI()/30000 -> 657.80078 | X107: =X106*(V106/V107)^(1+$AD$87) -> 5609.8991
P108: =P107+($P$112-$P$102)/10 -> 1128.0061 | Q108: =R108*P108*PI()/30000 -> 543.74954 | R108: =R107*P107/P108 -> 4603.1892 | S108: =S107+($S$112-$S$102)/10 -> 838.25736 | T108: =U108*S108*PI()/30000 -> 810.2017 | U108: =U107*S107/S108 -> 9229.6909 | V108: =IF(V107*1.1>MIN($L$13,$D$112),MIN($L$13,$D$112),V107*1.1) -> 1231.6956 | W108: =X108*V108*PI()/30000 -> 605.05241 | X108: =X107*(V107/V108)^(1+$AD$87) -> 4690.9519
P109: =P108+($P$112-$P$102)/10 -> 1176.4258 | Q109: =R109*P109*PI()/30000 -> 543.74954 | R109: =R108*P108/P109 -> 4413.7298 | S109: =S108+($S$112-$S$102)/10 -> 838.38558 | T109: =U109*S109*PI()/30000 -> 810.2017 | U109: =U108*S108/S109 -> 9228.2793 | V109: =IF(V108*1.1>MIN($L$13,$D$112),MIN($L$13,$D$112),V108*1.1) -> 1354.8652 | W109: =X109*V109*PI()/30000 -> 556.53389 | X109: =X108*(V108/V109)^(1+$AD$87) -> 3922.5357
P110: =P109+($P$112-$P$102)/10 -> 1224.8455 | Q110: =R110*P110*PI()/30000 -> 543.74954 | R110: =R109*P109/P110 -> 4239.2495 | S110: =S109+($S$112-$S$102)/10 -> 838.51381 | T110: =U110*S110*PI()/30000 -> 810.2017 | U110: =U109*S109/S110 -> 9226.8681 | V110: =IF(V109*1.1>MIN($L$13,$D$112),MIN($L$13,$D$112),V109*1.1) -> 1490.3517 | W110: =X110*V110*PI()/30000 -> 511.90601 | X110: =X109*(V109/V110)^(1+$AD$87) -> 3279.9924
P111: =P110+($P$112-$P$102)/10 -> 1273.2652 | Q111: =R111*P111*PI()/30000 -> 543.74954 | R111: =R110*P110/P111 -> 4078.0394 | S111: =S110+($S$112-$S$102)/10 -> 838.64204 | T111: =U111*S111*PI()/30000 -> 810.2017 | U111: =U110*S110/S111 -> 9225.4573 | V111: =IF(V110*1.1>MIN($L$13,$D$112),MIN($L$13,$D$112),V110*1.1) -> 1639.3869 | W111: =X111*V111*PI()/30000 -> 470.8568 | X111: =X110*(V110/V111)^(1+$AD$87) -> 2742.7029
A112: Speed range | B112: Nnom x | C112: 4 | D112: =TRUNC(E87*C112,-1) -> 3340 | P112: =IF(G87>E87*C112,E87*C112,G87) -> 1321.6849 | Q112: =R112*P112*PI()/30000 -> 543.74954 | R112: =R106*P106/P112 -> 3928.6412 | S112: =M87 -> 838.77026 | T112: =U112*S112*PI()/30000 -> 810.2017 | U112: =U106*S106/S112 -> 9224.047 | V112: =IF(V111*1.1>MIN($L$13,$D$112),MIN($L$13,$D$112),V111*1.1) -> 1803.3256 | W112: =X112*V112*PI()/30000 -> 433.09928 | X112: =X111*(V111/V112)^(1+$AD$87) -> 2293.4258
A113: Carga / Load | P113: =P112 -> 1321.6849 | Q113: =R113*P113*PI()/30000 -> 543.74954 | R113: =R112*(P112/P113)^2 -> 3928.6412 | S113: =S112 -> 838.77026 | T113: =U113*S113*PI()/30000 -> 810.2017 | U113: =U112 -> 9224.047 | V113: =IF(V112*1.1>MIN($L$13,$D$112),MIN($L$13,$D$112),V112*1.1) -> 1983.6581 | W113: =X113*V113*PI()/30000 -> 398.36949 | X113: =X112*(V112/V113)^(1+$AD$87) -> 1917.744
P114: =IF(P113*1.1>MIN($L$13,$D$112),MIN($L$13,$D$112),P113*1.1) -> 1453.8533 | Q114: =R114*P114*PI()/30000 -> 500.14682 | R114: =R113*(P113/P114)^(1+$AD$87) -> 3285.0978 | S114: =IF(S113*1.1>MIN($L$13,$D$112),MIN($L$13,$D$112),S113*1.1) -> 922.64729 | T114: =U114*S114*PI()/30000 -> 745.23246 | U114: =U113*(S113/S114)^(1+$AD$87) -> 7713.0729 | V114: =IF(V113*1.1>MIN($L$13,$D$112),MIN($L$13,$D$112),V113*1.1) -> 2182.0239 | W114: =X114*V114*PI()/30000 -> 366.42466 | X114: =X113*(V113/V114)^(1+$AD$87) -> 1603.6019
A115: rpm | B115: KW 1 | C115: KW 2 | P115: =IF(P114*1.1>MIN($L$13,$D$112),MIN($L$13,$D$112),P114*1.1) -> 1599.2387 | Q115: =R115*P115*PI()/30000 -> 460.04057 | R115: =R114*(P114/P115)^(1+$AD$87) -> 2746.972 | S115: =IF(S114*1.1>MIN($L$13,$D$112),MIN($L$13,$D$112),S114*1.1) -> 1014.912 | T115: =U115*S115*PI()/30000 -> 685.47304 | U115: =U114*(S114/S115)^(1+$AD$87) -> 6449.6087 | V115: =IF(V114*1.1>MIN($L$13,$D$112),MIN($L$13,$D$112),V114*1.1) -> 2400.2263 | W115: =X115*V115*PI()/30000 -> 337.04144 | X115: =X114*(V114/V115)^(1+$AD$87) -> 1340.9188
P116: =IF(P115*1.1>MIN($L$13,$D$112),MIN($L$13,$D$112),P115*1.1) -> 1759.1625 | Q116: =R116*P116*PI()/30000 -> 423.15039 | R116: =R115*(P115/P116)^(1+$AD$87) -> 2296.9956 | S116: =IF(S115*1.1>MIN($L$13,$D$112),MIN($L$13,$D$112),S115*1.1) -> 1116.4032 | T116: =U116*S116*PI()/30000 -> 630.50567 | U116: =U115*(S115/S116)^(1+$AD$87) -> 5393.1102 | V116: =IF(V115*1.1>MIN($L$13,$D$112),MIN($L$13,$D$112),V115*1.1) -> 2640.249 | W116: =X116*V116*PI()/30000 -> 310.01444 | X116: =X115*(V115/V116)^(1+$AD$87) -> 1121.2654
P117: =IF(P116*1.1>MIN($L$13,$D$112),MIN($L$13,$D$112),P116*1.1) -> 1935.0788 | Q117: =R117*P117*PI()/30000 -> 389.2184 | R117: =R116*(P116/P117)^(1+$AD$87) -> 1920.729 | S117: =IF(S116*1.1>MIN($L$13,$D$112),MIN($L$13,$D$112),S116*1.1) -> 1228.0435 | T117: =U117*S117*PI()/30000 -> 579.94607 | U117: =U116*(S116/S117)^(1+$AD$87) -> 4509.6748 | V117: =IF(V116*1.1>MIN($L$13,$D$112),MIN($L$13,$D$112),V116*1.1) -> 2904.2739 | W117: =X117*V117*PI()/30000 -> 285.1547 | X117: =X116*(V116/V117)^(1+$AD$87) -> 937.59298
P118: =IF(P117*1.1>MIN($L$13,$D$112),MIN($L$13,$D$112),P117*1.1) -> 2128.5867 | Q118: =R118*P118*PI()/30000 -> 358.00738 | R118: =R117*(P117/P118)^(1+$AD$87) -> 1606.0979 | S118: =IF(S117*1.1>MIN($L$13,$D$112),MIN($L$13,$D$112),S117*1.1) -> 1350.8479 | T118: =U118*S118*PI()/30000 -> 533.44079 | U118: =U117*(S117/S118)^(1+$AD$87) -> 3770.9533 | V118: =IF(V117*1.1>MIN($L$13,$D$112),MIN($L$13,$D$112),V117*1.1) -> 3194.7013 | W118: =X118*V118*PI()/30000 -> 262.28844 | X118: =X117*(V117/V118)^(1+$AD$87) -> 784.00761
P119: =IF(P118*1.1>MIN($L$13,$D$112),MIN($L$13,$D$112),P118*1.1) -> 2341.4454 | Q119: =R119*P119*PI()/30000 -> 329.29914 | R119: =R118*(P118/P119)^(1+$AD$87) -> 1343.006 | S119: =IF(S118*1.1>MIN($L$13,$D$112),MIN($L$13,$D$112),S118*1.1) -> 1485.9327 | T119: =U119*S119*PI()/30000 -> 490.66473 | U119: =U118*(S118/S119)^(1+$AD$87) -> 3153.2404 | V119: =IF(V118*1.1>MIN($L$13,$D$112),MIN($L$13,$D$112),V118*1.1) -> 3340 | W119: =X119*V119*PI()/30000 -> 252.25445 | X119: =X118*(V118/V119)^(1+$AD$87) -> 721.21333
P120: =IF(P119*1.1>MIN($L$13,$D$112),MIN($L$13,$D$112),P119*1.1) -> 2575.5899 | Q120: =R120*P120*PI()/30000 -> 302.89298 | R120: =R119*(P119/P120)^(1+$AD$87) -> 1123.0107 | S120: =IF(S119*1.1>MIN($L$13,$D$112),MIN($L$13,$D$112),S119*1.1) -> 1634.526 | T120: =U120*S120*PI()/30000 -> 451.31883 | U120: =U119*(S119/S120)^(1+$AD$87) -> 2636.7139 | V120: =IF(V119*1.1>MIN($L$13,$D$112),MIN($L$13,$D$112),V119*1.1) -> 3340 | W120: =X120*V120*PI()/30000 -> 252.25445 | X120: =X119*(V119/V120)^(1+$AD$87) -> 721.21333
P121: =IF(P120*1.1>MIN($L$13,$D$112),MIN($L$13,$D$112),P120*1.1) -> 2833.1489 | Q121: =R121*P121*PI()/30000 -> 278.6043 | R121: =R120*(P120/P121)^(1+$AD$87) -> 939.05236 | S121: =IF(S120*1.1>MIN($L$13,$D$112),MIN($L$13,$D$112),S120*1.1) -> 1797.9785 | T121: =U121*S121*PI()/30000 -> 415.12804 | U121: =U120*(S120/S121)^(1+$AD$87) -> 2204.7987 | V121: =IF(V120*1.1>MIN($L$13,$D$112),MIN($L$13,$D$112),V120*1.1) -> 3340 | W121: =X121*V121*PI()/30000 -> 252.25445 | X121: =X120*(V120/V121)^(1+$AD$87) -> 721.21333
P122: =IF(P121*1.1>MIN($L$13,$D$112),MIN($L$13,$D$112),P121*1.1) -> 3116.4638 | Q122: =R122*P122*PI()/30000 -> 256.26331 | R122: =R121*(P121/P122)^(1+$AD$87) -> 785.22793 | S122: =IF(S121*1.1>MIN($L$13,$D$112),MIN($L$13,$D$112),S121*1.1) -> 1977.7764 | T122: =U122*S122*PI()/30000 -> 381.83935 | U122: =U121*(S121/S122)^(1+$AD$87) -> 1843.6347 | V122: =IF(V121*1.1>MIN($L$13,$D$112),MIN($L$13,$D$112),V121*1.1) -> 3340 | W122: =X122*V122*PI()/30000 -> 252.25445 | X122: =X121*(V121/V122)^(1+$AD$87) -> 721.21333
P123: =IF(P122*1.1>MIN($L$13,$D$112),MIN($L$13,$D$112),P122*1.1) -> 3340 | Q123: =R123*P123*PI()/30000 -> 241.15842 | R123: =R122*(P122/P123)^(1+$AD$87) -> 689.48901 | S123: =IF(S122*1.1>MIN($L$13,$D$112),MIN($L$13,$D$112),S122*1.1) -> 2175.554 | T123: =U123*S123*PI()/30000 -> 351.22005 | U123: =U122*(S122/S123)^(1+$AD$87) -> 1541.6323 | V123: =IF(V122*1.1>MIN($L$13,$D$112),MIN($L$13,$D$112),V122*1.1) -> 3340 | W123: =X123*V123*PI()/30000 -> 252.25445 | X123: =X122*(V122/V123)^(1+$AD$87) -> 721.21333
P124: =IF(P123*1.1>MIN($L$13,$D$112),MIN($L$13,$D$112),P123*1.1) -> 3340 | Q124: =R124*P124*PI()/30000 -> 241.15842 | R124: =R123*(P123/P124)^(1+$AD$87) -> 689.48901 | S124: =IF(S123*1.1>MIN($L$13,$D$112),MIN($L$13,$D$112),S123*1.1) -> 2393.1094 | T124: =U124*S124*PI()/30000 -> 323.05608 | U124: =U123*(S123/S124)^(1+$AD$87) -> 1289.1004 | V124: =IF(V123*1.1>MIN($L$13,$D$112),MIN($L$13,$D$112),V123*1.1) -> 3340 | W124: =X124*V124*PI()/30000 -> 252.25445 | X124: =X123*(V123/V124)^(1+$AD$87) -> 721.21333
P125: =IF(P124*1.1>MIN($L$13,$D$112),MIN($L$13,$D$112),P124*1.1) -> 3340 | Q125: =R125*P125*PI()/30000 -> 241.15842 | R125: =R124*(P124/P125)^(1+$AD$87) -> 689.48901 | S125: =IF(S124*1.1>MIN($L$13,$D$112),MIN($L$13,$D$112),S124*1.1) -> 2632.4204 | T125: =U125*S125*PI()/30000 -> 297.15054 | U125: =U124*(S124/S125)^(1+$AD$87) -> 1077.9352 | V125: =IF(V124*1.1>MIN($L$13,$D$112),MIN($L$13,$D$112),V124*1.1) -> 3340 | W125: =X125*V125*PI()/30000 -> 252.25445 | X125: =X124*(V124/V125)^(1+$AD$87) -> 721.21333
P126: =IF(P125*1.1>MIN($L$13,$D$112),MIN($L$13,$D$112),P125*1.1) -> 3340 | Q126: =R126*P126*PI()/30000 -> 241.15842 | R126: =R125*(P125/P126)^(1+$AD$87) -> 689.48901 | S126: =IF(S125*1.1>MIN($L$13,$D$112),MIN($L$13,$D$112),S125*1.1) -> 2895.6624 | T126: =U126*S126*PI()/30000 -> 273.32235 | U126: =U125*(S125/S126)^(1+$AD$87) -> 901.36065 | V126: =IF(V125*1.1>MIN($L$13,$D$112),MIN($L$13,$D$112),V125*1.1) -> 3340 | W126: =X126*V126*PI()/30000 -> 252.25445 | X126: =X125*(V125/V126)^(1+$AD$87) -> 721.21333
P127: =IF(P126*1.1>MIN($L$13,$D$112),MIN($L$13,$D$112),P126*1.1) -> 3340 | Q127: =R127*P127*PI()/30000 -> 241.15842 | R127: =R126*(P126/P127)^(1+$AD$87) -> 689.48901 | S127: =IF(S126*1.1>MIN($L$13,$D$112),MIN($L$13,$D$112),S126*1.1) -> 3185.2287 | T127: =U127*S127*PI()/30000 -> 251.40491 | U127: =U126*(S126/S127)^(1+$AD$87) -> 753.71043 | V127: =IF(V126*1.1>MIN($L$13,$D$112),MIN($L$13,$D$112),V126*1.1) -> 3340 | W127: =X127*V127*PI()/30000 -> 252.25445 | X127: =X126*(V126/V127)^(1+$AD$87) -> 721.21333
... P131: =IF(P130*1.1>MIN($L$13,$D$112),MIN($L$13,$D$112),P130*1.1) -> 3340 | Q131: =R131*P131*PI()/30000 -> 241.15842 | R131: =R130*(P130/P131)^(1+$AD$87) -> 689.48901 | S131: =IF(S130*1.1>MIN($L$13,$D$112),MIN($L$13,$D$112),S130*1.1) -> 3340 | T131: =U131*S131*PI()/30000 -> 241.15842 | U131: =U130*(S130/S131)^(1+$AD$87) -> 689.48901 | V131: =IF(V130*1.1>MIN($L$13,$D$112),MIN($L$13,$D$112),V130*1.1) -> 3340 | W131: =X131*V131*PI()/30000 -> 252.25445 | X131: =X130*(V130/V131)^(1+$AD$87) -> 721.21333
A136: =MAX(A112,IF(A116="",0,MAX(A116:A135))) -> 0
D139: =D76 -> MAC QT 315 L
D140: - Placa de Características en Modo Motor- | L140: Página | M140: 3 de 3
D141: - Driving Mode Nameplate - | L141: Fecha | M141: =M78 -> 45239
C145: =D76 -> MAC QT 315 L | G145: =A87 -> F61 | I145: =F9 -> 6 | J145: Pole | K145: EN60034
C146: Nr: | G146: DATE | K146: =J11 -> IM B3
C147: Pn | D147: =D87 -> 543.74954 | F147: kW | G147: Mn | H147: =B87 -> 6200 | J147: Nm | K147: =G11 -> IP 23
C148: Un | D148: =IF(RIGHT(G145)="1","Y","D") -> Y | E148: =F81 -> 500 | F148: V | G148: Fn | H148: =F87 -> 42.5 | J148: Hz | K148: =C8 -> IC 06
C149: In | D149: =C87 -> 777.67119 | F149: A | G149: Cos fi | H149: =P87 -> 0.84778747 | I149: Eff. | J149: =O87 -> 0.95232517 | K149: =I15 -> Cl. F
C150: Nn | D150: =E87 -> 837.488 | F150: rpm | G150: Nmax | H150: =L13 -> 4000 | J150: rpm | K150: =F24 -> S1
C151: FAN | E151: V | F151: v | G151: A 50/60Hz | I151: BRAKE | J151: Nm | K151: Nm | L151: Vdc | M151: Vdc
C152: MADE IN SPAIN

Sheet driving mode parameters
H2: =RESUM!G2 -> MAC QT 315 L
H4: Parámetros modo motor / Driving mode parameters
N5: Fecha - Date | O5: =RESUM!O5 -> 45239
B8: =RESUM!B8 -> MAC QT 315 L | C8: =RESUM!C8 -> MAC QI 315 L | D8: =RESUM!D8 -> MAC QI 315 L | E8: =RESUM!E8 -> MAC QI 315 L | F8: =RESUM!F8 -> MAC QI 315 L | G8: =RESUM!G8 -> MAC QI 315 L | H8: =RESUM!H8 -> MAC QI 315 L | I8: =RESUM!I8 -> MAC QI 315 L | ... O8: =RESUM!O8 -> 0
B9: =RESUM!B9 -> A61 | C9: =RESUM!C9 -> B61 | D9: =RESUM!D9 -> C61 | E9: =RESUM!E9 -> D61 | F9: =RESUM!F9 -> E61 | G9: =RESUM!G9 -> F61 | H9: =RESUM!H9 -> C62 | I9: =RESUM!I9 -> D62 | ... O9: =RESUM!O9 -> 0
A10: Poles | B10: =RESUM!B10 -> 6 | C10: =RESUM!C10 -> 6 | D10: =RESUM!D10 -> 6 | E10: =RESUM!E10 -> 6 | F10: =RESUM!F10 -> 6 | G10: =RESUM!G10 -> 6 | H10: =RESUM!H10 -> 6 | I10: =RESUM!I10 -> 6 | ... O10: =RESUM!O10 -> 6
A11: Nm | B11: =RESUM!B11 -> 6200 | C11: =RESUM!C11 -> 6200 | D11: =RESUM!D11 -> 6200 | E11: =RESUM!E11 -> 6200 | F11: =RESUM!F11 -> 6200 | G11: =RESUM!G11 -> 6200 | H11: =RESUM!H11 -> 6200 | I11: =RESUM!I11 -> 5900 | ... O11: =RESUM!O11 -> 0
A12: rpm | B12: ='driving mode datasheet'!E27 -> 437.58 | C12: ='driving mode datasheet'!E28 -> 487.44 | D12: ='driving mode datasheet'!E29 -> 537.856 | E12: ='driving mode datasheet'!E30 -> 612.75 | F12: ='driving mode datasheet'!E31 -> 712.472 | G12: ='driving mode datasheet'!E32 -> 837.488 | H12: ='driving mode datasheet'!E33 -> 962.91 | I12: ='driving mode datasheet'!E34 -> 1088.56 | J12: ='driving mode datasheet'!E35 -> 1263.984 | K12: ='driving mode datasheet'!E36 -> 1489.8 | L12: ='driving mode datasheet'!E37 -> 0 | M12: ='driving mode datasheet'!E38 -> 0 | N12: ='driving mode datasheet'!E39 -> 0 | O12: ='driving mode datasheet'!E40 -> 0 | U12: =RESUM!C10 -> 6 | V12: =RESUM!D10 -> 6
A13: KW | B13: =B11*B12*PI()/30000 -> 284.10428 | C13: =C11*C12*PI()/30000 -> 316.4765 | D13: =D11*D12*PI()/30000 -> 349.20972 | E13: =E11*E12*PI()/30000 -> 397.83559 | F13: =F11*F12*PI()/30000 -> 462.58134 | G13: =G11*G12*PI()/30000 -> 543.74954 | H13: =H11*H12*PI()/30000 -> 625.18134 | I13: =I11*I12*PI()/30000 -> 672.56305 | ... O13: =O11*O12*PI()/30000 -> 0
A14: V | B14: ='driving mode datasheet'!F21 -> 500 | C14: =B14 -> 500 | D14: =C14 -> 500 | E14: =D14 -> 500 | F14: =E14 -> 500 | G14: =F14 -> 500 | H14: =G14 -> 500 | I14: =H14 -> 500 | J14: =I14 -> 500 | ... O14: =N14 -> 500
A15: A | B15: =RESUM!B15 -> 423.59939 | C15: =RESUM!C15 -> 466.18116 | D15: =RESUM!D15 -> 515.66082 | E15: =RESUM!E15 -> 580.251 | F15: =RESUM!F15 -> 666.63124 | G15: =RESUM!G15 -> 777.67119 | H15: =RESUM!H15 -> 891.29534 | I15: =RESUM!I15 -> 960.36103 | ... O15: =RESUM!O15 -> 0
A16: Hz | B16: ='driving mode datasheet'!F27 -> 22.5 | C16: ='driving mode datasheet'!F28 -> 25 | D16: ='driving mode datasheet'!F29 -> 27.5 | E16: ='driving mode datasheet'!F30 -> 31.25 | F16: ='driving mode datasheet'!F31 -> 36.25 | G16: ='driving mode datasheet'!F32 -> 42.5 | H16: ='driving mode datasheet'!F33 -> 48.75 | I16: ='driving mode datasheet'!F34 -> 55 | J16: ='driving mode datasheet'!F35 -> 63.75 | K16: ='driving mode datasheet'!F36 -> 75 | L16: ='driving mode datasheet'!F37 -> 0 | M16: ='driving mode datasheet'!F38 -> 0 | N16: ='driving mode datasheet'!F39 -> 0 | O16: ='driving mode datasheet'!F40 -> 0
A17: Cos fi | B17: =B13/B18*1000/B14/B15/3^0.5 -> 0.83819682 | C17: =C13/C18*1000/C14/C15/3^0.5 -> 0.84301612 | D17: =D13/D18*1000/D14/D15/3^0.5 -> 0.83604345 | E17: =E13/E18*1000/E14/E15/3^0.5 -> 0.84111598 | F17: =F13/F18*1000/F14/F15/3^0.5 -> 0.84639098 | G17: =G13/G18*1000/G14/G15/3^0.5 -> 0.84778747 | H17: =H13/H18*1000/H14/H15/3^0.5 -> 0.84717508 | I17: =I13/I18*1000/I14/I15/3^0.5 -> 0.84311159 | ... O17: =O13/O18*1000/O14/O15/3^0.5 -> #DIV/0!
A18: Rend / eff. | B18: =B13*1000/(B13*1000+3*B23/1000*B15^2+3*B24/1000*(B15^2-B32^2)+3*(2*PI()*B16*B28/1000*B32)^2/B25) -> 0.92394433 | C18: =C13*1000/(C13*1000+3*C23/1000*C15^2+3*C24/1000*(C15^2-C32^2)+3*(2*PI()*C16*C28/1000*C32)^2/C25) -> 0.92986574 | D18: =D13*1000/(D13*1000+3*D23/1000*D15^2+3*D24/1000*(D15^2-D32^2)+3*(2*PI()*D16*D28/1000*D32)^2/D25) -> 0.93532536 | E18: =E13*1000/(E13*1000+3*E23/1000*E15^2+3*E24/1000*(E15^2-E32^2)+3*(2*PI()*E16*E28/1000*E32)^2/E25) -> 0.94124181 | F18: =F13*1000/(F13*1000+3*F23/1000*F15^2+3*F24/1000*(F15^2-F32^2)+3*(2*PI()*F16*F28/1000*F32)^2/F25) -> 0.94667474 | G18: =G13*1000/(G13*1000+3*G23/1000*G15^2+3*G24/1000*(G15^2-G32^2)+3*(2*PI()*G16*G28/1000*G32)^2/G25) -> 0.95232517 | H18: =H13*1000/(H13*1000+3*H23/1000*H15^2+3*H24/1000*(H15^2-H32^2)+3*(2*PI()*H16*H28/1000*H32)^2/H25) -> 0.95604992 | I18: =I13*1000/(I13*1000+3*I23/1000*I15^2+3*I24/1000*(I15^2-I32^2)+3*(2*PI()*I16*I28/1000*I32)^2/I25) -> 0.95914172 | ... O18: =O13*1000/(O13*1000+3*O23/1000*O15^2+3*O24/1000*(O15^2-O32^2)+3*(2*PI()*O16*O28/1000*O32)^2/O25) -> #DIV/0!
A19: J (Kg m2) | B19: =RESUM!B19 -> 13.89 | C19: =RESUM!C19 -> 13.89 | D19: =RESUM!D19 -> 13.89 | E19: =RESUM!E19 -> 13.89 | F19: =RESUM!F19 -> 13.89 | G19: =RESUM!G19 -> 13.89 | H19: =RESUM!H19 -> 13.89 | I19: =RESUM!I19 -> 13.89 | ... O19: =RESUM!O19 -> 0
B20: ESQUEMA EQUIVALENTE POR FASE EN ESTRELLA / PHASE STAR EQUIVALENT SCHEMA
B21: =RESUM!B21 -> MAC QT 315 L | C21: =RESUM!C21 -> MAC QI 315 L | D21: =RESUM!D21 -> MAC QI 315 L | E21: =RESUM!E21 -> MAC QI 315 L | F21: =RESUM!F21 -> MAC QI 315 L | G21: =RESUM!G21 -> MAC QI 315 L | H21: =RESUM!H21 -> MAC QI 315 L | I21: =RESUM!I21 -> MAC QI 315 L | ... O21: =RESUM!O21 -> 0
B22: =RESUM!B22 -> A61 | C22: =RESUM!C22 -> B61 | D22: =RESUM!D22 -> C61 | E22: =RESUM!E22 -> D61 | F22: =RESUM!F22 -> E61 | G22: =RESUM!G22 -> F61 | H22: =RESUM!H22 -> C62 | I22: =RESUM!I22 -> D62 | ... O22: =RESUM!O22 -> 0
A23: Rs (mOhm) | B23: =RESUM!B23 -> 20.779779 | C23: =RESUM!C23 -> 17.222349 | D23: =RESUM!D23 -> 13.982839 | E23: =RESUM!E23 -> 11.003619 | F23: =RESUM!F23 -> 8.4492521 | G23: =RESUM!G23 -> 6.0976267 | H23: =RESUM!H23 -> 4.6609462 | I23: =RESUM!I23 -> 3.6678731 | ... O23: =RESUM!O23 -> 0
A24: Rr (mOhm) | B24: =RESUM!B24 -> 18.251806 | C24: =RESUM!C24 -> 15.00676 | D24: =RESUM!D24 -> 12.094651 | E24: =RESUM!E24 -> 9.509553 | F24: =RESUM!F24 -> 7.2459868 | G24: =RESUM!G24 -> 5.2987451 | H24: =RESUM!H24 -> 3.9559379 | I24: =RESUM!I24 -> 3.1117458 | ... O24: =RESUM!O24 -> 0
A25: Rfe (Ohm) | B25: =RESUM!B25 -> 56.054576 | C25: =RESUM!C25 -> 50.418094 | D25: =RESUM!D25 -> 44.029135 | E25: =RESUM!E25 -> 38.352581 | F25: =RESUM!F25 -> 32.627246 | G25: =RESUM!G25 -> 26.803988 | H25: =RESUM!H25 -> 22.116624 | I25: =RESUM!I25 -> 18.876746 | ... O25: =RESUM!O25 -> 0
A26: Ls (mH) | B26: =RESUM!B26 -> 0.70089962 | C26: =RESUM!C26 -> 0.57925473 | D26: =RESUM!D26 -> 0.46919727 | E26: =RESUM!E26 -> 0.37072375 | F26: =RESUM!F26 -> 0.28383538 | G26: =RESUM!G26 -> 0.20853212 | H26: =RESUM!H26 -> 0.15639909 | I26: =RESUM!I26 -> 0.12357458 | ... O26: =RESUM!O26 -> 0
A27: Lr (mH) | B27: =RESUM!B27 -> 0.57046953 | C27: =RESUM!C27 -> 0.46842361 | D27: =RESUM!D27 -> 0.38263137 | E27: =RESUM!E27 -> 0.30037724 | F27: =RESUM!F27 -> 0.22829367 | G27: =RESUM!G27 -> 0.16748885 | H27: =RESUM!H27 -> 0.12634984 | I27: =RESUM!I27 -> 0.10067238 | ... O27: =RESUM!O27 -> 0
A28: Lm (mH) | B28: =RESUM!B28 -> 12.582191 | C28: =RESUM!C28 -> 10.609447 | D28: =RESUM!D28 -> 8.2729963 | E28: =RESUM!E28 -> 6.6694262 | F28: =RESUM!F28 -> 5.1986685 | G28: =RESUM!G28 -> 3.8360302 | H28: =RESUM!H28 -> 2.8188793 | I28: =RESUM!I28 -> 2.2145843 | ... O28: =RESUM!O28 -> 0
A29: Ts (s) | B29: =RESUM!B29 -> 0.63923156 | C29: =RESUM!C29 -> 0.64966176 | D29: =RESUM!D29 -> 0.62520879 | E29: =RESUM!E29 -> 0.63980312 | F29: =RESUM!F29 -> 0.64887446 | G29: =RESUM!G29 -> 0.66330106 | H29: =RESUM!H29 -> 0.63834215 | I29: =RESUM!I29 -> 0.63746995 | ... O29: =RESUM!O29 -> 0
A30: Tr (s) | B30: =RESUM!B30 -> 0.72062239 | C30: =RESUM!C30 -> 0.73819205 | D30: =RESUM!D30 -> 0.7156575 | E30: =RESUM!E30 -> 0.73292651 | F30: =RESUM!F30 -> 0.74896108 | G30: =RESUM!G30 -> 0.75555984 | H30: =RESUM!H30 -> 0.74450843 | I30: =RESUM!I30 -> 0.74403786 | ... O30: =RESUM!O30 -> 0
A31: Kt | B31: =RESUM!B31 -> 63.263681 | C31: =RESUM!C31 -> 57.51238 | D31: =RESUM!D31 -> 51.761194 | E31: =RESUM!E31 -> 46.009949 | F31: =RESUM!F31 -> 40.258706 | G31: =RESUM!G31 -> 34.507463 | H31: =RESUM!H31 -> 29.884339 | I31: =RESUM!I31 -> 26.563856 | ... O31: =RESUM!O31 -> 0
A32: Im (A/fase) | B32: =RESUM!B32 -> 143.9823 | C32: =RESUM!C32 -> 154.1579 | D32: =RESUM!D32 -> 180.23627 | E32: =RESUM!E32 -> 197.40415 | F32: =RESUM!F32 -> 218.82332 | G32: =RESUM!G32 -> 253.86341 | H32: =RESUM!H32 -> 303.17013 | I32: =RESUM!I32 -> 343.6836 | ... O32: =RESUM!O32 -> 0
B33: =RESUM!B33 -> 0 | C33: =RESUM!C33 -> 0 | D33: =RESUM!D33 -> 0 | E33: =RESUM!E33 -> 0 | F33: =RESUM!F33 -> 0 | G33: =RESUM!G33 -> 0 | H33: =RESUM!H33 -> 0 | I33: =RESUM!I33 -> 0 | ... O33: =RESUM!O33 -> 0
A61: s rpm | B61: =B16*120/B10-B12 -> 12.42 | C61: =C16*120/U12-C12 -> 12.56 | D61: =D16*120/V12-D12 -> 12.144 | E61: =E16*120/E10-E12 -> 12.25 | F61: =F16*120/F10-F12 -> 12.528 | G61: =G16*120/G10-G12 -> 12.512 | H61: =H16*120/H10-H12 -> 12.09 | I61: =I16*120/I10-I12 -> 11.44 | J61: =J16*120/J10-J12 -> 11.016 | K61: =K16*120/K10-K12 -> 10.2 | L61: =L16*120/L10-L12 -> 0 | ... Q61: =Q16*120/Q10-Q12 -> #DIV/0!
A62: MODO GENERADOR a fnom
A63: E | B63: =2*PI()*B16*B28/1000*B32 -> 256.11071 | C63: =2*PI()*C16*C28/1000*C32 -> 256.90846 | D63: =2*PI()*D16*D28/1000*D32 -> 257.64254 | E63: =2*PI()*E16*E28/1000*E32 -> 258.5084 | F63: =2*PI()*F16*F28/1000*F32 -> 259.1037 | G63: =2*PI()*G16*G28/1000*G32 -> 260.04644 | H63: =2*PI()*H16*H28/1000*H32 -> 261.7685 | I63: =2*PI()*I16*I28/1000*I32 -> 263.02291 | ... Q63: =2*PI()*Q16*Q28/1000*Q32 -> 0
A64: urq | B64: =B23/1000*(B15^2-B32^2)^0.5 -> 8.27822 | C64: =C23/1000*(C15^2-C32^2)^0.5 -> 7.5770551 | D64: =D23/1000*(D15^2-D32^2)^0.5 -> 6.755621 | E64: =E23/1000*(E15^2-E32^2)^0.5 -> 6.004013 | F64: =F23/1000*(F15^2-F32^2)^0.5 -> 5.3204368 | G64: =G23/1000*(G15^2-G32^2)^0.5 -> 4.482174 | H64: =H23/1000*(H15^2-H32^2)^0.5 -> 3.9065716 | I64: =I23/1000*(I15^2-I32^2)^0.5 -> 3.2891945 | ... Q64: =Q23/1000*(Q15^2-Q32^2)^0.5 -> 0
A65: urd | B65: =B23/1000*B32 -> 2.9919202 | C65: =C23/1000*C32 -> 2.6549612 | D65: =D23/1000*D32 -> 2.5202146 | E65: =E23/1000*E32 -> 2.1721602 | F65: =F23/1000*F32 -> 1.8488934 | G65: =G23/1000*G32 -> 1.5479643 | H65: =H23/1000*H32 -> 1.4130597 | I65: =I23/1000*I32 -> 1.2605878 | ... Q65: =Q23/1000*Q32 -> 0
A66: exd | B66: =2*PI()*B16*B26/1000*B32 -> 14.266824 | C66: =2*PI()*C16*C26/1000*C32 -> 14.026691 | D66: =2*PI()*D16*D26/1000*D32 -> 14.612019 | E66: =2*PI()*E16*E26/1000*E32 -> 14.369332 | F66: =2*PI()*F16*F26/1000*F32 -> 14.146468 | G66: =2*PI()*G16*G26/1000*G32 -> 14.136499 | H66: =2*PI()*H16*H26/1000*H32 -> 14.523628 | I66: =2*PI()*I16*I26/1000*I32 -> 14.676771 | ... Q66: =2*PI()*Q16*Q26/1000*Q32 -> 0
A67: exq | B67: =2*PI()*B16*B26/1000*(B15^2-B32^2)^0.5 -> 39.474284 | C67: =2*PI()*C16*C26/1000*(C15^2-C32^2)^0.5 -> 40.031099 | D67: =2*PI()*D16*D26/1000*(D15^2-D32^2)^0.5 -> 39.168593 | E67: =2*PI()*E16*E26/1000*(E15^2-E32^2)^0.5 -> 39.717908 | F67: =2*PI()*F16*F26/1000*(F15^2-F32^2)^0.5 -> 40.708344 | G67: =2*PI()*G16*G26/1000*(G15^2-G32^2)^0.5 -> 40.932628 | H67: =2*PI()*H16*H26/1000*(H15^2-H32^2)^0.5 -> 40.152298 | I67: =2*PI()*I16*I26/1000*(I15^2-I32^2)^0.5 -> 38.295431 | ... Q67: =2*PI()*Q16*Q26/1000*(Q15^2-Q32^2)^0.5 -> 0
A68: Vq | B68: =B63+B66-B64 -> 262.09931 | C68: =C63+C66-C64 -> 263.3581 | D68: =D63+D66-D64 -> 265.49894 | E68: =E63+E66-E64 -> 266.87371 | F68: =F63+F66-F64 -> 267.92973 | G68: =G63+G66-G64 -> 269.70077 | H68: =H63+H66-H64 -> 272.38556 | I68: =I63+I66-I64 -> 274.41049 | ... Q68: =Q63+Q66-Q64 -> 0
A69: Vd | B69: =B65-B67 -> -36.482364 | C69: =C65-C67 -> -37.376138 | D69: =D65-D67 -> -36.648379 | E69: =E65-E67 -> -37.545748 | F69: =F65-F67 -> -38.859451 | G69: =G65-G67 -> -39.384664 | H69: =H65-H67 -> -38.739238 | I69: =I65-I67 -> -37.034843 | ... Q69: =Q65-Q67 -> 0
A70: V | B70: =3^0.5*(B68^2+B69^2)^0.5 -> 458.34598 | C70: =3^0.5*(C68^2+C69^2)^0.5 -> 460.72051 | D70: =3^0.5*(D68^2+D69^2)^0.5 -> 464.21803 | E70: =3^0.5*(E68^2+E69^2)^0.5 -> 466.79095 | F70: =3^0.5*(F68^2+F69^2)^0.5 -> 468.92344 | G70: =3^0.5*(G68^2+G69^2)^0.5 -> 472.09 | H70: =3^0.5*(H68^2+H69^2)^0.5 -> 476.53317 | I70: =3^0.5*(I68^2+I69^2)^0.5 -> 479.60201 | ... Q70: =3^0.5*(Q68^2+Q69^2)^0.5 -> 0
A72: Correcció a | B72: =B14 -> 500
A73: E | B73: =B63*B74/B16 -> 279.38579 | C73: =C63*C74/C16 -> 278.81162 | D73: =D63*D74/D16 -> 277.50166 | E73: =E63*E74/E16 -> 276.89954 | F73: =F63*F74/F16 -> 276.27506 | G73: =G63*G74/G16 -> 275.42041 | H73: =H63*H74/H16 -> 274.65927 | I73: =I63*I74/I16 -> 274.20956 | ... Q73: =Q63*Q74/Q16 -> #DIV/0!
A74: Hz gen | B74: =B16*B14/B70 -> 24.544777 | C74: =C16*C14/C70 -> 27.131417 | D74: =D16*D14/D70 -> 29.619703 | E74: =E16*E14/E70 -> 33.473228 | F74: =F16*F14/F70 -> 38.652365 | G74: =G16*G14/G70 -> 45.012604 | H74: =H16*H14/H70 -> 51.150689 | I74: =I16*I14/I70 -> 57.339209 | ... Q74: =Q16*Q14/Q70 -> #DIV/0!
A75: Hz gen adoptat | B75: =ROUND(B74,0) -> 25 | C75: =ROUND(C74,0) -> 27 | D75: =ROUND(D74,0) -> 30 | E75: =ROUND(E74,0) -> 33 | F75: =ROUND(F74,0) -> 39 | G75: =ROUND(G74,0) -> 45 | H75: =ROUND(H74,0) -> 51 | I75: =ROUND(I74,0) -> 57 | ... Q75: =ROUND(Q74,0) -> #DIV/0!
A76: rpm gen | B76: =B75*120/B10+B61 -> 512.42 | C76: =C75*120/U12+C61 -> 552.56 | D76: =D75*120/V12+D61 -> 612.144 | E76: =E75*120/E10+E61 -> 672.25 | F76: =F75*120/F10+F61 -> 792.528 | G76: =G75*120/G10+G61 -> 912.512 | H76: =H75*120/H10+H61 -> 1032.09 | I76: =I75*120/I10+I61 -> 1151.44 | J76: =J75*120/J10+J61 -> 1331.016 | K76: =K75*120/K10+K61 -> 1550.2 | L76: =L75*120/L10+L61 -> #DIV/0! | ... Q76: =Q75*120/Q10+Q61 -> #DIV/0!
A77: Nm gen | B77: =B11 -> 6200 | C77: =C11 -> 6200 | D77: =D11 -> 6200 | E77: =E11 -> 6200 | F77: =F11 -> 6200 | G77: =G11 -> 6200 | H77: =H11 -> 6200 | I77: =I11 -> 5900 | ... Q77: =Q11 -> 0
A78: KW abs | B78: =B76*B77*PI()/30000 -> 332.69508 | C78: =C76*C77*PI()/30000 -> 358.75648 | D78: =D76*D77*PI()/30000 -> 397.44213 | E78: =E76*E77*PI()/30000 -> 436.4667 | F78: =F76*F77*PI()/30000 -> 514.5587 | G78: =G76*G77*PI()/30000 -> 592.45981 | H78: =H76*H77*PI()/30000 -> 670.09731 | I78: =I76*I77*PI()/30000 -> 711.41324 | ... Q78: =Q76*Q77*PI()/30000 -> #DIV/0!
A79: KW perd. | B79: =(3*B23/1000*B15^2+3*B73^2/B25+3*B24/1000*(B15^2-B32^2)+100)/1000 -> 24.15346 | C79: =(3*C23/1000*C15^2+3*C73^2/C25+3*C24/1000*(C15^2-C32^2)+100)/1000 -> 24.668147 | D79: =(3*D23/1000*D15^2+3*D73^2/D25+3*D24/1000*(D15^2-D32^2)+100)/1000 -> 24.970816 | E79: =(3*E23/1000*E15^2+3*E73^2/E25+3*E24/1000*(E15^2-E32^2)+100)/1000 -> 25.705611 | F79: =(3*F23/1000*F15^2+3*F73^2/F25+3*F24/1000*(F15^2-F32^2)+100)/1000 -> 27.002043 | G79: =(3*G23/1000*G15^2+3*G73^2/G25+3*G24/1000*(G15^2-G32^2)+100)/1000 -> 28.242302 | H79: =(3*H23/1000*H15^2+3*H73^2/H25+3*H24/1000*(H15^2-H32^2)+100)/1000 -> 29.777869 | I79: =(3*I23/1000*I15^2+3*I73^2/I25+3*I24/1000*(I15^2-I32^2)+100)/1000 -> 29.705492 | ... Q79: =(3*Q23/1000*Q15^2+3*Q73^2/Q25+3*Q24/1000*(Q15^2-Q32^2)+100)/1000 -> #DIV/0!
A80: KW out | B80: =B78-B79 -> 308.54162 | C80: =C78-C79 -> 334.08833 | D80: =D78-D79 -> 372.47132 | E80: =E78-E79 -> 410.76109 | F80: =F78-F79 -> 487.55665 | G80: =G78-G79 -> 564.2175 | H80: =H78-H79 -> 640.31945 | I80: =I78-I79 -> 681.70775 | ... Q80: =Q78-Q79 -> #DIV/0!
A81: eff gen. | B81: =B80/B78 -> 0.92740061 | C81: =C80/C78 -> 0.93123986 | D81: =D80/D78 -> 0.93717119 | E81: =E80/E78 -> 0.94110522 | F81: =F80/F78 -> 0.94752388 | G81: =G80/G78 -> 0.95233043 | H81: =H80/H78 -> 0.95556187 | I81: =I80/I78 -> 0.95824439 | ... Q81: =Q80/Q78 -> #DIV/0!
A82: Cos fi gen | B82: =B80*1000/3^0.5/B14/B15 -> 0.84106158 | C82: =C80*1000/3^0.5/C14/C15 -> 0.82751516 | D82: =D80*1000/3^0.5/D14/D15 -> 0.83406148 | E82: =E80*1000/3^0.5/E14/E15 -> 0.81741531 | F82: =F80*1000/3^0.5/F14/F15 -> 0.84451778 | G82: =G80*1000/3^0.5/G14/G15 -> 0.83776057 | H82: =H80*1000/3^0.5/H14/H15 -> 0.82955355 | I82: =I80*1000/3^0.5/I14/I15 -> 0.81965873 | ... Q82: =Q80*1000/3^0.5/Q14/Q15 -> #DIV/0!

Sheet absorbing mode datasheet
L1: Codigo | M1: =RESUM!O2 -> DT-QT 315 L
D2: =RESUM!G2 -> MAC QT 315 L | L2: Edición | M2: ='driving mode datasheet'!M2 -> 08
D3: - Hoja de Datos Técnicos Modo Generador - | L3: Página | M3: ='driving mode datasheet'!M3 -> 1 de 3
D4: - Absorbing Mode Technical Datasheet - | L4: Fecha | M4: ='driving mode datasheet'!M4 -> 45239
A7: Ventilador / Fan | E7: Rodamientos | G7: Delantero | H7: ='driving mode datasheet'!H7 -> 6024 ZZ C3 | J7: ='driving mode datasheet'!J7 -> Trasero | M7: ='driving mode datasheet'!M7 -> 6024 ZZ C3
A8: Tipo de Refrigeración | C8: ='driving mode datasheet'!C8 -> IC 06 | E8: Bearings | G8: Drive End | J8: ='driving mode datasheet'!J8 -> Non Drive End
A9: Cooling Mode | E9: Nº de polos | F9: ='driving mode datasheet'!F9 -> 6 | G9: Momento de inercia | I9: ='driving mode datasheet'!I9 -> 13.89 | K9: Peso Motor | M9: ='driving mode datasheet'!M9 -> 2275 | P9: ='driving mode datasheet'!P9 -> 400V 50Hz
A10: Alimentación / Supply | E10: No of poles | G10: Rotor Inertia | K10: Motor Weight | P10: ='driving mode datasheet'!P10 -> 480V 60Hz | Q10: 1
A11: Potencia / Power | C11: =IF($Q$10=1,P11,IF($Q$10=2,Q11,"")) -> 4 KW | E11: Protección | G11: ='driving mode datasheet'!G11 -> IP 23 | H11: Construcción | J11: ='driving mode datasheet'!J11 -> IM B3 | K11: standard | L11: Equilibrado grado | N11: ='driving mode datasheet'!N11 -> B | P11: ='driving mode datasheet'!P11 -> 4 KW | Q11: ='driving mode datasheet'!Q11 -> 4 KW
A12: Corriente / Current | C12: =IF($Q$10=1,P12,IF($Q$10=2,Q12,"")) -> 7,4 A | E12: Protection Degree | H12: Mounting | J12: ='driving mode datasheet'!J12 -> IM B35 | K12: on request | L12: Balancing degree | P12: ='driving mode datasheet'!P12 -> 7,4 A | Q12: ='driving mode datasheet'!Q12 -> 7,4 A
A13: Velocidad / Speed | C13: =IF($Q$10=1,P13,IF($Q$10=2,Q13,"")) -> 2925rpm | E13: Nivel de ruido | G13: ='driving mode datasheet'!G13 -> < 90 dB | I13: Velocidad máxima mecánica | L13: ='driving mode datasheet'!L13 -> 4000 | P13: ='driving mode datasheet'!P13 -> 2925rpm | Q13: ='driving mode datasheet'!Q13 -> 3500rpm
A14: Caudal / Air flow | C14: =IF($Q$10=1,P14,IF($Q$10=2,Q14,"")) -> 4000 m3/h | E14: Noise Level | I14: Max. Mechanical Speed | P14: ='driving mode datasheet'!P14 -> 4000 m3/h | Q14: ='driving mode datasheet'!Q14 -> 4000 m3/h
A15: Presión / Pressure | C15: =IF($Q$10=1,P15,IF($Q$10=2,Q15,"")) -> 2450 Pa | E15: Aislamiento | F15: ='driving mode datasheet'!F15 -> Cl. H | G15: Incremento Temperatura | I15: ='driving mode datasheet'!I15 -> Cl. F | J15: Termistores | K15: ='driving mode datasheet'!K15 -> PTC155º C | L15: Termómetros | N15: ='driving mode datasheet'!N15 -> 3xPt100 | P15: ='driving mode datasheet'!P15 -> 2450 Pa | Q15: ='driving mode datasheet'!Q15 -> 2450 Pa
A16: Por favor, indicar en los pedidos la alimentación deseada para el ventilador / Please indicate the required fan supply voltage when placing your order | E16: Insulation | G16: Temperature Rise | J16: Thermistors | L16: Thermometers
E17: Ambiente | F17: ='driving mode datasheet'!F17 -> < 40 ºC < 1000 m | I17: Conmutación Variador | K17: ='driving mode datasheet'!K17 -> 4 kHz ; IVIC C/B acc. EN60034-25
E18: Ambient | I18: Inverter Switching
A19: Normas de referencia | C19: ='driving mode datasheet'!C19 -> EN60034 | E19: Alojamientos de los rodamientos eléctricamente aislados | J19: Anillo SGR de puesta a tierra del eje en NDE
A20: Reference Standards | E20: Electrically insulated bearing housings | J20: SGR shaft grounding ring on NDE
A21: Tensión de Base del Motor | E21: Vb ± 5% | F21: 400 | H21: Tensión Máxima de Salida del Convertidor | L21: Vc | M21: 400
A22: Motor Base Voltage | H22: Inverter max. Output Voltage
F23: =IF(F21>500," Vb ha de ser / must be < 500 V"," ") | G23: =IF(M21>500," Vc ha de ser / must be < 500 V"," ") | N23: =IF(M21<F21,"Vc ha de ser / must be > Vb"," ")
B24: Servicio / Service | F24: S1 | H24: Servicio / Service S6 - | L24: 0.4 | M24: =IF(L24>80%,"max 80%","")
M25: =IF(L24<20%,"min 20%","")
A26: Bobinado Winding | B26: Nm | C26: A ± 2% | D26: KW | E26: rpm | F26: Hz | G26: Velocidad a Pot.Cte Const. Power Speed. (rpm) | H26: Nm | I26: A ± 5% | J26: KW | K26: rpm | L26: Hz | M26: Velocidad a Pot.Cte Const. Power Speed. (rpm) | N26: Corriente en vacio No Load Current (A) | O26: eff | P26: cos fi | Q26: Hz | R26: rpm | S26: rpm llisc. | U26: Nm S6 | V26: A S6 | W26: Alim | X26: Nm lim | Y26: rpm lim | Z26: KW lim | AA26: rpm lim KW s6 | AB26: rpm lim Nm s6 | AC26: rpm lim s1 | AD26: Coef
A27: =RESUM!B9 -> A61 | B27: =RESUM!B11 -> 6200 | C27: =RESUM!B15 -> 423.59939 | D27: =E27*$B27*PI()/30000 -> 267.76883 | E27: =(F27*120/$F$9-$S27) -> 412.42 | F27: =$Q27*$F$21/'driving mode datasheet'!$F$21 -> 20 | G27: =IF(AC27<$L$13,AC27,$L$13) -> 590.58602 | H27: =IF(U27<X27*0.95,U27,X27*0.95) -> 9232.2638 | I27: =MIN(V27:W27) -> 610.4389 | J27: =MIN(Z27,H27*E27*PI()/30000) -> 398.72782 | K27: =MIN(E27,M27) -> 394.52822 | L27: =(K27+S27*H27/B27)*$F$9/120 -> 18.801695 | M27: =MIN($L$13,MAX(AB27,AA27)) -> 394.52822 | N27: =RESUM!B32 -> 143.9823 | O27: ='driving mode parameters'!B81 -> 0.92740061 | P27: ='driving mode parameters'!B82 -> 0.84106158 | Q27: ='driving mode parameters'!B75 -> 25 | R27: ='driving mode parameters'!B76 -> 512.42 | S27: =Q27*120/$F$9-R27 -> -12.42 | U27: =B27/((C27^2-N27^2)^0.5)*(V27^2-N27^2)^0.5 -> 9232.2638 | V27: =IF(AND($L$24>=20%,$L$24<=80%)=TRUE,((C27^2*0.9-N27^2*(1-$L$24))/$L$24)^0.5,0) -> 610.4389 | W27: =(((V27^2-N27^2)^0.5*X27/U27)^2+N27^2)^0.5 -> 893.39673 | X27: =X28 -> 13722.252 | Y27: ='driving mode datasheet'!Y27*$M$21/'driving mode datasheet'!$M$21*F27/'driving mode datasheet'!F27*'driving mode datasheet'!F$21/'absorbing mode datasheet'!F$21 -> 327.18121 | Z27: =X27*Y27*PI()/30000 -> 470.15642 | AA27: =AC27*(D27/J27)^(1/AD27) -> 375.07227 | AB27: =AC27*(B27*E27/AC27/H27)^(1/(1+AD27)) -> 394.52822 | AC27: =0.95*Y27*(Z27/D27)^(1/AD27) -> 590.58602 | AD27: ='limit 480V'!Z25 -> 0.877
A28: =RESUM!C9 -> B61 | B28: =RESUM!C11 -> 6200 | C28: =RESUM!C15 -> 466.18116 | D28: =E28*$B28*PI()/30000 -> 288.63613 | E28: =(F28*120/$F$9-$S28) -> 444.56 | F28: =$Q28*$F$21/'driving mode datasheet'!$F$21 -> 21.6 | G28: =IF(AC28<$L$13,AC28,$L$13) -> 639.22956 | H28: =IF(U28<X28*0.95,U28,X28*0.95) -> 9236.3476 | I28: =MIN(V28:W28) -> 673.30081 | J28: =MIN(Z28,H28*E28*PI()/30000) -> 429.99091 | K28: =IF(E28<M28,E28,M28) -> 425.99009 | L28: =(K28+S28*H28/B28)*$F$9/120 -> 20.363952 | M28: =MIN($L$13,MAX(AB28,AA28)) -> 425.99009 | N28: =RESUM!C32 -> 154.1579 | O28: ='driving mode parameters'!C81 -> 0.93123986 | P28: ='driving mode parameters'!C82 -> 0.82751516 | Q28: ='driving mode parameters'!C75 -> 27 | R28: ='driving mode parameters'!C76 -> 552.56 | S28: =Q28*120/$F$9-R28 -> -12.56 | U28: =B28/((C28^2-N28^2)^0.5)*(V28^2-N28^2)^0.5 -> 9236.3476 | V28: =IF(AND($L$24>=20%,$L$24<=80%)=TRUE,((C28^2*0.9-N28^2*(1-$L$24))/$L$24)^0.5,0) -> 673.30081 | W28: =(((V28^2-N28^2)^0.5*X28/U28)^2+N28^2)^0.5 -> 985.86448 | X28: =X29 -> 13722.252 | Y28: ='driving mode datasheet'!Y28*$M$21/'driving mode datasheet'!$M$21*F28/'driving mode datasheet'!F28*'driving mode datasheet'!F$21/'absorbing mode datasheet'!F$21 -> 353.35571 | Z28: =X28*Y28*PI()/30000 -> 507.76893 | AA28: =AC28*(D28/J28)^(1/AD28) -> 405.76039 | AB28: =AC28*(B28*E28/AC28/H28)^(1/(1+AD28)) -> 425.99009 | AC28: =0.95*Y28*(Z28/D28)^(1/AD28) -> 639.22956 | AD28: =AD27 -> 0.877
A29: =RESUM!D9 -> C61 | B29: =RESUM!D11 -> 6200 | C29: =RESUM!D15 -> 515.66082 | D29: =E29*$B29*PI()/30000 -> 319.53063 | E29: =(F29*120/$F$9-$S29) -> 492.144 | F29: =$Q29*$F$21/'driving mode datasheet'!$F$21 -> 24 | G29: =IF(AC29<$L$13,AC29,$L$13) -> 713.23692 | H29: =IF(U29<X29*0.95,U29,X29*0.95) -> 9227.8155 | I29: =MIN(V29:W29) -> 741.32383 | J29: =MIN(Z29,H29*E29*PI()/30000) -> 475.57577 | K29: =IF(E29<M29,E29,M29) -> 473.55543 | L29: =(K29+S29*H29/B29)*$F$9/120 -> 22.774041 | M29: =MIN($L$13,MAX(AB29,AA29)) -> 473.55543 | N29: =RESUM!D32 -> 180.23627 | O29: ='driving mode parameters'!D81 -> 0.93717119 | P29: ='driving mode parameters'!D82 -> 0.83406148 | Q29: ='driving mode parameters'!D75 -> 30 | R29: ='driving mode parameters'!D76 -> 612.144 | S29: =Q29*120/$F$9-R29 -> -12.144 | U29: =B29/((C29^2-N29^2)^0.5)*(V29^2-N29^2)^0.5 -> 9227.8155 | V29: =IF(AND($L$24>=20%,$L$24<=80%)=TRUE,((C29^2*0.9-N29^2*(1-$L$24))/$L$24)^0.5,0) -> 741.32383 | W29: =(((V29^2-N29^2)^0.5*X29/U29)^2+N29^2)^0.5 -> 1084.3934 | X29: =X30 -> 13722.252 | Y29: ='driving mode datasheet'!Y29*$M$21/'driving mode datasheet'!$M$21*F29/'driving mode datasheet'!F29*'driving mode datasheet'!F$21/'absorbing mode datasheet'!F$21 -> 392.61745 | Z29: =X29*Y29*PI()/30000 -> 564.18771 | AA29: =AC29*(D29/J29)^(1/AD29) -> 453.21499 | AB29: =AC29*(B29*E29/AC29/H29)^(1/(1+AD29)) -> 473.55543 | AC29: =0.95*Y29*(Z29/D29)^(1/AD29) -> 713.23692 | AD29: =AD28 -> 0.877
A30: =RESUM!E9 -> D61 | B30: =RESUM!E11 -> 6200 | C30: =RESUM!E15 -> 580.251 | D30: =E30*$B30*PI()/30000 -> 350.76406 | E30: =(F30*120/$F$9-$S30) -> 540.25 | F30: =$Q30*$F$21/'driving mode datasheet'!$F$21 -> 26.4 | G30: =IF(AC30<$L$13,AC30,$L$13) -> 786.39627 | H30: =IF(U30<X30*0.95,U30,X30*0.95) -> 9232.1268 | I30: =MIN(V30:W30) -> 836.12359 | J30: =MIN(Z30,H30*E30*PI()/30000) -> 522.30617 | K30: =IF(E30<M30,E30,M30) -> 520.78137 | L30: =(K30+S30*H30/B30)*$F$9/120 -> 25.127024 | M30: =MIN($L$13,MAX(AB30,AA30)) -> 520.78137 | N30: =RESUM!E32 -> 197.40415 | O30: ='driving mode parameters'!E81 -> 0.94110522 | P30: ='driving mode parameters'!E82 -> 0.81741531 | Q30: ='driving mode parameters'!E75 -> 33 | R30: ='driving mode parameters'!E76 -> 672.25 | S30: =Q30*120/$F$9-R30 -> -12.25 | U30: =B30/((C30^2-N30^2)^0.5)*(V30^2-N30^2)^0.5 -> 9232.1268 | V30: =IF(AND($L$24>=20%,$L$24<=80%)=TRUE,((C30^2*0.9-N30^2*(1-$L$24))/$L$24)^0.5,0) -> 836.12359 | W30: =(((V30^2-N30^2)^0.5*X30/U30)^2+N30^2)^0.5 -> 1223.674 | X30: =X31 -> 13722.252 | Y30: ='driving mode datasheet'!Y30*$M$21/'driving mode datasheet'!$M$21*F30/'driving mode datasheet'!F30*'driving mode datasheet'!F$21/'absorbing mode datasheet'!F$21 -> 431.8792 | Z30: =X30*Y30*PI()/30000 -> 620.60648 | AA30: =AC30*(D30/J30)^(1/AD30) -> 499.43686 | AB30: =AC30*(B30*E30/AC30/H30)^(1/(1+AD30)) -> 520.78137 | AC30: =0.95*Y30*(Z30/D30)^(1/AD30) -> 786.39627 | AD30: =AD29 -> 0.877
A31: =RESUM!F9 -> E61 | B31: =RESUM!F11 -> 6200 | C31: =RESUM!F15 -> 666.63124 | D31: =E31*$B31*PI()/30000 -> 413.27375 | E31: =(F31*120/$F$9-$S31) -> 636.528 | F31: =$Q31*$F$21/'driving mode datasheet'!$F$21 -> 31.2 | G31: =IF(AC31<$L$13,AC31,$L$13) -> 932.62335 | H31: =IF(U31<X31*0.95,U31,X31*0.95) -> 9237.3957 | I31: =MIN(V31:W31) -> 963.36298 | J31: =MIN(Z31,H31*E31*PI()/30000) -> 615.73761 | K31: =IF(E31<M31,E31,M31) -> 615.28183 | L31: =(K31+S31*H31/B31)*$F$9/120 -> 29.830816 | M31: =MIN($L$13,MAX(AB31,AA31)) -> 615.28183 | N31: =RESUM!F32 -> 218.82332 | O31: ='driving mode parameters'!F81 -> 0.94752388 | P31: ='driving mode parameters'!F82 -> 0.84451778 | Q31: ='driving mode parameters'!F75 -> 39 | R31: ='driving mode parameters'!F76 -> 792.528 | S31: =Q31*120/$F$9-R31 -> -12.528 | U31: =B31/((C31^2-N31^2)^0.5)*(V31^2-N31^2)^0.5 -> 9237.3957 | V31: =IF(AND($L$24>=20%,$L$24<=80%)=TRUE,((C31^2*0.9-N31^2*(1-$L$24))/$L$24)^0.5,0) -> 963.36298 | W31: =(((V31^2-N31^2)^0.5*X31/U31)^2+N31^2)^0.5 -> 1410.7532 | X31: =X32 -> 13722.252 | Y31: ='driving mode datasheet'!Y31*$M$21/'driving mode datasheet'!$M$21*F31/'driving mode datasheet'!F31*'driving mode datasheet'!F$21/'absorbing mode datasheet'!F$21 -> 510.40269 | Z31: =X31*Y31*PI()/30000 -> 733.44402 | AA31: =AC31*(D31/J31)^(1/AD31) -> 591.91983 | AB31: =AC31*(B31*E31/AC31/H31)^(1/(1+AD31)) -> 615.28183 | AC31: =0.95*Y31*(Z31/D31)^(1/AD31) -> 932.62335 | AD31: =AD30 -> 0.877
A32: =RESUM!G9 -> F61 | B32: =RESUM!G11 -> 6200 | C32: =RESUM!G15 -> 777.67119 | D32: =E32*$B32*PI()/30000 -> 475.59256 | E32: =(F32*120/$F$9-$S32) -> 732.512 | F32: =$Q32*$F$21/'driving mode datasheet'!$F$21 -> 36 | G32: =IF(AC32<$L$13,AC32,$L$13) -> 1079.3598 | H32: =IF(U32<X32*0.95,U32,X32*0.95) -> 9238.1698 | I32: =MIN(V32:W32) -> 1124.3078 | J32: =MIN(Z32,H32*E32*PI()/30000) -> 708.64593 | K32: =IF($E$32<$M$32,$E$32,$M$32) -> 709.90888 | L32: =(K32+S32*H32/B32)*$F$9/120 -> 34.563283 | M32: =MIN($L$13,MAX(AB32,AA32)) -> 709.90888 | N32: =RESUM!G32 -> 253.86341 | O32: ='driving mode parameters'!G81 -> 0.95233043 | P32: ='driving mode parameters'!G82 -> 0.83776057 | Q32: ='driving mode parameters'!G75 -> 45 | R32: ='driving mode parameters'!G76 -> 912.512 | S32: =Q32*120/$F$9-R32 -> -12.512 | U32: =B32/((C32^2-N32^2)^0.5)*(V32^2-N32^2)^0.5 -> 9238.1698 | V32: =IF(AND($L$24>=20%,$L$24<=80%)=TRUE,((C32^2*0.9-N32^2*(1-$L$24))/$L$24)^0.5,0) -> 1124.3078 | W32: =(((V32^2-N32^2)^0.5*X32/U32)^2+N32^2)^0.5 -> 1646.5901 | X32: ='limit 480V'!K27*0.95 -> 13722.252 | Y32: ='driving mode datasheet'!Y32*$M$21/'driving mode datasheet'!$M$21*F32/'driving mode datasheet'!F32*'driving mode datasheet'!F$21/'absorbing mode datasheet'!F$21 -> 588.92618 | Z32: =X32*Y32*PI()/30000 -> 846.28156 | AA32: =AC32*(D32/J32)^(1/AD32) -> 684.98547 | AB32: =AC32*(B32*E32/AC32/H32)^(1/(1+AD32)) -> 709.90888 | AC32: =0.95*Y32*(Z32/D32)^(1/AD32) -> 1079.3598 | AD32: =AD31 -> 0.877 | AE32: =AB32*(J32/D32)^(1/2/AD32) -> 891.13819
A33: =RESUM!H9 -> C62 | B33: =RESUM!H11 -> 6200 | C33: =RESUM!H15 -> 891.29534 | D33: =E33*$B33*PI()/30000 -> 537.64777 | E33: =(F33*120/$F$9-$S33) -> 828.09 | F33: =$Q33*$F$21/'driving mode datasheet'!$F$21 -> 40.8 | G33: =IF(AC33<$L$13,AC33,$L$13) -> 1226.796 | H33: =IF(U33<X33*0.95,U33,X33*0.95) -> 9232.1536 | I33: =MIN(V33:W33) -> 1284.3475 | J33: =MIN(Z33,H33*E33*PI()/30000) -> 800.58819 | K33: =IF(E33<M33,E33,M33) -> 804.84268 | L33: =(K33+S33*H33/B33)*$F$9/120 -> 39.341999 | M33: =MIN($L$13,MAX(AB33,AA33)) -> 804.84268 | N33: =RESUM!H32 -> 303.17013 | O33: ='driving mode parameters'!H81 -> 0.95556187 | P33: ='driving mode parameters'!H82 -> 0.82955355 | Q33: ='driving mode parameters'!H75 -> 51 | R33: ='driving mode parameters'!H76 -> 1032.09 | S33: =Q33*120/$F$9-R33 -> -12.09 | U33: =B33/((C33^2-N33^2)^0.5)*(V33^2-N33^2)^0.5 -> 9232.1536 | V33: =IF(AND($L$24>=20%,$L$24<=80%)=TRUE,((C33^2*0.9-N33^2*(1-$L$24))/$L$24)^0.5,0) -> 1284.3475 | W33: =(((V33^2-N33^2)^0.5*X33/U33)^2+N33^2)^0.5 -> 1879.6593 | X33: =X32 -> 13722.252 | Y33: ='driving mode datasheet'!Y33*$M$21/'driving mode datasheet'!$M$21*F33/'driving mode datasheet'!F33*'driving mode datasheet'!F$21/'absorbing mode datasheet'!F$21 -> 667.44967 | Z33: =X33*Y33*PI()/30000 -> 959.1191 | AA33: =AC33*(D33/J33)^(1/AD33) -> 779.13021 | AB33: =AC33*(B33*E33/AC33/H33)^(1/(1+AD33)) -> 804.84268 | AC33: =0.95*Y33*(Z33/D33)^(1/AD33) -> 1226.796 | AD33: =AD32 -> 0.877
A34: =RESUM!I9 -> D62 | B34: =RESUM!I11 -> 5900 | C34: =RESUM!I15 -> 960.36103 | D34: =E34*$B34*PI()/30000 -> 570.54422 | E34: =(F34*120/$F$9-$S34) -> 923.44 | F34: =$Q34*$F$21/'driving mode datasheet'!$F$21 -> 45.6 | G34: =IF(AC34<$L$13,AC34,$L$13) -> 1533.903 | H34: =IF(U34<X34*0.95,U34,X34*0.95) -> 8777.4862 | I34: =MIN(V34:W34) -> 1377.6728 | J34: =MIN(Z34,H34*E34*PI()/30000) -> 848.80407 | K34: =IF(E34<M34,E34,M34) -> 923.44 | L34: =(K34+S34*H34/B34)*$F$9/120 -> 45.32103 | M34: =MIN($L$13,MAX(AB34,AA34)) -> 975.17807 | N34: =RESUM!I32 -> 343.6836 | O34: ='driving mode parameters'!I81 -> 0.95824439 | P34: ='driving mode parameters'!I82 -> 0.81965873 | Q34: ='driving mode parameters'!I75 -> 57 | R34: ='driving mode parameters'!I76 -> 1151.44 | S34: =Q34*120/$F$9-R34 -> -11.44 | U34: =B34/((C34^2-N34^2)^0.5)*(V34^2-N34^2)^0.5 -> 8777.4862 | V34: =IF(AND($L$24>=20%,$L$24<=80%)=TRUE,((C34^2*0.9-N34^2*(1-$L$24))/$L$24)^0.5,0) -> 1377.6728 | W34: =(((V34^2-N34^2)^0.5*X34/U34)^2+N34^2)^0.5 -> 2113.8114 | X34: =X33 -> 13722.252 | Y34: ='driving mode datasheet'!Y34*$M$21/'driving mode datasheet'!$M$21*F34/'driving mode datasheet'!F34*'driving mode datasheet'!F$21/'absorbing mode datasheet'!F$21 -> 764.70344 | Z34: =X34*Y34*PI()/30000 -> 1098.8719 | AA34: =AC34*(D34/J34)^(1/AD34) -> 975.17807 | AB34: =AC34*(B34*E34/AC34/H34)^(1/(1+AD34)) -> 947.26302 | AC34: =0.95*Y34*(Z34/D34)^(1/AD34) -> 1533.903 | AD34: =AD33 -> 0.877
A35: =RESUM!J9 -> E62 | B35: =RESUM!J11 -> 5600 | C35: =RESUM!J15 -> 1055.7431 | D35: =E35*$B35*PI()/30000 -> 625.73086 | E35: =(F35*120/$F$9-$S35) -> 1067.016 | F35: =$Q35*$F$21/'driving mode datasheet'!$F$21 -> 52.8 | G35: =IF(AC35<$L$13,AC35,$L$13) -> 1998.0066 | H35: =IF(U35<X35*0.95,U35,X35*0.95) -> 8328.3222 | I35: =MIN(V35:W35) -> 1511.9707 | J35: =MIN(Z35,H35*E35*PI()/30000) -> 930.58718 | K35: =IF(E35<M35,E35,M35) -> 1067.016 | L35: =(K35+S35*H35/B35)*$F$9/120 -> 52.53165 | M35: =MIN($L$13,MAX(AB35,AA35)) -> 1270.7276 | N35: =RESUM!J32 -> 384.51693 | O35: ='driving mode parameters'!J81 -> 0.96067242 | P35: ='driving mode parameters'!J82 -> 0.82013691 | Q35: ='driving mode parameters'!J75 -> 66 | R35: ='driving mode parameters'!J76 -> 1331.016 | S35: =Q35*120/$F$9-R35 -> -11.016 | U35: =B35/((C35^2-N35^2)^0.5)*(V35^2-N35^2)^0.5 -> 8328.3222 | V35: =IF(AND($L$24>=20%,$L$24<=80%)=TRUE,((C35^2*0.9-N35^2*(1-$L$24))/$L$24)^0.5,0) -> 1511.9707 | W35: =(((V35^2-N35^2)^0.5*X35/U35)^2+N35^2)^0.5 -> 2439.7985 | X35: =X34 -> 13722.252 | Y35: ='driving mode datasheet'!Y35*$M$21/'driving mode datasheet'!$M$21*F35/'driving mode datasheet'!F35*'driving mode datasheet'!F$21/'absorbing mode datasheet'!F$21 -> 908.85398 | Z35: =X35*Y35*PI()/30000 -> 1306.0149 | AA35: =AC35*(D35/J35)^(1/AD35) -> 1270.7276 | AB35: =AC35*(B35*E35/AC35/H35)^(1/(1+AD35)) -> 1157.7784 | AC35: =0.95*Y35*(Z35/D35)^(1/AD35) -> 1998.0066 | AD35: =AD34 -> 0.877
A36: =RESUM!K9 -> F62 | B36: =RESUM!K11 -> 5200 | C36: =RESUM!K15 -> 1158.8952 | D36: =E36*$B36*PI()/30000 -> 676.43098 | E36: =(F36*120/$F$9-$S36) -> 1242.2 | F36: =$Q36*$F$21/'driving mode datasheet'!$F$21 -> 61.6 | G36: =IF(AC36<$L$13,AC36,$L$13) -> 2752.5807 | H36: =IF(U36<X36*0.95,U36,X36*0.95) -> 7725.1598 | I36: =MIN(V36:W36) -> 1651.1695 | J36: =MIN(Z36,H36*E36*PI()/30000) -> 1004.911 | K36: =IF(E36<M36,E36,M36) -> 1242.2 | L36: =(K36+S36*H36/B36)*$F$9/120 -> 61.35234 | M36: =MIN($L$13,MAX(AB36,AA36)) -> 1752.7752 | N36: =RESUM!K32 -> 443.82809 | O36: ='driving mode parameters'!K81 -> 0.96211641 | P36: ='driving mode parameters'!K82 -> 0.80923099 | Q36: ='driving mode parameters'!K75 -> 77 | R36: ='driving mode parameters'!K76 -> 1550.2 | S36: =Q36*120/$F$9-R36 -> -10.2 | U36: =B36/((C36^2-N36^2)^0.5)*(V36^2-N36^2)^0.5 -> 7725.1598 | V36: =IF(AND($L$24>=20%,$L$24<=80%)=TRUE,((C36^2*0.9-N36^2*(1-$L$24))/$L$24)^0.5,0) -> 1651.1695 | W36: =(((V36^2-N36^2)^0.5*X36/U36)^2+N36^2)^0.5 -> 2859.6923 | X36: =X35 -> 13722.252 | Y36: ='driving mode datasheet'!Y36*$M$21/'driving mode datasheet'!$M$21*F36/'driving mode datasheet'!F36*'driving mode datasheet'!F$21/'absorbing mode datasheet'!F$21 -> 1100.3561 | Z36: =X36*Y36*PI()/30000 -> 1581.2017 | AA36: =AC36*(D36/J36)^(1/AD36) -> 1752.7752 | AB36: =AC36*(B36*E36/AC36/H36)^(1/(1+AD36)) -> 1459.0137 | AC36: =0.95*Y36*(Z36/D36)^(1/AD36) -> 2752.5807 | AD36: =AD35 -> 0.877
A37: =RESUM!L9 -> 0 | B37: =RESUM!L11 -> 0 | C37: =RESUM!L15 -> 0 | D37: =E37*$B37*PI()/30000 -> #DIV/0! | E37: =(F37*120/$F$9-$S37) -> #DIV/0! | F37: =$Q37*$F$21/'driving mode datasheet'!$F$21 -> #DIV/0! | G37: =IF(AC37<$L$13,AC37,$L$13) -> #DIV/0! | H37: =IF(U37<X37*0.95,U37,X37*0.95) -> #DIV/0! | I37: =MIN(V37:W37) -> #DIV/0! | J37: =MIN(Z37,H37*E37*PI()/30000) -> #DIV/0! | K37: =IF(E37<M37,E37,M37) -> #DIV/0! | L37: =(K37+S37*H37/B37)*$F$9/120 -> #DIV/0! | M37: =MIN($L$13,MAX(AB37,AA37)) -> #DIV/0! | N37: =RESUM!L32 -> 0 | O37: ='driving mode parameters'!L81 -> #DIV/0! | P37: ='driving mode parameters'!L82 -> #DIV/0! | Q37: ='driving mode parameters'!L75 -> #DIV/0! | R37: ='driving mode parameters'!L76 -> #DIV/0! | S37: =Q37*120/$F$9-R37 -> #DIV/0! | U37: =B37/((C37^2-N37^2)^0.5)*(V37^2-N37^2)^0.5 -> #DIV/0! | V37: =IF(AND($L$24>=20%,$L$24<=80%)=TRUE,((C37^2*0.9-N37^2*(1-$L$24))/$L$24)^0.5,0) -> 0 | W37: =(((V37^2-N37^2)^0.5*X37/U37)^2+N37^2)^0.5 -> #DIV/0! | X37: =X36 -> 13722.252 | Y37: ='driving mode datasheet'!Y37*$M$21/'driving mode datasheet'!$M$21*F37/'driving mode datasheet'!F37*'driving mode datasheet'!F$21/'absorbing mode datasheet'!F$21 -> #DIV/0! | Z37: =X37*Y37*PI()/30000 -> #DIV/0! | AA37: =AC37*(D37/J37)^(1/AD37) -> #DIV/0! | AB37: =AC37*(B37*E37/AC37/H37)^(1/(1+AD37)) -> #DIV/0! | AC37: =0.95*Y37*(Z37/D37)^(1/AD37) -> #DIV/0! | AD37: =AD36 -> 0.877
A38: =RESUM!M9 -> 0 | B38: =RESUM!M11 -> 0 | C38: =RESUM!M15 -> 0 | D38: =E38*$B38*PI()/30000 -> #DIV/0! | E38: =(F38*120/$F$9-$S38) -> #DIV/0! | F38: =$Q38*$F$21/'driving mode datasheet'!$F$21 -> #DIV/0! | G38: =IF(AC38<$L$13,AC38,$L$13) -> #DIV/0! | H38: =IF(U38<X38*0.95,U38,X38*0.95) -> #DIV/0! | I38: =MIN(V38:W38) -> #DIV/0! | J38: =MIN(Z38,H38*E38*PI()/30000) -> #DIV/0! | K38: =IF(E38<M38,E38,M38) -> #DIV/0! | L38: =(K38+S38*H38/B38)*$F$9/120 -> #DIV/0! | M38: =MIN($L$13,MAX(AB38,AA38)) -> #DIV/0! | N38: =RESUM!M32 -> 0 | O38: ='driving mode parameters'!M81 -> #DIV/0! | P38: ='driving mode parameters'!M82 -> #DIV/0! | Q38: ='driving mode parameters'!M75 -> #DIV/0! | R38: ='driving mode parameters'!M76 -> #DIV/0! | S38: =Q38*120/$F$9-R38 -> #DIV/0! | U38: =B38/((C38^2-N38^2)^0.5)*(V38^2-N38^2)^0.5 -> #DIV/0! | V38: =IF(AND($L$24>=20%,$L$24<=80%)=TRUE,((C38^2*0.9-N38^2*(1-$L$24))/$L$24)^0.5,0) -> 0 | W38: =(((V38^2-N38^2)^0.5*X38/U38)^2+N38^2)^0.5 -> #DIV/0! | X38: =X37 -> 13722.252 | Y38: ='driving mode datasheet'!Y38*$M$21/'driving mode datasheet'!$M$21*F38/'driving mode datasheet'!F38*'driving mode datasheet'!F$21/'absorbing mode datasheet'!F$21 -> #DIV/0! | Z38: =X38*Y38*PI()/30000 -> #DIV/0! | AA38: =AC38*(D38/J38)^(1/AD38) -> #DIV/0! | AB38: =AC38*(B38*E38/AC38/H38)^(1/(1+AD38)) -> #DIV/0! | AC38: =0.95*Y38*(Z38/D38)^(1/AD38) -> #DIV/0! | AD38: =AD37 -> 0.877
A39: =RESUM!N9 -> 0 | B39: =RESUM!N11 -> 0 | C39: =RESUM!N15 -> 0 | D39: =E39*$B39*PI()/30000 -> #DIV/0! | E39: =(F39*120/$F$9-$S39) -> #DIV/0! | F39: =$Q39*$F$21/'driving mode datasheet'!$F$21 -> #DIV/0! | G39: =IF(AC39<$L$13,AC39,$L$13) -> #DIV/0! | H39: =IF(U39<X39*0.95,U39,X39*0.95) -> #DIV/0! | I39: =MIN(V39:W39) -> #DIV/0! | J39: =MIN(Z39,H39*E39*PI()/30000) -> #DIV/0! | K39: =IF(E39<M39,E39,M39) -> #DIV/0! | L39: =(K39+S39*H39/B39)*$F$9/120 -> #DIV/0! | M39: =MIN($L$13,MAX(AB39,AA39)) -> #DIV/0! | N39: =RESUM!N32 -> 0 | O39: ='driving mode parameters'!N81 -> #DIV/0! | P39: ='driving mode parameters'!N82 -> #DIV/0! | Q39: ='driving mode parameters'!N75 -> #DIV/0! | R39: ='driving mode parameters'!N76 -> #DIV/0! | S39: =Q39*120/$F$9-R39 -> #DIV/0! | U39: =B39/((C39^2-N39^2)^0.5)*(V39^2-N39^2)^0.5 -> #DIV/0! | V39: =IF(AND($L$24>=20%,$L$24<=80%)=TRUE,((C39^2*0.9-N39^2*(1-$L$24))/$L$24)^0.5,0) -> 0 | W39: =(((V39^2-N39^2)^0.5*X39/U39)^2+N39^2)^0.5 -> #DIV/0! | X39: =X38 -> 13722.252 | Y39: ='driving mode datasheet'!Y39*$M$21/'driving mode datasheet'!$M$21*F39/'driving mode datasheet'!F39*'driving mode datasheet'!F$21/'absorbing mode datasheet'!F$21 -> #DIV/0! | Z39: =X39*Y39*PI()/30000 -> #DIV/0! | AA39: =AC39*(D39/J39)^(1/AD39) -> #DIV/0! | AB39: =AC39*(B39*E39/AC39/H39)^(1/(1+AD39)) -> #DIV/0! | AC39: =0.95*Y39*(Z39/D39)^(1/AD39) -> #DIV/0! | AD39: =AD38 -> 0.877
A40: =RESUM!O9 -> 0 | B40: =RESUM!O11 -> 0 | C40: =RESUM!O15 -> 0 | D40: =E40*$B40*PI()/30000 -> #DIV/0! | E40: =(F40*120/$F$9-$S40) -> #DIV/0! | F40: =$Q40*$F$21/'driving mode datasheet'!$F$21 -> #DIV/0! | G40: =IF(AC40<$L$13,AC40,$L$13) -> #DIV/0! | H40: =IF(U40<X40*0.95,U40,X40*0.95) -> #DIV/0! | I40: =MIN(V40:W40) -> #DIV/0! | J40: =MIN(Z40,H40*E40*PI()/30000) -> #DIV/0! | K40: =IF(E40<M40,E40,M40) -> #DIV/0! | L40: =(K40+S40*H40/B40)*$F$9/120 -> #DIV/0! | M40: =MIN($L$13,MAX(AB40,AA40)) -> #DIV/0! | N40: =RESUM!O32 -> 0 | O40: ='driving mode parameters'!O81 -> #DIV/0! | P40: ='driving mode parameters'!O82 -> #DIV/0! | Q40: ='driving mode parameters'!O75 -> #DIV/0! | R40: ='driving mode parameters'!O76 -> #DIV/0! | S40: =Q40*120/$F$9-R40 -> #DIV/0! | U40: =B40/((C40^2-N40^2)^0.5)*(V40^2-N40^2)^0.5 -> #DIV/0! | V40: =IF(AND($L$24>=20%,$L$24<=80%)=TRUE,((C40^2*0.9-N40^2*(1-$L$24))/$L$24)^0.5,0) -> 0 | W40: =(((V40^2-N40^2)^0.5*X40/U40)^2+N40^2)^0.5 -> #DIV/0! | X40: =X39 -> 13722.252 | Y40: ='driving mode datasheet'!Y40*$M$21/'driving mode datasheet'!$M$21*F40/'driving mode datasheet'!F40*'driving mode datasheet'!F$21/'absorbing mode datasheet'!F$21 -> #DIV/0! | Z40: =X40*Y40*PI()/30000 -> #DIV/0! | AA40: =AC40*(D40/J40)^(1/AD40) -> #DIV/0! | AB40: =AC40*(B40*E40/AC40/H40)^(1/(1+AD40)) -> #DIV/0! | AC40: =0.95*Y40*(Z40/D40)^(1/AD40) -> #DIV/0! | AD40: =AD39 -> 0.877
A41: Otras Velocidades disponibles bajo consulta / Other speeds available on request | H41: La tensión para el servicio S6 es mayor que Vb / Voltage for S6 duty is bigger than Vb
A72: Elabora: | E72: Revisa: | K72: Aprueba:
D74: =M4 -> 45239 | J74: =D74 -> 45239 | N74: =J74 -> 45239
D76: =D2 -> MAC QT 315 L
D77: - Hoja de Curvas Características Modo Generador- | L77: Página | M77: ='driving mode datasheet'!M77 -> 2 de 3
D78: - Absorbing Mode Power and Torque Diagrams - | L78: Fecha | M78: ='driving mode datasheet'!M78 -> 45239
A81: Tensión de Base del Motor | E81: Vb ± 5% | F81: =F21 -> 400 | H81: Tensión Máxima de Salida del Convertidor | L81: Vc | M81: =M21 -> 400
A82: Motor Base Voltage | H82: Inverter max. Output Voltage
F83: =IF(F81>500," LA TENSIÓN DE BASE HA DE SER INFERIOR O IGUAL A 500 V"," ") | G83: =IF(M81>500," LA TENSIÓN MÁXIMA HA DE SER INFERIOR O IGUAL A 500 V"," ") | N83: =IF(M81<F81," LA TENSIÓN MÁXIMA HA DE SER SUPERIOR O IGUAL A LA DE BASE"," ")
B84: Servicio / Service | F84: =F24 -> S1 | H84: =H24 -> Servicio / Service S6 - | L84: =L24 -> 0.4
K85: =H29 -> 9227.8155 | L85: =L29 -> 22.774041
A86: Bobinado Winding | B86: Nm | C86: A ± 2% | D86: KW | E86: rpm | F86: Hz | G86: Velocidad a Pot.Cte Const. Power Speed. (rpm) | H86: Nm | I86: A ± 5% | J86: KW | K86: rpm | L86: Hz | M86: Velocidad a Pot.Cte Const. Power Speed. (rpm) | N86: Corriente en vacio No Load Current (A) | O86: eff | P86: cos fi | Q86: Hz | R86: rpm | S86: rpm llisc. | U86: Nm S6 | V86: A S6 | W86: Alim | X86: Nm lim | Y86: rpm lim | Z86: KW lim | AA86: rpm lim KW s6 | AB86: rpm lim Nm s6 | AC86: =AC26 -> rpm lim s1 | AD86: =AD26 -> Coef
A87: C62 | B87: =VLOOKUP($A$87,$A$27:$Y$40,2,FALSE) -> 6200 | C87: =VLOOKUP($A$87,$A$27:$Y$40,3,FALSE) -> 891.29534 | D87: =VLOOKUP($A$87,$A$27:$Y$40,4,FALSE) -> 537.64777 | E87: =VLOOKUP($A$87,$A$27:$Y$40,5,FALSE) -> 828.09 | F87: =VLOOKUP($A$87,$A$27:$Y$40,6,FALSE) -> 40.8 | G87: =VLOOKUP($A$87,$A$27:$Y$40,7,FALSE) -> 1226.796 | H87: =VLOOKUP($A$87,$A$27:$Y$40,8,FALSE) -> 9232.1536 | I87: =VLOOKUP($A$87,$A$27:$Y$40,9,FALSE) -> 1284.3475 | J87: =VLOOKUP($A$87,$A$27:$Y$40,10,FALSE) -> 800.58819 | K87: =VLOOKUP($A$87,$A$27:$Y$40,11,FALSE) -> 804.84268 | L87: =VLOOKUP($A$87,$A$27:$Y$40,12,FALSE) -> 39.341999 | M87: =VLOOKUP($A$87,$A$27:$Y$40,13,FALSE) -> 804.84268 | N87: =VLOOKUP($A$87,$A$27:$Y$40,14,FALSE) -> 303.17013 | O87: =VLOOKUP($A$87,$A$27:$Y$40,15,FALSE) -> 0.95556187 | P87: =VLOOKUP($A$87,$A$27:$Y$40,16,FALSE) -> 0.82955355 | Q87: =VLOOKUP($A$87,$A$27:$Y$40,17,FALSE) -> 51 | R87: =VLOOKUP($A$87,$A$27:$Y$40,18,FALSE) -> 1032.09 | S87: =VLOOKUP($A$87,$A$27:$Y$40,19,FALSE) -> -12.09 | U87: =VLOOKUP($A$87,$A$27:$Y$40,21,FALSE) -> 9232.1536 | V87: =VLOOKUP($A$87,$A$27:$Y$40,22,FALSE) -> 1284.3475 | W87: =VLOOKUP($A$87,$A$27:$Y$40,23,FALSE) -> 1879.6593 | X87: =VLOOKUP($A$87,$A$27:$Y$40,24,FALSE) -> 13722.252 | Y87: =VLOOKUP($A$87,$A$27:$Y$40,25,FALSE) -> 667.44967 | Z87: =VLOOKUP($A$87,$A$27:$AD$40,26,FALSE) -> 959.1191 | AA87: =VLOOKUP($A$87,$A$27:$AD$40,27,FALSE) -> 779.13021 | AB87: =VLOOKUP($A$87,$A$27:$AD$40,28,FALSE) -> 804.84268 | AC87: =VLOOKUP($A$87,$A$27:$AD$40,29,FALSE) -> 1226.796 | AD87: =VLOOKUP($A$87,$A$27:$AD$40,30,FALSE) -> 0.877
A88: =IF(O87=0,"ESTE BOBINADO NO EXISTE / THIS WINDING DOESN'T EXIST","")
A89: Carga / Load
A91: rpm | B91: Nm 1 | C91: Nm 2
P99: rpm S1 | Q99: kW S1 | R99: Nm S1 | S99: rpm S6 | T99: kW S6 | U99: Nm S6 | V99: rpm limit | W99: KW limit | X99: Nm Limit
P100: 10 | Q100: =IF($D$87<W100*0.9,$D$87,W100*0.9) -> 0.20006481 | R100: =B87 -> 6200 | S100: =P100 -> 10 | T100: =U100*V100*PI()/30000 -> 9.6678886 | U100: =H87 -> 9232.1536 | V100: =P100 -> 10 | W100: =X100*V100*PI()/30000 -> 0.22229423 | X100: 212.27535
P101: =E87 -> 828.09 | Q101: =R101*P101*PI()/30000 -> 537.64777 | R101: =B87 -> 6200 | S101: =K87 -> 804.84268 | T101: =U101*S101*PI()/30000 -> 778.11294 | U101: =H87 -> 9232.1536 | V101: =Y87 -> 667.44967 | W101: =X101*V101*PI()/30000 -> 14.837021 | X101: =X100 -> 212.27535
P102: =P101 -> 828.09 | Q102: =R102*P102*PI()/30000 -> 537.64777 | R102: =R101*P101/P102 -> 6200 | S102: =S101 -> 804.84268 | T102: =U102*S102*PI()/30000 -> 778.11294 | U102: =U101*S101/S102 -> 9232.1536 | V102: =V101 -> 667.44967 | W102: =X102*V102*PI()/30000 -> 14.837021 | X102: =X101 -> 212.27535
P103: =P102+($P$112-$P$102)/10 -> 867.9606 | Q103: =R103*P103*PI()/30000 -> 537.64777 | R103: =R102*P102/P103 -> 5915.1971 | S103: =S102+($S$112-$S$102)/10 -> 804.84268 | T103: =U103*S103*PI()/30000 -> 778.11294 | U103: =U102*S102/S103 -> 9232.1536 | V103: =IF(V102*1.1>MIN($L$13,$D$112),MIN($L$13,$D$112),V102*1.1) -> 734.19464 | W103: =X103*V103*PI()/30000 -> 13.647256 | X103: =X102*(V102/V103)^(1+$AD$87) -> 177.50292
P104: =P103+($P$112-$P$102)/10 -> 907.83119 | Q104: =R104*P104*PI()/30000 -> 537.64777 | R104: =R103*P103/P104 -> 5655.4104 | S104: =S103+($S$112-$S$102)/10 -> 804.84268 | T104: =U104*S104*PI()/30000 -> 778.11294 | U104: =U103*S103/S104 -> 9232.1536 | V104: =IF(V103*1.1>MIN($L$13,$D$112),MIN($L$13,$D$112),V103*1.1) -> 807.6141 | W104: =X104*V104*PI()/30000 -> 12.552896 | X104: =X103*(V103/V104)^(1+$AD$87) -> 148.4265
P105: =P104+($P$112-$P$102)/10 -> 947.70179 | Q105: =R105*P105*PI()/30000 -> 537.64777 | R105: =R104*P104/P105 -> 5417.4827 | S105: =S104+($S$112-$S$102)/10 -> 804.84268 | T105: =U105*S105*PI()/30000 -> 778.11294 | U105: =U104*S104/S105 -> 9232.1536 | V105: =IF(V104*1.1>MIN($L$13,$D$112),MIN($L$13,$D$112),V104*1.1) -> 888.37551 | W105: =X105*V105*PI()/30000 -> 11.546293 | X105: =X104*(V104/V105)^(1+$AD$87) -> 124.11303
P106: =P105+($P$112-$P$102)/10 -> 987.57238 | Q106: =R106*P106*PI()/30000 -> 537.64777 | R106: =R105*P105/P106 -> 5198.7663 | S106: =S105+($S$112-$S$102)/10 -> 804.84268 | T106: =U106*S106*PI()/30000 -> 778.11294 | U106: =U105*S105/S106 -> 9232.1536 | V106: =IF(V105*1.1>MIN($L$13,$D$112),MIN($L$13,$D$112),V105*1.1) -> 977.21306 | W106: =X106*V106*PI()/30000 -> 10.620407 | X106: =X105*(V105/V106)^(1+$AD$87) -> 103.7823
P107: =P106+($P$112-$P$102)/10 -> 1027.443 | Q107: =R107*P107*PI()/30000 -> 537.64777 | R107: =R106*P106/P107 -> 4997.0248 | S107: =S106+($S$112-$S$102)/10 -> 804.84268 | T107: =U107*S107*PI()/30000 -> 778.11294 | U107: =U106*S106/S107 -> 9232.1536 | V107: =IF(V106*1.1>MIN($L$13,$D$112),MIN($L$13,$D$112),V106*1.1) -> 1074.9344 | W107: =X107*V107*PI()/30000 -> 9.7687679 | X107: =X106*(V106/V107)^(1+$AD$87) -> 86.781914
P108: =P107+($P$112-$P$102)/10 -> 1067.3136 | Q108: =R108*P108*PI()/30000 -> 537.64777 | R108: =R107*P107/P108 -> 4810.3558 | S108: =S107+($S$112-$S$102)/10 -> 804.84268 | T108: =U108*S108*PI()/30000 -> 778.11294 | U108: =U107*S107/S108 -> 9232.1536 | V108: =IF(V107*1.1>MIN($L$13,$D$112),MIN($L$13,$D$112),V107*1.1) -> 1182.4278 | W108: =X108*V108*PI()/30000 -> 8.9854205 | X108: =X107*(V107/V108)^(1+$AD$87) -> 72.566329
P109: =P108+($P$112-$P$102)/10 -> 1107.1842 | Q109: =R109*P109*PI()/30000 -> 537.64777 | R109: =R108*P108/P109 -> 4637.131 | S109: =S108+($S$112-$S$102)/10 -> 804.84268 | T109: =U109*S109*PI()/30000 -> 778.11294 | U109: =U108*S108/S109 -> 9232.1536 | V109: =IF(V108*1.1>MIN($L$13,$D$112),MIN($L$13,$D$112),V108*1.1) -> 1300.6706 | W109: =X109*V109*PI()/30000 -> 8.264889 | X109: =X108*(V108/V109)^(1+$AD$87) -> 60.679373
P110: =P109+($P$112-$P$102)/10 -> 1147.0548 | Q110: =R110*P110*PI()/30000 -> 537.64777 | R110: =R109*P109/P110 -> 4475.9485 | S110: =S109+($S$112-$S$102)/10 -> 804.84268 | T110: =U110*S110*PI()/30000 -> 778.11294 | U110: =U109*S109/S110 -> 9232.1536 | V110: =IF(V109*1.1>MIN($L$13,$D$112),MIN($L$13,$D$112),V109*1.1) -> 1430.7376 | W110: =X110*V110*PI()/30000 -> 7.6021361 | X110: =X109*(V109/V110)^(1+$AD$87) -> 50.739597
P111: =P110+($P$112-$P$102)/10 -> 1186.9254 | Q111: =R111*P111*PI()/30000 -> 537.64777 | R111: =R110*P110/P111 -> 4325.5947 | S111: =S110+($S$112-$S$102)/10 -> 804.84268 | T111: =U111*S111*PI()/30000 -> 778.11294 | U111: =U110*S110/S111 -> 9232.1536 | V111: =IF(V110*1.1>MIN($L$13,$D$112),MIN($L$13,$D$112),V110*1.1) -> 1573.8114 | W111: =X111*V111*PI()/30000 -> 6.9925286 | X111: =X110*(V110/V111)^(1+$AD$87) -> 42.428038
A112: Speed range | B112: Nnom x | C112: 4 | D112: =TRUNC(E87*C112,-1) -> 3310 | P112: =IF(G87>E87*C112,E87*C112,G87) -> 1226.796 | Q112: =R112*P112*PI()/30000 -> 537.64777 | R112: =R106*P106/P112 -> 4185.0138 | S112: =M87 -> 804.84268 | T112: =U112*S112*PI()/30000 -> 778.11294 | U112: =U106*S106/S112 -> 9232.1536 | V112: =IF(V111*1.1>MIN($L$13,$D$112),MIN($L$13,$D$112),V111*1.1) -> 1731.1926 | W112: =X112*V112*PI()/30000 -> 6.431805 | X112: =X111*(V111/V112)^(1+$AD$87) -> 35.477979 | Z112: 4000
A113: Carga / Load | P113: =P112 -> 1226.796 | Q113: =R113*P113*PI()/30000 -> 537.64777 | R113: =R112*(P112/P113)^2 -> 4185.0138 | S113: =S112 -> 804.84268 | T113: =U113*S113*PI()/30000 -> 778.11294 | U113: =U112 -> 9232.1536 | V113: =IF(V112*1.1>MIN($L$13,$D$112),MIN($L$13,$D$112),V112*1.1) -> 1904.3118 | W113: =X113*V113*PI()/30000 -> 5.9160452 | X113: =X112*(V112/V113)^(1+$AD$87) -> 29.666397
P114: =IF(P113*1.1>MIN($L$13,$D$112),MIN($L$13,$D$112),P113*1.1) -> 1349.4756 | Q114: =R114*P114*PI()/30000 -> 494.53435 | R114: =R113*(P113/P114)^(1+$AD$87) -> 3499.4744 | S114: =IF(S113*1.1>MIN($L$13,$D$112),MIN($L$13,$D$112),S113*1.1) -> 885.32695 | T114: =U114*S114*PI()/30000 -> 715.71687 | U114: =U113*(S113/S114)^(1+$AD$87) -> 7719.8516 | V114: =IF(V113*1.1>MIN($L$13,$D$112),MIN($L$13,$D$112),V113*1.1) -> 2094.743 | W114: =X114*V114*PI()/30000 -> 5.4416437 | X114: =X113*(V113/V114)^(1+$AD$87) -> 24.806799
A115: rpm | B115: KW 1 | C115: KW 2 | P115: =IF(P114*1.1>MIN($L$13,$D$112),MIN($L$13,$D$112),P114*1.1) -> 1484.4231 | Q115: =R115*P115*PI()/30000 -> 454.87815 | R115: =R114*(P114/P115)^(1+$AD$87) -> 2926.232 | S115: =IF(S114*1.1>MIN($L$13,$D$112),MIN($L$13,$D$112),S114*1.1) -> 973.85965 | T115: =U115*S115*PI()/30000 -> 658.32427 | U115: =U114*(S114/S115)^(1+$AD$87) -> 6455.277 | V115: =IF(V114*1.1>MIN($L$13,$D$112),MIN($L$13,$D$112),V114*1.1) -> 2304.2173 | W115: =X115*V115*PI()/30000 -> 5.0052839 | X115: =X114*(V114/V115)^(1+$AD$87) -> 20.743243
P116: =IF(P115*1.1>MIN($L$13,$D$112),MIN($L$13,$D$112),P115*1.1) -> 1632.8654 | Q116: =R116*P116*PI()/30000 -> 418.40194 | R116: =R115*(P115/P116)^(1+$AD$87) -> 2446.8913 | S116: =IF(S115*1.1>MIN($L$13,$D$112),MIN($L$13,$D$112),S115*1.1) -> 1071.2456 | T116: =U116*S116*PI()/30000 -> 605.53393 | U116: =U115*(S115/S116)^(1+$AD$87) -> 5397.85 | V116: =IF(V115*1.1>MIN($L$13,$D$112),MIN($L$13,$D$112),V115*1.1) -> 2534.639 | W116: =X116*V116*PI()/30000 -> 4.6039153 | X116: =X115*(V115/V116)^(1+$AD$87) -> 17.345331
P117: =IF(P116*1.1>MIN($L$13,$D$112),MIN($L$13,$D$112),P116*1.1) -> 1796.152 | Q117: =R117*P117*PI()/30000 -> 384.85072 | R117: =R116*(P116/P117)^(1+$AD$87) -> 2046.0706 | S117: =IF(S116*1.1>MIN($L$13,$D$112),MIN($L$13,$D$112),S116*1.1) -> 1178.3702 | T117: =U117*S117*PI()/30000 -> 556.97679 | U117: =U116*(S116/S117)^(1+$AD$87) -> 4513.6382 | V117: =IF(V116*1.1>MIN($L$13,$D$112),MIN($L$13,$D$112),V116*1.1) -> 2788.1029 | W117: =X117*V117*PI()/30000 -> 4.2347321 | X117: =X116*(V116/V117)^(1+$AD$87) -> 14.504025
P118: =IF(P117*1.1>MIN($L$13,$D$112),MIN($L$13,$D$112),P117*1.1) -> 1975.7672 | Q118: =R118*P118*PI()/30000 -> 353.98994 | R118: =R117*(P117/P118)^(1+$AD$87) -> 1710.9076 | S118: =IF(S117*1.1>MIN($L$13,$D$112),MIN($L$13,$D$112),S117*1.1) -> 1296.2072 | T118: =U118*S118*PI()/30000 -> 512.3134 | U118: =U117*(S117/S118)^(1+$AD$87) -> 3774.2674 | V118: =IF(V117*1.1>MIN($L$13,$D$112),MIN($L$13,$D$112),V117*1.1) -> 3066.9132 | W118: =X118*V118*PI()/30000 -> 3.8951533 | X118: =X117*(V117/V118)^(1+$AD$87) -> 12.128147
P119: =IF(P118*1.1>MIN($L$13,$D$112),MIN($L$13,$D$112),P118*1.1) -> 2173.3439 | Q119: =R119*P119*PI()/30000 -> 325.60386 | R119: =R118*(P118/P119)^(1+$AD$87) -> 1430.647 | S119: =IF(S118*1.1>MIN($L$13,$D$112),MIN($L$13,$D$112),S118*1.1) -> 1425.8279 | T119: =U119*S119*PI()/30000 -> 471.23152 | U119: =U118*(S118/S119)^(1+$AD$87) -> 3156.0117 | V119: =IF(V118*1.1>MIN($L$13,$D$112),MIN($L$13,$D$112),V118*1.1) -> 3310 | W119: =X119*V119*PI()/30000 -> 3.6431127 | X119: =X118*(V118/V119)^(1+$AD$87) -> 10.510321
P120: =IF(P119*1.1>MIN($L$13,$D$112),MIN($L$13,$D$112),P119*1.1) -> 2390.6783 | Q120: =R120*P120*PI()/30000 -> 299.49402 | R120: =R119*(P119/P120)^(1+$AD$87) -> 1196.2953 | S120: =IF(S119*1.1>MIN($L$13,$D$112),MIN($L$13,$D$112),S119*1.1) -> 1568.4107 | T120: =U120*S120*PI()/30000 -> 433.44395 | U120: =U119*(S119/S120)^(1+$AD$87) -> 2639.0312 | V120: =IF(V119*1.1>MIN($L$13,$D$112),MIN($L$13,$D$112),V119*1.1) -> 3310 | W120: =X120*V120*PI()/30000 -> 3.6431127 | X120: =X119*(V119/V120)^(1+$AD$87) -> 10.510321
P121: =IF(P120*1.1>MIN($L$13,$D$112),MIN($L$13,$D$112),P120*1.1) -> 2629.7461 | Q121: =R121*P121*PI()/30000 -> 275.4779 | R121: =R120*(P120/P121)^(1+$AD$87) -> 1000.3324 | S121: =IF(S120*1.1>MIN($L$13,$D$112),MIN($L$13,$D$112),S120*1.1) -> 1725.2518 | T121: =U121*S121*PI()/30000 -> 398.68653 | U121: =U120*(S120/S121)^(1+$AD$87) -> 2206.7364 | V121: =IF(V120*1.1>MIN($L$13,$D$112),MIN($L$13,$D$112),V120*1.1) -> 3310 | W121: =X121*V121*PI()/30000 -> 3.6431127 | X121: =X120*(V120/V121)^(1+$AD$87) -> 10.510321
P122: =IF(P121*1.1>MIN($L$13,$D$112),MIN($L$13,$D$112),P121*1.1) -> 2892.7207 | Q122: =R122*P122*PI()/30000 -> 253.38761 | R122: =R121*(P121/P122)^(1+$AD$87) -> 836.4698 | S122: =IF(S121*1.1>MIN($L$13,$D$112),MIN($L$13,$D$112),S121*1.1) -> 1897.7769 | T122: =U122*S122*PI()/30000 -> 366.71627 | U122: =U121*(S121/S122)^(1+$AD$87) -> 1845.255 | V122: =IF(V121*1.1>MIN($L$13,$D$112),MIN($L$13,$D$112),V121*1.1) -> 3310 | W122: =X122*V122*PI()/30000 -> 3.6431127 | X122: =X121*(V121/V122)^(1+$AD$87) -> 10.510321
P123: =IF(P122*1.1>MIN($L$13,$D$112),MIN($L$13,$D$112),P122*1.1) -> 3181.9928 | Q123: =R123*P123*PI()/30000 -> 233.06872 | R123: =R122*(P122/P123)^(1+$AD$87) -> 699.44923 | S123: =IF(S122*1.1>MIN($L$13,$D$112),MIN($L$13,$D$112),S122*1.1) -> 2087.5546 | T123: =U123*S123*PI()/30000 -> 337.30967 | U123: =U122*(S122/S123)^(1+$AD$87) -> 1542.9872 | V123: =IF(V122*1.1>MIN($L$13,$D$112),MIN($L$13,$D$112),V122*1.1) -> 3310 | W123: =X123*V123*PI()/30000 -> 3.6431127 | X123: =X122*(V122/V123)^(1+$AD$87) -> 10.510321
P124: =IF(P123*1.1>MIN($L$13,$D$112),MIN($L$13,$D$112),P123*1.1) -> 3310 | Q124: =R124*P124*PI()/30000 -> 225.14486 | R124: =R123*(P123/P124)^(1+$AD$87) -> 649.53929 | S124: =IF(S123*1.1>MIN($L$13,$D$112),MIN($L$13,$D$112),S123*1.1) -> 2296.3101 | T124: =U124*S124*PI()/30000 -> 310.26116 | U124: =U123*(S123/S124)^(1+$AD$87) -> 1290.2333 | V124: =IF(V123*1.1>MIN($L$13,$D$112),MIN($L$13,$D$112),V123*1.1) -> 3310 | W124: =X124*V124*PI()/30000 -> 3.6431127 | X124: =X123*(V123/V124)^(1+$AD$87) -> 10.510321
P125: =IF(P124*1.1>MIN($L$13,$D$112),MIN($L$13,$D$112),P124*1.1) -> 3310 | Q125: =R125*P125*PI()/30000 -> 225.14486 | R125: =R124*(P124/P125)^(1+$AD$87) -> 649.53929 | S125: =IF(S124*1.1>MIN($L$13,$D$112),MIN($L$13,$D$112),S124*1.1) -> 2525.9411 | T125: =U125*S125*PI()/30000 -> 285.38163 | U125: =U124*(S124/S125)^(1+$AD$87) -> 1078.8826 | V125: =IF(V124*1.1>MIN($L$13,$D$112),MIN($L$13,$D$112),V124*1.1) -> 3310 | W125: =X125*V125*PI()/30000 -> 3.6431127 | X125: =X124*(V124/V125)^(1+$AD$87) -> 10.510321
P126: =IF(P125*1.1>MIN($L$13,$D$112),MIN($L$13,$D$112),P125*1.1) -> 3310 | Q126: =R126*P126*PI()/30000 -> 225.14486 | R126: =R125*(P125/P126)^(1+$AD$87) -> 649.53929 | S126: =IF(S125*1.1>MIN($L$13,$D$112),MIN($L$13,$D$112),S125*1.1) -> 2778.5352 | T126: =U126*S126*PI()/30000 -> 262.49718 | U126: =U125*(S125/S126)^(1+$AD$87) -> 902.15282 | V126: =IF(V125*1.1>MIN($L$13,$D$112),MIN($L$13,$D$112),V125*1.1) -> 3310 | W126: =X126*V126*PI()/30000 -> 3.6431127 | X126: =X125*(V125/V126)^(1+$AD$87) -> 10.510321
P127: =IF(P126*1.1>MIN($L$13,$D$112),MIN($L$13,$D$112),P126*1.1) -> 3310 | Q127: =R127*P127*PI()/30000 -> 225.14486 | R127: =R126*(P126/P127)^(1+$AD$87) -> 649.53929 | S127: =IF(S126*1.1>MIN($L$13,$D$112),MIN($L$13,$D$112),S126*1.1) -> 3056.3888 | T127: =U127*S127*PI()/30000 -> 241.4478 | U127: =U126*(S126/S127)^(1+$AD$87) -> 754.37283 | V127: =IF(V126*1.1>MIN($L$13,$D$112),MIN($L$13,$D$112),V126*1.1) -> 3310 | W127: =X127*V127*PI()/30000 -> 3.6431127 | X127: =X126*(V126/V127)^(1+$AD$87) -> 10.510321
... P131: =IF(P130*1.1>MIN($L$13,$D$112),MIN($L$13,$D$112),P130*1.1) -> 3310 | Q131: =R131*P131*PI()/30000 -> 225.14486 | R131: =R130*(P130/P131)^(1+$AD$87) -> 649.53929 | S131: =IF(S130*1.1>MIN($L$13,$D$112),MIN($L$13,$D$112),S130*1.1) -> 3310 | T131: =U131*S131*PI()/30000 -> 225.14486 | U131: =U130*(S130/S131)^(1+$AD$87) -> 649.53929 | V131: =IF(V130*1.1>MIN($L$13,$D$112),MIN($L$13,$D$112),V130*1.1) -> 3310 | W131: =X131*V131*PI()/30000 -> 3.6431127 | X131: =X130*(V130/V131)^(1+$AD$87) -> 10.510321
A136: =MAX(A112,IF(A116="",0,MAX(A116:A135))) -> 0
D139: =D76 -> MAC QT 315 L
D140: - Placa de Características en Modo Generador- | L140: Página | M140: ='driving mode datasheet'!M140 -> 3 de 3
D141: - Absorbing Mode Nameplate - | L141: Fecha | M141: ='driving mode datasheet'!M141 -> 45239
C145: =D76 -> MAC QT 315 L | G145: =A87 -> C62 | H145: abs. | I145: =F9 -> 6 | J145: Pole | K145: EN60034
C146: Nr: | G146: DATE | K146: =J11 -> IM B3
C147: Pn | D147: =D87 -> 537.64777 | F147: kW | G147: Mn | H147: =B87 -> 6200 | J147: Nm | K147: =G11 -> IP 23
C148: Un | D148: =IF(RIGHT(G145)="1","Y","D") -> D | E148: =F81 -> 400 | F148: V | G148: Fn | H148: =F87 -> 40.8 | J148: Hz | K148: =C8 -> IC 06
C149: In | D149: =C87 -> 891.29534 | F149: A | G149: Cos fi | H149: =P87 -> 0.82955355 | I149: Eff. | J149: =O87 -> 0.95556187 | K149: =I15 -> Cl. F
C150: Nn | D150: =E87 -> 828.09 | F150: rpm | G150: Nmax | H150: =L13 -> 4000 | J150: rpm | K150: =F24 -> S1
C151: FAN | E151: V | F151: v | G151: A 50/60Hz | I151: BRAKE | J151: Nm | K151: Nm | L151: Vdc | M151: Vdc
C152: MADE IN SPAIN

Sheet absorbing mode parameters
H2: =RESUM!G2 -> MAC QT 315 L
H4: Parámetros modo generador / Absorbing mode parameters
N5: Fecha - Date | O5: =RESUM!O5 -> 45239
B8: ='driving mode parameters'!B8 -> MAC QT 315 L | C8: ='driving mode parameters'!C8 -> MAC QI 315 L | D8: ='driving mode parameters'!D8 -> MAC QI 315 L | E8: ='driving mode parameters'!E8 -> MAC QI 315 L | F8: ='driving mode parameters'!F8 -> MAC QI 315 L | G8: ='driving mode parameters'!G8 -> MAC QI 315 L | H8: ='driving mode parameters'!H8 -> MAC QI 315 L | I8: ='driving mode parameters'!I8 -> MAC QI 315 L | ... O8: ='driving mode parameters'!O8 -> 0
B9: ='driving mode parameters'!B9 -> A61 | C9: ='driving mode parameters'!C9 -> B61 | D9: ='driving mode parameters'!D9 -> C61 | E9: ='driving mode parameters'!E9 -> D61 | F9: ='driving mode parameters'!F9 -> E61 | G9: ='driving mode parameters'!G9 -> F61 | H9: ='driving mode parameters'!H9 -> C62 | I9: ='driving mode parameters'!I9 -> D62 | ... O9: ='driving mode parameters'!O9 -> 0
A10: ='driving mode parameters'!A10 -> Poles | B10: ='driving mode parameters'!B10 -> 6 | C10: ='driving mode parameters'!U12 -> 6 | D10: ='driving mode parameters'!V12 -> 6 | E10: ='driving mode parameters'!E10 -> 6 | F10: ='driving mode parameters'!F10 -> 6 | G10: ='driving mode parameters'!G10 -> 6 | H10: ='driving mode parameters'!H10 -> 6 | I10: ='driving mode parameters'!I10 -> 6 | J10: ='driving mode parameters'!J10 -> 6 | K10: ='driving mode parameters'!K10 -> 6 | L10: ='driving mode parameters'!L10 -> 6 | ... O10: ='driving mode parameters'!O10 -> 6
A11: Nm | B11: ='absorbing mode datasheet'!B27 -> 6200 | C11: ='absorbing mode datasheet'!B28 -> 6200 | D11: ='absorbing mode datasheet'!B29 -> 6200 | E11: ='absorbing mode datasheet'!B30 -> 6200 | F11: ='absorbing mode datasheet'!B31 -> 6200 | G11: ='absorbing mode datasheet'!B32 -> 6200 | H11: ='absorbing mode datasheet'!B33 -> 6200 | I11: ='absorbing mode datasheet'!B34 -> 5900 | J11: ='absorbing mode datasheet'!B35 -> 5600 | K11: ='absorbing mode datasheet'!B36 -> 5200 | L11: ='absorbing mode datasheet'!B37 -> 0 | M11: ='absorbing mode datasheet'!B38 -> 0 | N11: ='absorbing mode datasheet'!B39 -> 0 | O11: ='absorbing mode datasheet'!B40 -> 0
A12: rpm | B12: ='absorbing mode datasheet'!E27 -> 412.42 | C12: ='absorbing mode datasheet'!E28 -> 444.56 | D12: ='absorbing mode datasheet'!E29 -> 492.144 | E12: ='absorbing mode datasheet'!E30 -> 540.25 | F12: ='absorbing mode datasheet'!E31 -> 636.528 | G12: ='absorbing mode datasheet'!E32 -> 732.512 | H12: ='absorbing mode datasheet'!E33 -> 828.09 | I12: ='absorbing mode datasheet'!E34 -> 923.44 | J12: ='absorbing mode datasheet'!E35 -> 1067.016 | K12: ='absorbing mode datasheet'!E36 -> 1242.2 | L12: ='absorbing mode datasheet'!E37 -> #DIV/0! | M12: ='absorbing mode datasheet'!E38 -> #DIV/0! | N12: ='absorbing mode datasheet'!E39 -> #DIV/0! | O12: ='absorbing mode datasheet'!E40 -> #DIV/0!
A13: KW | B13: =B12*B11*PI()/30000 -> 267.76883 | C13: =C12*C11*PI()/30000 -> 288.63613 | D13: =D12*D11*PI()/30000 -> 319.53063 | E13: =E12*E11*PI()/30000 -> 350.76406 | F13: =F12*F11*PI()/30000 -> 413.27375 | G13: =G12*G11*PI()/30000 -> 475.59256 | H13: =H12*H11*PI()/30000 -> 537.64777 | I13: =I12*I11*PI()/30000 -> 570.54422 | ... O13: =O12*O11*PI()/30000 -> #DIV/0!
A14: V | B14: ='absorbing mode datasheet'!$F$21 -> 400 | C14: ='absorbing mode datasheet'!$F$21 -> 400 | D14: ='absorbing mode datasheet'!$F$21 -> 400 | E14: ='absorbing mode datasheet'!$F$21 -> 400 | F14: ='absorbing mode datasheet'!$F$21 -> 400 | G14: ='absorbing mode datasheet'!$F$21 -> 400 | H14: ='absorbing mode datasheet'!$F$21 -> 400 | I14: ='absorbing mode datasheet'!$F$21 -> 400 | ... O14: ='absorbing mode datasheet'!$F$21 -> 400
A15: A | B15: ='absorbing mode datasheet'!C27 -> 423.59939 | C15: ='absorbing mode datasheet'!C28 -> 466.18116 | D15: ='absorbing mode datasheet'!C29 -> 515.66082 | E15: ='absorbing mode datasheet'!C30 -> 580.251 | F15: ='absorbing mode datasheet'!C31 -> 666.63124 | G15: ='absorbing mode datasheet'!C32 -> 777.67119 | H15: ='absorbing mode datasheet'!C33 -> 891.29534 | I15: ='absorbing mode datasheet'!C34 -> 960.36103 | J15: ='absorbing mode datasheet'!C35 -> 1055.7431 | K15: ='absorbing mode datasheet'!C36 -> 1158.8952 | L15: ='absorbing mode datasheet'!C37 -> 0 | M15: ='absorbing mode datasheet'!C38 -> 0 | N15: ='absorbing mode datasheet'!C39 -> 0 | O15: ='absorbing mode datasheet'!C40 -> 0
A16: Hz | B16: ='absorbing mode datasheet'!F27 -> 20 | C16: ='absorbing mode datasheet'!F28 -> 21.6 | D16: ='absorbing mode datasheet'!F29 -> 24 | E16: ='absorbing mode datasheet'!F30 -> 26.4 | F16: ='absorbing mode datasheet'!F31 -> 31.2 | G16: ='absorbing mode datasheet'!F32 -> 36 | H16: ='absorbing mode datasheet'!F33 -> 40.8 | I16: ='absorbing mode datasheet'!F34 -> 45.6 | J16: ='absorbing mode datasheet'!F35 -> 52.8 | K16: ='absorbing mode datasheet'!F36 -> 61.6 | L16: ='absorbing mode datasheet'!F37 -> #DIV/0! | M16: ='absorbing mode datasheet'!F38 -> #DIV/0! | N16: ='absorbing mode datasheet'!F39 -> #DIV/0! | O16: ='absorbing mode datasheet'!F40 -> #DIV/0!
A17: Cos fi | B17: =B13*B18*1000/B14/B15/3^0.5 -> 0.83522092 | C17: =C13*C18*1000/C14/C15/3^0.5 -> 0.82284334 | D17: =D13*D18*1000/D14/D15/3^0.5 -> 0.82982061 | E17: =E13*E18*1000/E14/E15/3^0.5 -> 0.8144712 | F17: =F13*F18*1000/F14/F15/3^0.5 -> 0.84185844 | G17: =G13*G18*1000/G14/G15/3^0.5 -> 0.83615648 | H17: =H13*H18*1000/H14/H15/3^0.5 -> 0.82864125 | I17: =I13*I18*1000/I14/I15/3^0.5 -> 0.81960563 | ... O17: =O13*O18*1000/O14/O15/3^0.5 -> #DIV/0!
A18: Rend / eff. | B18: =(B13*1000-3*B23/1000*B15^2-3*B24/1000*(B15^2-B32^2)-3*(2*PI()*B16*B28/1000*B32)^2/B25)/B13/1000 -> 0.91541344 | C18: =(C13*1000-3*C23/1000*C15^2-3*C24/1000*(C15^2-C32^2)-3*(2*PI()*C16*C28/1000*C32)^2/C25)/C13/1000 -> 0.92075016 | D18: =(D13*1000-3*D23/1000*D15^2-3*D24/1000*(D15^2-D32^2)-3*(2*PI()*D16*D28/1000*D32)^2/D25)/D13/1000 -> 0.9278045 | E18: =(E13*1000-3*E23/1000*E15^2-3*E24/1000*(E15^2-E32^2)-3*(2*PI()*E16*E28/1000*E32)^2/E25)/E13/1000 -> 0.93346313 | F18: =(F13*1000-3*F23/1000*F15^2-3*F24/1000*(F15^2-F32^2)-3*(2*PI()*F16*F28/1000*F32)^2/F25)/F13/1000 -> 0.94082214 | G18: =(G13*1000-3*G23/1000*G15^2-3*G24/1000*(G15^2-G32^2)-3*(2*PI()*G16*G28/1000*G32)^2/G25)/G13/1000 -> 0.94725987 | H18: =(H13*1000-3*H23/1000*H15^2-3*H24/1000*(H15^2-H32^2)-3*(2*PI()*H16*H28/1000*H32)^2/H25)/H13/1000 -> 0.95172385 | I18: =(I13*1000-3*I23/1000*I15^2-3*I24/1000*(I15^2-I32^2)-3*(2*PI()*I16*I28/1000*I32)^2/I25)/I13/1000 -> 0.95580823 | ... O18: =(O13*1000-3*O23/1000*O15^2-3*O24/1000*(O15^2-O32^2)-3*(2*PI()*O16*O28/1000*O32)^2/O25)/O13/1000 -> #DIV/0!
A19: J (Kg m2) | B19: ='driving mode parameters'!B19 -> 13.89 | C19: ='driving mode parameters'!C19 -> 13.89 | D19: ='driving mode parameters'!D19 -> 13.89 | E19: ='driving mode parameters'!E19 -> 13.89 | F19: ='driving mode parameters'!F19 -> 13.89 | G19: ='driving mode parameters'!G19 -> 13.89 | H19: ='driving mode parameters'!H19 -> 13.89 | I19: ='driving mode parameters'!I19 -> 13.89 | ... O19: ='driving mode parameters'!O19 -> 0
B20: ='driving mode parameters'!B20 -> ESQUEMA EQUIVALENTE POR FASE EN ESTRELLA / PHASE STAR EQUIVALENT SCHEMA
B21: ='driving mode parameters'!B21 -> MAC QT 315 L | C21: ='driving mode parameters'!C21 -> MAC QI 315 L | D21: ='driving mode parameters'!D21 -> MAC QI 315 L | E21: ='driving mode parameters'!E21 -> MAC QI 315 L | F21: ='driving mode parameters'!F21 -> MAC QI 315 L | G21: ='driving mode parameters'!G21 -> MAC QI 315 L | H21: ='driving mode parameters'!H21 -> MAC QI 315 L | I21: ='driving mode parameters'!I21 -> MAC QI 315 L | ... O21: ='driving mode parameters'!O21 -> 0
B22: ='driving mode parameters'!B22 -> A61 | C22: ='driving mode parameters'!C22 -> B61 | D22: ='driving mode parameters'!D22 -> C61 | E22: ='driving mode parameters'!E22 -> D61 | F22: ='driving mode parameters'!F22 -> E61 | G22: ='driving mode parameters'!G22 -> F61 | H22: ='driving mode parameters'!H22 -> C62 | I22: ='driving mode parameters'!I22 -> D62 | ... O22: ='driving mode parameters'!O22 -> 0
A23: Rs (mOhm) | B23: ='driving mode parameters'!B23 -> 20.779779 | C23: ='driving mode parameters'!C23 -> 17.222349 | D23: ='driving mode parameters'!D23 -> 13.982839 | E23: ='driving mode parameters'!E23 -> 11.003619 | F23: ='driving mode parameters'!F23 -> 8.4492521 | G23: ='driving mode parameters'!G23 -> 6.0976267 | H23: ='driving mode parameters'!H23 -> 4.6609462 | I23: ='driving mode parameters'!I23 -> 3.6678731 | ... O23: ='driving mode parameters'!O23 -> 0
A24: Rr (mOhm) | B24: ='driving mode parameters'!B24 -> 18.251806 | C24: ='driving mode parameters'!C24 -> 15.00676 | D24: ='driving mode parameters'!D24 -> 12.094651 | E24: ='driving mode parameters'!E24 -> 9.509553 | F24: ='driving mode parameters'!F24 -> 7.2459868 | G24: ='driving mode parameters'!G24 -> 5.2987451 | H24: ='driving mode parameters'!H24 -> 3.9559379 | I24: ='driving mode parameters'!I24 -> 3.1117458 | ... O24: ='driving mode parameters'!O24 -> 0
A25: Rfe (Ohm) | B25: ='driving mode parameters'!B25 -> 56.054576 | C25: ='driving mode parameters'!C25 -> 50.418094 | D25: ='driving mode parameters'!D25 -> 44.029135 | E25: ='driving mode parameters'!E25 -> 38.352581 | F25: ='driving mode parameters'!F25 -> 32.627246 | G25: ='driving mode parameters'!G25 -> 26.803988 | H25: ='driving mode parameters'!H25 -> 22.116624 | I25: ='driving mode parameters'!I25 -> 18.876746 | ... O25: ='driving mode parameters'!O25 -> 0
A26: Ls (mH) | B26: ='driving mode parameters'!B26 -> 0.70089962 | C26: ='driving mode parameters'!C26 -> 0.57925473 | D26: ='driving mode parameters'!D26 -> 0.46919727 | E26: ='driving mode parameters'!E26 -> 0.37072375 | F26: ='driving mode parameters'!F26 -> 0.28383538 | G26: ='driving mode parameters'!G26 -> 0.20853212 | H26: ='driving mode parameters'!H26 -> 0.15639909 | I26: ='driving mode parameters'!I26 -> 0.12357458 | ... O26: ='driving mode parameters'!O26 -> 0
A27: Lr (mH) | B27: ='driving mode parameters'!B27 -> 0.57046953 | C27: ='driving mode parameters'!C27 -> 0.46842361 | D27: ='driving mode parameters'!D27 -> 0.38263137 | E27: ='driving mode parameters'!E27 -> 0.30037724 | F27: ='driving mode parameters'!F27 -> 0.22829367 | G27: ='driving mode parameters'!G27 -> 0.16748885 | H27: ='driving mode parameters'!H27 -> 0.12634984 | I27: ='driving mode parameters'!I27 -> 0.10067238 | ... O27: ='driving mode parameters'!O27 -> 0
A28: Lm (mH) | B28: ='driving mode parameters'!B28 -> 12.582191 | C28: ='driving mode parameters'!C28 -> 10.609447 | D28: ='driving mode parameters'!D28 -> 8.2729963 | E28: ='driving mode parameters'!E28 -> 6.6694262 | F28: ='driving mode parameters'!F28 -> 5.1986685 | G28: ='driving mode parameters'!G28 -> 3.8360302 | H28: ='driving mode parameters'!H28 -> 2.8188793 | I28: ='driving mode parameters'!I28 -> 2.2145843 | ... O28: ='driving mode parameters'!O28 -> 0
A29: Ts (s) | B29: ='driving mode parameters'!B29 -> 0.63923156 | C29: ='driving mode parameters'!C29 -> 0.64966176 | D29: ='driving mode parameters'!D29 -> 0.62520879 | E29: ='driving mode parameters'!E29 -> 0.63980312 | F29: ='driving mode parameters'!F29 -> 0.64887446 | G29: ='driving mode parameters'!G29 -> 0.66330106 | H29: ='driving mode parameters'!H29 -> 0.63834215 | I29: ='driving mode parameters'!I29 -> 0.63746995 | ... O29: ='driving mode parameters'!O29 -> 0
A30: Tr (s) | B30: ='driving mode parameters'!B30 -> 0.72062239 | C30: ='driving mode parameters'!C30 -> 0.73819205 | D30: ='driving mode parameters'!D30 -> 0.7156575 | E30: ='driving mode parameters'!E30 -> 0.73292651 | F30: ='driving mode parameters'!F30 -> 0.74896108 | G30: ='driving mode parameters'!G30 -> 0.75555984 | H30: ='driving mode parameters'!H30 -> 0.74450843 | I30: ='driving mode parameters'!I30 -> 0.74403786 | ... O30: ='driving mode parameters'!O30 -> 0
A31: Kt | B31: ='driving mode parameters'!B31 -> 63.263681 | C31: ='driving mode parameters'!C31 -> 57.51238 | D31: ='driving mode parameters'!D31 -> 51.761194 | E31: ='driving mode parameters'!E31 -> 46.009949 | F31: ='driving mode parameters'!F31 -> 40.258706 | G31: ='driving mode parameters'!G31 -> 34.507463 | H31: ='driving mode parameters'!H31 -> 29.884339 | I31: ='driving mode parameters'!I31 -> 26.563856 | ... O31: ='driving mode parameters'!O31 -> 0
A32: Im (A/fase) | B32: ='driving mode parameters'!B32 -> 143.9823 | C32: ='driving mode parameters'!C32 -> 154.1579 | D32: ='driving mode parameters'!D32 -> 180.23627 | E32: ='driving mode parameters'!E32 -> 197.40415 | F32: ='driving mode parameters'!F32 -> 218.82332 | G32: ='driving mode parameters'!G32 -> 253.86341 | H32: ='driving mode parameters'!H32 -> 303.17013 | I32: ='driving mode parameters'!I32 -> 343.6836 | ... O32: ='driving mode parameters'!O32 -> 0
A33: L/min | B33: =RESUM!B33 -> 0 | C33: =RESUM!C33 -> 0 | D33: =RESUM!D33 -> 0 | E33: =RESUM!E33 -> 0 | F33: =RESUM!F33 -> 0 | G33: =RESUM!G33 -> 0 | H33: =RESUM!H33 -> 0 | I33: =RESUM!I33 -> 0 | ... K33: =RESUM!K33 -> 0 | L33: =RESUM!M33 -> 0 | M33: =RESUM!N33 -> 0 | N33: =RESUM!O33 -> 0 | O33: =RESUM!P33 -> 0
A61: s rpm | B61: =B16*20-B12 -> -12.42 | C61: =C16*20-C12 -> -12.56 | D61: =D16*20-D12 -> -12.144 | E61: =E16*20-E12 -> -12.25 | F61: =F16*20-F12 -> -12.528 | G61: =G16*20-G12 -> -12.512 | H61: =H16*20-H12 -> -12.09 | I61: =I16*20-I12 -> -11.44 | ... L61: =L16*20-L12 -> #DIV/0!
A62: MODO GENERADOR a fnom
A63: E | B63: =2*PI()*B16*B28/1000*B32 -> 227.65396 | C63: =2*PI()*C16*C28/1000*C32 -> 221.96891 | D63: =2*PI()*D16*D28/1000*D32 -> 224.85167 | E63: =2*PI()*E16*E28/1000*E32 -> 218.38789 | F63: =2*PI()*F16*F28/1000*F32 -> 223.00787 | G63: =2*PI()*G16*G28/1000*G32 -> 220.27463 | H63: =2*PI()*H16*H28/1000*H32 -> 219.0801 | I63: =2*PI()*I16*I28/1000*I32 -> 218.06991 | ... L63: =2*PI()*L16*L28/1000*L32 -> #DIV/0!
A64: urq | B64: =B23/1000*(B15^2-B32^2)^0.5 -> 8.27822 | C64: =C23/1000*(C15^2-C32^2)^0.5 -> 7.5770551 | D64: =D23/1000*(D15^2-D32^2)^0.5 -> 6.755621 | E64: =E23/1000*(E15^2-E32^2)^0.5 -> 6.004013 | F64: =F23/1000*(F15^2-F32^2)^0.5 -> 5.3204368 | G64: =G23/1000*(G15^2-G32^2)^0.5 -> 4.482174 | H64: =H23/1000*(H15^2-H32^2)^0.5 -> 3.9065716 | I64: =I23/1000*(I15^2-I32^2)^0.5 -> 3.2891945 | ... L64: =L23/1000*(L15^2-L32^2)^0.5 -> 0
A65: urd | B65: =B23/1000*B32 -> 2.9919202 | C65: =C23/1000*C32 -> 2.6549612 | D65: =D23/1000*D32 -> 2.5202146 | E65: =E23/1000*E32 -> 2.1721602 | F65: =F23/1000*F32 -> 1.8488934 | G65: =G23/1000*G32 -> 1.5479643 | H65: =H23/1000*H32 -> 1.4130597 | I65: =I23/1000*I32 -> 1.2605878 | ... L65: =L23/1000*L32 -> 0
A66: exd | B66: =2*PI()*B16*B26/1000*B32 -> 12.681621 | C66: =2*PI()*C16*C26/1000*C32 -> 12.119061 | D66: =2*PI()*D16*D26/1000*D32 -> 12.752307 | E66: =2*PI()*E16*E26/1000*E32 -> 12.139212 | F66: =2*PI()*F16*F26/1000*F32 -> 12.175719 | G66: =2*PI()*G16*G26/1000*G32 -> 11.974446 | H66: =2*PI()*H16*H26/1000*H32 -> 12.15516 | I66: =2*PI()*I16*I26/1000*I32 -> 12.168377 | ... L66: =2*PI()*L16*L26/1000*L32 -> #DIV/0!
A67: exq | B67: =2*PI()*B16*B26/1000*(B15^2-B32^2)^0.5 -> 35.088252 | C67: =2*PI()*C16*C26/1000*(C15^2-C32^2)^0.5 -> 34.58687 | D67: =2*PI()*D16*D26/1000*(D15^2-D32^2)^0.5 -> 34.1835 | E67: =2*PI()*E16*E26/1000*(E15^2-E32^2)^0.5 -> 33.553689 | F67: =2*PI()*F16*F26/1000*(F15^2-F32^2)^0.5 -> 35.037251 | G67: =2*PI()*G16*G26/1000*(G15^2-G32^2)^0.5 -> 34.672344 | H67: =2*PI()*H16*H26/1000*(H15^2-H32^2)^0.5 -> 33.604385 | I67: =2*PI()*I16*I26/1000*(I15^2-I32^2)^0.5 -> 31.750394 | ... L67: =2*PI()*L16*L26/1000*(L15^2-L32^2)^0.5 -> #DIV/0!
A68: Vq | B68: =B63+B66-B64 -> 232.05737 | C68: =C63+C66-C64 -> 226.51091 | D68: =D63+D66-D64 -> 230.84836 | E68: =E63+E66-E64 -> 224.52309 | F68: =F63+F66-F64 -> 229.86315 | G68: =G63+G66-G64 -> 227.7669 | H68: =H63+H66-H64 -> 227.32869 | I68: =I63+I66-I64 -> 226.94909 | ... L68: =L63+L66-L64 -> #DIV/0!
A69: Vd | B69: =B65-B67 -> -32.096332 | C69: =C65-C67 -> -31.931908 | D69: =D65-D67 -> -31.663285 | E69: =E65-E67 -> -31.381529 | F69: =F65-F67 -> -33.188357 | G69: =G65-G67 -> -33.124379 | H69: =H65-H67 -> -32.191325 | I69: =I65-I67 -> -30.489806 | ... L69: =L65-L67 -> #DIV/0!
A70: V | B70: =3^0.5*(B68^2+B69^2)^0.5 -> 405.76149 | C70: =3^0.5*(C68^2+C69^2)^0.5 -> 396.20768 | D70: =3^0.5*(D68^2+D69^2)^0.5 -> 403.58467 | E70: =3^0.5*(E68^2+E69^2)^0.5 -> 392.66558 | F70: =3^0.5*(F68^2+F69^2)^0.5 -> 402.26311 | G70: =3^0.5*(G68^2+G69^2)^0.5 -> 398.65394 | H70: =3^0.5*(H68^2+H69^2)^0.5 -> 397.67303 | I70: =3^0.5*(I68^2+I69^2)^0.5 -> 396.6189 | ... L70: =3^0.5*(L68^2+L69^2)^0.5 -> #DIV/0!
A72: Correcció a | B72: =B14 -> 400
A73: E | B73: =B63*B74/B16 -> 224.42146 | C73: =C63*C74/C16 -> 224.0935 | D73: =D63*D74/D16 -> 222.85452 | E73: =E63*E74/E16 -> 222.46706 | F73: =F63*F74/F16 -> 221.75324 | G73: =G63*G74/G16 -> 221.01839 | H73: =H63*H74/H16 -> 220.36204 | I73: =I63*I74/I16 -> 219.92891 | ... K73: =K63*K74/K16 -> 219.40641
A74: Hz gen | B74: =B16*B14/B70 -> 19.716016 | C74: =C16*C14/C70 -> 21.806746 | D74: =D16*D14/D70 -> 23.78683 | E74: =E16*E14/E70 -> 26.893114 | F74: =F16*F14/F70 -> 31.024471 | G74: =G16*G14/G70 -> 36.121555 | H74: =H16*H14/H70 -> 41.03874 | I74: =I16*I14/I70 -> 45.988731 | ... K74: =K16*K14/K70 -> 61.962754
A75: Hz gen adoptat | B75: =ROUND(B74,0) -> 20 | C75: =ROUND(C74,0) -> 22 | D75: =ROUND(D74,0) -> 24 | E75: =ROUND(E74,0) -> 27 | F75: =ROUND(F74,0) -> 31 | G75: =ROUND(G74,0) -> 36 | H75: =ROUND(H74,0) -> 41 | I75: =ROUND(I74,0) -> 46 | ... K75: =ROUND(K74,0) -> 62
A76: rpm gen | B76: =B75*20+B61 -> 387.58 | C76: =C75*20+C61 -> 427.44 | D76: =D75*20+D61 -> 467.856 | E76: =E75*20+E61 -> 527.75 | F76: =F75*20+F61 -> 607.472 | G76: =G75*20+G61 -> 707.488 | H76: =H75*20+H61 -> 807.91 | I76: =I75*20+I61 -> 908.56 | ... K76: =K75*20+K61 -> 1229.8
A77: Nm gen | B77: =B11 -> 6200 | C77: =C11 -> 6200 | D77: =D11 -> 6200 | E77: =E11 -> 6200 | F77: =F11 -> 6200 | G77: =G11 -> 6200 | H77: =H11 -> 6200 | I77: =I11 -> 5900 | ... K77: =K11 -> 5200
A78: KW abs | B78: =B76*B77*PI()/30000 -> 251.64115 | C78: =C76*C77*PI()/30000 -> 277.52076 | D78: =D76*D77*PI()/30000 -> 303.76135 | E78: =E76*E77*PI()/30000 -> 342.64827 | F78: =F76*F77*PI()/30000 -> 394.40878 | G78: =G76*G77*PI()/30000 -> 459.34541 | H78: =H76*H77*PI()/30000 -> 524.54565 | I78: =I76*I77*PI()/30000 -> 561.35067 | ... K78: =K76*K77*PI()/30000 -> 669.67865
A79: KW perd. | B79: =(3*B23/1000*B15^2+3*B73^2/B25+3*B24/1000*(B15^2-B32^2)+100)/1000 -> 22.671435 | C79: =(3*C23/1000*C15^2+3*C73^2/C25+3*C24/1000*(C15^2-C32^2)+100)/1000 -> 23.030757 | D79: =(3*D23/1000*D15^2+3*D73^2/D25+3*D24/1000*(D15^2-D32^2)+100)/1000 -> 23.107752 | E79: =(3*E23/1000*E15^2+3*E73^2/E25+3*E24/1000*(E15^2-E32^2)+100)/1000 -> 23.579411 | F79: =(3*F23/1000*F15^2+3*F73^2/F25+3*F24/1000*(F15^2-F32^2)+100)/1000 -> 24.50535 | G79: =(3*G23/1000*G15^2+3*G73^2/G25+3*G24/1000*(G15^2-G32^2)+100)/1000 -> 25.21955 | H79: =(3*H23/1000*H15^2+3*H73^2/H25+3*H24/1000*(H15^2-H32^2)+100)/1000 -> 26.131976 | I79: =(3*I23/1000*I15^2+3*I73^2/I25+3*I24/1000*(I15^2-I32^2)+100)/1000 -> 25.442762 | ... K79: =(3*K23/1000*K15^2+3*K73^2/K25+3*K24/1000*(K15^2-K32^2)+100)/1000 -> 25.638952
A80: KW out | B80: =B78-B79 -> 228.96972 | C80: =C78-C79 -> 254.49 | D80: =D78-D79 -> 280.6536 | E80: =E78-E79 -> 319.06886 | F80: =F78-F79 -> 369.90343 | G80: =G78-G79 -> 434.12586 | H80: =H78-H79 -> 498.41368 | I80: =I78-I79 -> 535.9079 | ... K80: =K78-K79 -> 644.03969
A81: eff gen. | B81: =B80/B78 -> 0.90990569 | C81: =C80/C78 -> 0.91701249 | D81: =D80/D78 -> 0.92392794 | E81: =E80/E78 -> 0.9311848 | F81: =F80/F78 -> 0.93786814 | G81: =G80/G78 -> 0.94509676 | H81: =H80/H78 -> 0.95018169 | I81: =I80/I78 -> 0.95467581 | ... K81: =K80/K78 -> 0.96171454
A82: Cos fi gen | B82: =B80*1000/3^0.5/B14/B15 -> 0.78019309 | C82: =C80*1000/3^0.5/C14/C15 -> 0.78794405 | D82: =D80*1000/3^0.5/D14/D15 -> 0.78557175 | E82: =E80*1000/3^0.5/E14/E15 -> 0.79368452 | F82: =F80*1000/3^0.5/F14/F15 -> 0.80090698 | G82: =G80*1000/3^0.5/G14/G15 -> 0.80574762 | H82: =H80*1000/3^0.5/H14/H15 -> 0.80713782 | I82: =I80*1000/3^0.5/I14/I15 -> 0.80544338 | ... K82: =K80*1000/3^0.5/K14/K15 -> 0.80213568

Sheet limit 480V
B1: =RESUM!G8 -> MAC QI 315 L | E1: Corba parell-velocitat a Nnom | P1: =P6/O6 -> 3.1605921 | S1: =S6/R6 -> 3.1605921 | AA1: diagrama vectorial
B2: =RESUM!G9 -> F61 | E2: V/f | F2: f | G2: s pu | H2: s rpm | I2: rpm | J2: Kweix | K2: Meix | L2: Im | M2: Ir | N2: is | O2: Rs Im | P2: Rs Ir | Q2: Rs Is | R2: w Ls Im | S2: w Ls Ir | T2: w Ls Is | U2: E | V2: Vs (m) | W2: Vs (r) | X2: Vs | Y2: Vs (f-f) | AA2: eix m | AB2: eix r
B3: =RESUM!G10 -> 6 | E3: =X3/F3 -> 6.7040449 | F3: =$B$9-B27/120*$B$3 -> 33.3744 | G3: =H3/I3 -> 1.4981543e-09 | H3: 1e-06 | I3: =F3*120/$B3-$H3 -> 667.488 | J3: =3*(1-G3)/G3*$B$17/1000*M3^2/1000 -> 3.5371678e-05 | K3: =J3/I3*1000*30/PI() -> 0.00050603853 | L3: =B25 -> 253.86341 | M3: =U3/$B$17*1000*G3 -> 5.7737631e-05 | N3: =(L3^2+M3^2)^0.5 -> 253.86341 | O3: =$B$16*L3/1000 -> 1.5479643 | P3: =$B$16*M3/1000 -> 3.5206252e-07 | Q3: =N3*$B$16/1000 -> 1.5479643 | R3: =2*PI()*F3*$B$19*L3/1000 -> 19.528851 | S3: =2*PI()*F3*$B$19*M3/1000 -> 4.4415602e-06 | T3: =2*PI()*F3*$B$19*N3/1000 -> 19.528851 | U3: =$B$21*2*PI()*F3*L3/1000 -> 204.20927 | V3: =O3-S3 -> 1.5479598 | W3: =P3+R3+U3 -> 223.73812 | X3: =(W3^2+V3^2)^0.5 -> 223.74348 | Y3: =X3*3^0.5 -> 387.53507 | AA3: 0 | AB3: 0
A4: Nm | B4: =RESUM!G11 -> 6200 | E4: =X4/F4 -> 6.8163298 | F4: =$F$3+H4/120*$B$3 -> 33.6872 | G4: =H4/I4 -> 0.0093724532 | H4: =H5/2 -> 6.256 | I4: =I3 -> 667.488 | J4: =3*(1-G4)/G4*$B$17/1000*M4^2/1000 -> 223.33958 | K4: =J4/I4*1000*30/PI() -> 3195.1674 | L4: =L3 -> 253.86341 | M4: =U4/$B$17*1000*G4 -> 364.59201 | N4: =(L4^2+M4^2)^0.5 -> 444.2679 | O4: =$B$16*L4/1000 -> 1.5479643 | P4: =$B$16*M4/1000 -> 2.223146 | Q4: =N4*$B$16/1000 -> 2.7089798 | R4: =2*PI()*F4*$B$19*L4/1000 -> 19.711884 | S4: =2*PI()*F4*$B$19*M4/1000 -> 28.309695 | T4: =2*PI()*F4*$B$19*N4/1000 -> 34.496336 | U4: =$B$21*2*PI()*F4*L4/1000 -> 206.12321 | V4: =O4-S4 -> -26.76173 | W4: =P4+R4+U4 -> 228.05824 | X4: =(W4^2+V4^2)^0.5 -> 229.62306 | Y4: =X4*3^0.5 -> 397.71881 | Z4: E | AA4: 0 | AB4: =U9 -> 210.08608
A5: rpm | B5: =RESUM!G12 -> 667.488 | D5: Nominal | E5: =X5/F5 -> 7.0323782 | F5: =$F$3+H5/120*$B$3 -> 34 | G5: =H5/I5 -> 0.018744906 | H5: =B27 -> 12.512 | I5: =I4 -> 667.488 | J5: =3*(1-G5)/G5*$B$17/1000*M5^2/1000 -> 450.70796 | K5: =J5/I5*1000*30/PI() -> 6447.9721 | L5: =L4 -> 253.86341 | M5: =U5/$B$17*1000*G5 -> 735.95481 | N5: =(L5^2+M5^2)^0.5 -> 778.5089 | O5: =$B$16*L5/1000 -> 1.5479643 | P5: =$B$16*M5/1000 -> 4.4875777 | Q5: =N5*$B$16/1000 -> 4.7470567 | R5: =2*PI()*F5*$B$19*L5/1000 -> 19.894917 | S5: =2*PI()*F5*$B$19*M5/1000 -> 57.675742 | T5: =2*PI()*F5*$B$19*N5/1000 -> 61.010646 | U5: =$B$21*1*2*PI()*F5*L5/1000 -> 208.03715 | V5: =O5-S5 -> -56.127777 | W5: =P5+R5+U5 -> 232.41965 | X5: =(W5^2+V5^2)^0.5 -> 239.10086 | Y5: =X5*3^0.5 -> 414.13483 | Z5: Rs im | AA5: =AA4+O9 -> 1.5530987 | AB5: =AB4+0 -> 210.08608
A6: KW | B6: =RESUM!G13 -> 433.37492 | E6: =X6/F6 -> 7.0870536 | F6: =$F$3+H6/120*$B$3 -> 34.055338 | G6: =H6/I6 -> 0.020403017 | H6: =H5+($H$18-$H$5)/13 -> 13.618769 | I6: =I5 -> 667.488 | J6: =3*(1-G6)/G6*$B$17/1000*M6^2/1000 -> 492.15781 | K6: =J6/I6*1000*30/PI() -> 7040.9669 | L6: =L5+(L$18-L$5)/13 -> 254.07391 | M6: =U6/$B$17*1000*G6 -> 803.02401 | N6: =(L6^2+M6^2)^0.5 -> 842.25953 | O6: =$B$16*L6/1000 -> 1.5492479 | P6: =$B$16*M6/1000 -> 4.8965407 | Q6: =N6*$B$16/1000 -> 5.1357842 | R6: =2*PI()*F6*$B$19*L6/1000 -> 19.943822 | S6: =2*PI()*F6*$B$19*M6/1000 -> 63.034288 | T6: =2*PI()*F6*$B$19*N6/1000 -> 66.114125 | U6: =$B$21*1*2*PI()*F6*L6/1000 -> 208.54854 | V6: =O6-S6 -> -61.48504 | W6: =P6+R6+U6 -> 233.38891 | X6: =(W6^2+V6^2)^0.5 -> 241.35201 | Y6: =X6*3^0.5 -> 418.03394 | Z6: Rs Ir | AA6: =AA5+0 -> 1.5530987 | AB6: =AB5+P9 -> 216.22132
A7: V | B7: =RESUM!G14 -> 400 | E7: =X7/F7 -> 7.1449223 | F7: =$F$3+H7/120*$B$3 -> 34.110677 | G7: =H7/I7 -> 0.022061128 | H7: =H6+($H$18-$H$5)/13 -> 14.725538 | I7: =I6 -> 667.488 | J7: =3*(1-G7)/G7*$B$17/1000*M7^2/1000 -> 533.86519 | K7: =J7/I7*1000*30/PI() -> 7637.646 | L7: =L6+(L$18-L$5)/13 -> 254.28442 | M7: =U7/$B$17*1000*G7 -> 870.4156 | N7: =(L7^2+M7^2)^0.5 -> 906.7987 | O7: =$B$16*L7/1000 -> 1.5505315 | P7: =$B$16*M7/1000 -> 5.3074694 | Q7: =N7*$B$16/1000 -> 5.52932 | R7: =2*PI()*F7*$B$19*L7/1000 -> 19.992781 | S7: =2*PI()*F7*$B$19*M7/1000 -> 68.435292 | T7: =2*PI()*F7*$B$19*N7/1000 -> 71.295866 | U7: =$B$21*1*2*PI()*F7*L7/1000 -> 209.06049 | V7: =O7-S7 -> -66.884761 | W7: =P7+R7+U7 -> 234.36074 | X7: =(W7^2+V7^2)^0.5 -> 243.71814 | Y7: =X7*3^0.5 -> 422.13219 | Z7: wLs Ir | AA7: =AA6-S9 -> -77.812234 | AB7: =AB6 -> 216.22132
A8: A | B8: =RESUM!G15 -> 777.67119 | E8: =X8/F8 -> 7.205956 | F8: =$F$3+H8/120*$B$3 -> 34.166015 | G8: =H8/I8 -> 0.023719239 | H8: =H7+($H$18-$H$5)/13 -> 15.832308 | I8: =I7 -> 667.488 | J8: =3*(1-G8)/G8*$B$17/1000*M8^2/1000 -> 575.83016 | K8: =J8/I8*1000*30/PI() -> 8238.0102 | L8: =L7+(L$18-L$5)/13 -> 254.49493 | M8: =U8/$B$17*1000*G8 -> 938.13011 | N8: =(L8^2+M8^2)^0.5 -> 972.03692 | O8: =$B$16*L8/1000 -> 1.5518151 | P8: =$B$16*M8/1000 -> 5.7203673 | Q8: =N8*$B$16/1000 -> 5.9271183 | R8: =2*PI()*F8*$B$19*L8/1000 -> 20.041794 | S8: =2*PI()*F8*$B$19*M8/1000 -> 73.878919 | T8: =2*PI()*F8*$B$19*N8/1000 -> 76.549122 | U8: =$B$21*1*2*PI()*F8*L8/1000 -> 209.57301 | V8: =O8-S8 -> -72.327104 | W8: =P8+R8+U8 -> 235.33517 | X8: =(W8^2+V8^2)^0.5 -> 246.1988 | Y8: =X8*3^0.5 -> 426.42884 | Z8: wLs Im | AA8: =AA7 -> -77.812234 | AB8: =AB7+R9 -> 236.31218 | AC8: =(AB8^2+AA8^2)^0.5 -> 248.79347
A9: Hz | B9: =RESUM!G16 -> 34 | E9: =X9/F9 -> 7.2701235 | F9: =$F$3+H9/120*$B$3 -> 34.221354 | G9: =H9/I9 -> 0.025377351 | H9: =H8+($H$18-$H$5)/13 -> 16.939077 | I9: =I8 -> 667.488 | J9: =3*(1-G9)/G9*$B$17/1000*M9^2/1000 -> 618.05278 | K9: =J9/I9*1000*30/PI() -> 8842.0606 | L9: =L8+(L$18-L$5)/13 -> 254.70543 | M9: =U9/$B$17*1000*G9 -> 1006.1681 | N9: =(L9^2+M9^2)^0.5 -> 1037.9061 | O9: =$B$16*L9/1000 -> 1.5530987 | P9: =$B$16*M9/1000 -> 6.1352373 | Q9: =N9*$B$16/1000 -> 6.3287639 | R9: =2*PI()*F9*$B$19*L9/1000 -> 20.09086 | S9: =2*PI()*F9*$B$19*M9/1000 -> 79.365333 | T9: =2*PI()*F9*$B$19*N9/1000 -> 81.868789 | U9: =$B$21*1*2*PI()*F9*L9/1000 -> 210.08608 | V9: =O9-S9 -> -77.812234 | W9: =P9+R9+U9 -> 236.31218 | X9: =(W9^2+V9^2)^0.5 -> 248.79347 | Y9: =X9*3^0.5 -> 430.92293 | Z9: Vs | AA9: 0 | AB9: 0
A10: Cos fi | B10: =RESUM!G17 -> 0.8498193 | E10: =X10/F10 -> 7.3373908 | F10: =$F$3+H10/120*$B$3 -> 34.276692 | G10: =H10/I10 -> 0.027035462 | H10: =H9+($H$18-$H$5)/13 -> 18.045846 | I10: =I9 -> 667.488 | J10: =3*(1-G10)/G10*$B$17/1000*M10^2/1000 -> 660.53312 | K10: =J10/I10*1000*30/PI() -> 9449.7978 | L10: =L9+(L$18-L$5)/13 -> 254.91594 | M10: =U10/$B$17*1000*G10 -> 1074.53 | N10: =(L10^2+M10^2)^0.5 -> 1104.3536 | O10: =$B$16*L10/1000 -> 1.5543823 | P10: =$B$16*M10/1000 -> 6.5520829 | Q10: =N10*$B$16/1000 -> 6.733936 | R10: =2*PI()*F10*$B$19*L10/1000 -> 20.13998 | S10: =2*PI()*F10*$B$19*M10/1000 -> 84.894699 | T10: =2*PI()*F10*$B$19*N10/1000 -> 87.250953 | U10: =$B$21*1*2*PI()*F10*L10/1000 -> 210.59972 | V10: =O10-S10 -> -83.340317 | W10: =P10+R10+U10 -> 237.29178 | X10: =(W10^2+V10^2)^0.5 -> 251.50149 | Y10: =X10*3^0.5 -> 435.61335
A11: Rend / eff. | B11: =RESUM!G18 -> 0.94649985 | E11: =X11/F11 -> 7.4077217 | F11: =$F$3+H11/120*$B$3 -> 34.332031 | G11: =H11/I11 -> 0.028693573 | H11: =H10+($H$18-$H$5)/13 -> 19.152615 | I11: =I10 -> 667.488 | J11: =3*(1-G11)/G11*$B$17/1000*M11^2/1000 -> 703.2712 | K11: =J11/I11*1000*30/PI() -> 10061.223 | L11: =L10+(L$18-L$5)/13 -> 255.12645 | M11: =U11/$B$17*1000*G11 -> 1143.2164 | N11: =(L11^2+M11^2)^0.5 -> 1171.3383 | O11: =$B$16*L11/1000 -> 1.5556659 | P11: =$B$16*M11/1000 -> 6.9709071 | Q11: =N11*$B$16/1000 -> 7.1423835 | R11: =2*PI()*F11*$B$19*L11/1000 -> 20.189153 | S11: =2*PI()*F11*$B$19*M11/1000 -> 90.467184 | T11: =2*PI()*F11*$B$19*N11/1000 -> 92.692574 | U11: =$B$21*1*2*PI()*F11*L11/1000 -> 211.11392 | V11: =O11-S11 -> -88.911519 | W11: =P11+R11+U11 -> 238.27398 | X11: =(W11^2+V11^2)^0.5 -> 254.32213 | Y11: =X11*3^0.5 -> 440.49885
A12: J (Kg m2) | B12: =RESUM!G19 -> 13.89 | E12: =X12/F12 -> 7.4810779 | F12: =$F$3+H12/120*$B$3 -> 34.387369 | G12: =H12/I12 -> 0.030351684 | H12: =H11+($H$18-$H$5)/13 -> 20.259385 | I12: =I11 -> 667.488 | J12: =3*(1-G12)/G12*$B$17/1000*M12^2/1000 -> 746.26708 | K12: =J12/I12*1000*30/PI() -> 10676.335 | L12: =L11+(L$18-L$5)/13 -> 255.33696 | M12: =U12/$B$17*1000*G12 -> 1212.2279 | N12: =(L12^2+M12^2)^0.5 -> 1238.8274 | O12: =$B$16*L12/1000 -> 1.5569495 | P12: =$B$16*M12/1000 -> 7.3917132 | Q12: =N12*$B$16/1000 -> 7.5539073 | R12: =2*PI()*F12*$B$19*L12/1000 -> 20.23838 | S12: =2*PI()*F12*$B$19*M12/1000 -> 96.082954 | T12: =2*PI()*F12*$B$19*N12/1000 -> 98.191273 | U12: =$B$21*1*2*PI()*F12*L12/1000 -> 211.62867 | V12: =O12-S12 -> -94.526004 | W12: =P12+R12+U12 -> 239.25877 | X12: =(W12^2+V12^2)^0.5 -> 257.25459 | Y12: =X12*3^0.5 -> 445.57802
B13: =RESUM!G20 -> 0 | E13: =X13/F13 -> 7.5574193 | F13: =$F$3+H13/120*$B$3 -> 34.442708 | G13: =H13/I13 -> 0.032009795 | H13: =H12+($H$18-$H$5)/13 -> 21.366154 | I13: =I12 -> 667.488 | J13: =3*(1-G13)/G13*$B$17/1000*M13^2/1000 -> 789.52078 | K13: =J13/I13*1000*30/PI() -> 11295.137 | L13: =L12+(L$18-L$5)/13 -> 255.54746 | M13: =U13/$B$17*1000*G13 -> 1281.5649 | N13: =(L13^2+M13^2)^0.5 -> 1306.795 | O13: =$B$16*L13/1000 -> 1.558233 | P13: =$B$16*M13/1000 -> 7.8145044 | Q13: =N13*$B$16/1000 -> 7.968348 | R13: =2*PI()*F13*$B$19*L13/1000 -> 20.287661 | S13: =2*PI()*F13*$B$19*M13/1000 -> 101.74217 | T13: =2*PI()*F13*$B$19*N13/1000 -> 103.74516 | U13: =$B$21*1*2*PI()*F13*L13/1000 -> 212.144 | V13: =O13-S13 -> -100.18394 | W13: =P13+R13+U13 -> 240.24616 | X13: =(W13^2+V13^2)^0.5 -> 260.29798 | Y13: =X13*3^0.5 -> 450.84933
B14: =RESUM!G21 -> MAC QI 315 L | E14: =X14/F14 -> 7.6367039 | F14: =$F$3+H14/120*$B$3 -> 34.498046 | G14: =H14/I14 -> 0.033667906 | H14: =H13+($H$18-$H$5)/13 -> 22.472923 | I14: =I13 -> 667.488 | J14: =3*(1-G14)/G14*$B$17/1000*M14^2/1000 -> 833.03232 | K14: =J14/I14*1000*30/PI() -> 11917.627 | L14: =L13+(L$18-L$5)/13 -> 255.75797 | M14: =U14/$B$17*1000*G14 -> 1351.228 | N14: =(L14^2+M14^2)^0.5 -> 1375.2197 | O14: =$B$16*L14/1000 -> 1.5595166 | P14: =$B$16*M14/1000 -> 8.2392839 | Q14: =N14*$B$16/1000 -> 8.3855764 | R14: =2*PI()*F14*$B$19*L14/1000 -> 20.336996 | S14: =2*PI()*F14*$B$19*M14/1000 -> 107.44501 | T14: =2*PI()*F14*$B$19*N14/1000 -> 109.35275 | U14: =$B$21*1*2*PI()*F14*L14/1000 -> 212.65988 | V14: =O14-S14 -> -105.88549 | W14: =P14+R14+U14 -> 241.23616 | X14: =(W14^2+V14^2)^0.5 -> 263.45137 | Y14: =X14*3^0.5 -> 456.31115
B15: =RESUM!G22 -> F61 | E15: =X15/F15 -> 7.7188888 | F15: =$F$3+H15/120*$B$3 -> 34.553385 | G15: =H15/I15 -> 0.035326017 | H15: =H14+($H$18-$H$5)/13 -> 23.579692 | I15: =I14 -> 667.488 | J15: =3*(1-G15)/G15*$B$17/1000*M15^2/1000 -> 876.80172 | K15: =J15/I15*1000*30/PI() -> 12543.806 | L15: =L14+(L$18-L$5)/13 -> 255.96848 | M15: =U15/$B$17*1000*G15 -> 1421.2177 | N15: =(L15^2+M15^2)^0.5 -> 1444.0843 | O15: =$B$16*L15/1000 -> 1.5608002 | P15: =$B$16*M15/1000 -> 8.666055 | Q15: =N15*$B$16/1000 -> 8.8054873 | R15: =2*PI()*F15*$B$19*L15/1000 -> 20.386384 | S15: =2*PI()*F15*$B$19*M15/1000 -> 113.19163 | T15: =2*PI()*F15*$B$19*N15/1000 -> 115.01283 | U15: =$B$21*1*2*PI()*F15*L15/1000 -> 213.17632 | V15: =O15-S15 -> -111.63083 | W15: =P15+R15+U15 -> 242.22876 | X15: =(W15^2+V15^2)^0.5 -> 266.71373 | Y15: =X15*3^0.5 -> 461.96174
A16: Rs (mOhm) | B16: =RESUM!G23 -> 6.0976267 | E16: =X16/F16 -> 7.8039295 | F16: =$F$3+H16/120*$B$3 -> 34.608723 | G16: =H16/I16 -> 0.036984128 | H16: =H15+($H$18-$H$5)/13 -> 24.686462 | I16: =I15 -> 667.488 | J16: =3*(1-G16)/G16*$B$17/1000*M16^2/1000 -> 920.82897 | K16: =J16/I16*1000*30/PI() -> 13173.673 | L16: =L15+(L$18-L$5)/13 -> 256.17899 | M16: =U16/$B$17*1000*G16 -> 1491.5345 | N16: =(L16^2+M16^2)^0.5 -> 1513.3747 | O16: =$B$16*L16/1000 -> 1.5620838 | P16: =$B$16*M16/1000 -> 9.0948209 | Q16: =N16*$B$16/1000 -> 9.227994 | R16: =2*PI()*F16*$B$19*L16/1000 -> 20.435826 | S16: =2*PI()*F16*$B$19*M16/1000 -> 118.98221 | T16: =2*PI()*F16*$B$19*N16/1000 -> 120.72443 | U16: =$B$21*1*2*PI()*F16*L16/1000 -> 213.69333 | V16: =O16-S16 -> -117.42012 | W16: =P16+R16+U16 -> 243.22397 | X16: =(W16^2+V16^2)^0.5 -> 270.08404 | Y16: =X16*3^0.5 -> 467.79927
A17: Rr (mOhm) | B17: =RESUM!G24 -> 5.2987451 | E17: =X17/F17 -> 7.891781 | F17: =$F$3+H17/120*$B$3 -> 34.664062 | G17: =H17/I17 -> 0.038642239 | H17: =H16+($H$18-$H$5)/13 -> 25.793231 | I17: =I16 -> 667.488 | J17: =3*(1-G17)/G17*$B$17/1000*M17^2/1000 -> 965.11408 | K17: =J17/I17*1000*30/PI() -> 13807.23 | L17: =L16+(L$18-L$5)/13 -> 256.38949 | M17: =U17/$B$17*1000*G17 -> 1562.179 | N17: =(L17^2+M17^2)^0.5 -> 1583.0789 | O17: =$B$16*L17/1000 -> 1.5633674 | P17: =$B$16*M17/1000 -> 9.5255847 | Q17: =N17*$B$16/1000 -> 9.6530245 | R17: =2*PI()*F17*$B$19*L17/1000 -> 20.485322 | S17: =2*PI()*F17*$B$19*M17/1000 -> 124.8169 | T17: =2*PI()*F17*$B$19*N17/1000 -> 126.48678 | U17: =$B$21*1*2*PI()*F17*L17/1000 -> 214.21089 | V17: =O17-S17 -> -123.25353 | W17: =P17+R17+U17 -> 244.2218 | X17: =(W17^2+V17^2)^0.5 -> 273.56118 | Y17: =X17*3^0.5 -> 473.82187
A18: Rfe (Ohm) | B18: =RESUM!G25 -> 26.803988 | E18: =X18/F18 -> 7.9823973 | F18: =$F$3+H18/120*$B$3 -> 34.7194 | G18: =H18/I18 -> 0.04030035 | H18: 26.9 | I18: =I12 -> 667.488 | J18: =3*(1-G18)/G18*$B$17/1000*M18^2/1000 -> 1009.657 | K18: =J18/I18*1000*30/PI() -> 14444.476 | L18: 256.6 | M18: =U18/$B$17*1000*G18 -> 1633.1517 | N18: =(L18^2+M18^2)^0.5 -> 1653.1873 | O18: =$B$16*L18/1000 -> 1.564651 | P18: =$B$16*M18/1000 -> 9.9583497 | Q18: =N18*$B$16/1000 -> 10.080519 | R18: =2*PI()*F18*$B$19*L18/1000 -> 20.534871 | S18: =2*PI()*F18*$B$19*M18/1000 -> 130.69587 | T18: =2*PI()*F18*$B$19*N18/1000 -> 132.29925 | U18: =$B$21*1*2*PI()*F18*L18/1000 -> 214.72902 | V18: =O18-S18 -> -129.13122 | W18: =P18+R18+U18 -> 245.22224 | X18: =(W18^2+V18^2)^0.5 -> 277.14404 | Y18: =X18*3^0.5 -> 480.02756
A19: Ls (mH) | B19: =RESUM!G26+B20*B26/B8 -> 0.36684555 | C19: concentrada a l'estator | D19: maxim | E19: =X19/F19 -> 7.8680809 | F19: =$F$3+H19/120*$B$3 -> 35.2194 | G19: =H19/I19 -> 0.055281893 | H19: =H18+10 -> 36.9 | I19: =I18 -> 667.488 | J19: =3*(1-G19)/G19*$B$17/1000*M19^2/1000 -> 1108.1057 | K19: =J19/I19*1000*30/PI() -> 15852.914 | L19: 228.05 | M19: =U19/$B$17*1000*G19 -> 2019.6857 | N19: =(L19^2+M19^2)^0.5 -> 2032.5199 | O19: =$B$16*L19/1000 -> 1.3905638 | P19: =$B$16*M19/1000 -> 12.315289 | Q19: =N19*$B$16/1000 -> 12.393548 | R19: =2*PI()*F19*$B$19*L19/1000 -> 18.51293 | S19: =2*PI()*F19*$B$19*M19/1000 -> 163.95659 | T19: =2*PI()*F19*$B$19*N19/1000 -> 164.99846 | U19: =$B$21*1*2*PI()*F19*L19/1000 -> 193.58599 | V19: =O19-S19 -> -162.56602 | W19: =P19+R19+U19 -> 224.4142 | X19: =(W19^2+V19^2)^0.5 -> 277.10909 | Y19: =X19*3^0.5 -> 479.96702
B20: =RESUM!G27 -> 0.16748885 | E20: =X20/F20 -> 7.7581005 | F20: =$F$3+H20/120*$B$3 -> 35.7194 | G20: =H20/I20 -> 0.070263436 | H20: =H19+10 -> 46.9 | I20: =I19 -> 667.488 | J20: =3*(1-G20)/G20*$B$17/1000*M20^2/1000 -> 1109.1995 | K20: =J20/I20*1000*30/PI() -> 15868.563 | L20: 201.15 | M20: =U20/$B$17*1000*G20 -> 2296.373 | N20: =(L20^2+M20^2)^0.5 -> 2305.166 | O20: =$B$16*L20/1000 -> 1.2265376 | P20: =$B$16*M20/1000 -> 14.002425 | Q20: =N20*$B$16/1000 -> 14.056042 | R20: =2*PI()*F20*$B$19*L20/1000 -> 16.561029 | S20: =2*PI()*F20*$B$19*M20/1000 -> 189.06438 | T20: =2*PI()*F20*$B$19*N20/1000 -> 189.78832 | U20: =$B$21*1*2*PI()*F20*L20/1000 -> 173.17535 | V20: =O20-S20 -> -187.83784 | W20: =P20+R20+U20 -> 203.7388 | X20: =(W20^2+V20^2)^0.5 -> 277.1147 | Y20: =X20*3^0.5 -> 479.97673
A21: Lm (mH) | B21: =RESUM!G28 -> 3.8360302 | E21: =X21/F21 -> 0.61321271 | F21: =$F$3+H21/120*$B$3 -> 36.2194 | G21: =H21/I21 -> 0.085244978 | H21: =H20+10 -> 56.9 | I21: =I20 -> 667.488 | J21: =3*(1-G21)/G21*$B$17/1000*M21^2/1000 -> 6.7842961 | K21: =J21/I21*1000*30/PI() -> 97.058307 | L21: 14.2 | M21: =U21/$B$17*1000*G21 -> 199.42851 | N21: =(L21^2+M21^2)^0.5 -> 199.93342 | O21: =$B$16*L21/1000 -> 0.0865863 | P21: =$B$16*M21/1000 -> 1.2160406 | Q21: =N21*$B$16/1000 -> 1.2191194 | R21: =2*PI()*F21*$B$19*L21/1000 -> 1.1854759 | S21: =2*PI()*F21*$B$19*M21/1000 -> 16.649133 | T21: =2*PI()*F21*$B$19*N21/1000 -> 16.691285 | U21: =$B$21*1*2*PI()*F21*L21/1000 -> 12.396283 | V21: =O21-S21 -> -16.562547 | W21: =P21+R21+U21 -> 14.797799 | X21: =(W21^2+V21^2)^0.5 -> 22.210197 | Y21: =X21*3^0.5 -> 38.469189
A22: Ts (s) | B22: =RESUM!G29 -> 0.66330106 | E22: =X22/F22 -> 0.6706656 | F22: =$F$3+H22/120*$B$3 -> 36.7194 | G22: =H22/I22 -> 0.10022652 | H22: =H21+10 -> 66.9 | I22: =I21 -> 667.488 | J22: =3*(1-G22)/G22*$B$17/1000*M22^2/1000 -> 7.7269587 | K22: =J22/I22*1000*30/PI() -> 110.54434 | L22: 13.9 | M22: =U22/$B$17*1000*G22 -> 232.69223 | N22: =(L22^2+M22^2)^0.5 -> 233.10703 | O22: =$B$16*L22/1000 -> 0.084757012 | P22: =$B$16*M22/1000 -> 1.4188704 | Q22: =N22*$B$16/1000 -> 1.4213996 | R22: =2*PI()*F22*$B$19*L22/1000 -> 1.1764501 | S22: =2*PI()*F22*$B$19*M22/1000 -> 19.694302 | T22: =2*PI()*F22*$B$19*N22/1000 -> 19.729408 | U22: =$B$21*1*2*PI()*F22*L22/1000 -> 12.301902 | V22: =O22-S22 -> -19.609545 | W22: =P22+R22+U22 -> 14.897222 | X22: =(W22^2+V22^2)^0.5 -> 24.626439 | Y22: =X22*3^0.5 -> 42.654243
A23: Tr (s) | B23: =RESUM!G30 -> 0.75555984 | E23: =X23/F23 -> 0.73021032 | F23: =$F$3+H23/120*$B$3 -> 37.2194 | G23: =H23/I23 -> 0.11520806 | H23: =H22+10 -> 76.9 | I23: =I22 -> 667.488 | J23: =3*(1-G23)/G23*$B$17/1000*M23^2/1000 -> 8.590384 | K23: =J23/I23*1000*30/PI() -> 122.89678 | L23: 13.6 | M23: =U23/$B$17*1000*G23 -> 265.26503 | N23: =(L23^2+M23^2)^0.5 -> 265.61344 | O23: =$B$16*L23/1000 -> 0.082927724 | P23: =$B$16*M23/1000 -> 1.6174872 | Q23: =N23*$B$16/1000 -> 1.6196116 | R23: =2*PI()*F23*$B$19*L23/1000 -> 1.1667328 | S23: =2*PI()*F23*$B$19*M23/1000 -> 22.756868 | T23: =2*PI()*F23*$B$19*N23/1000 -> 22.786758 | U23: =$B$21*1*2*PI()*F23*L23/1000 -> 12.20029 | V23: =O23-S23 -> -22.673941 | W23: =P23+R23+U23 -> 14.98451 | X23: =(W23^2+V23^2)^0.5 -> 27.17799 | Y23: =X23*3^0.5 -> 47.073659
A24: Kt | B24: =RESUM!G31 -> 34.507463 | O24: =$B$16*L24/1000 -> 0 | Z24: coef.
A25: Im (A/fase) | B25: =RESUM!G32 -> 253.86341 | E25: Limit 480V | Z25: 0.877
A26: Ir (A) | B26: =(B8^2-B25^2)^0.5 -> 735.0686 | E26: V/f | F26: f | G26: s pu | H26: s rpm | I26: rpm | J26: Kweix | K26: Meix | L26: Im | M26: Ir | N26: is | O26: Rs Im | P26: Rs Ir | Q26: Rs Is | R26: w Ls Im | S26: w Ls Ir | T26: w Ls Is | U26: E | V26: Vs (m) | W26: Vs (r) | X26: Vs | Y26: Vs (f-f) | Z26: KW eix
A27: s rpm | B27: =B9*120/B3-B5 -> 12.512 | E27: =X27/F27 -> 7.9823973 | F27: =F18 -> 34.7194 | G27: =H27/I27 -> 0.04030035 | H27: =H18 -> 26.9 | I27: =F27*120/$B$3-H27 -> 667.488 | J27: =3*(1-G27)/G27*$B$17/1000*M27^2/1000 -> 1009.657 | K27: =J27/I27*1000*30/PI() -> 14444.476 | L27: =L18 -> 256.6 | M27: =U27/$B$17*1000*G27 -> 1633.1517 | N27: =(L27^2+M27^2)^0.5 -> 1653.1873 | O27: =$B$16*L27/1000 -> 1.564651 | P27: =$B$16*M27/1000 -> 9.9583497 | Q27: =N27*$B$16/1000 -> 10.080519 | R27: =2*PI()*F27*$B$19*L27/1000 -> 20.534871 | S27: =2*PI()*F27*$B$19*M27/1000 -> 130.69587 | T27: =2*PI()*F27*$B$19*N27/1000 -> 132.29925 | U27: =$B$21*2*PI()*F27*L27/1000 -> 214.72902 | V27: =O27-S27 -> -129.13122 | W27: =P27+R27+U27 -> 245.22224 | X27: =(W27^2+V27^2)^0.5 -> 277.14404 | Y27: =X27*3^0.5 -> 480.02756 | Z27: =J27 -> 1009.657
A28: s Hz | B28: =B27/120*B3 -> 0.6256 | E28: =X28/F28 -> 7.4776458 | F28: =F27+($F$49-$F$27)/22 -> 37.013973 | G28: =H28/I28 -> 0.037875153 | H28: =H27+($H$49-$H$27)/22 -> 27.015 | I28: =F28*120/$B$3-H28 -> 713.26445 | J28: =3*(1-G28)/G28*$B$17/1000*M28^2/1000 -> 951.29571 | K28: =J28/I28*1000*30/PI() -> 12736.096 | L28: =L27*F27/F28 -> 240.69284 | M28: =U28/$B$17*1000*G28 -> 1534.8718 | N28: =(L28^2+M28^2)^0.5 -> 1553.6295 | O28: =$B$16*L28/1000 -> 1.4676551 | P28: =$B$16*M28/1000 -> 9.3590754 | Q28: =N28*$B$16/1000 -> 9.4734525 | R28: =2*PI()*F28*$B$19*L28/1000 -> 20.534871 | S28: =2*PI()*F28*$B$19*M28/1000 -> 130.94862 | T28: =2*PI()*F28*$B$19*N28/1000 -> 132.54894 | U28: =$B$21*2*PI()*F28*L28/1000 -> 214.72902 | V28: =O28-S28 -> -129.48097 | W28: =P28+R28+U28 -> 244.62297 | X28: =(W28^2+V28^2)^0.5 -> 276.77738 | Y28: =X28*3^0.5 -> 479.39248 | Z28: =Z27*(I27/I28)^Z$25 -> 952.5988
E29: =X29/F29 -> 7.0337543 | F29: =F28+($F$49-$F$27)/22 -> 39.308545 | G29: =H29/I29 -> 0.035742474 | H29: =H28+($H$49-$H$27)/22 -> 27.13 | I29: =F29*120/$B$3-H29 -> 759.04091 | J29: =3*(1-G29)/G29*$B$17/1000*M29^2/1000 -> 899.71998 | K29: =J29/I29*1000*30/PI() -> 11319.144 | L29: =L28*F28/F29 -> 226.64278 | M29: =U29/$B$17*1000*G29 -> 1448.4461 | N29: =(L29^2+M29^2)^0.5 -> 1466.0706 | O29: =$B$16*L29/1000 -> 1.3819831 | P29: =$B$16*M29/1000 -> 8.8320835 | Q29: =N29*$B$16/1000 -> 8.9395512 | R29: =2*PI()*F29*$B$19*L29/1000 -> 20.534871 | S29: =2*PI()*F29*$B$19*M29/1000 -> 131.23583 | T29: =2*PI()*F29*$B$19*N29/1000 -> 132.83269 | U29: =$B$21*2*PI()*F29*L29/1000 -> 214.72902 | V29: =O29-S29 -> -129.85385 | W29: =P29+R29+U29 -> 244.09598 | X29: =(W29^2+V29^2)^0.5 -> 276.48665 | Y29: =X29*3^0.5 -> 478.88893 | Z29: =Z28*(I28/I29)^Z$25 -> 902.02427
E30: =X30/F30 -> 6.6403439 | F30: =F29+($F$49-$F$27)/22 -> 41.603118 | G30: =H30/I30 -> 0.033852401 | H30: =H29+($H$49-$H$27)/22 -> 27.245 | I30: =F30*120/$B$3-H30 -> 804.81736 | J30: =3*(1-G30)/G30*$B$17/1000*M30^2/1000 -> 853.81282 | K30: =J30/I30*1000*30/PI() -> 10130.636 | L30: =L29*F29/F30 -> 214.14256 | M30: =U30/$B$17*1000*G30 -> 1371.8518 | N30: =(L30^2+M30^2)^0.5 -> 1388.4647 | O30: =$B$16*L30/1000 -> 1.3057614 | P30: =$B$16*M30/1000 -> 8.3650401 | Q30: =N30*$B$16/1000 -> 8.4663398 | R30: =2*PI()*F30*$B$19*L30/1000 -> 20.534871 | S30: =2*PI()*F30*$B$19*M30/1000 -> 131.55162 | T30: =2*PI()*F30*$B$19*N30/1000 -> 133.14469 | U30: =$B$21*2*PI()*F30*L30/1000 -> 214.72902 | V30: =O30-S30 -> -130.24586 | W30: =P30+R30+U30 -> 243.62893 | X30: =(W30^2+V30^2)^0.5 -> 276.25901 | Y30: =X30*3^0.5 -> 478.49464 | Z30: =Z29*(I29/I30)^Z$25 -> 856.86859
E31: =X31/F31 -> 6.289269 | F31: =F30+($F$49-$F$27)/22 -> 43.897691 | G31: =H31/I31 -> 0.032165764 | H31: =H30+($H$49-$H$27)/22 -> 27.36 | I31: =F31*120/$B$3-H31 -> 850.59382 | J31: =3*(1-G31)/G31*$B$17/1000*M31^2/1000 -> 812.68935 | K31: =J31/I31*1000*30/PI() -> 9123.7574 | L31: =L30*F30/F31 -> 202.94913 | M31: =U31/$B$17*1000*G31 -> 1303.5017 | N31: =(L31^2+M31^2)^0.5 -> 1319.2062 | O31: =$B$16*L31/1000 -> 1.237508 | P31: =$B$16*M31/1000 -> 7.9482666 | Q31: =N31*$B$16/1000 -> 8.0440268 | R31: =2*PI()*F31*$B$19*L31/1000 -> 20.534871 | S31: =2*PI()*F31*$B$19*M31/1000 -> 131.89137 | T31: =2*PI()*F31*$B$19*N31/1000 -> 133.48039 | U31: =$B$21*2*PI()*F31*L31/1000 -> 214.72902 | V31: =O31-S31 -> -130.65386 | W31: =P31+R31+U31 -> 243.21216 | X31: =(W31^2+V31^2)^0.5 -> 276.08438 | Y31: =X31*3^0.5 -> 478.19218 | Z31: =Z30*(I30/I31)^Z$25 -> 816.28986
E32: =X32/F32 -> 5.9740471 | F32: =F31+($F$49-$F$27)/22 -> 46.192264 | G32: =H32/I32 -> 0.030651396 | H32: =H31+($H$49-$H$27)/22 -> 27.475 | I32: =F32*120/$B$3-H32 -> 896.37027 | J32: =3*(1-G32)/G32*$B$17/1000*M32^2/1000 -> 775.63958 | K32: =J32/I32*1000*30/PI() -> 8263.117 | L32: =L31*F31/F32 -> 192.86775 | M32: =U32/$B$17*1000*G32 -> 1242.1326 | N32: =(L32^2+M32^2)^0.5 -> 1257.0169 | O32: =$B$16*L32/1000 -> 1.1760356 | P32: =$B$16*M32/1000 -> 7.5740612 | Q32: =N32*$B$16/1000 -> 7.6648198 | R32: =2*PI()*F32*$B$19*L32/1000 -> 20.534871 | S32: =2*PI()*F32*$B$19*M32/1000 -> 132.25142 | T32: =2*PI()*F32*$B$19*N32/1000 -> 133.83616 | U32: =$B$21*2*PI()*F32*L32/1000 -> 214.72902 | V32: =O32-S32 -> -131.07538 | W32: =P32+R32+U32 -> 242.83796 | X32: =(W32^2+V32^2)^0.5 -> 275.95476 | Y32: =X32*3^0.5 -> 477.96766 | Z32: =Z31*(I31/I32)^Z$25 -> 779.61341
E33: =X33/F33 -> 5.6894551 | F33: =F32+($F$49-$F$27)/22 -> 48.486836 | G33: =H33/I33 -> 0.029284186 | H33: =H32+($H$49-$H$27)/22 -> 27.59 | I33: =F33*120/$B$3-H33 -> 942.14673 | J33: =3*(1-G33)/G33*$B$17/1000*M33^2/1000 -> 742.08727 | K33: =J33/I33*1000*30/PI() -> 7521.5582 | L33: =L32*F32/F33 -> 183.74055 | M33: =U33/$B$17*1000*G33 -> 1186.7271 | N33: =(L33^2+M33^2)^0.5 -> 1200.8671 | O33: =$B$16*L33/1000 -> 1.1203813 | P33: =$B$16*M33/1000 -> 7.2362191 | Q33: =N33*$B$16/1000 -> 7.3224396 | R33: =2*PI()*F33*$B$19*L33/1000 -> 20.534871 | S33: =2*PI()*F33*$B$19*M33/1000 -> 132.6288 | T33: =2*PI()*F33*$B$19*N33/1000 -> 134.20909 | U33: =$B$21*2*PI()*F33*L33/1000 -> 214.72902 | V33: =O33-S33 -> -131.50842 | W33: =P33+R33+U33 -> 242.50011 | X33: =(W33^2+V33^2)^0.5 -> 275.86368 | Y33: =X33*3^0.5 -> 477.80991 | Z33: =Z32*(I32/I33)^Z$25 -> 746.29207
E34: =X34/F34 -> 5.4312375 | F34: =F33+($F$49-$F$27)/22 -> 50.781409 | G34: =H34/I34 -> 0.028043678 | H34: =H33+($H$49-$H$27)/22 -> 27.705 | I34: =F34*120/$B$3-H34 -> 987.92318 | J34: =3*(1-G34)/G34*$B$17/1000*M34^2/1000 -> 711.55987 | K34: =J34/I34*1000*30/PI() -> 6877.9601 | L34: =L33*F33/F34 -> 175.43818 | M34: =U34/$B$17*1000*G34 -> 1136.4562 | N34: =(L34^2+M34^2)^0.5 -> 1149.9179 | O34: =$B$16*L34/1000 -> 1.0697565 | P34: =$B$16*M34/1000 -> 6.9296856 | Q34: =N34*$B$16/1000 -> 7.0117702 | R34: =2*PI()*F34*$B$19*L34/1000 -> 20.534871 | S34: =2*PI()*F34*$B$19*M34/1000 -> 133.02111 | T34: =2*PI()*F34*$B$19*N34/1000 -> 134.59679 | U34: =$B$21*2*PI()*F34*L34/1000 -> 214.72902 | V34: =O34-S34 -> -131.95135 | W34: =P34+R34+U34 -> 242.19358 | X34: =(W34^2+V34^2)^0.5 -> 275.80589 | Y34: =X34*3^0.5 -> 477.70982 | Z34: =Z33*(I33/I34)^Z$25 -> 715.87725
E35: =X35/F35 -> 5.195892 | F35: =F34+($F$49-$F$27)/22 -> 53.075982 | G35: =H35/I35 -> 0.02691304 | H35: =H34+($H$49-$H$27)/22 -> 27.82 | I35: =F35*120/$B$3-H35 -> 1033.6996 | J35: =3*(1-G35)/G35*$B$17/1000*M35^2/1000 -> 683.66624 | K35: =J35/I35*1000*30/PI() -> 6315.6951 | L35: =L34*F34/F35 -> 167.85366 | M35: =U35/$B$17*1000*G35 -> 1090.6376 | N35: =(L35^2+M35^2)^0.5 -> 1103.4787 | O35: =$B$16*L35/1000 -> 1.023509 | P35: =$B$16*M35/1000 -> 6.6503012 | Q35: =N35*$B$16/1000 -> 6.7286014 | R35: =2*PI()*F35*$B$19*L35/1000 -> 20.534871 | S35: =2*PI()*F35*$B$19*M35/1000 -> 133.42636 | T35: =2*PI()*F35*$B$19*N35/1000 -> 134.99731 | U35: =$B$21*2*PI()*F35*L35/1000 -> 214.72902 | V35: =O35-S35 -> -132.40285 | W35: =P35+R35+U35 -> 241.9142 | X35: =(W35^2+V35^2)^0.5 -> 275.77707 | Y35: =X35*3^0.5 -> 477.6599 | Z35: =Z34*(I34/I35)^Z$25 -> 687.99762
E36: =X36/F36 -> 4.9805105 | F36: =F35+($F$49-$F$27)/22 -> 55.370555 | G36: =H36/I36 -> 0.025878294 | H36: =H35+($H$49-$H$27)/22 -> 27.935 | I36: =F36*120/$B$3-H36 -> 1079.4761 | J36: =3*(1-G36)/G36*$B$17/1000*M36^2/1000 -> 658.07984 | K36: =J36/I36*1000*30/PI() -> 5821.5273 | L36: =L35*F35/F36 -> 160.89776 | M36: =U36/$B$17*1000*G36 -> 1048.7051 | N36: =(L36^2+M36^2)^0.5 -> 1060.9762 | O36: =$B$16*L36/1000 -> 0.98109447 | P36: =$B$16*M36/1000 -> 6.3946121 | Q36: =N36*$B$16/1000 -> 6.4694366 | R36: =2*PI()*F36*$B$19*L36/1000 -> 20.534871 | S36: =2*PI()*F36*$B$19*M36/1000 -> 133.84291 | T36: =2*PI()*F36*$B$19*N36/1000 -> 135.40903 | U36: =$B$21*2*PI()*F36*L36/1000 -> 214.72902 | V36: =O36-S36 -> -132.86181 | W36: =P36+R36+U36 -> 241.65851 | X36: =(W36^2+V36^2)^0.5 -> 275.77363 | Y36: =X36*3^0.5 -> 477.65394 | Z36: =Z35*(I35/I36)^Z$25 -> 662.34302
E37: =X37/F37 -> 4.7826577 | F37: =F36+($F$49-$F$27)/22 -> 57.665127 | G37: =H37/I37 -> 0.024927737 | H37: =H36+($H$49-$H$27)/22 -> 28.05 | I37: =F37*120/$B$3-H37 -> 1125.2525 | J37: =3*(1-G37)/G37*$B$17/1000*M37^2/1000 -> 634.52594 | K37: =J37/I37*1000*30/PI() -> 5384.8147 | L37: =L36*F36/F37 -> 154.49542 | M37: =U37/$B$17*1000*G37 -> 1010.1842 | N37: =(L37^2+M37^2)^0.5 -> 1021.93 | O37: =$B$16*L37/1000 -> 0.9420554 | P37: =$B$16*M37/1000 -> 6.1597263 | Q37: =N37*$B$16/1000 -> 6.2313479 | R37: =2*PI()*F37*$B$19*L37/1000 -> 20.534871 | S37: =2*PI()*F37*$B$19*M37/1000 -> 134.26937 | T37: =2*PI()*F37*$B$19*N37/1000 -> 135.83058 | U37: =$B$21*2*PI()*F37*L37/1000 -> 214.72902 | V37: =O37-S37 -> -133.32732 | W37: =P37+R37+U37 -> 241.42362 | X37: =(W37^2+V37^2)^0.5 -> 275.79256 | Y37: =X37*3^0.5 -> 477.68673 | Z37: =Z36*(I36/I37)^Z$25 -> 638.65238
E38: =X38/F38 -> 4.6002788 | F38: =F37+($F$49-$F$27)/22 -> 59.9597 | G38: =H38/I38 -> 0.024051497 | H38: =H37+($H$49-$H$27)/22 -> 28.165 | I38: =F38*120/$B$3-H38 -> 1171.029 | J38: =3*(1-G38)/G38*$B$17/1000*M38^2/1000 -> 612.77174 | K38: =J38/I38*1000*30/PI() -> 4996.9207 | L38: =L37*F37/F38 -> 148.5831 | M38: =U38/$B$17*1000*G38 -> 974.67499 | N38: =(L38^2+M38^2)^0.5 -> 985.93523 | O38: =$B$16*L38/1000 -> 0.90600428 | P38: =$B$16*M38/1000 -> 5.9432043 | Q38: =N38*$B$16/1000 -> 6.011865 | R38: =2*PI()*F38*$B$19*L38/1000 -> 20.534871 | S38: =2*PI()*F38*$B$19*M38/1000 -> 134.70459 | T38: =2*PI()*F38*$B$19*N38/1000 -> 136.26081 | U38: =$B$21*2*PI()*F38*L38/1000 -> 214.72902 | V38: =O38-S38 -> -133.79859 | W38: =P38+R38+U38 -> 241.2071 | X38: =(W38^2+V38^2)^0.5 -> 275.83134 | Y38: =X38*3^0.5 -> 477.75389 | Z38: =Z37*(I37/I38)^Z$25 -> 616.70428
E39: =X39/F39 -> 4.4316283 | F39: =F38+($F$49-$F$27)/22 -> 62.254273 | G39: =H39/I39 -> 0.023241184 | H39: =H38+($H$49-$H$27)/22 -> 28.28 | I39: =F39*120/$B$3-H39 -> 1216.8055 | J39: =3*(1-G39)/G39*$B$17/1000*M39^2/1000 -> 592.61865 | K39: =J39/I39*1000*30/PI() -> 4650.7774 | L39: =L38*F38/F39 -> 143.10661 | M39: =U39/$B$17*1000*G39 -> 941.83749 | N39: =(L39^2+M39^2)^0.5 -> 952.64756 | O39: =$B$16*L39/1000 -> 0.8726107 | P39: =$B$16*M39/1000 -> 5.7429735 | Q39: =N39*$B$16/1000 -> 5.8088892 | R39: =2*PI()*F39*$B$19*L39/1000 -> 20.534871 | S39: =2*PI()*F39*$B$19*M39/1000 -> 135.14758 | T39: =2*PI()*F39*$B$19*N39/1000 -> 136.69875 | U39: =$B$21*2*PI()*F39*L39/1000 -> 214.72902 | V39: =O39-S39 -> -134.27497 | W39: =P39+R39+U39 -> 241.00687 | X39: =(W39^2+V39^2)^0.5 -> 275.8878 | Y39: =X39*3^0.5 -> 477.85168 | Z39: =Z38*(I38/I39)^Z$25 -> 596.30966
E40: =X40/F40 -> 4.2752136 | F40: =F39+($F$49-$F$27)/22 -> 64.548845 | G40: =H40/I40 -> 0.02248963 | H40: =H39+($H$49-$H$27)/22 -> 28.395 | I40: =F40*120/$B$3-H40 -> 1262.5819 | J40: =3*(1-G40)/G40*$B$17/1000*M40^2/1000 -> 573.89627 | K40: =J40/I40*1000*30/PI() -> 4340.5546 | L40: =L39*F39/F40 -> 138.01948 | M40: =U40/$B$17*1000*G40 -> 911.38112 | N40: =(L40^2+M40^2)^0.5 -> 921.77271 | O40: =$B$16*L40/1000 -> 0.84159127 | P40: =$B$16*M40/1000 -> 5.5572619 | Q40: =N40*$B$16/1000 -> 5.6206259 | R40: =2*PI()*F40*$B$19*L40/1000 -> 20.534871 | S40: =2*PI()*F40*$B$19*M40/1000 -> 135.59748 | T40: =2*PI()*F40*$B$19*N40/1000 -> 137.14357 | U40: =$B$21*2*PI()*F40*L40/1000 -> 214.72902 | V40: =O40-S40 -> -134.75589 | W40: =P40+R40+U40 -> 240.82116 | X40: =(W40^2+V40^2)^0.5 -> 275.96011 | Y40: =X40*3^0.5 -> 477.97692 | Z40: =Z39*(I39/I40)^Z$25 -> 577.30611
... E48: =X48/F48 -> 3.3406317 | F48: =F47+($F$49-$F$27)/22 -> 82.905427 | G48: =H48/I48 -> 0.017997984 | H48: =H47+($H$49-$H$27)/22 -> 29.315 | I48: =F48*120/$B$3-H48 -> 1628.7935 | J48: =3*(1-G48)/G48*$B$17/1000*M48^2/1000 -> 461.38764 | K48: =J48/I48*1000*30/PI() -> 2705.0251 | L48: =L47*F47/F48 -> 107.45977 | M48: =U48/$B$17*1000*G48 -> 729.35939 | N48: =(L48^2+M48^2)^0.5 -> 737.23315 | O48: =$B$16*L48/1000 -> 0.65524956 | P48: =$B$16*M48/1000 -> 4.4473613 | Q48: =N48*$B$16/1000 -> 4.4953726 | R48: =2*PI()*F48*$B$19*L48/1000 -> 20.534871 | S48: =2*PI()*F48*$B$19*M48/1000 -> 139.37589 | T48: =2*PI()*F48*$B$19*N48/1000 -> 140.88052 | U48: =$B$21*2*PI()*F48*L48/1000 -> 214.72902 | V48: =O48-S48 -> -138.72064 | W48: =P48+R48+U48 -> 239.71126 | X48: =(W48^2+V48^2)^0.5 -> 276.9565 | Y48: =X48*3^0.5 -> 479.70273 | Z48: =Z47*(I47/I48)^Z$25 -> 461.7472
D49: limit PC | E49: =X49/F49 -> 3.2525816 | F49: 85.2 | G49: =H49/I49 -> 0.017574661 | H49: 29.43 | I49: =F49*120/$B$3-H49 -> 1674.57 | J49: =3*(1-G49)/G49*$B$17/1000*M49^2/1000 -> 450.72976 | K49: =J49/I49*1000*30/PI() -> 2570.3029 | L49: =L48*F48/F49 -> 104.5657 | M49: =U49/$B$17*1000*G49 -> 712.20443 | N49: =(L49^2+M49^2)^0.5 -> 719.83966 | O49: =$B$16*L49/1000 -> 0.63760264 | P49: =$B$16*M49/1000 -> 4.3427568 | Q49: =N49*$B$16/1000 -> 4.3893136 | R49: =2*PI()*F49*$B$19*L49/1000 -> 20.534871 | S49: =2*PI()*F49*$B$19*M49/1000 -> 139.86447 | T49: =2*PI()*F49*$B$19*N49/1000 -> 141.36389 | U49: =$B$21*2*PI()*F49*L49/1000 -> 214.72902 | V49: =O49-S49 -> -139.22686 | W49: =P49+R49+U49 -> 239.60665 | X49: =(W49^2+V49^2)^0.5 -> 277.11995 | Y49: =X49*3^0.5 -> 479.98583 | Z49: =Z48*(I48/I49)^Z$25 -> 450.65852
E50: =X50/F50 -> 3.0951783 | F50: =F49*1.05 -> 89.46 | G50: =H50/I50 -> 0.016723776 | H50: =H49 -> 29.43 | I50: =F50*120/$B$3-H50 -> 1759.77 | J50: =3*(1-G50)/G50*$B$17/1000*M50^2/1000 -> 429.27897 | K50: =J50/I50*1000*30/PI() -> 2329.4591 | L50: =L49*F49/F50 -> 99.586385 | M50: =U50/$B$17*1000*G50 -> 677.72276 | N50: =(L50^2+M50^2)^0.5 -> 685.00043 | O50: =$B$16*L50/1000 -> 0.60724061 | P50: =$B$16*M50/1000 -> 4.1325004 | Q50: =N50*$B$16/1000 -> 4.1768769 | R50: =2*PI()*F50*$B$19*L50/1000 -> 20.534871 | S50: =2*PI()*F50*$B$19*M50/1000 -> 139.74751 | T50: =2*PI()*F50*$B$19*N50/1000 -> 141.24818 | U50: =$B$21*2*PI()*F50*L50/1000 -> 214.72902 | V50: =O50-S50 -> -139.14027 | W50: =P50+R50+U50 -> 239.39639 | X50: =(W50^2+V50^2)^0.5 -> 276.89465 | Y50: =X50*3^0.5 -> 479.59561 | Z50: =Z49*(I49/I50)^Z$25 -> 431.46538
E51: =X51/F51 -> 2.9455086 | F51: =F50*1.05 -> 93.933 | G51: =H51/I51 -> 0.015914732 | H51: =H50 -> 29.43 | I51: =F51*120/$B$3-H51 -> 1849.23 | J51: =3*(1-G51)/G51*$B$17/1000*M51^2/1000 -> 408.84791 | K51: =J51/I51*1000*30/PI() -> 2111.2625 | L51: =L50*F50/F51 -> 94.844177 | M51: =U51/$B$17*1000*G51 -> 644.93664 | N51: =(L51^2+M51^2)^0.5 -> 651.87321 | O51: =$B$16*L51/1000 -> 0.57832439 | P51: =$B$16*M51/1000 -> 3.9325829 | Q51: =N51*$B$16/1000 -> 3.9748795 | R51: =2*PI()*F51*$B$19*L51/1000 -> 20.534871 | S51: =2*PI()*F51*$B$19*M51/1000 -> 139.63631 | T51: =2*PI()*F51*$B$19*N51/1000 -> 141.13816 | U51: =$B$21*2*PI()*F51*L51/1000 -> 214.72902 | V51: =O51-S51 -> -139.05799 | W51: =P51+R51+U51 -> 239.19648 | X51: =(W51^2+V51^2)^0.5 -> 276.68046 | Y51: =X51*3^0.5 -> 479.22462 | Z51: =Z50*(I50/I51)^Z$25 -> 413.10433
E52: =X52/F52 -> 2.8031815 | F52: =F51*1.05 -> 98.62965 | G52: =H52/I52 -> 0.01514541 | H52: =H51 -> 29.43 | I52: =F52*120/$B$3-H52 -> 1943.163 | J52: =3*(1-G52)/G52*$B$17/1000*M52^2/1000 -> 389.38827 | K52: =J52/I52*1000*30/PI() -> 1913.5729 | L52: =L51*F51/F52 -> 90.327787 | M52: =U52/$B$17*1000*G52 -> 613.76023 | N52: =(L52^2+M52^2)^0.5 -> 620.37145 | O52: =$B$16*L52/1000 -> 0.55078513 | P52: =$B$16*M52/1000 -> 3.7424808 | Q52: =N52*$B$16/1000 -> 3.7827935 | R52: =2*PI()*F52*$B$19*L52/1000 -> 20.534871 | S52: =2*PI()*F52*$B$19*M52/1000 -> 139.53057 | T52: =2*PI()*F52*$B$19*N52/1000 -> 141.03354 | U52: =$B$21*2*PI()*F52*L52/1000 -> 214.72902 | V52: =O52-S52 -> -138.97978 | W52: =P52+R52+U52 -> 239.00637 | X52: =(W52^2+V52^2)^0.5 -> 276.47681 | Y52: =X52*3^0.5 -> 478.87188 | Z52: =Z51*(I51/I52)^Z$25 -> 395.53798
E53: =X53/F53 -> 2.6678268 | F53: =F52*1.05 -> 103.56113 | G53: =H53/I53 -> 0.014413804 | H53: =H52 -> 29.43 | I53: =F53*120/$B$3-H53 -> 2041.7927 | J53: =3*(1-G53)/G53*$B$17/1000*M53^2/1000 -> 370.85399 | K53: =J53/I53*1000*30/PI() -> 1734.4537 | L53: =L52*F52/F53 -> 86.026464 | M53: =U53/$B$17*1000*G53 -> 584.11229 | N53: =(L53^2+M53^2)^0.5 -> 590.41318 | O53: =$B$16*L53/1000 -> 0.52455727 | P53: =$B$16*M53/1000 -> 3.5616987 | Q53: =N53*$B$16/1000 -> 3.6001192 | R53: =2*PI()*F53*$B$19*L53/1000 -> 20.534871 | S53: =2*PI()*F53*$B$19*M53/1000 -> 139.43001 | T53: =2*PI()*F53*$B$19*N53/1000 -> 140.93406 | U53: =$B$21*2*PI()*F53*L53/1000 -> 214.72902 | V53: =O53-S53 -> -138.90545 | W53: =P53+R53+U53 -> 238.82559 | X53: =(W53^2+V53^2)^0.5 -> 276.28317 | Y53: =X53*3^0.5 -> 478.53648 | Z53: =Z52*(I52/I53)^Z$25 -> 378.73076
E54: =X54/F54 -> 16.195156 | F54: =F53*1.05 -> 108.73919 | G54: =H54/I54 -> 0.17126388 | H54: 318 | I54: =F54*120/$B$3-H54 -> 1856.7838 | J54: =3*(1-G54)/G54*$B$17/1000*M54^2/1000 -> 3705.201 | K54: =J54/I54*1000*30/PI() -> 19055.565 | L54: =L53*F53/F54 -> 81.929966 | M54: =U54/$B$17*1000*G54 -> 6940.3841 | N54: =(L54^2+M54^2)^0.5 -> 6940.8676 | O54: =$B$16*L54/1000 -> 0.49957835 | P54: =$B$16*M54/1000 -> 42.319871 | Q54: =N54*$B$16/1000 -> 42.32282 | R54: =2*PI()*F54*$B$19*L54/1000 -> 20.534871 | S54: =2*PI()*F54*$B$19*M54/1000 -> 1739.5332 | T54: =2*PI()*F54*$B$19*N54/1000 -> 1739.6544 | U54: =$B$21*2*PI()*F54*L54/1000 -> 214.72902 | V54: =O54-S54 -> -1739.0336 | W54: =P54+R54+U54 -> 277.58377 | X54: =(W54^2+V54^2)^0.5 -> 1761.0482 | Y54: =X54*3^0.5 -> 3050.2249 | Z54: =Z53*(I53/I54)^Z$25 -> 411.63008
E55: =X55/F55 -> 15.299226 | F55: =F54*1.05 -> 114.17615 | G55: =H55/I55 -> 0.161789 | H55: =H54 -> 318 | I55: =F55*120/$B$3-H55 -> 1965.523 | J55: =3*(1-G55)/G55*$B$17/1000*M55^2/1000 -> 3540.2348 | K55: =J55/I55*1000*30/PI() -> 17199.876 | L55: =L54*F54/F55 -> 78.028539 | M55: =U55/$B$17*1000*G55 -> 6556.4192 | N55: =(L55^2+M55^2)^0.5 -> 6556.8835 | O55: =$B$16*L55/1000 -> 0.4757889 | P55: =$B$16*M55/1000 -> 39.978597 | Q55: =N55*$B$16/1000 -> 39.981428 | R55: =2*PI()*F55*$B$19*L55/1000 -> 20.534871 | S55: =2*PI()*F55*$B$19*M55/1000 -> 1725.4613 | T55: =2*PI()*F55*$B$19*N55/1000 -> 1725.5835 | U55: =$B$21*2*PI()*F55*L55/1000 -> 214.72902 | V55: =O55-S55 -> -1724.9855 | W55: =P55+R55+U55 -> 275.24249 | X55: =(W55^2+V55^2)^0.5 -> 1746.8067 | Y55: =X55*3^0.5 -> 3025.5579 | Z55: =Z54*(I54/I55)^Z$25 -> 391.58899
E56: =X56/F56 -> 14.459331 | F56: =F55*1.05 -> 119.88496 | G56: =H56/I56 -> 0.15290673 | H56: =H55 -> 318 | I56: =F56*120/$B$3-H56 -> 2079.6991 | J56: =3*(1-G56)/G56*$B$17/1000*M56^2/1000 -> 3381.33 | K56: =J56/I56*1000*30/PI() -> 15525.959 | L56: =L55*F55/F56 -> 74.312894 | M56: =U56/$B$17*1000*G56 -> 6196.4697 | N56: =(L56^2+M56^2)^0.5 -> 6196.9153 | O56: =$B$16*L56/1000 -> 0.45313229 | P56: =$B$16*M56/1000 -> 37.783759 | Q56: =N56*$B$16/1000 -> 37.786476 | R56: =2*PI()*F56*$B$19*L56/1000 -> 20.534871 | S56: =2*PI()*F56*$B$19*M56/1000 -> 1712.2696 | T56: =2*PI()*F56*$B$19*N56/1000 -> 1712.3927 | U56: =$B$21*2*PI()*F56*L56/1000 -> 214.72902 | V56: =O56-S56 -> -1711.8164 | W56: =P56+R56+U56 -> 273.04765 | X56: =(W56^2+V56^2)^0.5 -> 1733.4563 | Y56: =X56*3^0.5 -> 3002.4343 | Z56: =Z55*(I55/I56)^Z$25 -> 372.66992
E58: Corba parell-velocitat a N1 | P58: =P63/O63 -> 1.8342324 | S58: =S63/R63 -> 1.8342324
E59: V/f | F59: f | G59: s pu | H59: s rpm | I59: rpm | J59: Kweix | K59: Meix | L59: Im | M59: Ir | N59: is | O59: Rs Im | P59: Rs Ir | Q59: Rs Is | R59: w Ls Im | S59: w Ls Ir | T59: w Ls Is | U59: E | V59: Vs (m) | W59: Vs (r) | X59: Vs | Y59: Vs (f-f)
E60: =X60/F60 -> 2.7613238 | F60: =F$71-$H$71/120*$B$3+H60/120*$B$3 -> 83.7285 | G60: =H60/I60 -> 5.9716823e-10 | H60: 1e-06 | I60: =I61 -> 1674.57 | J60: =3*(1-G60)/G60*$B$17/1000*M60^2/1000 -> 1.5055454e-05 | K60: =J60/I60*1000*30/PI() -> 8.5854274e-05 | L60: =L61 -> 104.5657 | M60: =U60/$B$17*1000*G60 -> 2.3781986e-05 | N60: =(L60^2+M60^2)^0.5 -> 104.5657 | O60: =$B$16*L60/1000 -> 0.63760264 | P60: =$B$16*M60/1000 -> 1.4501368e-07 | Q60: =N60*$B$16/1000 -> 0.63760264 | R60: =2*PI()*F60*$B$19*L60/1000 -> 20.180211 | S60: =2*PI()*F60*$B$19*M60/1000 -> 4.5897028e-06 | T60: =2*PI()*F60*$B$19*N60/1000 -> 20.180211 | U60: =$B$21*2*PI()*F60*L60/1000 -> 211.02041 | V60: =O60-S60 -> 0.63759805 | W60: =P60+R60+U60 -> 231.20062 | X60: =(W60^2+V60^2)^0.5 -> 231.2015 | Y60: =X60*3^0.5 -> 400.45275
E61: =X61/F61 -> 2.7694521 | F61: =F$71-$H$71/120*$B$3+H61/120*$B$3 -> 83.862273 | G61: =H61/I61 -> 0.001597697 | H61: =H60+($H$71-$H$60)/11 -> 2.6754555 | I61: =I62 -> 1674.57 | J61: =3*(1-G61)/G61*$B$17/1000*M61^2/1000 -> 40.344448 | K61: =J61/I61*1000*30/PI() -> 230.06569 | L61: =L62 -> 104.5657 | M61: =U61/$B$17*1000*G61 -> 63.729303 | N61: =(L61^2+M61^2)^0.5 -> 122.45575 | O61: =$B$16*L61/1000 -> 0.63760264 | P61: =$B$16*M61/1000 -> 0.3885975 | Q61: =N61*$B$16/1000 -> 0.74668945 | R61: =2*PI()*F61*$B$19*L61/1000 -> 20.212453 | S61: =2*PI()*F61*$B$19*M61/1000 -> 12.318815 | T61: =2*PI()*F61*$B$19*N61/1000 -> 23.670582 | U61: =$B$21*2*PI()*F61*L61/1000 -> 211.35756 | V61: =O61-S61 -> -11.681212 | W61: =P61+R61+U61 -> 231.95861 | X61: =(W61^2+V61^2)^0.5 -> 232.25255 | Y61: =X61*3^0.5 -> 402.27321
E62: =X62/F62 -> 2.7853715 | F62: =F$71-$H$71/120*$B$3+H62/120*$B$3 -> 83.996045 | G62: =H62/I62 -> 0.0031953934 | H62: =H61+($H$71-$H$60)/11 -> 5.3509099 | I62: =I63 -> 1674.57 | J62: =3*(1-G62)/G62*$B$17/1000*M62^2/1000 -> 80.816973 | K62: =J62/I62*1000*30/PI() -> 460.86174 | L62: =L63 -> 104.5657 | M62: =U62/$B$17*1000*G62 -> 127.6619 | N62: =(L62^2+M62^2)^0.5 -> 165.01984 | O62: =$B$16*L62/1000 -> 0.63760264 | P62: =$B$16*M62/1000 -> 0.7784346 | Q62: =N62*$B$16/1000 -> 1.0062294 | R62: =2*PI()*F62*$B$19*L62/1000 -> 20.244695 | S62: =2*PI()*F62*$B$19*M62/1000 -> 24.716289 | T62: =2*PI()*F62*$B$19*N62/1000 -> 31.949062 | U62: =$B$21*2*PI()*F62*L62/1000 -> 211.6947 | V62: =O62-S62 -> -24.078686 | W62: =P62+R62+U62 -> 232.71783 | X62: =(W62^2+V62^2)^0.5 -> 233.96019 | Y62: =X62*3^0.5 -> 405.23094
E63: =X63/F63 -> 2.8090234 | F63: =F$71-$H$71/120*$B$3+H63/120*$B$3 -> 84.129818 | G63: =H63/I63 -> 0.0047930898 | H63: =H62+($H$71-$H$60)/11 -> 8.0263644 | I63: =I64 -> 1674.57 | J63: =3*(1-G63)/G63*$B$17/1000*M63^2/1000 -> 121.41697 | K63: =J63/I63*1000*30/PI() -> 692.38469 | L63: =L64 -> 104.5657 | M63: =U63/$B$17*1000*G63 -> 191.79781 | N63: =(L63^2+M63^2)^0.5 -> 218.44996 | O63: =$B$16*L63/1000 -> 0.63760264 | P63: =$B$16*M63/1000 -> 1.1695114 | Q63: =N63*$B$16/1000 -> 1.3320263 | R63: =2*PI()*F63*$B$19*L63/1000 -> 20.276937 | S63: =2*PI()*F63*$B$19*M63/1000 -> 37.192615 | T63: =2*PI()*F63*$B$19*N63/1000 -> 42.360887 | U63: =$B$21*2*PI()*F63*L63/1000 -> 212.03185 | V63: =O63-S63 -> -36.555012 | W63: =P63+R63+U63 -> 233.4783 | X63: =(W63^2+V63^2)^0.5 -> 236.32263 | Y63: =X63*3^0.5 -> 409.3228
E64: =X64/F64 -> 2.8402877 | F64: =F$71-$H$71/120*$B$3+H64/120*$B$3 -> 84.263591 | G64: =H64/I64 -> 0.0063907862 | H64: =H63+($H$71-$H$60)/11 -> 10.701819 | I64: =I65 -> 1674.57 | J64: =3*(1-G64)/G64*$B$17/1000*M64^2/1000 -> 162.1438 | K64: =J64/I64*1000*30/PI() -> 924.63095 | L64: =L65 -> 104.5657 | M64: =U64/$B$17*1000*G64 -> 256.13703 | N64: =(L64^2+M64^2)^0.5 -> 276.65893 | O64: =$B$16*L64/1000 -> 0.63760264 | P64: =$B$16*M64/1000 -> 1.561828 | Q64: =N64*$B$16/1000 -> 1.6869629 | R64: =2*PI()*F64*$B$19*L64/1000 -> 20.309178 | S64: =2*PI()*F64*$B$19*M64/1000 -> 49.747981 | T64: =2*PI()*F64*$B$19*N64/1000 -> 53.733829 | U64: =$B$21*2*PI()*F64*L64/1000 -> 212.369 | V64: =O64-S64 -> -49.110378 | W64: =P64+R64+U64 -> 234.24 | X64: =(W64^2+V64^2)^0.5 -> 239.33284 | Y64: =X64*3^0.5 -> 414.53664
E65: =X65/F65 -> 2.8789888 | F65: =F$71-$H$71/120*$B$3+H65/120*$B$3 -> 84.397364 | G65: =H65/I65 -> 0.0079884826 | H65: =H64+($H$71-$H$60)/11 -> 13.377273 | I65: =I66 -> 1674.57 | J65: =3*(1-G65)/G65*$B$17/1000*M65^2/1000 -> 202.99685 | K65: =J65/I65*1000*30/PI() -> 1157.5969 | L65: =L66 -> 104.5657 | M65: =U65/$B$17*1000*G65 -> 320.67957 | N65: =(L65^2+M65^2)^0.5 -> 337.29716 | O65: =$B$16*L65/1000 -> 0.63760264 | P65: =$B$16*M65/1000 -> 1.9553843 | Q65: =N65*$B$16/1000 -> 2.0567122 | R65: =2*PI()*F65*$B$19*L65/1000 -> 20.34142 | S65: =2*PI()*F65*$B$19*M65/1000 -> 62.382575 | T65: =2*PI()*F65*$B$19*N65/1000 -> 65.615235 | U65: =$B$21*2*PI()*F65*L65/1000 -> 212.70614 | V65: =O65-S65 -> -61.744973 | W65: =P65+R65+U65 -> 235.00295 | X65: =(W65^2+V65^2)^0.5 -> 242.97907 | Y65: =X65*3^0.5 -> 420.85209
E66: =X66/F66 -> 2.9249031 | F66: =F$71-$H$71/120*$B$3+H66/120*$B$3 -> 84.531136 | G66: =H66/I66 -> 0.009586179 | H66: =H65+($H$71-$H$60)/11 -> 16.052728 | I66: =I67 -> 1674.57 | J66: =3*(1-G66)/G66*$B$17/1000*M66^2/1000 -> 243.97547 | K66: =J66/I66*1000*30/PI() -> 1391.279 | L66: =L67 -> 104.5657 | M66: =U66/$B$17*1000*G66 -> 385.42543 | N66: =(L66^2+M66^2)^0.5 -> 399.35792 | O66: =$B$16*L66/1000 -> 0.63760264 | P66: =$B$16*M66/1000 -> 2.3501804 | Q66: =N66*$B$16/1000 -> 2.4351355 | R66: =2*PI()*F66*$B$19*L66/1000 -> 20.373662 | S66: =2*PI()*F66*$B$19*M66/1000 -> 75.096586 | T66: =2*PI()*F66*$B$19*N66/1000 -> 77.811203 | U66: =$B$21*2*PI()*F66*L66/1000 -> 213.04329 | V66: =O66-S66 -> -74.458983 | W66: =P66+R66+U66 -> 235.76713 | X66: =(W66^2+V66^2)^0.5 -> 247.24539 | Y66: =X66*3^0.5 -> 428.24157
E67: =X67/F67 -> 2.9777674 | F67: =F$71-$H$71/120*$B$3+H67/120*$B$3 -> 84.664909 | G67: =H67/I67 -> 0.011183875 | H67: =H66+($H$71-$H$60)/11 -> 18.728182 | I67: =I68 -> 1674.57 | J67: =3*(1-G67)/G67*$B$17/1000*M67^2/1000 -> 285.07904 | K67: =J67/I67*1000*30/PI() -> 1625.6736 | L67: =L68 -> 104.5657 | M67: =U67/$B$17*1000*G67 -> 450.3746 | N67: =(L67^2+M67^2)^0.5 -> 462.35405 | O67: =$B$16*L67/1000 -> 0.63760264 | P67: =$B$16*M67/1000 -> 2.7462162 | Q67: =N67*$B$16/1000 -> 2.8192624 | R67: =2*PI()*F67*$B$19*L67/1000 -> 20.405904 | S67: =2*PI()*F67*$B$19*M67/1000 -> 87.890201 | T67: =2*PI()*F67*$B$19*N67/1000 -> 90.22798 | U67: =$B$21*2*PI()*F67*L67/1000 -> 213.38044 | V67: =O67-S67 -> -87.252599 | W67: =P67+R67+U67 -> 236.53256 | X67: =(W67^2+V67^2)^0.5 -> 252.11241 | Y67: =X67*3^0.5 -> 436.6715
E68: =X68/F68 -> 3.0372881 | F68: =F$71-$H$71/120*$B$3+H68/120*$B$3 -> 84.798682 | G68: =H68/I68 -> 0.012781572 | H68: =H67+($H$71-$H$60)/11 -> 21.403637 | I68: =I69 -> 1674.57 | J68: =3*(1-G68)/G68*$B$17/1000*M68^2/1000 -> 326.30689 | K68: =J68/I68*1000*30/PI() -> 1860.777 | L68: =L69 -> 104.5657 | M68: =U68/$B$17*1000*G68 -> 515.52708 | N68: =(L68^2+M68^2)^0.5 -> 526.02487 | O68: =$B$16*L68/1000 -> 0.63760264 | P68: =$B$16*M68/1000 -> 3.1434917 | Q68: =N68*$B$16/1000 -> 3.2075033 | R68: =2*PI()*F68*$B$19*L68/1000 -> 20.438146 | S68: =2*PI()*F68*$B$19*M68/1000 -> 100.76361 | T68: =2*PI()*F68*$B$19*N68/1000 -> 102.81548 | U68: =$B$21*2*PI()*F68*L68/1000 -> 213.71758 | V68: =O68-S68 -> -100.12601 | W68: =P68+R68+U68 -> 237.29922 | X68: =(W68^2+V68^2)^0.5 -> 257.55803 | Y68: =X68*3^0.5 -> 446.10359
E69: =X69/F69 -> 3.1031502 | F69: =F$71-$H$71/120*$B$3+H69/120*$B$3 -> 84.932455 | G69: =H69/I69 -> 0.014379268 | H69: =H68+($H$71-$H$60)/11 -> 24.079091 | I69: =I70 -> 1674.57 | J69: =3*(1-G69)/G69*$B$17/1000*M69^2/1000 -> 367.6584 | K69: =J69/I69*1000*30/PI() -> 2096.5855 | L69: =L70 -> 104.5657 | M69: =U69/$B$17*1000*G69 -> 580.88289 | N69: =(L69^2+M69^2)^0.5 -> 590.21938 | O69: =$B$16*L69/1000 -> 0.63760264 | P69: =$B$16*M69/1000 -> 3.542007 | Q69: =N69*$B$16/1000 -> 3.5989375 | R69: =2*PI()*F69*$B$19*L69/1000 -> 20.470388 | S69: =2*PI()*F69*$B$19*M69/1000 -> 113.717 | T69: =2*PI()*F69*$B$19*N69/1000 -> 115.54476 | U69: =$B$21*2*PI()*F69*L69/1000 -> 214.05473 | V69: =O69-S69 -> -113.07939 | W69: =P69+R69+U69 -> 238.06712 | X69: =(W69^2+V69^2)^0.5 -> 263.55816 | Y69: =X69*3^0.5 -> 456.49613
E70: =X70/F70 -> 3.1750258 | F70: =F$71-$H$71/120*$B$3+H70/120*$B$3 -> 85.066227 | G70: =H70/I70 -> 0.015976965 | H70: =H69+($H$71-$H$60)/11 -> 26.754546 | I70: =I71 -> 1674.57 | J70: =3*(1-G70)/G70*$B$17/1000*M70^2/1000 -> 409.13291 | K70: =J70/I70*1000*30/PI() -> 2333.0953 | L70: =L71 -> 104.5657 | M70: =U70/$B$17*1000*G70 -> 646.442 | N70: =(L70^2+M70^2)^0.5 -> 654.84445 | O70: =$B$16*L70/1000 -> 0.63760264 | P70: =$B$16*M70/1000 -> 3.941762 | Q70: =N70*$B$16/1000 -> 3.992997 | R70: =2*PI()*F70*$B$19*L70/1000 -> 20.50263 | S70: =2*PI()*F70*$B$19*M70/1000 -> 126.75055 | T70: =2*PI()*F70*$B$19*N70/1000 -> 128.39805 | U70: =$B$21*2*PI()*F70*L70/1000 -> 214.39188 | V70: =O70-S70 -> -126.11295 | W70: =P70+R70+U70 -> 238.83627 | X70: =(W70^2+V70^2)^0.5 -> 270.08747 | Y70: =X70*3^0.5 -> 467.80521
D71: maxim | E71: =X71/F71 -> 3.2525816 | F71: =F49 -> 85.2 | G71: =H71/I71 -> 0.017574661 | H71: =H49 -> 29.43 | I71: =F71*120/$B$3-H71 -> 1674.57 | J71: =3*(1-G71)/G71*$B$17/1000*M71^2/1000 -> 450.72976 | K71: =J71/I71*1000*30/PI() -> 2570.3029 | L71: =L49 -> 104.5657 | M71: =U71/$B$17*1000*G71 -> 712.20443 | N71: =(L71^2+M71^2)^0.5 -> 719.83966 | O71: =$B$16*L71/1000 -> 0.63760264 | P71: =$B$16*M71/1000 -> 4.3427568 | Q71: =N71*$B$16/1000 -> 4.3893136 | R71: =2*PI()*F71*$B$19*L71/1000 -> 20.534871 | S71: =2*PI()*F71*$B$19*M71/1000 -> 139.86447 | T71: =2*PI()*F71*$B$19*N71/1000 -> 141.36389 | U71: =$B$21*2*PI()*F71*L71/1000 -> 214.72902 | V71: =O71-S71 -> -139.22686 | W71: =P71+R71+U71 -> 239.60665 | X71: =(W71^2+V71^2)^0.5 -> 277.11995 | Y71: =X71*3^0.5 -> 479.98583
E72: =X72/F72 -> 3.2524304 | F72: =F71 -> 85.2 | G72: =H72/I72 -> 0.020560502 | H72: =H71+5 -> 34.43 | I72: =I71 -> 1674.57 | J72: =3*(1-G72)/G72*$B$17/1000*M72^2/1000 -> 478.68466 | K72: =J72/I72*1000*30/PI() -> 2729.7168 | L72: 99.78 | M72: =U72/$B$17*1000*G72 -> 795.07055 | N72: =(L72^2+M72^2)^0.5 -> 801.30719 | O72: =$B$16*L72/1000 -> 0.6084212 | P72: =$B$16*M72/1000 -> 4.8480434 | Q72: =N72*$B$16/1000 -> 4.8860722 | R72: =2*PI()*F72*$B$19*L72/1000 -> 19.595043 | S72: =2*PI()*F72*$B$19*M72/1000 -> 156.13792 | T72: =2*PI()*F72*$B$19*N72/1000 -> 157.36269 | U72: =$B$21*2*PI()*F72*L72/1000 -> 204.90142 | V72: =O72-S72 -> -155.5295 | W72: =P72+R72+U72 -> 229.34451 | X72: =(W72^2+V72^2)^0.5 -> 277.10707 | Y72: =X72*3^0.5 -> 479.96353
E73: =X73/F73 -> 3.2528623 | F73: =F72 -> 85.2 | G73: =H73/I73 -> 0.023546343 | H73: =H72+5 -> 39.43 | I73: =I72 -> 1674.57 | J73: =3*(1-G73)/G73*$B$17/1000*M73^2/1000 -> 495.73291 | K73: =J73/I73*1000*30/PI() -> 2826.935 | L73: 95.03 | M73: =U73/$B$17*1000*G73 -> 867.18678 | N73: =(L73^2+M73^2)^0.5 -> 872.37814 | O73: =$B$16*L73/1000 -> 0.57945747 | P73: =$B$16*M73/1000 -> 5.2877813 | Q73: =N73*$B$16/1000 -> 5.3194363 | R73: =2*PI()*F73*$B$19*L73/1000 -> 18.662226 | S73: =2*PI()*F73*$B$19*M73/1000 -> 170.30028 | T73: =2*PI()*F73*$B$19*N73/1000 -> 171.31977 | U73: =$B$21*2*PI()*F73*L73/1000 -> 195.14715 | V73: =O73-S73 -> -169.72082 | W73: =P73+R73+U73 -> 219.09715 | X73: =(W73^2+V73^2)^0.5 -> 277.14386 | Y73: =X73*3^0.5 -> 480.02725
E74: =X74/F74 -> 0.14118787 | F74: =F73 -> 85.2 | G74: =H74/I74 -> 0.029518026 | H74: =H73+10 -> 49.43 | I74: =I73 -> 1674.57 | J74: =3*(1-G74)/G74*$B$17/1000*M74^2/1000 -> 0.95157631 | K74: =J74/I74*1000*30/PI() -> 5.4263987 | L74: 3.73 | M74: =U74/$B$17*1000*G74 -> 42.670191 | N74: =(L74^2+M74^2)^0.5 -> 42.832909 | O74: =$B$16*L74/1000 -> 0.022744148 | P74: =$B$16*M74/1000 -> 0.2601869 | Q74: =N74*$B$16/1000 -> 0.26117909 | R74: =2*PI()*F74*$B$19*L74/1000 -> 0.73250661 | S74: =2*PI()*F74*$B$19*M74/1000 -> 8.3796775 | T74: =2*PI()*F74*$B$19*N74/1000 -> 8.4116325 | U74: =$B$21*2*PI()*F74*L74/1000 -> 7.6596744 | V74: =O74-S74 -> -8.3569333 | W74: =P74+R74+U74 -> 8.6523679 | X74: =(W74^2+V74^2)^0.5 -> 12.029206 | Y74: =X74*3^0.5 -> 20.835197
E75: =X75/F75 -> 0.15481876 | F75: =F74 -> 85.2 | G75: =H75/I75 -> 0.035489708 | H75: =H74+10 -> 59.43 | I75: =I74 -> 1674.57 | J75: =3*(1-G75)/G75*$B$17/1000*M75^2/1000 -> 1.1188295 | K75: =J75/I75*1000*30/PI() -> 6.3801663 | L75: 3.7 | M75: =U75/$B$17*1000*G75 -> 50.890017 | N75: =(L75^2+M75^2)^0.5 -> 51.024346 | O75: =$B$16*L75/1000 -> 0.022561219 | P75: =$B$16*M75/1000 -> 0.31030833 | Q75: =N75*$B$16/1000 -> 0.31112741 | R75: =2*PI()*F75*$B$19*L75/1000 -> 0.72661514 | S75: =2*PI()*F75*$B$19*M75/1000 -> 9.9939073 | T75: =2*PI()*F75*$B$19*N75/1000 -> 10.020287 | U75: =$B$21*2*PI()*F75*L75/1000 -> 7.5980685 | V75: =O75-S75 -> -9.971346 | W75: =P75+R75+U75 -> 8.6349919 | X75: =(W75^2+V75^2)^0.5 -> 13.190558 | Y75: =X75*3^0.5 -> 22.846717
E82: corba a pnom
E83: V/f | F83: f | G83: s pu | H83: s rpm | I83: rpm | J83: Kweix | K83: Meix | L83: Im | M83: Ir | N83: is | O83: Rs Im | P83: Rs Ir | Q83: Rs Is | R83: w Ls Im | S83: w Ls Ir | T83: w Ls Is | U83: E | V83: Vs (m) | W83: Vs (r) | X83: Vs | Y83: Vs (f-f)
E84: =X84/F84 -> 7.0323782 | F84: =F5 -> 34 | G84: =H84/I84 -> 0.018744906 | H84: =H5 -> 12.512 | I84: =F84*120/$B$3-H84 -> 667.488 | J84: =J5 -> 450.70796 | K84: =J84/I84*1000*30/PI() -> 6447.972 | L84: =L5 -> 253.86341 | M84: =M5 -> 735.95481 | N84: =(L84^2+M84^2)^0.5 -> 778.5089 | O84: =$B$16*L84/1000 -> 1.5479643 | P84: =$B$16*M84/1000 -> 4.4875777 | Q84: =N84*$B$16/1000 -> 4.7470567 | R84: =2*PI()*F84*$B$19*L84/1000 -> 19.894917 | S84: =2*PI()*F84*$B$19*M84/1000 -> 57.675742 | T84: =2*PI()*F84*$B$19*N84/1000 -> 61.010646 | U84: =$B$21*2*PI()*F84*L84/1000 -> 208.03715 | V84: =O84-S84 -> -56.127777 | W84: =P84+R84+U84 -> 232.41965 | X84: =(W84^2+V84^2)^0.5 -> 239.10086 | Y84: =X84*3^0.5 -> 414.13483
E85: =X85/F85 -> 5.8977805 | F85: =IF(F84*1.2>$F$92,$F$92,F84*1.2) -> 40.8 | G85: =H85/I85 -> 0.018744906 | H85: =H84*F85/F84 -> 15.0144 | I85: =F85*120/$B$3-H85 -> 800.9856 | J85: =J84 -> 450.70796 | K85: =J85/I85*1000*30/PI() -> 5373.31 | L85: =L84*F84/F85/1.053 -> 200.90488 | M85: =M84*J85/J84 -> 735.95481 | N85: =(L85^2+M85^2)^0.5 -> 762.88416 | O85: =$B$16*L85/1000 -> 1.225043 | P85: =$B$16*M85/1000 -> 4.4875777 | Q85: =N85*$B$16/1000 -> 4.6517829 | R85: =2*PI()*F85*$B$19*L85/1000 -> 18.893559 | S85: =2*PI()*F85*$B$19*M85/1000 -> 69.21089 | T85: =2*PI()*F85*$B$19*N85/1000 -> 71.743389 | U85: =$B$21*1.05*2*PI()*F85*L85/1000 -> 207.44445 | V85: =O85-S85 -> -67.985847 | W85: =P85+R85+U85 -> 230.82559 | X85: =(W85^2+V85^2)^0.5 -> 240.62944 | Y85: =X85*3^0.5 -> 416.78242
E86: =X86/F86 -> 4.7852022 | F86: =IF(F85*1.2>$F$92,$F$92,F85*1.2) -> 48.96 | G86: =H86/I86 -> 0.018744906 | H86: =H85*F86/F85 -> 18.01728 | I86: =F86*120/$B$3-H86 -> 961.18272 | J86: =J85 -> 450.70796 | K86: =J86/I86*1000*30/PI() -> 4477.7584 | L86: =L85*F85/F86/1.053 -> 158.99405 | M86: =M85*J86/J85 -> 735.95481 | N86: =(L86^2+M86^2)^0.5 -> 752.93332 | O86: =$B$16*L86/1000 -> 0.96948636 | P86: =$B$16*M86/1000 -> 4.4875777 | Q86: =N86*$B$16/1000 -> 4.5911063 | R86: =2*PI()*F86*$B$19*L86/1000 -> 17.942601 | S86: =2*PI()*F86*$B$19*M86/1000 -> 83.053068 | T86: =2*PI()*F86*$B$19*N86/1000 -> 84.969106 | U86: =$B$21*1.05*2*PI()*F86*L86/1000 -> 197.00328 | V86: =O86-S86 -> -82.083581 | W86: =P86+R86+U86 -> 219.43346 | X86: =(W86^2+V86^2)^0.5 -> 234.2835 | Y86: =X86*3^0.5 -> 405.79092
E87: =X87/F87 -> 3.9295555 | F87: =IF(F86*1.2>$F$92,$F$92,F86*1.2) -> 58.752 | G87: =H87/I87 -> 0.018744906 | H87: =H86*F87/F86 -> 21.620736 | I87: =F87*120/$B$3-H87 -> 1153.4193 | J87: =J86 -> 450.70796 | K87: =J87/I87*1000*30/PI() -> 3731.4653 | L87: =L86*F86/F87/1.053 -> 125.82625 | M87: =M86*J87/J86 -> 735.95481 | N87: =(L87^2+M87^2)^0.5 -> 746.63359 | O87: =$B$16*L87/1000 -> 0.7672415 | P87: =$B$16*M87/1000 -> 4.4875777 | Q87: =N87*$B$16/1000 -> 4.552693 | R87: =2*PI()*F87*$B$19*L87/1000 -> 17.039507 | S87: =2*PI()*F87*$B$19*M87/1000 -> 99.663681 | T87: =2*PI()*F87*$B$19*N87/1000 -> 101.10981 | U87: =$B$21*1.05*2*PI()*F87*L87/1000 -> 187.08764 | V87: =O87-S87 -> -98.89644 | W87: =P87+R87+U87 -> 208.61472 | X87: =(W87^2+V87^2)^0.5 -> 230.86924 | Y87: =X87*3^0.5 -> 399.87726
E88: =X88/F88 -> 3.2806691 | F88: =IF(F87*1.2>$F$92,$F$92,F87*1.2) -> 70.5024 | G88: =H88/I88 -> 0.018744906 | H88: =H87*F88/F87 -> 25.944883 | I88: =F88*120/$B$3-H88 -> 1384.1031 | J88: =J87 -> 450.70796 | K88: =J88/I88*1000*30/PI() -> 3109.5544 | L88: =L87*F87/F88/1.053 -> 99.577595 | M88: =M87*J88/J87 -> 735.95481 | N88: =(L88^2+M88^2)^0.5 -> 742.66087 | O88: =$B$16*L88/1000 -> 0.607187 | P88: =$B$16*M88/1000 -> 4.4875777 | Q88: =N88*$B$16/1000 -> 4.5284688 | R88: =2*PI()*F88*$B$19*L88/1000 -> 16.181868 | S88: =2*PI()*F88*$B$19*M88/1000 -> 119.59642 | T88: =2*PI()*F88*$B$19*N88/1000 -> 120.68619 | U88: =$B$21*1.05*2*PI()*F88*L88/1000 -> 177.67107 | V88: =O88-S88 -> -118.98923 | W88: =P88+R88+U88 -> 198.34051 | X88: =(W88^2+V88^2)^0.5 -> 231.29504 | Y88: =X88*3^0.5 -> 400.61477
E89: =X89/F89 -> 2.7976743 | F89: =IF(F88*1.2>$F$92,$F$92,F88*1.2) -> 84.60288 | G89: =H89/I89 -> 0.018744906 | H89: =H88*F89/F88 -> 31.13386 | I89: =F89*120/$B$3-H89 -> 1660.9237 | J89: =J88 -> 450.70796 | K89: =J89/I89*1000*30/PI() -> 2591.2953 | L89: =L88*F88/F89/1.053 -> 78.804681 | M89: =M88*J89/J88 -> 735.95481 | N89: =(L89^2+M89^2)^0.5 -> 740.16191 | O89: =$B$16*L89/1000 -> 0.48052153 | P89: =$B$16*M89/1000 -> 4.4875777 | Q89: =N89*$B$16/1000 -> 4.5132311 | R89: =2*PI()*F89*$B$19*L89/1000 -> 15.367396 | S89: =2*PI()*F89*$B$19*M89/1000 -> 143.5157 | T89: =2*PI()*F89*$B$19*N89/1000 -> 144.33611 | U89: =$B$21*1.05*2*PI()*F89*L89/1000 -> 168.72846 | V89: =O89-S89 -> -143.03518 | W89: =P89+R89+U89 -> 188.58343 | X89: =(W89^2+V89^2)^0.5 -> 236.69131 | Y89: =X89*3^0.5 -> 409.96137
E90: =X90/F90 -> 2.6998493 | F90: =IF(F89*1.2>$F$92,$F$92,F89*1.2) -> 85.2 | G90: =H90/I90 -> 0.018744906 | H90: =H89*F90/F89 -> 31.3536 | I90: =F90*120/$B$3-H90 -> 1672.6464 | J90: =J89 -> 450.70796 | K90: =J90/I90*1000*30/PI() -> 2573.1344 | L90: =L89*F89/F90/1.053 -> 74.313753 | M90: =M89*J90/J89 -> 735.95481 | N90: =(L90^2+M90^2)^0.5 -> 739.69724 | O90: =$B$16*L90/1000 -> 0.45313753 | P90: =$B$16*M90/1000 -> 4.4875777 | Q90: =N90*$B$16/1000 -> 4.5103977 | R90: =2*PI()*F90*$B$19*L90/1000 -> 14.593918 | S90: =2*PI()*F90*$B$19*M90/1000 -> 144.52862 | T90: =2*PI()*F90*$B$19*N90/1000 -> 145.26357 | U90: =$B$21*1.05*2*PI()*F90*L90/1000 -> 160.23596 | V90: =O90-S90 -> -144.07549 | W90: =P90+R90+U90 -> 179.31745 | X90: =(W90^2+V90^2)^0.5 -> 230.02716 | Y90: =X90*3^0.5 -> 398.41873
E91: =X91/F91 -> 2.6203076 | F91: =IF(F90*1.2>$F$92,$F$92,F90*1.2) -> 85.2 | G91: =H91/I91 -> 0.018744906 | H91: =H90*F91/F90 -> 31.3536 | I91: =F91*120/$B$3-H91 -> 1672.6464 | J91: =J90 -> 450.70796 | K91: =J91/I91*1000*30/PI() -> 2573.1344 | L91: =L90*F90/F91/1.053 -> 70.573365 | M91: =M90*J91/J90 -> 735.95481 | N91: =(L91^2+M91^2)^0.5 -> 739.33083 | O91: =$B$16*L91/1000 -> 0.43033004 | P91: =$B$16*M91/1000 -> 4.4875777 | Q91: =N91*$B$16/1000 -> 4.5081634 | R91: =2*PI()*F91*$B$19*L91/1000 -> 13.859372 | S91: =2*PI()*F91*$B$19*M91/1000 -> 144.52862 | T91: =2*PI()*F91*$B$19*N91/1000 -> 145.19161 | U91: =$B$21*1.05*2*PI()*F91*L91/1000 -> 152.1709 | V91: =O91-S91 -> -144.09829 | W91: =P91+R91+U91 -> 170.51785 | X91: =(W91^2+V91^2)^0.5 -> 223.25021 | Y91: =X91*3^0.5 -> 386.6807
E92: =E47 -> 3.433782 | F92: =F49 -> 85.2 | G92: =G49 -> 0.017574661 | H92: =H49 -> 29.43 | I92: =F92*120/$B$3-H92 -> 1674.57 | J92: =J49 -> 450.72976 | K92: =K49 -> 2570.3029 | L92: =L49 -> 104.5657 | M92: =M49 -> 712.20443 | N92: =N49 -> 719.83966 | O92: =O49 -> 0.63760264 | P92: =P49 -> 4.3427568 | Q92: =Q49 -> 4.3893136 | ... Y92: =Y49 -> 479.98583
H100: ,
