Workbook

Sheet RESUM
G2: =B21 -> MAC QT 160 P | N2: Codi | O2: DT-QT 160 P
N3: Edició | O3: 06
G4: - Fitxa Tècnica - | N4: Pàgina | O4: 1 de 2
N5: Data | O5: 45239
B8: =B21 -> MAC QT 160 P | C8: =C21 -> MAC QT 160 P | D8: =D21 -> MAC QT 160 P | E8: =E21 -> MAC QT 160 P | F8: =F21 -> MAC QT 160 P | G8: =G21 -> MAC QT 160 P | H8: =H21 -> MAC QT 160 P | I8: =I21 -> MAC QT 160 P | ... O8: =O21 -> MAC QT 160 P
B9: =B22 -> A41 | C9: =C22 -> B41 | D9: =D22 -> C41 | E9: =E22 -> D41 | F9: =F22 -> E41 | G9: =G22 -> F41 | H9: =H22 -> G41 | I9: =I22 -> H41 | ... O9: =O22 -> 0
A10: Pols | B10: 4 | C10: =B10 -> 4 | D10: =C10 -> 4 | E10: =D10 -> 4 | F10: =E10 -> 4 | G10: =F10 -> 4 | H10: =G10 -> 4 | I10: =H10 -> 4 | J10: =I10 -> 4 | ... O10: =N10 -> 4
A11: Nm | B11: 540 | C11: 540 | D11: 540 | E11: 540 | F11: 540 | G11: 540 | H11: 540 | I11: 540 | J11: 540 | K11: 520 | L11: 500 | M11: 480
A12: rpm | B12: 513 | C12: 693 | D12: 814 | E12: 993 | F12: 1113 | G12: 1263 | H12: 1443 | I12: 1684 | J12: 2043 | K12: 2224 | L12: 2555 | M12: 2976
A13: KW | B13: 29.009467 | C13: 39.188227 | D13: 46.030616 | E13: 56.152827 | F13: 62.938667 | G13: 71.420967 | H13: 81.599728 | I13: 95.227957 | J13: 115.52893 | K13: 121.1063 | L13: 133.77949 | M13: 149.59008
A14: V | B14: 400 | C14: 400 | D14: 400 | E14: 400 | F14: 400 | G14: 400 | H14: 400 | I14: 400 | J14: 400 | K14: 400 | L14: 400 | M14: 400
A15: A | B15: 57 | C15: 75.2 | D15: 87.1 | E15: 104.9 | F15: 116.4 | G15: 130.9 | H15: 149.4 | I15: 174.3 | J15: 208.9 | K15: 219.3 | L15: 242.9 | M15: 274.6
A16: Hz | B16: 18 | C16: 24 | D16: 28 | E16: 34 | F16: 38 | G16: 43 | H16: 49 | I16: 57 | J16: 69 | K16: 75 | L16: 86 | M16: 100
A17: Cos fi | B17: 0.83959535 | C17: 0.83682696 | D17: 0.83610318 | E17: 0.83529741 | F17: 0.8375668 | G17: 0.83948844 | H17: 0.83471839 | I17: 0.82950756 | J17: 0.83436038 | K17: 0.83077532 | L17: 0.82549518 | M17: 0.81405129
A18: Rend / eff. | B18: 0.87493188 | C18: 0.89883814 | D18: 0.91232197 | E18: 0.92498435 | F18: 0.93180383 | G18: 0.93810347 | H18: 0.94444682 | I18: 0.95066195 | J18: 0.95670493 | K18: 0.95945345 | L18: 0.96300125 | M18: 0.96589488
A19: J (Kg m2) | B19: 0.462632 | C19: 0.462632 | D19: 0.462632 | E19: 0.462632 | F19: 0.462632 | G19: 0.462632 | H19: 0.462632 | I19: 0.462632 | J19: 0.462632 | K19: 0.462632 | L19: 0.462632 | M19: 0.462632
B20: ESQUEMA EQUIVALENTE POR FASE EN ESTRELLA / PHASE STAR EQUIVALENT SCHEMA
B21: MAC QT 160 P | C21: MAC QT 160 P | D21: MAC QT 160 P | E21: MAC QT 160 P | F21: MAC QT 160 P | G21: MAC QT 160 P | H21: MAC QT 160 P | I21: MAC QT 160 P | J21: MAC QT 160 P | K21: MAC QT 160 P | L21: MAC QT 160 P | M21: MAC QT 160 P | N21: MAC QT 160 P | O21: MAC QT 160 P
B22: A41 | C22: B41 | D22: C41 | E22: D41 | F22: E41 | G22: F41 | H22: G41 | I22: H41 | J22: I41 | K22: F42 | L22: G42 | M22: H42
A23: Rs (mOhm) | B23: 236.0555 | C23: 140.72795 | D23: 103.83299 | E23: 72.046276 | F23: 58.106815 | G23: 46.147994 | H23: 35.181989 | I23: 25.693612 | J23: 18.011569 | K23: 15.382665 | L23: 11.72733 | M23: 8.5645373
A24: Rr (mOhm) | B24: 187.99062 | C24: 113.72272 | D24: 83.551388 | E24: 58.021797 | F24: 46.997656 | G24: 37.13395 | H24: 28.430681 | I24: 20.887847 | J24: 14.505449 | K24: 12.377983 | L24: 9.4768936 | M24: 6.9626157
A25: Rfe (Ohm) | B25: 518.78894 | C25: 406.0518 | D25: 342.8588 | E25: 278.51907 | F25: 246.93159 | G25: 215.16473 | H25: 182.13632 | I25: 149.66889 | J25: 118.89031 | K25: 107.32545 | L25: 89.79688 | M25: 72.373091
A26: Ls (mH) | B26: 2.6453861 | C26: 1.6002953 | D26: 1.1757272 | E26: 0.8164772 | F26: 0.66134653 | G26: 0.52254541 | H26: 0.40007383 | I26: 0.29393179 | J26: 0.2041193 | K26: 0.1741818 | L26: 0.13335794 | M26: 0.097977264
A27: Lr (mH) | B27: 2.3710549 | C27: 1.4802642 | D27: 1.0868623 | E27: 0.75253935 | F27: 0.60742838 | G27: 0.47831092 | H27: 0.36797283 | I27: 0.27171656 | J27: 0.18751255 | K27: 0.16046035 | L27: 0.12344407 | M27: 0.091815098
A28: Lm (mH) | B28: 89.840416 | C28: 53.097233 | D28: 39.098763 | E28: 27.026582 | F28: 22.149052 | G28: 17.724785 | H28: 13.214172 | I28: 9.4503213 | J28: 6.7367578 | K28: 5.8063637 | L28: 4.4602251 | M28: 3.195702
A29: Ts (s) | B29: 0.39179685 | C29: 0.38867564 | D29: 0.38787761 | E29: 0.38646077 | F29: 0.39255978 | G29: 0.39540897 | H29: 0.38696635 | I29: 0.37924809 | J29: 0.3853566 | K29: 0.38878476 | L29: 0.39169898 | M29: 0.38457177
A30: Tr (s) | B30: 0.49051101 | C30: 0.47991725 | D30: 0.48096897 | E30: 0.47877044 | F30: 0.48420458 | G30: 0.4902009 | H30: 0.47772844 | I30: 0.46543992 | J30: 0.47735649 | K30: 0.48205139 | L30: 0.4836679 | M30: 0.47216696
A31: Kt | B31: 138.4387 | C31: 107.67455 | D31: 92.292467 | E31: 76.91039 | F31: 69.219351 | G31: 61.528312 | H31: 53.837273 | I31: 46.146234 | J31: 38.455195 | K31: 35.523387 | L31: 31.082964 | M31: 26.64254
A32: Im (A/fase) | B32: 20.3 | C32: 26.6 | D32: 31.2 | E32: 37.5 | F32: 41 | G32: 45.5 | H32: 53.7 | I32: 64.6 | J32: 75.2 | K32: 80.4 | L32: 91.5 | M32: 110

Sheet driving mode datasheet
L1: Codigo | M1: =RESUM!O2 -> DT-QT 160 P
D2: =RESUM!G2 -> MAC QT 160 P | L2: Edición | M2: =RESUM!O3 -> 06
D3: - Hoja de Datos Técnicos Modo Motor - | L3: Página | M3: 1 de 3
D4: - Driving mode Technical Datasheet - | L4: Fecha | M4: =RESUM!O5 -> 45239
A7: Ventilador / Fan | E7: Rodamientos | G7: Delantero | H7: 6012 ZZ C3 | J7: Trasero | M7: 6010 ZZ C3
A8: Tipo de Refrigeración | C8: IC 06 | E8: Bearings | G8: Drive End | J8: Non Drive End
A9: Cooling Mode | E9: Nº de polos | F9: =RESUM!B10 -> 4 | G9: Momento de inercia | I9: =RESUM!B19 -> 0.462632 | K9: Peso Motor | M9: 387 | P9: 400V 50Hz | S9: IM B3
A10: Alimentación / Supply | E10: No of poles | G10: Rotor Inertia | K10: Motor Weight | P10: 480V 60Hz | Q10: 1 | S10: IM B35
A11: Potencia / Power | C11: =IF($Q$10=1,P11,IF($Q$10=2,Q11,"")) -> 1,50 kW | E11: Protección | G11: IP 23 | H11: Construcción | J11: IM B3 | K11: standard | L11: Equilibrado grado | N11: B | P11: 1,50 kW | Q11: 1,8 kW
A12: Corriente / Current | C12: =IF($Q$10=1,P12,IF($Q$10=2,Q12,"")) -> 3.1A | E12: Protection Degree | H12: Mounting | J12: IM B35 | K12: on request | L12: Balancing degree | P12: 3.1A | Q12: 3.0 A
A13: Velocidad / Speed | C13: =IF($Q$10=1,P13,IF($Q$10=2,Q13,"")) -> 2850 rpm | E13: Nivel de ruido | G13: < 80 dB | I13: Velocidad máxima mecánica | L13: 6500 | P13: 2850 rpm | Q13: 3420 rpm
A14: Caudal / Air flow | C14: =IF($Q$10=1,P14,IF($Q$10=2,Q14,"")) -> 2170 m3/h | E14: Noise Level | I14: Max. Mechanical Speed | P14: 2170 m3/h | Q14: 2170 m3/h
A15: Presión / Pressure | C15: =IF($Q$10=1,P15,IF($Q$10=2,Q15,"")) -> 1625 Pa | E15: Aislamiento | F15: Cl. H | G15: Incremento Temperatura | I15: Cl. F | J15: Termistores | K15: PTC155º C | L15: Termómetros | N15: 3xPt100 | P15: 1625 Pa | Q15: 1625 Pa
A16: Por favor, indicar en los pedidos la alimentación deseada para el ventilador / Please indicate the required fan supply voltage when placing your order | E16: Insulation | G16: Temperature Rise | J16: Thermistors | L16: Thermometers
E17: Ambiente | F17: < 40 ºC < 1000 m | I17: Conmutación Variador | K17: 4 kHz ; IVIC C/B acc. EN60034-25
E18: Ambient | I18: Inverter Switching
A19: Normas de referencia | C19: EN60034 | D19: Sondas rodamientos | F19: 2 x Pt100 | G19: Alojamientos de los rodamientos eléctricamente aislados | K19: Anillo SGR de puesta a tierra del eje en NDE
A20: Reference Standards | D20: Bearing Probes | G20: Electrically insulated bearing housings | K20: SGR shaft grounding rings on NDE
A21: Tensión de Base del Motor | E21: Vb ± 5% | F21: 400 | H21: Tensión Máxima de Salida del Convertidor | L21: Vc | M21: 400
A22: Motor Base Voltage | H22: Inverter max. Output Voltage
F23: =IF(F21>500," Vb ha de ser / must be < 500 V"," ") | G23: =IF(M21>500," Vc ha de ser / must be < 500 V"," ") | N23: =IF(M21<F21,"Vc ha de ser / must be > Vb"," ")
B24: Servicio / Service | F24: S1 | H24: Servicio / Service S6 - | L24: 0.4 | M24: =IF(L24>80%,"max 80%","")
M25: =IF(L24<20%,"min 20%","")
A26: Bobinado Winding | B26: Nm | C26: A ± 2% | D26: KW | E26: rpm | F26: Hz | G26: Velocidad a Pot.Cte Const. Power Speed. (rpm) | H26: Nm | I26: A ± 5% | J26: KW | K26: rpm | L26: Hz | M26: Velocidad a Pot.Cte Const. Power Speed. (rpm) | N26: Corriente en vacio No Load Current (A) | O26: eff | P26: cos fi | Q26: Hz | R26: rpm | S26: rpm llisc. | U26: Nm S6 | V26: A S6 | W26: Alim | X26: Nm lim | Y26: rpm lim | Z26: KW lim | AA26: rpm lim KW s6 | AB26: rpm lim Nm s6 | AC26: rpm lim s1 | AD26: Coef
A27: =RESUM!B9 -> A41 | B27: =RESUM!B11 -> 540 | C27: =RESUM!B15 -> 57 | D27: =E27*$B27*PI()/30000 -> 29.009467 | E27: =(F27*120/$F$9-$S27) -> 513 | F27: =$Q27*$F$21/400 -> 18 | G27: =IF(AC27<$L$13,AC27,$L$13) -> 1794.9109 | H27: =IF(U27<X27*0.95,U27,X27*0.95) -> 803.4367 | I27: =MIN(V27:W27) -> 81.805348 | J27: =MIN(Z27,H27*E27*PI()/30000) -> 43.161611 | K27: =MIN(E27,M27) -> 513 | L27: =(K27+S27*H27/B27)*$F$9/120 -> 18.439061 | M27: =MIN($L$13,MAX(AB27,AA27)) -> 1099.0272 | N27: =RESUM!B32 -> 20.3 | O27: ='driving mode parameters'!B18 -> 0.87493188 | P27: ='driving mode parameters'!B17 -> 0.83959535 | Q27: =RESUM!B16 -> 18 | R27: =RESUM!B12 -> 513 | S27: =Q27*120/$F$9-R27 -> 27 | U27: =B27/((C27^2-N27^2)^0.5)*(V27^2-N27^2)^0.5 -> 803.4367 | V27: =IF(AND($L$24>=20%,$L$24<=80%)=TRUE,((C27^2*0.9-N27^2*(1-$L$24))/$L$24)^0.5,0) -> 81.805348 | W27: =(((V27^2-N27^2)^0.5*X27/U27)^2+N27^2)^0.5 -> 202.67102 | X27: =X28 -> 2044.434 | Y27: =Y$32*F27/F$32*(B$32/B27)^0.5 -> 440.62025 | Z27: =X27*Y27*PI()/30000 -> 94.333548 | AA27: =AC27*(D27/J27)^(1/AD27) -> 1099.0272 | AB27: =AC27*(B27*E27/AC27/H27)^(1/(1+AD27)) -> 721.43249 | AC27: =0.95*Y27*(Z27/D27)^(1/AD27) -> 1794.9109 | AD27: ='limit 480V'!Z25 -> 0.81
A28: =RESUM!C9 -> B41 | B28: =RESUM!C11 -> 540 | C28: =RESUM!C15 -> 75.2 | D28: =E28*$B28*PI()/30000 -> 39.188227 | E28: =(F28*120/$F$9-$S28) -> 693 | F28: =$Q28*$F$21/400 -> 24 | G28: =IF(AC28<$L$13,AC28,$L$13) -> 2354.902 | H28: =IF(U28<X28*0.95,U28,X28*0.95) -> 803.53859 | I28: =MIN(V28:W28) -> 107.99306 | J28: =MIN(Z28,H28*E28*PI()/30000) -> 58.31343 | K28: =IF(E28<M28,E28,M28) -> 693 | L28: =(K28+S28*H28/B28)*$F$9/120 -> 24.439231 | M28: =MIN($L$13,MAX(AB28,AA28)) -> 1441.685 | N28: =RESUM!C32 -> 26.6 | O28: ='driving mode parameters'!C18 -> 0.89883814 | P28: ='driving mode parameters'!C17 -> 0.83682696 | Q28: =RESUM!C16 -> 24 | R28: =RESUM!C12 -> 693 | S28: =Q28*120/$F$9-R28 -> 27 | U28: =B28/((C28^2-N28^2)^0.5)*(V28^2-N28^2)^0.5 -> 803.53859 | V28: =IF(AND($L$24>=20%,$L$24<=80%)=TRUE,((C28^2*0.9-N28^2*(1-$L$24))/$L$24)^0.5,0) -> 107.99306 | W28: =(((V28^2-N28^2)^0.5*X28/U28)^2+N28^2)^0.5 -> 267.62533 | X28: =X29 -> 2044.434 | Y28: =Y$32*F28/F$32*(B$32/B28)^0.5 -> 587.49366 | Z28: =X28*Y28*PI()/30000 -> 125.77806 | AA28: =AC28*(D28/J28)^(1/AD28) -> 1441.685 | AB28: =AC28*(B28*E28/AC28/H28)^(1/(1+AD28)) -> 961.8426 | AC28: =0.95*Y28*(Z28/D28)^(1/AD28) -> 2354.902 | AD28: =AD27 -> 0.81
A29: =RESUM!D9 -> C41 | B29: =RESUM!D11 -> 540 | C29: =RESUM!D15 -> 87.1 | D29: =E29*$B29*PI()/30000 -> 46.030616 | E29: =(F29*120/$F$9-$S29) -> 814 | F29: =$Q29*$F$21/400 -> 28 | G29: =IF(AC29<$L$13,AC29,$L$13) -> 2724.486 | H29: =IF(U29<X29*0.95,U29,X29*0.95) -> 803.34862 | I29: =MIN(V29:W29) -> 124.93703 | J29: =MIN(Z29,H29*E29*PI()/30000) -> 68.478947 | K29: =IF(E29<M29,E29,M29) -> 814 | L29: =(K29+S29*H29/B29)*$F$9/120 -> 28.422658 | M29: =MIN($L$13,MAX(AB29,AA29)) -> 1668.4336 | N29: =RESUM!D32 -> 31.2 | O29: ='driving mode parameters'!D18 -> 0.91232197 | P29: ='driving mode parameters'!D17 -> 0.83610318 | Q29: =RESUM!D16 -> 28 | R29: =RESUM!D12 -> 814 | S29: =Q29*120/$F$9-R29 -> 26 | U29: =B29/((C29^2-N29^2)^0.5)*(V29^2-N29^2)^0.5 -> 803.34862 | V29: =IF(AND($L$24>=20%,$L$24<=80%)=TRUE,((C29^2*0.9-N29^2*(1-$L$24))/$L$24)^0.5,0) -> 124.93703 | W29: =(((V29^2-N29^2)^0.5*X29/U29)^2+N29^2)^0.5 -> 309.45412 | X29: =X30 -> 2044.434 | Y29: =Y$32*F29/F$32*(B$32/B29)^0.5 -> 685.40927 | Z29: =X29*Y29*PI()/30000 -> 146.74107 | AA29: =AC29*(D29/J29)^(1/AD29) -> 1668.4336 | AB29: =AC29*(B29*E29/AC29/H29)^(1/(1+AD29)) -> 1122.2963 | AC29: =0.95*Y29*(Z29/D29)^(1/AD29) -> 2724.486 | AD29: =AD28 -> 0.81
A30: =RESUM!E9 -> D41 | B30: =RESUM!E11 -> 540 | C30: =RESUM!E15 -> 104.9 | D30: =E30*$B30*PI()/30000 -> 56.152827 | E30: =(F30*120/$F$9-$S30) -> 993 | F30: =$Q30*$F$21/400 -> 34 | G30: =IF(AC30<$L$13,AC30,$L$13) -> 3289.5118 | H30: =IF(U30<X30*0.95,U30,X30*0.95) -> 803.37961 | I30: =MIN(V30:W30) -> 150.498 | J30: =MIN(Z30,H30*E30*PI()/30000) -> 83.540808 | K30: =IF(E30<M30,E30,M30) -> 993 | L30: =(K30+S30*H30/B30)*$F$9/120 -> 34.438966 | M30: =MIN($L$13,MAX(AB30,AA30)) -> 2014.3508 | N30: =RESUM!E32 -> 37.5 | O30: ='driving mode parameters'!E18 -> 0.92498435 | P30: ='driving mode parameters'!E17 -> 0.83529741 | Q30: =RESUM!E16 -> 34 | R30: =RESUM!E12 -> 993 | S30: =Q30*120/$F$9-R30 -> 27 | U30: =B30/((C30^2-N30^2)^0.5)*(V30^2-N30^2)^0.5 -> 803.37961 | V30: =IF(AND($L$24>=20%,$L$24<=80%)=TRUE,((C30^2*0.9-N30^2*(1-$L$24))/$L$24)^0.5,0) -> 150.498 | W30: =(((V30^2-N30^2)^0.5*X30/U30)^2+N30^2)^0.5 -> 372.79724 | X30: =X31 -> 2044.434 | Y30: =Y$32*F30/F$32*(B$32/B30)^0.5 -> 832.28269 | Z30: =X30*Y30*PI()/30000 -> 178.18559 | AA30: =AC30*(D30/J30)^(1/AD30) -> 2014.3508 | AB30: =AC30*(B30*E30/AC30/H30)^(1/(1+AD30)) -> 1362.7593 | AC30: =0.95*Y30*(Z30/D30)^(1/AD30) -> 3289.5118 | AD30: =AD29 -> 0.81
A31: =RESUM!F9 -> E41 | B31: =RESUM!F11 -> 540 | C31: =RESUM!F15 -> 116.4 | D31: =E31*$B31*PI()/30000 -> 62.938667 | E31: =(F31*120/$F$9-$S31) -> 1113 | F31: =$Q31*$F$21/400 -> 38 | G31: =IF(AC31<$L$13,AC31,$L$13) -> 3663.5636 | H31: =IF(U31<X31*0.95,U31,X31*0.95) -> 803.60084 | I31: =MIN(V31:W31) -> 167.22338 | J31: =MIN(Z31,H31*E31*PI()/30000) -> 93.662159 | K31: =IF(E31<M31,E31,M31) -> 1113 | L31: =(K31+S31*H31/B31)*$F$9/120 -> 38.439335 | M31: =MIN($L$13,MAX(AB31,AA31)) -> 2242.641 | N31: =RESUM!F32 -> 41 | O31: ='driving mode parameters'!F18 -> 0.93180383 | P31: ='driving mode parameters'!F17 -> 0.8375668 | Q31: =RESUM!F16 -> 38 | R31: =RESUM!F12 -> 1113 | S31: =Q31*120/$F$9-R31 -> 27 | U31: =B31/((C31^2-N31^2)^0.5)*(V31^2-N31^2)^0.5 -> 803.60084 | V31: =IF(AND($L$24>=20%,$L$24<=80%)=TRUE,((C31^2*0.9-N31^2*(1-$L$24))/$L$24)^0.5,0) -> 167.22338 | W31: =(((V31^2-N31^2)^0.5*X31/U31)^2+N31^2)^0.5 -> 414.4791 | X31: =X32 -> 2044.434 | Y31: =Y$32*F31/F$32*(B$32/B31)^0.5 -> 930.1983 | Z31: =X31*Y31*PI()/30000 -> 199.1486 | AA31: =AC31*(D31/J31)^(1/AD31) -> 2242.641 | AB31: =AC31*(B31*E31/AC31/H31)^(1/(1+AD31)) -> 1522.8523 | AC31: =0.95*Y31*(Z31/D31)^(1/AD31) -> 3663.5636 | AD31: =AD30 -> 0.81
A32: =RESUM!G9 -> F41 | B32: =RESUM!G11 -> 540 | C32: =RESUM!G15 -> 130.9 | D32: =E32*$B32*PI()/30000 -> 71.420967 | E32: =(F32*120/$F$9-$S32) -> 1263 | F32: =$Q32*$F$21/400 -> 43 | G32: =IF(AC32<$L$13,AC32,$L$13) -> 4131.2199 | H32: =IF(U32<X32*0.95,U32,X32*0.95) -> 803.79208 | I32: =MIN(V32:W32) -> 188.27625 | J32: =MIN(Z32,H32*E32*PI()/30000) -> 106.31038 | K32: =IF($E$32<$M$32,$E$32,$M$32) -> 1263 | L32: =(K32+S32*H32/B32)*$F$9/120 -> 43.439653 | M32: =MIN($L$13,MAX(AB32,AA32)) -> 2528.1728 | N32: =RESUM!G32 -> 45.5 | O32: ='driving mode parameters'!G18 -> 0.93810347 | P32: ='driving mode parameters'!G17 -> 0.83948844 | Q32: =RESUM!G16 -> 43 | R32: =RESUM!G12 -> 1263 | S32: =Q32*120/$F$9-R32 -> 27 | U32: =B32/((C32^2-N32^2)^0.5)*(V32^2-N32^2)^0.5 -> 803.79208 | V32: =IF(AND($L$24>=20%,$L$24<=80%)=TRUE,((C32^2*0.9-N32^2*(1-$L$24))/$L$24)^0.5,0) -> 188.27625 | W32: =(((V32^2-N32^2)^0.5*X32/U32)^2+N32^2)^0.5 -> 466.90611 | X32: ='limit 480V'!K27*0.95 -> 2044.434 | Y32: ='limit 480V'!I27/'limit 480V'!Y27*M21 -> 1052.5928 | Z32: =X32*Y32*PI()/30000 -> 225.35236 | AA32: =AC32*(D32/J32)^(1/AD32) -> 2528.1728 | AB32: =AC32*(B32*E32/AC32/H32)^(1/(1+AD32)) -> 1723.001 | AC32: =0.95*Y32*(Z32/D32)^(1/AD32) -> 4131.2199 | AD32: =AD31 -> 0.81 | AE32: =AB32*(J32/D32)^(1/2/AD32) -> 2202.5274
A33: =RESUM!H9 -> G41 | B33: =RESUM!H11 -> 540 | C33: =RESUM!H15 -> 149.4 | D33: =E33*$B33*PI()/30000 -> 81.599728 | E33: =(F33*120/$F$9-$S33) -> 1443 | F33: =$Q33*$F$21/400 -> 49 | G33: =IF(AC33<$L$13,AC33,$L$13) -> 4692.4998 | H33: =IF(U33<X33*0.95,U33,X33*0.95) -> 803.2959 | I33: =MIN(V33:W33) -> 214.23183 | J33: =MIN(Z33,H33*E33*PI()/30000) -> 121.38653 | K33: =IF(E33<M33,E33,M33) -> 1443 | L33: =(K33+S33*H33/B33)*$F$9/120 -> 49.438827 | M33: =MIN($L$13,MAX(AB33,AA33)) -> 2873.8479 | N33: =RESUM!H32 -> 53.7 | O33: ='driving mode parameters'!H18 -> 0.94444682 | P33: ='driving mode parameters'!H17 -> 0.83471839 | Q33: =RESUM!H16 -> 49 | R33: =RESUM!H12 -> 1443 | S33: =Q33*120/$F$9-R33 -> 27 | U33: =B33/((C33^2-N33^2)^0.5)*(V33^2-N33^2)^0.5 -> 803.2959 | V33: =IF(AND($L$24>=20%,$L$24<=80%)=TRUE,((C33^2*0.9-N33^2*(1-$L$24))/$L$24)^0.5,0) -> 214.23183 | W33: =(((V33^2-N33^2)^0.5*X33/U33)^2+N33^2)^0.5 -> 530.55002 | X33: =X32 -> 2044.434 | Y33: =Y$32*F33/F$32*(B$32/B33)^0.5 -> 1199.4662 | Z33: =X33*Y33*PI()/30000 -> 256.79688 | AA33: =AC33*(D33/J33)^(1/AD33) -> 2873.8479 | AB33: =AC33*(B33*E33/AC33/H33)^(1/(1+AD33)) -> 1964.0897 | AC33: =0.95*Y33*(Z33/D33)^(1/AD33) -> 4692.4998 | AD33: =AD32 -> 0.81
A34: =RESUM!I9 -> H41 | B34: =RESUM!I11 -> 540 | C34: =RESUM!I15 -> 174.3 | D34: =E34*$B34*PI()/30000 -> 95.227957 | E34: =(F34*120/$F$9-$S34) -> 1684 | F34: =$Q34*$F$21/400 -> 57 | G34: =IF(AC34<$L$13,AC34,$L$13) -> 5436.988 | H34: =IF(U34<X34*0.95,U34,X34*0.95) -> 802.80238 | I34: =MIN(V34:W34) -> 249.19142 | J34: =MIN(Z34,H34*E34*PI()/30000) -> 141.57265 | K34: =IF(E34<M34,E34,M34) -> 1684 | L34: =(K34+S34*H34/B34)*$F$9/120 -> 57.421782 | M34: =MIN($L$13,MAX(AB34,AA34)) -> 3332.3253 | N34: =RESUM!I32 -> 64.6 | O34: ='driving mode parameters'!I18 -> 0.95066195 | P34: ='driving mode parameters'!I17 -> 0.82950756 | Q34: =RESUM!I16 -> 57 | R34: =RESUM!I12 -> 1684 | S34: =Q34*120/$F$9-R34 -> 26 | U34: =B34/((C34^2-N34^2)^0.5)*(V34^2-N34^2)^0.5 -> 802.80238 | V34: =IF(AND($L$24>=20%,$L$24<=80%)=TRUE,((C34^2*0.9-N34^2*(1-$L$24))/$L$24)^0.5,0) -> 249.19142 | W34: =(((V34^2-N34^2)^0.5*X34/U34)^2+N34^2)^0.5 -> 616.29659 | X34: =X33 -> 2044.434 | Y34: =Y$32*F34/F$32*(B$32/B34)^0.5 -> 1395.2974 | Z34: =X34*Y34*PI()/30000 -> 298.7229 | AA34: =AC34*(D34/J34)^(1/AD34) -> 3332.3253 | AB34: =AC34*(B34*E34/AC34/H34)^(1/(1+AD34)) -> 2285.5333 | AC34: =0.95*Y34*(Z34/D34)^(1/AD34) -> 5436.988 | AD34: =AD33 -> 0.81
A35: =RESUM!J9 -> I41 | B35: =RESUM!J11 -> 540 | C35: =RESUM!J15 -> 208.9 | D35: =E35*$B35*PI()/30000 -> 115.52893 | E35: =(F35*120/$F$9-$S35) -> 2043 | F35: =$Q35*$F$21/400 -> 69 | G35: =IF(AC35<$L$13,AC35,$L$13) -> 6500 | H35: =IF(U35<X35*0.95,U35,X35*0.95) -> 803.27251 | I35: =MIN(V35:W35) -> 299.50904 | J35: =MIN(Z35,H35*E35*PI()/30000) -> 171.8541 | K35: =IF(E35<M35,E35,M35) -> 2043 | L35: =(K35+S35*H35/B35)*$F$9/120 -> 69.438788 | M35: =MIN($L$13,MAX(AB35,AA35)) -> 4020.0585 | N35: =RESUM!J32 -> 75.2 | O35: ='driving mode parameters'!J18 -> 0.95670493 | P35: ='driving mode parameters'!J17 -> 0.83436038 | Q35: =RESUM!J16 -> 69 | R35: =RESUM!J12 -> 2043 | S35: =Q35*120/$F$9-R35 -> 27 | U35: =B35/((C35^2-N35^2)^0.5)*(V35^2-N35^2)^0.5 -> 803.27251 | V35: =IF(AND($L$24>=20%,$L$24<=80%)=TRUE,((C35^2*0.9-N35^2*(1-$L$24))/$L$24)^0.5,0) -> 299.50904 | W35: =(((V35^2-N35^2)^0.5*X35/U35)^2+N35^2)^0.5 -> 741.69347 | X35: =X34 -> 2044.434 | Y35: =Y$32*F35/F$32*(B$32/B35)^0.5 -> 1689.0443 | Z35: =X35*Y35*PI()/30000 -> 361.61193 | AA35: =AC35*(D35/J35)^(1/AD35) -> 4020.0585 | AB35: =AC35*(B35*E35/AC35/H35)^(1/(1+AD35)) -> 2765.8035 | AC35: =0.95*Y35*(Z35/D35)^(1/AD35) -> 6563.8288 | AD35: =AD34 -> 0.81
A36: =RESUM!K9 -> F42 | B36: =RESUM!K11 -> 520 | C36: =RESUM!K15 -> 219.3 | D36: =E36*$B36*PI()/30000 -> 121.1063 | E36: =(F36*120/$F$9-$S36) -> 2224 | F36: =$Q36*$F$21/400 -> 75 | G36: =IF(AC36<$L$13,AC36,$L$13) -> 6500 | H36: =IF(U36<X36*0.95,U36,X36*0.95) -> 773.2418 | I36: =MIN(V36:W36) -> 313.86599 | J36: =MIN(Z36,H36*E36*PI()/30000) -> 180.08549 | K36: =IF(E36<M36,E36,M36) -> 2224 | L36: =(K36+S36*H36/B36)*$F$9/120 -> 75.42207 | M36: =MIN($L$13,MAX(AB36,AA36)) -> 4768.4661 | N36: =RESUM!K32 -> 80.4 | O36: ='driving mode parameters'!K18 -> 0.95945345 | P36: ='driving mode parameters'!K17 -> 0.83077532 | Q36: =RESUM!K16 -> 75 | R36: =RESUM!K12 -> 2224 | S36: =Q36*120/$F$9-R36 -> 26 | U36: =B36/((C36^2-N36^2)^0.5)*(V36^2-N36^2)^0.5 -> 773.2418 | V36: =IF(AND($L$24>=20%,$L$24<=80%)=TRUE,((C36^2*0.9-N36^2*(1-$L$24))/$L$24)^0.5,0) -> 313.86599 | W36: =(((V36^2-N36^2)^0.5*X36/U36)^2+N36^2)^0.5 -> 806.18513 | X36: =X35 -> 2044.434 | Y36: =Y$32*F36/F$32*(B$32/B36)^0.5 -> 1870.8907 | Z36: =X36*Y36*PI()/30000 -> 400.54391 | AA36: =AC36*(D36/J36)^(1/AD36) -> 4768.4661 | AB36: =AC36*(B36*E36/AC36/H36)^(1/(1+AD36)) -> 3128.7511 | AC36: =0.95*Y36*(Z36/D36)^(1/AD36) -> 7782.3282 | AD36: =AD35 -> 0.81
A37: =RESUM!L9 -> G42 | B37: =RESUM!L11 -> 500 | C37: =RESUM!L15 -> 242.9 | D37: =E37*$B37*PI()/30000 -> 133.77949 | E37: =(F37*120/$F$9-$S37) -> 2555 | F37: =$Q37*$F$21/400 -> 86 | G37: =IF(AC37<$L$13,AC37,$L$13) -> 6500 | H37: =IF(U37<X37*0.95,U37,X37*0.95) -> 743.07774 | I37: =MIN(V37:W37) -> 346.68797 | J37: =MIN(Z37,H37*E37*PI()/30000) -> 198.81712 | K37: =IF(E37<M37,E37,M37) -> 2555 | L37: =(K37+S37*H37/B37)*$F$9/120 -> 86.40513 | M37: =MIN($L$13,MAX(AB37,AA37)) -> 5986.467 | N37: =RESUM!L32 -> 91.5 | O37: ='driving mode parameters'!L18 -> 0.96300125 | P37: ='driving mode parameters'!L17 -> 0.82549518 | Q37: =RESUM!L16 -> 86 | R37: =RESUM!L12 -> 2555 | S37: =Q37*120/$F$9-R37 -> 25 | U37: =B37/((C37^2-N37^2)^0.5)*(V37^2-N37^2)^0.5 -> 743.07774 | V37: =IF(AND($L$24>=20%,$L$24<=80%)=TRUE,((C37^2*0.9-N37^2*(1-$L$24))/$L$24)^0.5,0) -> 346.68797 | W37: =(((V37^2-N37^2)^0.5*X37/U37)^2+N37^2)^0.5 -> 924.56285 | X37: =X36 -> 2044.434 | Y37: =Y$32*F37/F$32*(B$32/B37)^0.5 -> 2187.7731 | Z37: =X37*Y37*PI()/30000 -> 468.38609 | AA37: =AC37*(D37/J37)^(1/AD37) -> 5986.467 | AB37: =AC37*(B37*E37/AC37/H37)^(1/(1+AD37)) -> 3740.0071 | AC37: =0.95*Y37*(Z37/D37)^(1/AD37) -> 9763.2765 | AD37: =AD36 -> 0.81
A38: =RESUM!M9 -> H42 | B38: =RESUM!M11 -> 480 | C38: =RESUM!M15 -> 274.6 | D38: =E38*$B38*PI()/30000 -> 149.59008 | E38: =(F38*120/$F$9-$S38) -> 2976 | F38: =$Q38*$F$21/400 -> 100 | G38: =IF(AC38<$L$13,AC38,$L$13) -> 6500 | H38: =IF(U38<X38*0.95,U38,X38*0.95) -> 712.31346 | I38: =MIN(V38:W38) -> 389.24492 | J38: =MIN(Z38,H38*E38*PI()/30000) -> 221.98964 | K38: =IF(E38<M38,E38,M38) -> 2976 | L38: =(K38+S38*H38/B38)*$F$9/120 -> 100.38719 | M38: =MIN($L$13,MAX(AB38,AA38)) -> 6500 | N38: =RESUM!M32 -> 110 | O38: ='driving mode parameters'!M18 -> 0.96589488 | P38: ='driving mode parameters'!M17 -> 0.81405129 | Q38: =RESUM!M16 -> 100 | R38: =RESUM!M12 -> 2976 | S38: =Q38*120/$F$9-R38 -> 24 | U38: =B38/((C38^2-N38^2)^0.5)*(V38^2-N38^2)^0.5 -> 712.31346 | V38: =IF(AND($L$24>=20%,$L$24<=80%)=TRUE,((C38^2*0.9-N38^2*(1-$L$24))/$L$24)^0.5,0) -> 389.24492 | W38: =(((V38^2-N38^2)^0.5*X38/U38)^2+N38^2)^0.5 -> 1077.2769 | X38: =X37 -> 2044.434 | Y38: =Y$32*F38/F$32*(B$32/B38)^0.5 -> 2596.3797 | Z38: =X38*Y38*PI()/30000 -> 555.86576 | AA38: =AC38*(D38/J38)^(1/AD38) -> 7660.137 | AB38: =AC38*(B38*E38/AC38/H38)^(1/(1+AD38)) -> 4543.4287 | AC38: =0.95*Y38*(Z38/D38)^(1/AD38) -> 12470.343 | AD38: =AD37 -> 0.81
A39: =RESUM!N9 -> 0 | B39: =RESUM!N11 -> 0 | C39: =RESUM!N15 -> 0 | D39: =E39*$B39*PI()/30000 -> 0 | E39: =(F39*120/$F$9-$S39) -> 0 | F39: =$Q39*$F$21/400 -> 0 | G39: =IF(AC39<$L$13,AC39,$L$13) -> #DIV/0! | H39: =IF(U39<X39*0.95,U39,X39*0.95) -> #DIV/0! | I39: =MIN(V39:W39) -> #DIV/0! | J39: =MIN(Z39,H39*E39*PI()/30000) -> #DIV/0! | K39: =IF(E39<M39,E39,M39) -> #DIV/0! | L39: =(K39+S39*H39/B39)*$F$9/120 -> #DIV/0! | M39: =MIN($L$13,MAX(AB39,AA39)) -> #DIV/0! | N39: =RESUM!N32 -> 0 | O39: ='driving mode parameters'!N18 -> #DIV/0! | P39: ='driving mode parameters'!N17 -> #DIV/0! | Q39: =RESUM!N16 -> 0 | R39: =RESUM!N12 -> 0 | S39: =Q39*120/$F$9-R39 -> 0 | U39: =B39/((C39^2-N39^2)^0.5)*(V39^2-N39^2)^0.5 -> #DIV/0! | V39: =IF(AND($L$24>=20%,$L$24<=80%)=TRUE,((C39^2*0.9-N39^2*(1-$L$24))/$L$24)^0.5,0) -> 0 | W39: =(((V39^2-N39^2)^0.5*X39/U39)^2+N39^2)^0.5 -> #DIV/0! | X39: =X38 -> 2044.434 | Y39: =Y$32*F39/F$32*(B$32/B39)^0.5 -> #DIV/0! | Z39: =X39*Y39*PI()/30000 -> #DIV/0! | AA39: =AC39*(D39/J39)^(1/AD39) -> #DIV/0! | AB39: =AC39*(B39*E39/AC39/H39)^(1/(1+AD39)) -> #DIV/0! | AC39: =0.95*Y39*(Z39/D39)^(1/AD39) -> #DIV/0! | AD39: =AD38 -> 0.81
A40: =RESUM!O9 -> 0 | B40: =RESUM!O11 -> 0 | C40: =RESUM!O15 -> 0 | D40: =E40*$B40*PI()/30000 -> 0 | E40: =(F40*120/$F$9-$S40) -> 0 | F40: =$Q40*$F$21/400 -> 0 | G40: =IF(AC40<$L$13,AC40,$L$13) -> #DIV/0! | H40: =IF(U40<X40*0.95,U40,X40*0.95) -> #DIV/0! | I40: =MIN(V40:W40) -> #DIV/0! | J40: =MIN(Z40,H40*E40*PI()/30000) -> #DIV/0! | K40: =IF(E40<M40,E40,M40) -> #DIV/0! | L40: =(K40+S40*H40/B40)*$F$9/120 -> #DIV/0! | M40: =MIN($L$13,MAX(AB40,AA40)) -> #DIV/0! | N40: =RESUM!O32 -> 0 | O40: ='driving mode parameters'!O18 -> #DIV/0! | P40: ='driving mode parameters'!O17 -> #DIV/0! | Q40: =RESUM!O16 -> 0 | R40: =RESUM!O12 -> 0 | S40: =Q40*120/$F$9-R40 -> 0 | U40: =B40/((C40^2-N40^2)^0.5)*(V40^2-N40^2)^0.5 -> #DIV/0! | V40: =IF(AND($L$24>=20%,$L$24<=80%)=TRUE,((C40^2*0.9-N40^2*(1-$L$24))/$L$24)^0.5,0) -> 0 | W40: =(((V40^2-N40^2)^0.5*X40/U40)^2+N40^2)^0.5 -> #DIV/0! | X40: =X39 -> 2044.434 | Y40: =Y$32*F40/F$32*(B$32/B40)^0.5 -> #DIV/0! | Z40: =X40*Y40*PI()/30000 -> #DIV/0! | AA40: =AC40*(D40/J40)^(1/AD40) -> #DIV/0! | AB40: =AC40*(B40*E40/AC40/H40)^(1/(1+AD40)) -> #DIV/0! | AC40: =0.95*Y40*(Z40/D40)^(1/AD40) -> #DIV/0! | AD40: =AD39 -> 0.81
A41: Otras Velocidades disponibles bajo consulta / Other speeds available on request | H41: La tensión para el servicio S6 es mayor que Vb / Voltage for S6 duty is bigger than Vb
A72: Elabora: | E72: Revisa: | K72: Aprueba:
D74: =M4 -> 45239 | J74: =D74 -> 45239 | N74: =J74 -> 45239
D76: =D2 -> MAC QT 160 P
D77: - Hoja de Curvas Características Modo Motor - | L77: Página | M77: 2 de 3
D78: - Driving Mode Power and Torque Diagrams - | L78: Fecha | M78: =M4 -> 45239
A81: Tensión de Base del Motor | E81: Vb ± 5% | F81: =F21 -> 400 | H81: Tensión Máxima de Salida del Convertidor | L81: Vc | M81: =M21 -> 400
A82: Motor Base Voltage | H82: Inverter max. Output Voltage
F83: =IF(F81>500," LA TENSIÓN DE BASE HA DE SER INFERIOR O IGUAL A 500 V"," ") | G83: =IF(M81>500," LA TENSIÓN MÁXIMA HA DE SER INFERIOR O IGUAL A 500 V"," ") | N83: =IF(M81<F81," LA TENSIÓN MÁXIMA HA DE SER SUPERIOR O IGUAL A LA DE BASE"," ")
B84: Servicio / Service | F84: =F24 -> S1 | H84: =H24 -> Servicio / Service S6 - | L84: =L24 -> 0.4
K85: =H29 -> 803.34862 | L85: =L29 -> 28.422658
A86: Bobinado Winding | B86: Nm | C86: A ± 2% | D86: KW | E86: rpm | F86: Hz | G86: Velocidad a Pot.Cte Const. Power Speed. (rpm) | H86: Nm | I86: A ± 5% | J86: KW | K86: rpm | L86: Hz | M86: Velocidad a Pot.Cte Const. Power Speed. (rpm) | N86: Corriente en vacio No Load Current (A) | O86: eff | P86: cos fi | Q86: Hz | R86: rpm | S86: rpm llisc. | U86: Nm S6 | V86: A S6 | W86: Alim | X86: Nm lim | Y86: rpm lim | Z86: KW lim | AA86: rpm lim KW s6 | AB86: rpm lim Nm s6 | AC86: rpm lim s1 | AD86: coef
A87: H42 | B87: =VLOOKUP($A$87,$A$27:$Y$40,2,FALSE) -> 480 | C87: =VLOOKUP($A$87,$A$27:$Y$40,3,FALSE) -> 274.6 | D87: =VLOOKUP($A$87,$A$27:$Y$40,4,FALSE) -> 149.59008 | E87: =VLOOKUP($A$87,$A$27:$Y$40,5,FALSE) -> 2976 | F87: =VLOOKUP($A$87,$A$27:$Y$40,6,FALSE) -> 100 | G87: =VLOOKUP($A$87,$A$27:$Y$40,7,FALSE) -> 6500 | H87: =VLOOKUP($A$87,$A$27:$Y$40,8,FALSE) -> 712.31346 | I87: =VLOOKUP($A$87,$A$27:$Y$40,9,FALSE) -> 389.24492 | J87: =VLOOKUP($A$87,$A$27:$Y$40,10,FALSE) -> 221.98964 | K87: =VLOOKUP($A$87,$A$27:$Y$40,11,FALSE) -> 2976 | L87: =VLOOKUP($A$87,$A$27:$Y$40,12,FALSE) -> 100.38719 | M87: =VLOOKUP($A$87,$A$27:$Y$40,13,FALSE) -> 6500 | N87: =VLOOKUP($A$87,$A$27:$Y$40,14,FALSE) -> 110 | O87: =VLOOKUP($A$87,$A$27:$Y$40,15,FALSE) -> 0.96589488 | P87: =VLOOKUP($A$87,$A$27:$Y$40,16,FALSE) -> 0.81405129 | Q87: =VLOOKUP($A$87,$A$27:$Y$40,17,FALSE) -> 100 | R87: =VLOOKUP($A$87,$A$27:$Y$40,18,FALSE) -> 2976 | S87: =VLOOKUP($A$87,$A$27:$Y$40,19,FALSE) -> 24 | U87: =VLOOKUP($A$87,$A$27:$Y$40,21,FALSE) -> 712.31346 | V87: =VLOOKUP($A$87,$A$27:$Y$40,22,FALSE) -> 389.24492 | W87: =VLOOKUP($A$87,$A$27:$Y$40,23,FALSE) -> 1077.2769 | X87: =VLOOKUP($A$87,$A$27:$Y$40,24,FALSE) -> 2044.434 | Y87: =VLOOKUP($A$87,$A$27:$Y$40,25,FALSE) -> 2596.3797 | Z87: =VLOOKUP($A$87,$A$27:$AD$40,26,FALSE) -> 555.86576 | AA87: =VLOOKUP($A$87,$A$27:$AD$40,27,FALSE) -> 7660.137 | AB87: =VLOOKUP($A$87,$A$27:$AD$40,28,FALSE) -> 4543.4287 | AC87: =VLOOKUP($A$87,$A$27:$AD$40,29,FALSE) -> 12470.343 | AD87: =VLOOKUP($A$87,$A$27:$AD$40,30,FALSE) -> 0.81
A88: =IF(O87=0,"ESTE BOBINADO NO EXISTE / THIS WINDING DOESN'T EXIST","")
A89: Carga / Load
A91: rpm | B91: Nm 1 | C91: Nm 2
P99: rpm S1 | Q99: kW S1 | R99: Nm S1 | S99: rpm S6 | T99: kW S6 | U99: Nm S6 | V99: rpm limit | W99: KW limit | X99: Nm Limit
P100: 10 | Q100: =IF($D$87<W100*0.9,$D$87,W100*0.9) -> 1.9268337 | R100: =B87 -> 480 | S100: =P100 -> 10 | T100: =U100*V100*PI()/30000 -> 0.74593292 | U100: =H87 -> 712.31346 | V100: =P100 -> 10 | W100: =X100*V100*PI()/30000 -> 2.1409263 | X100: ='limit 480V'!K27*0.95 -> 2044.434
P101: =E87 -> 2976 | Q101: =R101*P101*PI()/30000 -> 149.59008 | R101: =B87 -> 480 | S101: =K87 -> 2976 | T101: =U101*S101*PI()/30000 -> 221.98964 | U101: =H87 -> 712.31346 | V101: =Y87 -> 2596.3797 | W101: =X101*V101*PI()/30000 -> 555.86576 | X101: =X100 -> 2044.434
P102: =P101 -> 2976 | Q102: =R102*P102*PI()/30000 -> 149.59008 | R102: =R101*P101/P102 -> 480 | S102: =S101 -> 2976 | T102: =U102*S102*PI()/30000 -> 221.98964 | U102: =U101*S101/S102 -> 712.31346 | V102: =V101 -> 2596.3797 | W102: =X102*V102*PI()/30000 -> 555.86576 | X102: =X101 -> 2044.434
P103: =P102+($P$112-$P$102)/10 -> 3328.4 | Q103: =R103*P103*PI()/30000 -> 149.59008 | R103: =R102*P102/P103 -> 429.17919 | S103: =S102+($S$112-$S$102)/10 -> 3328.4 | T103: =U103*S103*PI()/30000 -> 221.98964 | U103: =U102*S102/S103 -> 636.89607 | V103: =IF(V102*1.1>MIN($L$13,$D$112),MIN($L$13,$D$112),V102*1.1) -> 2856.0177 | W103: =X103*V103*PI()/30000 -> 514.5669 | X103: =X102*(V102/V103)^(1+$AD$87) -> 1720.4908
P104: =P103+($P$112-$P$102)/10 -> 3680.8 | Q104: =R104*P104*PI()/30000 -> 149.59008 | R104: =R103*P103/P104 -> 388.08955 | S104: =S103+($S$112-$S$102)/10 -> 3680.8 | T104: =U104*S104*PI()/30000 -> 221.98964 | U104: =U103*S103/S104 -> 575.9196 | V104: =IF(V103*1.1>MIN($L$13,$D$112),MIN($L$13,$D$112),V103*1.1) -> 3141.6194 | W104: =X104*V104*PI()/30000 -> 476.33641 | X104: =X103*(V103/V104)^(1+$AD$87) -> 1447.8767
P105: =P104+($P$112-$P$102)/10 -> 4033.2 | Q105: =R105*P105*PI()/30000 -> 149.59008 | R105: =R104*P104/P105 -> 354.1803 | S105: =S104+($S$112-$S$102)/10 -> 4033.2 | T105: =U105*S105*PI()/30000 -> 221.98964 | U105: =U104*S104/S105 -> 525.59875 | V105: =IF(V104*1.1>MIN($L$13,$D$112),MIN($L$13,$D$112),V104*1.1) -> 3455.7814 | W105: =X105*V105*PI()/30000 -> 440.9463 | X105: =X104*(V104/V105)^(1+$AD$87) -> 1218.4587
P106: =P105+($P$112-$P$102)/10 -> 4385.6 | Q106: =R106*P106*PI()/30000 -> 149.59008 | R106: =R105*P105/P106 -> 325.72054 | S106: =S105+($S$112-$S$102)/10 -> 4385.6 | T106: =U106*S106*PI()/30000 -> 221.98964 | U106: =U105*S105/S106 -> 483.36485 | V106: =IF(V105*1.1>MIN($L$13,$D$112),MIN($L$13,$D$112),V105*1.1) -> 3801.3595 | W106: =X106*V106*PI()/30000 -> 408.18555 | X106: =X105*(V105/V106)^(1+$AD$87) -> 1025.3923
P107: =P106+($P$112-$P$102)/10 -> 4738 | Q107: =R107*P107*PI()/30000 -> 149.59008 | R107: =R106*P106/P107 -> 301.4943 | S107: =S106+($S$112-$S$102)/10 -> 4738 | T107: =U107*S107*PI()/30000 -> 221.98964 | U107: =U106*S106/S107 -> 447.41344 | V107: =IF(V106*1.1>MIN($L$13,$D$112),MIN($L$13,$D$112),V106*1.1) -> 4181.4955 | W107: =X107*V107*PI()/30000 -> 377.85881 | X107: =X106*(V106/V107)^(1+$AD$87) -> 862.91755
P108: =P107+($P$112-$P$102)/10 -> 5090.4 | Q108: =R108*P108*PI()/30000 -> 149.59008 | R108: =R107*P107/P108 -> 280.62235 | S108: =S107+($S$112-$S$102)/10 -> 5090.4 | T108: =U108*S108*PI()/30000 -> 221.98964 | U108: =U107*S107/S108 -> 416.43974 | V108: =IF(V107*1.1>MIN($L$13,$D$112),MIN($L$13,$D$112),V107*1.1) -> 4599.645 | W108: =X108*V108*PI()/30000 -> 349.78524 | X108: =X107*(V107/V108)^(1+$AD$87) -> 726.18712
P109: =P108+($P$112-$P$102)/10 -> 5442.8 | Q109: =R109*P109*PI()/30000 -> 149.59008 | R109: =R108*P108/P109 -> 262.45315 | S109: =S108+($S$112-$S$102)/10 -> 5442.8 | T109: =U109*S109*PI()/30000 -> 221.98964 | U109: =U108*S108/S109 -> 389.4769 | V109: =IF(V108*1.1>MIN($L$13,$D$112),MIN($L$13,$D$112),V108*1.1) -> 5059.6095 | W109: =X109*V109*PI()/30000 -> 323.79743 | X109: =X108*(V108/V109)^(1+$AD$87) -> 611.12181
P110: =P109+($P$112-$P$102)/10 -> 5795.2 | Q110: =R110*P110*PI()/30000 -> 149.59008 | R110: =R109*P109/P110 -> 246.49365 | S110: =S109+($S$112-$S$102)/10 -> 5795.2 | T110: =U110*S110*PI()/30000 -> 221.98964 | U110: =U109*S109/S110 -> 365.79322 | V110: =IF(V109*1.1>MIN($L$13,$D$112),MIN($L$13,$D$112),V109*1.1) -> 5565.5705 | W110: =X110*V110*PI()/30000 -> 299.74043 | X110: =X109*(V109/V110)^(1+$AD$87) -> 514.28875
P111: =P110+($P$112-$P$102)/10 -> 6147.6 | Q111: =R111*P111*PI()/30000 -> 149.59008 | R111: =R110*P110/P111 -> 232.36385 | S111: =S110+($S$112-$S$102)/10 -> 6147.6 | T111: =U111*S111*PI()/30000 -> 221.98964 | U111: =U110*S110/S111 -> 344.82479 | V111: =IF(V110*1.1>MIN($L$13,$D$112),MIN($L$13,$D$112),V110*1.1) -> 6122.1275 | W111: =X111*V111*PI()/30000 -> 277.47078 | X111: =X110*(V110/V111)^(1+$AD$87) -> 432.79901
A112: Speed range | B112: Nnom x | C112: 4 | D112: =TRUNC(E87*C112,-1) -> 11900 | P112: =IF(G87>E87*C112,E87*C112,G87) -> 6500 | Q112: =R112*P112*PI()/30000 -> 149.59008 | R112: =R106*P106/P112 -> 219.76615 | S112: =M87 -> 6500 | T112: =U112*S112*PI()/30000 -> 221.98964 | U112: =U106*S106/S112 -> 326.12998 | V112: =IF(V111*1.1>MIN($L$13,$D$112),MIN($L$13,$D$112),V111*1.1) -> 6500 | W112: =X112*V112*PI()/30000 -> 264.33115 | X112: =X111*(V111/V112)^(1+$AD$87) -> 388.33486
A113: Carga / Load | P113: =P112 -> 6500 | Q113: =R113*P113*PI()/30000 -> 149.59008 | R113: =R112*(P112/P113)^2 -> 219.76615 | S113: =S112 -> 6500 | T113: =U113*S113*PI()/30000 -> 221.98964 | U113: =U112 -> 326.12998 | V113: =IF(V112*1.1>MIN($L$13,$D$112),MIN($L$13,$D$112),V112*1.1) -> 6500 | W113: =X113*V113*PI()/30000 -> 264.33115 | X113: =X112*(V112/V113)^(1+$AD$87) -> 388.33486
P114: =IF(P113*1.1>MIN($L$13,$D$112),MIN($L$13,$D$112),P113*1.1) -> 6500 | Q114: =R114*P114*PI()/30000 -> 149.59008 | R114: =R113*(P113/P114)^(1+$AD$87) -> 219.76615 | S114: =IF(S113*1.1>MIN($L$13,$D$112),MIN($L$13,$D$112),S113*1.1) -> 6500 | T114: =U114*S114*PI()/30000 -> 221.98964 | U114: =U113*(S113/S114)^(1+$AD$87) -> 326.12998 | V114: =IF(V113*1.1>MIN($L$13,$D$112),MIN($L$13,$D$112),V113*1.1) -> 6500 | W114: =X114*V114*PI()/30000 -> 264.33115 | X114: =X113*(V113/V114)^(1+$AD$87) -> 388.33486
A115: rpm | B115: KW 1 | C115: KW 2 | P115: =IF(P114*1.1>MIN($L$13,$D$112),MIN($L$13,$D$112),P114*1.1) -> 6500 | Q115: =R115*P115*PI()/30000 -> 149.59008 | R115: =R114*(P114/P115)^(1+$AD$87) -> 219.76615 | S115: =IF(S114*1.1>MIN($L$13,$D$112),MIN($L$13,$D$112),S114*1.1) -> 6500 | T115: =U115*S115*PI()/30000 -> 221.98964 | U115: =U114*(S114/S115)^(1+$AD$87) -> 326.12998 | V115: =IF(V114*1.1>MIN($L$13,$D$112),MIN($L$13,$D$112),V114*1.1) -> 6500 | W115: =X115*V115*PI()/30000 -> 264.33115 | X115: =X114*(V114/V115)^(1+$AD$87) -> 388.33486
P116: =IF(P115*1.1>MIN($L$13,$D$112),MIN($L$13,$D$112),P115*1.1) -> 6500 | Q116: =R116*P116*PI()/30000 -> 149.59008 | R116: =R115*(P115/P116)^(1+$AD$87) -> 219.76615 | S116: =IF(S115*1.1>MIN($L$13,$D$112),MIN($L$13,$D$112),S115*1.1) -> 6500 | T116: =U116*S116*PI()/30000 -> 221.98964 | U116: =U115*(S115/S116)^(1+$AD$87) -> 326.12998 | V116: =IF(V115*1.1>MIN($L$13,$D$112),MIN($L$13,$D$112),V115*1.1) -> 6500 | W116: =X116*V116*PI()/30000 -> 264.33115 | X116: =X115*(V115/V116)^(1+$AD$87) -> 388.33486
P117: =IF(P116*1.1>MIN($L$13,$D$112),MIN($L$13,$D$112),P116*1.1) -> 6500 | Q117: =R117*P117*PI()/30000 -> 149.59008 | R117: =R116*(P116/P117)^(1+$AD$87) -> 219.76615 | S117: =IF(S116*1.1>MIN($L$13,$D$112),MIN($L$13,$D$112),S116*1.1) -> 6500 | T117: =U117*S117*PI()/30000 -> 221.98964 | U117: =U116*(S116/S117)^(1+$AD$87) -> 326.12998 | V117: =IF(V116*1.1>MIN($L$13,$D$112),MIN($L$13,$D$112),V116*1.1) -> 6500 | W117: =X117*V117*PI()/30000 -> 264.33115 | X117: =X116*(V116/V117)^(1+$AD$87) -> 388.33486
P118: =IF(P117*1.1>MIN($L$13,$D$112),MIN($L$13,$D$112),P117*1.1) -> 6500 | Q118: =R118*P118*PI()/30000 -> 149.59008 | R118: =R117*(P117/P118)^(1+$AD$87) -> 219.76615 | S118: =IF(S117*1.1>MIN($L$13,$D$112),MIN($L$13,$D$112),S117*1.1) -> 6500 | T118: =U118*S118*PI()/30000 -> 221.98964 | U118: =U117*(S117/S118)^(1+$AD$87) -> 326.12998 | V118: =IF(V117*1.1>MIN($L$13,$D$112),MIN($L$13,$D$112),V117*1.1) -> 6500 | W118: =X118*V118*PI()/30000 -> 264.33115 | X118: =X117*(V117/V118)^(1+$AD$87) -> 388.33486
P119: =IF(P118*1.1>MIN($L$13,$D$112),MIN($L$13,$D$112),P118*1.1) -> 6500 | Q119: =R119*P119*PI()/30000 -> 149.59008 | R119: =R118*(P118/P119)^(1+$AD$87) -> 219.76615 | S119: =IF(S118*1.1>MIN($L$13,$D$112),MIN($L$13,$D$112),S118*1.1) -> 6500 | T119: =U119*S119*PI()/30000 -> 221.98964 | U119: =U118*(S118/S119)^(1+$AD$87) -> 326.12998 | V119: =IF(V118*1.1>MIN($L$13,$D$112),MIN($L$13,$D$112),V118*1.1) -> 6500 | W119: =X119*V119*PI()/30000 -> 264.33115 | X119: =X118*(V118/V119)^(1+$AD$87) -> 388.33486
P120: =IF(P119*1.1>MIN($L$13,$D$112),MIN($L$13,$D$112),P119*1.1) -> 6500 | Q120: =R120*P120*PI()/30000 -> 149.59008 | R120: =R119*(P119/P120)^(1+$AD$87) -> 219.76615 | S120: =IF(S119*1.1>MIN($L$13,$D$112),MIN($L$13,$D$112),S119*1.1) -> 6500 | T120: =U120*S120*PI()/30000 -> 221.98964 | U120: =U119*(S119/S120)^(1+$AD$87) -> 326.12998 | V120: =IF(V119*1.1>MIN($L$13,$D$112),MIN($L$13,$D$112),V119*1.1) -> 6500 | W120: =X120*V120*PI()/30000 -> 264.33115 | X120: =X119*(V119/V120)^(1+$AD$87) -> 388.33486
P121: =IF(P120*1.1>MIN($L$13,$D$112),MIN($L$13,$D$112),P120*1.1) -> 6500 | Q121: =R121*P121*PI()/30000 -> 149.59008 | R121: =R120*(P120/P121)^(1+$AD$87) -> 219.76615 | S121: =IF(S120*1.1>MIN($L$13,$D$112),MIN($L$13,$D$112),S120*1.1) -> 6500 | T121: =U121*S121*PI()/30000 -> 221.98964 | U121: =U120*(S120/S121)^(1+$AD$87) -> 326.12998 | V121: =IF(V120*1.1>MIN($L$13,$D$112),MIN($L$13,$D$112),V120*1.1) -> 6500 | W121: =X121*V121*PI()/30000 -> 264.33115 | X121: =X120*(V120/V121)^(1+$AD$87) -> 388.33486
P122: =IF(P121*1.1>MIN($L$13,$D$112),MIN($L$13,$D$112),P121*1.1) -> 6500 | Q122: =R122*P122*PI()/30000 -> 149.59008 | R122: =R121*(P121/P122)^(1+$AD$87) -> 219.76615 | S122: =IF(S121*1.1>MIN($L$13,$D$112),MIN($L$13,$D$112),S121*1.1) -> 6500 | T122: =U122*S122*PI()/30000 -> 221.98964 | U122: =U121*(S121/S122)^(1+$AD$87) -> 326.12998 | V122: =IF(V121*1.1>MIN($L$13,$D$112),MIN($L$13,$D$112),V121*1.1) -> 6500 | W122: =X122*V122*PI()/30000 -> 264.33115 | X122: =X121*(V121/V122)^(1+$AD$87) -> 388.33486
P123: =IF(P122*1.1>MIN($L$13,$D$112),MIN($L$13,$D$112),P122*1.1) -> 6500 | Q123: =R123*P123*PI()/30000 -> 149.59008 | R123: =R122*(P122/P123)^(1+$AD$87) -> 219.76615 | S123: =IF(S122*1.1>MIN($L$13,$D$112),MIN($L$13,$D$112),S122*1.1) -> 6500 | T123: =U123*S123*PI()/30000 -> 221.98964 | U123: =U122*(S122/S123)^(1+$AD$87) -> 326.12998 | V123: =IF(V122*1.1>MIN($L$13,$D$112),MIN($L$13,$D$112),V122*1.1) -> 6500 | W123: =X123*V123*PI()/30000 -> 264.33115 | X123: =X122*(V122/V123)^(1+$AD$87) -> 388.33486
P124: =IF(P123*1.1>MIN($L$13,$D$112),MIN($L$13,$D$112),P123*1.1) -> 6500 | Q124: =R124*P124*PI()/30000 -> 149.59008 | R124: =R123*(P123/P124)^(1+$AD$87) -> 219.76615 | S124: =IF(S123*1.1>MIN($L$13,$D$112),MIN($L$13,$D$112),S123*1.1) -> 6500 | T124: =U124*S124*PI()/30000 -> 221.98964 | U124: =U123*(S123/S124)^(1+$AD$87) -> 326.12998 | V124: =IF(V123*1.1>MIN($L$13,$D$112),MIN($L$13,$D$112),V123*1.1) -> 6500 | W124: =X124*V124*PI()/30000 -> 264.33115 | X124: =X123*(V123/V124)^(1+$AD$87) -> 388.33486
P125: =IF(P124*1.1>MIN($L$13,$D$112),MIN($L$13,$D$112),P124*1.1) -> 6500 | Q125: =R125*P125*PI()/30000 -> 149.59008 | R125: =R124*(P124/P125)^(1+$AD$87) -> 219.76615 | S125: =IF(S124*1.1>MIN($L$13,$D$112),MIN($L$13,$D$112),S124*1.1) -> 6500 | T125: =U125*S125*PI()/30000 -> 221.98964 | U125: =U124*(S124/S125)^(1+$AD$87) -> 326.12998 | V125: =IF(V124*1.1>MIN($L$13,$D$112),MIN($L$13,$D$112),V124*1.1) -> 6500 | W125: =X125*V125*PI()/30000 -> 264.33115 | X125: =X124*(V124/V125)^(1+$AD$87) -> 388.33486
P126: =IF(P125*1.1>MIN($L$13,$D$112),MIN($L$13,$D$112),P125*1.1) -> 6500 | Q126: =R126*P126*PI()/30000 -> 149.59008 | R126: =R125*(P125/P126)^(1+$AD$87) -> 219.76615 | S126: =IF(S125*1.1>MIN($L$13,$D$112),MIN($L$13,$D$112),S125*1.1) -> 6500 | T126: =U126*S126*PI()/30000 -> 221.98964 | U126: =U125*(S125/S126)^(1+$AD$87) -> 326.12998 | V126: =IF(V125*1.1>MIN($L$13,$D$112),MIN($L$13,$D$112),V125*1.1) -> 6500 | W126: =X126*V126*PI()/30000 -> 264.33115 | X126: =X125*(V125/V126)^(1+$AD$87) -> 388.33486
P127: =IF(P126*1.1>MIN($L$13,$D$112),MIN($L$13,$D$112),P126*1.1) -> 6500 | Q127: =R127*P127*PI()/30000 -> 149.59008 | R127: =R126*(P126/P127)^(1+$AD$87) -> 219.76615 | S127: =IF(S126*1.1>MIN($L$13,$D$112),MIN($L$13,$D$112),S126*1.1) -> 6500 | T127: =U127*S127*PI()/30000 -> 221.98964 | U127: =U126*(S126/S127)^(1+$AD$87) -> 326.12998 | V127: =IF(V126*1.1>MIN($L$13,$D$112),MIN($L$13,$D$112),V126*1.1) -> 6500 | W127: =X127*V127*PI()/30000 -> 264.33115 | X127: =X126*(V126/V127)^(1+$AD$87) -> 388.33486
... P131: =IF(P130*1.1>MIN($L$13,$D$112),MIN($L$13,$D$112),P130*1.1) -> 6500 | Q131: =R131*P131*PI()/30000 -> 149.59008 | R131: =R130*(P130/P131)^(1+$AD$87) -> 219.76615 | S131: =IF(S130*1.1>MIN($L$13,$D$112),MIN($L$13,$D$112),S130*1.1) -> 6500 | T131: =U131*S131*PI()/30000 -> 221.98964 | U131: =U130*(S130/S131)^(1+$AD$87) -> 326.12998 | V131: =IF(V130*1.1>MIN($L$13,$D$112),MIN($L$13,$D$112),V130*1.1) -> 6500 | W131: =X131*V131*PI()/30000 -> 264.33115 | X131: =X130*(V130/V131)^(1+$AD$87) -> 388.33486
A136: =MAX(A112,IF(A116="",0,MAX(A116:A135))) -> 0
D139: =D76 -> MAC QT 160 P
D140: - Placa de Características en Modo Motor- | L140: Página | M140: 3 de 3
D141: - Driving Mode Nameplate - | L141: Fecha | M141: =M78 -> 45239
C145: =D76 -> MAC QT 160 P | G145: =A87 -> H42 | I145: =F9 -> 4 | J145: Pole | K145: EN60034
C146: Nr: | G146: DATE | K146: =J11 -> IM B3
C147: Pn | D147: =D87 -> 149.59008 | F147: kW | G147: Mn | H147: =B87 -> 480 | J147: Nm | K147: =G11 -> IP 23
C148: Un | D148: =IF(RIGHT(G145)="1","Y","D") -> D | E148: =F81 -> 400 | F148: V | G148: Fn | H148: =F87 -> 100 | J148: Hz | K148: =C8 -> IC 06
C149: In | D149: =C87 -> 274.6 | F149: A | G149: Cos fi | H149: =P87 -> 0.81405129 | I149: Eff. | J149: =O87 -> 0.96589488 | K149: =I15 -> Cl. F
C150: Nn | D150: =E87 -> 2976 | F150: rpm | G150: Nmax | H150: =L13 -> 6500 | J150: rpm | K150: =F24 -> S1
C151: FAN | E151: V | F151: v | G151: A 50/60Hz | I151: BRAKE | J151: Nm | K151: Nm | L151: Vdc | M151: Vdc
C152: MADE IN SPAIN

Sheet driving mode parameters
H2: =RESUM!G2 -> MAC QT 160 P
H4: Parámetros modo motor / Driving mode parameters
N5: Fecha - Date | O5: =RESUM!O5 -> 45239
B8: =RESUM!B8 -> MAC QT 160 P | C8: =RESUM!C8 -> MAC QT 160 P | D8: =RESUM!D8 -> MAC QT 160 P | E8: =RESUM!E8 -> MAC QT 160 P | F8: =RESUM!F8 -> MAC QT 160 P | G8: =RESUM!G8 -> MAC QT 160 P | H8: =RESUM!H8 -> MAC QT 160 P | I8: =RESUM!I8 -> MAC QT 160 P | ... O8: =RESUM!O8 -> MAC QT 160 P
B9: =RESUM!B9 -> A41 | C9: =RESUM!C9 -> B41 | D9: =RESUM!D9 -> C41 | E9: =RESUM!E9 -> D41 | F9: =RESUM!F9 -> E41 | G9: =RESUM!G9 -> F41 | H9: =RESUM!H9 -> G41 | I9: =RESUM!I9 -> H41 | ... O9: =RESUM!O9 -> 0
A10: Poles | B10: =RESUM!B10 -> 4 | C10: =RESUM!C10 -> 4 | D10: =RESUM!D10 -> 4 | E10: =RESUM!E10 -> 4 | F10: =RESUM!F10 -> 4 | G10: =RESUM!G10 -> 4 | H10: =RESUM!H10 -> 4 | I10: =RESUM!I10 -> 4 | ... O10: =RESUM!O10 -> 4
A11: Nm | B11: =RESUM!B11 -> 540 | C11: =RESUM!C11 -> 540 | D11: =RESUM!D11 -> 540 | E11: =RESUM!E11 -> 540 | F11: =RESUM!F11 -> 540 | G11: =RESUM!G11 -> 540 | H11: =RESUM!H11 -> 540 | I11: =RESUM!I11 -> 540 | ... O11: =RESUM!O11 -> 0
A12: rpm | B12: ='driving mode datasheet'!E27 -> 513 | C12: ='driving mode datasheet'!E28 -> 693 | D12: ='driving mode datasheet'!E29 -> 814 | E12: ='driving mode datasheet'!E30 -> 993 | F12: ='driving mode datasheet'!E31 -> 1113 | G12: ='driving mode datasheet'!E32 -> 1263 | H12: ='driving mode datasheet'!E33 -> 1443 | I12: ='driving mode datasheet'!E34 -> 1684 | J12: ='driving mode datasheet'!E35 -> 2043 | K12: ='driving mode datasheet'!E36 -> 2224 | L12: ='driving mode datasheet'!E37 -> 2555 | M12: ='driving mode datasheet'!E38 -> 2976 | N12: ='driving mode datasheet'!E39 -> 0 | O12: ='driving mode datasheet'!E40 -> 0 | U12: =RESUM!C10 -> 4 | V12: =RESUM!D10 -> 4
A13: KW | B13: =B11*B12*PI()/30000 -> 29.009467 | C13: =C11*C12*PI()/30000 -> 39.188227 | D13: =D11*D12*PI()/30000 -> 46.030616 | E13: =E11*E12*PI()/30000 -> 56.152827 | F13: =F11*F12*PI()/30000 -> 62.938667 | G13: =G11*G12*PI()/30000 -> 71.420967 | H13: =H11*H12*PI()/30000 -> 81.599728 | I13: =I11*I12*PI()/30000 -> 95.227957 | ... O13: =O11*O12*PI()/30000 -> 0
A14: V | B14: ='driving mode datasheet'!F21 -> 400 | C14: =B14 -> 400 | D14: =C14 -> 400 | E14: =D14 -> 400 | F14: =E14 -> 400 | G14: =F14 -> 400 | H14: =G14 -> 400 | I14: =H14 -> 400 | J14: =I14 -> 400 | ... O14: =N14 -> 400
A15: A | B15: =RESUM!B15 -> 57 | C15: =RESUM!C15 -> 75.2 | D15: =RESUM!D15 -> 87.1 | E15: =RESUM!E15 -> 104.9 | F15: =RESUM!F15 -> 116.4 | G15: =RESUM!G15 -> 130.9 | H15: =RESUM!H15 -> 149.4 | I15: =RESUM!I15 -> 174.3 | ... O15: =RESUM!O15 -> 0
A16: Hz | B16: ='driving mode datasheet'!F27 -> 18 | C16: ='driving mode datasheet'!F28 -> 24 | D16: ='driving mode datasheet'!F29 -> 28 | E16: ='driving mode datasheet'!F30 -> 34 | F16: ='driving mode datasheet'!F31 -> 38 | G16: ='driving mode datasheet'!F32 -> 43 | H16: ='driving mode datasheet'!F33 -> 49 | I16: ='driving mode datasheet'!F34 -> 57 | J16: ='driving mode datasheet'!F35 -> 69 | K16: ='driving mode datasheet'!F36 -> 75 | L16: ='driving mode datasheet'!F37 -> 86 | M16: ='driving mode datasheet'!F38 -> 100 | N16: ='driving mode datasheet'!F39 -> 0 | O16: ='driving mode datasheet'!F40 -> 0
A17: Cos fi | B17: =B13/B18*1000/B14/B15/3^0.5 -> 0.83959535 | C17: =C13/C18*1000/C14/C15/3^0.5 -> 0.83682696 | D17: =D13/D18*1000/D14/D15/3^0.5 -> 0.83610318 | E17: =E13/E18*1000/E14/E15/3^0.5 -> 0.83529741 | F17: =F13/F18*1000/F14/F15/3^0.5 -> 0.8375668 | G17: =G13/G18*1000/G14/G15/3^0.5 -> 0.83948844 | H17: =H13/H18*1000/H14/H15/3^0.5 -> 0.83471839 | I17: =I13/I18*1000/I14/I15/3^0.5 -> 0.82950756 | ... O17: =O13/O18*1000/O14/O15/3^0.5 -> #DIV/0!
A18: Rend / eff. | B18: =B13*1000/(B13*1000+3*B23/1000*B15^2+3*B24/1000*(B15^2-B32^2)+3*(2*PI()*B16*B28/1000*B32)^2/B25) -> 0.87493188 | C18: =C13*1000/(C13*1000+3*C23/1000*C15^2+3*C24/1000*(C15^2-C32^2)+3*(2*PI()*C16*C28/1000*C32)^2/C25) -> 0.89883814 | D18: =D13*1000/(D13*1000+3*D23/1000*D15^2+3*D24/1000*(D15^2-D32^2)+3*(2*PI()*D16*D28/1000*D32)^2/D25) -> 0.91232197 | E18: =E13*1000/(E13*1000+3*E23/1000*E15^2+3*E24/1000*(E15^2-E32^2)+3*(2*PI()*E16*E28/1000*E32)^2/E25) -> 0.92498435 | F18: =F13*1000/(F13*1000+3*F23/1000*F15^2+3*F24/1000*(F15^2-F32^2)+3*(2*PI()*F16*F28/1000*F32)^2/F25) -> 0.93180383 | G18: =G13*1000/(G13*1000+3*G23/1000*G15^2+3*G24/1000*(G15^2-G32^2)+3*(2*PI()*G16*G28/1000*G32)^2/G25) -> 0.93810347 | H18: =H13*1000/(H13*1000+3*H23/1000*H15^2+3*H24/1000*(H15^2-H32^2)+3*(2*PI()*H16*H28/1000*H32)^2/H25) -> 0.94444682 | I18: =I13*1000/(I13*1000+3*I23/1000*I15^2+3*I24/1000*(I15^2-I32^2)+3*(2*PI()*I16*I28/1000*I32)^2/I25) -> 0.95066195 | ... O18: =O13*1000/(O13*1000+3*O23/1000*O15^2+3*O24/1000*(O15^2-O32^2)+3*(2*PI()*O16*O28/1000*O32)^2/O25) -> #DIV/0!
A19: J (Kg m2) | B19: =RESUM!B19 -> 0.462632 | C19: =RESUM!C19 -> 0.462632 | D19: =RESUM!D19 -> 0.462632 | E19: =RESUM!E19 -> 0.462632 | F19: =RESUM!F19 -> 0.462632 | G19: =RESUM!G19 -> 0.462632 | H19: =RESUM!H19 -> 0.462632 | I19: =RESUM!I19 -> 0.462632 | ... O19: =RESUM!O19 -> 0
B20: ESQUEMA EQUIVALENTE POR FASE EN ESTRELLA / PHASE STAR EQUIVALENT SCHEMA
B21: =RESUM!B21 -> MAC QT 160 P | C21: =RESUM!C21 -> MAC QT 160 P | D21: =RESUM!D21 -> MAC QT 160 P | E21: =RESUM!E21 -> MAC QT 160 P | F21: =RESUM!F21 -> MAC QT 160 P | G21: =RESUM!G21 -> MAC QT 160 P | H21: =RESUM!H21 -> MAC QT 160 P | I21: =RESUM!I21 -> MAC QT 160 P | ... O21: =RESUM!O21 -> MAC QT 160 P
B22: =RESUM!B22 -> A41 | C22: =RESUM!C22 -> B41 | D22: =RESUM!D22 -> C41 | E22: =RESUM!E22 -> D41 | F22: =RESUM!F22 -> E41 | G22: =RESUM!G22 -> F41 | H22: =RESUM!H22 -> G41 | I22: =RESUM!I22 -> H41 | ... O22: =RESUM!O22 -> 0
A23: Rs (mOhm) | B23: =RESUM!B23 -> 236.0555 | C23: =RESUM!C23 -> 140.72795 | D23: =RESUM!D23 -> 103.83299 | E23: =RESUM!E23 -> 72.046276 | F23: =RESUM!F23 -> 58.106815 | G23: =RESUM!G23 -> 46.147994 | H23: =RESUM!H23 -> 35.181989 | I23: =RESUM!I23 -> 25.693612 | ... O23: =RESUM!O23 -> 0
A24: Rr (mOhm) | B24: =RESUM!B24 -> 187.99062 | C24: =RESUM!C24 -> 113.72272 | D24: =RESUM!D24 -> 83.551388 | E24: =RESUM!E24 -> 58.021797 | F24: =RESUM!F24 -> 46.997656 | G24: =RESUM!G24 -> 37.13395 | H24: =RESUM!H24 -> 28.430681 | I24: =RESUM!I24 -> 20.887847 | ... O24: =RESUM!O24 -> 0
A25: Rfe (Ohm) | B25: =RESUM!B25 -> 518.78894 | C25: =RESUM!C25 -> 406.0518 | D25: =RESUM!D25 -> 342.8588 | E25: =RESUM!E25 -> 278.51907 | F25: =RESUM!F25 -> 246.93159 | G25: =RESUM!G25 -> 215.16473 | H25: =RESUM!H25 -> 182.13632 | I25: =RESUM!I25 -> 149.66889 | ... O25: =RESUM!O25 -> 0
A26: Ls (mH) | B26: =RESUM!B26 -> 2.6453861 | C26: =RESUM!C26 -> 1.6002953 | D26: =RESUM!D26 -> 1.1757272 | E26: =RESUM!E26 -> 0.8164772 | F26: =RESUM!F26 -> 0.66134653 | G26: =RESUM!G26 -> 0.52254541 | H26: =RESUM!H26 -> 0.40007383 | I26: =RESUM!I26 -> 0.29393179 | ... O26: =RESUM!O26 -> 0
A27: Lr (mH) | B27: =RESUM!B27 -> 2.3710549 | C27: =RESUM!C27 -> 1.4802642 | D27: =RESUM!D27 -> 1.0868623 | E27: =RESUM!E27 -> 0.75253935 | F27: =RESUM!F27 -> 0.60742838 | G27: =RESUM!G27 -> 0.47831092 | H27: =RESUM!H27 -> 0.36797283 | I27: =RESUM!I27 -> 0.27171656 | ... O27: =RESUM!O27 -> 0
A28: Lm (mH) | B28: =RESUM!B28 -> 89.840416 | C28: =RESUM!C28 -> 53.097233 | D28: =RESUM!D28 -> 39.098763 | E28: =RESUM!E28 -> 27.026582 | F28: =RESUM!F28 -> 22.149052 | G28: =RESUM!G28 -> 17.724785 | H28: =RESUM!H28 -> 13.214172 | I28: =RESUM!I28 -> 9.4503213 | ... O28: =RESUM!O28 -> 0
A29: Ts (s) | B29: =RESUM!B29 -> 0.39179685 | C29: =RESUM!C29 -> 0.38867564 | D29: =RESUM!D29 -> 0.38787761 | E29: =RESUM!E29 -> 0.38646077 | F29: =RESUM!F29 -> 0.39255978 | G29: =RESUM!G29 -> 0.39540897 | H29: =RESUM!H29 -> 0.38696635 | I29: =RESUM!I29 -> 0.37924809 | ... O29: =RESUM!O29 -> 0
A30: Tr (s) | B30: =RESUM!B30 -> 0.49051101 | C30: =RESUM!C30 -> 0.47991725 | D30: =RESUM!D30 -> 0.48096897 | E30: =RESUM!E30 -> 0.47877044 | F30: =RESUM!F30 -> 0.48420458 | G30: =RESUM!G30 -> 0.4902009 | H30: =RESUM!H30 -> 0.47772844 | I30: =RESUM!I30 -> 0.46543992 | ... O30: =RESUM!O30 -> 0
A31: Kt | B31: =RESUM!B31 -> 138.4387 | C31: =RESUM!C31 -> 107.67455 | D31: =RESUM!D31 -> 92.292467 | E31: =RESUM!E31 -> 76.91039 | F31: =RESUM!F31 -> 69.219351 | G31: =RESUM!G31 -> 61.528312 | H31: =RESUM!H31 -> 53.837273 | I31: =RESUM!I31 -> 46.146234 | ... O31: =RESUM!O31 -> 0
A32: Im (A/fase) | B32: =RESUM!B32 -> 20.3 | C32: =RESUM!C32 -> 26.6 | D32: =RESUM!D32 -> 31.2 | E32: =RESUM!E32 -> 37.5 | F32: =RESUM!F32 -> 41 | G32: =RESUM!G32 -> 45.5 | H32: =RESUM!H32 -> 53.7 | I32: =RESUM!I32 -> 64.6 | ... O32: =RESUM!O32 -> 0
B33: =RESUM!B33 -> 0 | C33: =RESUM!C33 -> 0 | D33: =RESUM!D33 -> 0 | E33: =RESUM!E33 -> 0 | F33: =RESUM!F33 -> 0 | G33: =RESUM!G33 -> 0 | H33: =RESUM!H33 -> 0 | I33: =RESUM!I33 -> 0 | ... O33: =RESUM!O33 -> 0
A61: s rpm | B61: =B16*120/B10-B12 -> 27 | C61: =C16*120/U12-C12 -> 27 | D61: =D16*120/V12-D12 -> 26 | E61: =E16*120/E10-E12 -> 27 | F61: =F16*120/F10-F12 -> 27 | G61: =G16*120/G10-G12 -> 27 | H61: =H16*120/H10-H12 -> 27 | I61: =I16*120/I10-I12 -> 26 | J61: =J16*120/J10-J12 -> 27 | K61: =K16*120/K10-K12 -> 26 | L61: =L16*120/L10-L12 -> 25 | M61: =M16*120/M10-M12 -> 24
A62: MODO GENERADOR a fnom
A63: E | B63: =2*PI()*B16*B28/1000*B32 -> 206.26245 | C63: =2*PI()*C16*C28/1000*C32 -> 212.98285 | D63: =2*PI()*D16*D28/1000*D32 -> 214.61275 | E63: =2*PI()*E16*E28/1000*E32 -> 216.51161 | F63: =2*PI()*F16*F28/1000*F32 -> 216.82156 | G63: =2*PI()*G16*G28/1000*G32 -> 217.8917 | H63: =2*PI()*H16*H28/1000*H32 -> 218.46919 | I63: =2*PI()*I16*I28/1000*I32 -> 218.64211 | ... M63: =2*PI()*M16*M28/1000*M32 -> 220.87106
A64: urq | B64: =B23/1000*(B15^2-B32^2)^0.5 -> 12.572942 | C64: =C23/1000*(C15^2-C32^2)^0.5 -> 9.8985687 | D64: =D23/1000*(D15^2-D32^2)^0.5 -> 8.443716 | E64: =E23/1000*(E15^2-E32^2)^0.5 -> 7.058241 | F64: =F23/1000*(F15^2-F32^2)^0.5 -> 6.3301661 | G64: =G23/1000*(G15^2-G32^2)^0.5 -> 5.6641018 | H64: =H23/1000*(H15^2-H32^2)^0.5 -> 4.9049131 | I64: =I23/1000*(I15^2-I32^2)^0.5 -> 4.1594561 | ... M64: =M23/1000*(M15^2-M32^2)^0.5 -> 2.1548818
A65: urd | B65: =B23/1000*B32 -> 4.7919267 | C65: =C23/1000*C32 -> 3.7433636 | D65: =D23/1000*D32 -> 3.2395891 | E65: =E23/1000*E32 -> 2.7017354 | F65: =F23/1000*F32 -> 2.3823794 | G65: =G23/1000*G32 -> 2.0997337 | H65: =H23/1000*H32 -> 1.8892728 | I65: =I23/1000*I32 -> 1.6598073 | ... M65: =M23/1000*M32 -> 0.9420991
A66: exd | B66: =2*PI()*B16*B26/1000*B32 -> 6.0734783 | C66: =2*PI()*C16*C26/1000*C32 -> 6.4190813 | D66: =2*PI()*D16*D26/1000*D32 -> 6.4535554 | E66: =2*PI()*E16*E26/1000*E32 -> 6.5408488 | F66: =2*PI()*F16*F26/1000*F32 -> 6.4740552 | G66: =2*PI()*G16*G26/1000*G32 -> 6.4236779 | H66: =2*PI()*H16*H26/1000*H32 -> 6.6143988 | I66: =2*PI()*I16*I26/1000*I32 -> 6.8003897 | ... M66: =2*PI()*M16*M26/1000*M32 -> 6.7717023
A67: exq | B67: =2*PI()*B16*B26/1000*(B15^2-B32^2)^0.5 -> 15.935446 | C67: =2*PI()*C16*C26/1000*(C15^2-C32^2)^0.5 -> 16.973964 | D67: =2*PI()*D16*D26/1000*(D15^2-D32^2)^0.5 -> 16.820648 | E67: =2*PI()*E16*E26/1000*(E15^2-E32^2)^0.5 -> 17.087864 | F67: =2*PI()*F16*F26/1000*(F15^2-F32^2)^0.5 -> 17.202065 | G67: =2*PI()*G16*G26/1000*(G15^2-G32^2)^0.5 -> 17.328086 | H67: =2*PI()*H16*H26/1000*(H15^2-H32^2)^0.5 -> 17.172243 | I67: =2*PI()*I16*I26/1000*(I15^2-I32^2)^0.5 -> 17.04169 | ... M67: =2*PI()*M16*M26/1000*(M15^2-M32^2)^0.5 -> 15.489048
A68: Vq | B68: =B63+B66-B64 -> 199.76298 | C68: =C63+C66-C64 -> 209.50336 | D68: =D63+D66-D64 -> 212.62258 | E68: =E63+E66-E64 -> 215.99422 | F68: =F63+F66-F64 -> 216.96545 | G68: =G63+G66-G64 -> 218.65128 | H68: =H63+H66-H64 -> 220.17867 | I68: =I63+I66-I64 -> 221.28305 | ... M68: =M63+M66-M64 -> 225.48788
A69: Vd | B69: =B65-B67 -> -11.143519 | C69: =C65-C67 -> -13.2306 | D69: =D65-D67 -> -13.581059 | E69: =E65-E67 -> -14.386129 | F69: =F65-F67 -> -14.819685 | G69: =G65-G67 -> -15.228352 | H69: =H65-H67 -> -15.28297 | I69: =I65-I67 -> -15.381883 | ... M69: =M65-M67 -> -14.546949
A70: V | B70: =3^0.5*(B68^2+B69^2)^0.5 -> 346.53756 | C70: =3^0.5*(C68^2+C69^2)^0.5 -> 363.59335 | D70: =3^0.5*(D68^2+D69^2)^0.5 -> 369.02361 | E70: =3^0.5*(E68^2+E69^2)^0.5 -> 374.94184 | F70: =3^0.5*(F68^2+F69^2)^0.5 -> 376.67079 | G70: =3^0.5*(G68^2+G69^2)^0.5 -> 379.63253 | H70: =3^0.5*(H68^2+H69^2)^0.5 -> 382.27824 | I70: =3^0.5*(I68^2+I69^2)^0.5 -> 384.19835 | ... M70: =3^0.5*(M68^2+M69^2)^0.5 -> 391.36837
A72: Correcció a | B72: =B14 -> 400
A73: E | B73: =B63*B74/B16 -> 238.0838 | C73: =C63*C74/C16 -> 234.30885 | D73: =D63*D74/D16 -> 232.62766 | E73: =E63*E74/E16 -> 230.98154 | F73: =F63*F74/F16 -> 230.25046 | G73: =G63*G74/G16 -> 229.5817 | H73: =H63*H74/H16 -> 228.59704 | I73: =I63*I74/I16 -> 227.63462 | ... M73: =M63*M74/M16 -> 225.74238
A74: Hz gen | B74: =B16*B14/B70 -> 20.776968 | C74: =C16*C14/C70 -> 26.403123 | D74: =D16*D14/D70 -> 30.350361 | E74: =E16*E14/E70 -> 36.272292 | F74: =F16*F14/F70 -> 40.35354 | G74: =G16*G14/G70 -> 45.306971 | H74: =H16*H14/H70 -> 51.271556 | I74: =I16*I14/I70 -> 59.344347 | ... M74: =M16*M14/M70 -> 102.2055
A75: Hz gen adoptat | B75: =ROUND(B74,0) -> 21 | C75: =ROUND(C74,0) -> 26 | D75: =ROUND(D74,0) -> 30 | E75: =ROUND(E74,0) -> 36 | F75: =ROUND(F74,0) -> 40 | G75: =ROUND(G74,0) -> 45 | H75: =ROUND(H74,0) -> 51 | I75: =ROUND(I74,0) -> 59 | ... M75: =ROUND(M74,0) -> 102
A76: rpm gen | B76: =B75*120/B10+B61 -> 657 | C76: =C75*120/U12+C61 -> 807 | D76: =D75*120/V12+D61 -> 926 | E76: =E75*120/E10+E61 -> 1107 | F76: =F75*120/F10+F61 -> 1227 | G76: =G75*120/G10+G61 -> 1377 | H76: =H75*120/H10+H61 -> 1557 | I76: =I75*120/I10+I61 -> 1796 | J76: =J75*120/J10+J61 -> 2157 | K76: =K75*120/K10+K61 -> 2336 | L76: =L75*120/L10+L61 -> 2665 | M76: =M75*120/M10+M61 -> 3084
A77: Nm gen | B77: =B11 -> 540 | C77: =C11 -> 540 | D77: =D11 -> 540 | E77: =E11 -> 540 | F77: =F11 -> 540 | G77: =G11 -> 540 | H77: =H11 -> 540 | I77: =I11 -> 540 | ... M77: =M11 -> 480
A78: KW abs | B78: =B76*B77*PI()/30000 -> 37.152475 | C78: =C76*C77*PI()/30000 -> 45.634775 | D78: =D76*D77*PI()/30000 -> 52.364066 | E78: =E76*E77*PI()/30000 -> 62.599375 | F78: =F76*F77*PI()/30000 -> 69.385215 | G78: =G76*G77*PI()/30000 -> 77.867516 | H78: =H76*H77*PI()/30000 -> 88.046276 | I78: =I76*I77*PI()/30000 -> 101.56141 | ... M78: =M76*M77*PI()/30000 -> 155.01875
A79: KW perd. | B79: =(3*B23/1000*B15^2+3*B73^2/B25+3*B24/1000*(B15^2-B32^2)+100)/1000 -> 4.3285563 | C79: =(3*C23/1000*C15^2+3*C73^2/C25+3*C24/1000*(C15^2-C32^2)+100)/1000 -> 4.5810073 | D79: =(3*D23/1000*D15^2+3*D73^2/D25+3*D24/1000*(D15^2-D32^2)+100)/1000 -> 4.5942367 | E79: =(3*E23/1000*E15^2+3*E73^2/E25+3*E24/1000*(E15^2-E32^2)+100)/1000 -> 4.7237048 | F79: =(3*F23/1000*F15^2+3*F73^2/F25+3*F24/1000*(F15^2-F32^2)+100)/1000 -> 4.7792483 | G79: =(3*G23/1000*G15^2+3*G73^2/G25+3*G24/1000*(G15^2-G32^2)+100)/1000 -> 4.8853252 | H79: =(3*H23/1000*H15^2+3*H73^2/H25+3*H24/1000*(H15^2-H32^2)+100)/1000 -> 4.9743452 | I79: =(3*I23/1000*I15^2+3*I73^2/I25+3*I24/1000*(I15^2-I32^2)+100)/1000 -> 5.1226408 | ... M79: =(3*M23/1000*M15^2+3*M73^2/M25+3*M24/1000*(M15^2-M32^2)+100)/1000 -> 5.472111
A80: KW out | B80: =B78-B79 -> 32.823918 | C80: =C78-C79 -> 41.053768 | D80: =D78-D79 -> 47.76983 | E80: =E78-E79 -> 57.87567 | F80: =F78-F79 -> 64.605967 | G80: =G78-G79 -> 72.98219 | H80: =H78-H79 -> 83.07193 | I80: =I78-I79 -> 96.438767 | ... M80: =M78-M79 -> 149.54664
A81: eff gen. | B81: =B80/B78 -> 0.88349211 | C81: =C80/C78 -> 0.89961587 | D81: =D80/D78 -> 0.91226356 | E81: =E80/E78 -> 0.9245407 | F81: =F80/F78 -> 0.93112008 | G81: =G80/G78 -> 0.93726106 | H81: =H80/H78 -> 0.94350306 | I81: =I80/I78 -> 0.94956115 | ... M81: =M80/M78 -> 0.96470033
A82: Cos fi gen | B82: =B80*1000/3^0.5/B14/B15 -> 0.83117974 | C82: =C80*1000/3^0.5/C14/C15 -> 0.78797885 | D82: =D80*1000/3^0.5/D14/D15 -> 0.79161665 | E82: =E80*1000/3^0.5/E14/E15 -> 0.79634256 | F82: =F80*1000/3^0.5/F14/F15 -> 0.80112269 | G82: =G80*1000/3^0.5/G14/G15 -> 0.80474193 | H82: =H80*1000/3^0.5/H14/H15 -> 0.8025703 | I82: =I80*1000/3^0.5/I14/I15 -> 0.79860797 | ... M82: =M80*1000/3^0.5/M14/M15 -> 0.78605964

Sheet absorbing mode datasheet
L1: Codigo | M1: =RESUM!O2 -> DT-QT 160 P
D2: =RESUM!G2 -> MAC QT 160 P | L2: Edición | M2: ='driving mode datasheet'!M2 -> 06
D3: - Hoja de Datos Técnicos Modo Generador - | L3: Página | M3: ='driving mode datasheet'!M3 -> 1 de 3
D4: - Absorbing Mode Technical Datasheet - | L4: Fecha | M4: ='driving mode datasheet'!M4 -> 45239
A7: Ventilador / Fan | E7: Rodamientos | G7: Delantero | H7: ='driving mode datasheet'!H7 -> 6012 ZZ C3 | J7: ='driving mode datasheet'!J7 -> Trasero | M7: ='driving mode datasheet'!M7 -> 6010 ZZ C3
A8: Tipo de Refrigeración | C8: ='driving mode datasheet'!C8 -> IC 06 | E8: Bearings | G8: Drive End | J8: ='driving mode datasheet'!J8 -> Non Drive End
A9: Cooling Mode | E9: Nº de polos | F9: ='driving mode datasheet'!F9 -> 4 | G9: Momento de inercia | I9: ='driving mode datasheet'!I9 -> 0.462632 | K9: Peso Motor | M9: ='driving mode datasheet'!M9 -> 387 | P9: ='driving mode datasheet'!P9 -> 400V 50Hz
A10: Alimentación / Supply | E10: No of poles | G10: Rotor Inertia | K10: Motor Weight | P10: ='driving mode datasheet'!P10 -> 480V 60Hz | Q10: 1
A11: Potencia / Power | C11: =IF($Q$10=1,P11,IF($Q$10=2,Q11,"")) -> 1,50 kW | E11: Protección | G11: ='driving mode datasheet'!G11 -> IP 23 | H11: Construcción | J11: ='driving mode datasheet'!J11 -> IM B3 | K11: standard | L11: Equilibrado grado | N11: ='driving mode datasheet'!N11 -> B | P11: ='driving mode datasheet'!P11 -> 1,50 kW | Q11: ='driving mode datasheet'!Q11 -> 1,8 kW
A12: Corriente / Current | C12: =IF($Q$10=1,P12,IF($Q$10=2,Q12,"")) -> 3.1A | E12: Protection Degree | H12: Mounting | J12: ='driving mode datasheet'!J12 -> IM B35 | K12: on request | L12: Balancing degree | P12: ='driving mode datasheet'!P12 -> 3.1A | Q12: ='driving mode datasheet'!Q12 -> 3.0 A
A13: Velocidad / Speed | C13: =IF($Q$10=1,P13,IF($Q$10=2,Q13,"")) -> 2850 rpm | E13: Nivel de ruido | G13: ='driving mode datasheet'!G13 -> < 80 dB | I13: Velocidad máxima mecánica | L13: ='driving mode datasheet'!L13 -> 6500 | P13: ='driving mode datasheet'!P13 -> 2850 rpm | Q13: ='driving mode datasheet'!Q13 -> 3420 rpm
A14: Caudal / Air flow | C14: =IF($Q$10=1,P14,IF($Q$10=2,Q14,"")) -> 2170 m3/h | E14: Noise Level | I14: Max. Mechanical Speed | P14: ='driving mode datasheet'!P14 -> 2170 m3/h | Q14: ='driving mode datasheet'!Q14 -> 2170 m3/h
A15: Presión / Pressure | C15: =IF($Q$10=1,P15,IF($Q$10=2,Q15,"")) -> 1625 Pa | E15: Aislamiento | F15: ='driving mode datasheet'!F15 -> Cl. H | G15: Incremento Temperatura | I15: ='driving mode datasheet'!I15 -> Cl. F | J15: Termistores | K15: ='driving mode datasheet'!K15 -> PTC155º C | L15: Termómetros | N15: ='driving mode datasheet'!N15 -> 3xPt100 | P15: ='driving mode datasheet'!P15 -> 1625 Pa | Q15: ='driving mode datasheet'!Q15 -> 1625 Pa
A16: Por favor, indicar en los pedidos la alimentación deseada para el ventilador / Please indicate the required fan supply voltage when placing your order | E16: Insulation | G16: Temperature Rise | J16: Thermistors | L16: Thermometers
E17: Ambiente | F17: ='driving mode datasheet'!F17 -> < 40 ºC < 1000 m | I17: Conmutación Variador | K17: ='driving mode datasheet'!K17 -> 4 kHz ; IVIC C/B acc. EN60034-25
E18: Ambient | I18: Inverter Switching
A19: Normas de referencia | C19: EN60034 | D19: Sondas rodamientos | F19: 2 x Pt100 | G19: Alojamientos de los rodamientos eléctricamente aislados | K19: Anillo SGR de puesta a tierra del eje en NDE
A20: Reference Standards | D20: Bearing Probes | G20: Electrically insulated bearing housings | K20: SGR shaft grounding rings on NDE
A21: Tensión de Base del Motor | E21: Vb ± 5% | F21: 400 | H21: Tensión Máxima de Salida del Convertidor | L21: Vc | M21: 400
A22: Motor Base Voltage | H22: Inverter max. Output Voltage
F23: =IF(F21>500," Vb ha de ser / must be < 500 V"," ") | G23: =IF(M21>500," Vc ha de ser / must be < 500 V"," ") | N23: =IF(M21<F21,"Vc ha de ser / must be > Vb"," ")
B24: Servicio / Service | F24: S1 | H24: Servicio / Service S6 - | L24: 0.4 | M24: =IF(L24>80%,"max 80%","")
M25: =IF(L24<20%,"min 20%","")
A26: Bobinado Winding | B26: Nm | C26: A ± 2% | D26: KW | E26: rpm | F26: Hz | G26: Velocidad a Pot.Cte Const. Power Speed. (rpm) | H26: Nm | I26: A ± 5% | J26: KW | K26: rpm | L26: Hz | M26: Velocidad a Pot.Cte Const. Power Speed. (rpm) | N26: Corriente en vacio No Load Current (A) | O26: eff | P26: cos fi | Q26: Hz | R26: rpm | S26: rpm llisc. | U26: Nm S6 | V26: A S6 | W26: Alim | X26: Nm lim | Y26: rpm lim | Z26: KW lim | AA26: rpm lim KW s6 | AB26: rpm lim Nm s6 | AC26: rpm lim s1 | AD26: Coef
A27: =RESUM!B9 -> A41 | B27: =RESUM!B11 -> 540 | C27: =RESUM!B15 -> 57 | D27: =E27*$B27*PI()/30000 -> 37.152475 | E27: =(F27*120/$F$9-$S27) -> 657 | F27: =$Q27*$F$21/'driving mode datasheet'!$F$21 -> 21 | G27: =IF(AC27<$L$13,AC27,$L$13) -> 1866.3289 | H27: =IF(U27<X27*0.95,U27,X27*0.95) -> 803.4367 | I27: =MIN(V27:W27) -> 81.805348 | J27: =MIN(Z27,H27*E27*PI()/30000) -> 55.277151 | K27: =MIN(E27,M27) -> 657 | L27: =(K27+S27*H27/B27)*$F$9/120 -> 20.560939 | M27: =MIN($L$13,MAX(AB27,AA27)) -> 1142.7566 | N27: =RESUM!B32 -> 20.3 | O27: ='driving mode parameters'!B81 -> 0.88349211 | P27: ='driving mode parameters'!B82 -> 0.83117974 | Q27: ='driving mode parameters'!B75 -> 21 | R27: ='driving mode parameters'!B76 -> 657 | S27: =Q27*120/$F$9-R27 -> -27 | U27: =B27/((C27^2-N27^2)^0.5)*(V27^2-N27^2)^0.5 -> 803.4367 | V27: =IF(AND($L$24>=20%,$L$24<=80%)=TRUE,((C27^2*0.9-N27^2*(1-$L$24))/$L$24)^0.5,0) -> 81.805348 | W27: =(((V27^2-N27^2)^0.5*X27/U27)^2+N27^2)^0.5 -> 202.67102 | X27: =X28 -> 2044.434 | Y27: ='driving mode datasheet'!Y27*$M$21/'driving mode datasheet'!$M$21*F27/'driving mode datasheet'!F27*'driving mode datasheet'!F$21/'absorbing mode datasheet'!F$21 -> 514.05695 | Z27: =X27*Y27*PI()/30000 -> 110.05581 | AA27: =AC27*(D27/J27)^(1/AD27) -> 1142.7566 | AB27: =AC27*(B27*E27/AC27/H27)^(1/(1+AD27)) -> 841.67123 | AC27: =0.95*Y27*(Z27/D27)^(1/AD27) -> 1866.3289 | AD27: ='limit 480V'!Z25 -> 0.81
A28: =RESUM!C9 -> B41 | B28: =RESUM!C11 -> 540 | C28: =RESUM!C15 -> 75.2 | D28: =E28*$B28*PI()/30000 -> 45.634775 | E28: =(F28*120/$F$9-$S28) -> 807 | F28: =$Q28*$F$21/'driving mode datasheet'!$F$21 -> 26 | G28: =IF(AC28<$L$13,AC28,$L$13) -> 2333.4389 | H28: =IF(U28<X28*0.95,U28,X28*0.95) -> 803.53859 | I28: =MIN(V28:W28) -> 107.99306 | J28: =MIN(Z28,H28*E28*PI()/30000) -> 67.906116 | K28: =IF(E28<M28,E28,M28) -> 807 | L28: =(K28+S28*H28/B28)*$F$9/120 -> 25.560769 | M28: =MIN($L$13,MAX(AB28,AA28)) -> 1428.5452 | N28: =RESUM!C32 -> 26.6 | O28: ='driving mode parameters'!C81 -> 0.89961587 | P28: ='driving mode parameters'!C82 -> 0.78797885 | Q28: ='driving mode parameters'!C75 -> 26 | R28: ='driving mode parameters'!C76 -> 807 | S28: =Q28*120/$F$9-R28 -> -27 | U28: =B28/((C28^2-N28^2)^0.5)*(V28^2-N28^2)^0.5 -> 803.53859 | V28: =IF(AND($L$24>=20%,$L$24<=80%)=TRUE,((C28^2*0.9-N28^2*(1-$L$24))/$L$24)^0.5,0) -> 107.99306 | W28: =(((V28^2-N28^2)^0.5*X28/U28)^2+N28^2)^0.5 -> 267.62533 | X28: =X29 -> 2044.434 | Y28: ='driving mode datasheet'!Y28*$M$21/'driving mode datasheet'!$M$21*F28/'driving mode datasheet'!F28*'driving mode datasheet'!F$21/'absorbing mode datasheet'!F$21 -> 636.45147 | Z28: =X28*Y28*PI()/30000 -> 136.25957 | AA28: =AC28*(D28/J28)^(1/AD28) -> 1428.5452 | AB28: =AC28*(B28*E28/AC28/H28)^(1/(1+AD28)) -> 1041.9961 | AC28: =0.95*Y28*(Z28/D28)^(1/AD28) -> 2333.4389 | AD28: =AD27 -> 0.81
A29: =RESUM!D9 -> C41 | B29: =RESUM!D11 -> 540 | C29: =RESUM!D15 -> 87.1 | D29: =E29*$B29*PI()/30000 -> 52.364066 | E29: =(F29*120/$F$9-$S29) -> 926 | F29: =$Q29*$F$21/'driving mode datasheet'!$F$21 -> 30 | G29: =IF(AC29<$L$13,AC29,$L$13) -> 2710.9419 | H29: =IF(U29<X29*0.95,U29,X29*0.95) -> 803.34862 | I29: =MIN(V29:W29) -> 124.93703 | J29: =MIN(Z29,H29*E29*PI()/30000) -> 77.901112 | K29: =IF(E29<M29,E29,M29) -> 926 | L29: =(K29+S29*H29/B29)*$F$9/120 -> 29.577342 | M29: =MIN($L$13,MAX(AB29,AA29)) -> 1660.1393 | N29: =RESUM!D32 -> 31.2 | O29: ='driving mode parameters'!D81 -> 0.91226356 | P29: ='driving mode parameters'!D82 -> 0.79161665 | Q29: ='driving mode parameters'!D75 -> 30 | R29: ='driving mode parameters'!D76 -> 926 | S29: =Q29*120/$F$9-R29 -> -26 | U29: =B29/((C29^2-N29^2)^0.5)*(V29^2-N29^2)^0.5 -> 803.34862 | V29: =IF(AND($L$24>=20%,$L$24<=80%)=TRUE,((C29^2*0.9-N29^2*(1-$L$24))/$L$24)^0.5,0) -> 124.93703 | W29: =(((V29^2-N29^2)^0.5*X29/U29)^2+N29^2)^0.5 -> 309.45412 | X29: =X30 -> 2044.434 | Y29: ='driving mode datasheet'!Y29*$M$21/'driving mode datasheet'!$M$21*F29/'driving mode datasheet'!F29*'driving mode datasheet'!F$21/'absorbing mode datasheet'!F$21 -> 734.36708 | Z29: =X29*Y29*PI()/30000 -> 157.22258 | AA29: =AC29*(D29/J29)^(1/AD29) -> 1660.1393 | AB29: =AC29*(B29*E29/AC29/H29)^(1/(1+AD29)) -> 1202.4603 | AC29: =0.95*Y29*(Z29/D29)^(1/AD29) -> 2710.9419 | AD29: =AD28 -> 0.81
A30: =RESUM!E9 -> D41 | B30: =RESUM!E11 -> 540 | C30: =RESUM!E15 -> 104.9 | D30: =E30*$B30*PI()/30000 -> 62.599375 | E30: =(F30*120/$F$9-$S30) -> 1107 | F30: =$Q30*$F$21/'driving mode datasheet'!$F$21 -> 36 | G30: =IF(AC30<$L$13,AC30,$L$13) -> 3268.3747 | H30: =IF(U30<X30*0.95,U30,X30*0.95) -> 803.37961 | I30: =MIN(V30:W30) -> 150.498 | J30: =MIN(Z30,H30*E30*PI()/30000) -> 93.131596 | K30: =IF(E30<M30,E30,M30) -> 1107 | L30: =(K30+S30*H30/B30)*$F$9/120 -> 35.561034 | M30: =MIN($L$13,MAX(AB30,AA30)) -> 2001.4073 | N30: =RESUM!E32 -> 37.5 | O30: ='driving mode parameters'!E81 -> 0.9245407 | P30: ='driving mode parameters'!E82 -> 0.79634256 | Q30: ='driving mode parameters'!E75 -> 36 | R30: ='driving mode parameters'!E76 -> 1107 | S30: =Q30*120/$F$9-R30 -> -27 | U30: =B30/((C30^2-N30^2)^0.5)*(V30^2-N30^2)^0.5 -> 803.37961 | V30: =IF(AND($L$24>=20%,$L$24<=80%)=TRUE,((C30^2*0.9-N30^2*(1-$L$24))/$L$24)^0.5,0) -> 150.498 | W30: =(((V30^2-N30^2)^0.5*X30/U30)^2+N30^2)^0.5 -> 372.79724 | X30: =X31 -> 2044.434 | Y30: ='driving mode datasheet'!Y30*$M$21/'driving mode datasheet'!$M$21*F30/'driving mode datasheet'!F30*'driving mode datasheet'!F$21/'absorbing mode datasheet'!F$21 -> 881.24049 | Z30: =X30*Y30*PI()/30000 -> 188.6671 | AA30: =AC30*(D30/J30)^(1/AD30) -> 2001.4073 | AB30: =AC30*(B30*E30/AC30/H30)^(1/(1+AD30)) -> 1442.9216 | AC30: =0.95*Y30*(Z30/D30)^(1/AD30) -> 3268.3747 | AD30: =AD29 -> 0.81
A31: =RESUM!F9 -> E41 | B31: =RESUM!F11 -> 540 | C31: =RESUM!F15 -> 116.4 | D31: =E31*$B31*PI()/30000 -> 69.385215 | E31: =(F31*120/$F$9-$S31) -> 1227 | F31: =$Q31*$F$21/'driving mode datasheet'!$F$21 -> 40 | G31: =IF(AC31<$L$13,AC31,$L$13) -> 3642.4923 | H31: =IF(U31<X31*0.95,U31,X31*0.95) -> 803.60084 | I31: =MIN(V31:W31) -> 167.22338 | J31: =MIN(Z31,H31*E31*PI()/30000) -> 103.25559 | K31: =IF(E31<M31,E31,M31) -> 1227 | L31: =(K31+S31*H31/B31)*$F$9/120 -> 39.560665 | M31: =MIN($L$13,MAX(AB31,AA31)) -> 2229.7423 | N31: =RESUM!F32 -> 41 | O31: ='driving mode parameters'!F81 -> 0.93112008 | P31: ='driving mode parameters'!F82 -> 0.80112269 | Q31: ='driving mode parameters'!F75 -> 40 | R31: ='driving mode parameters'!F76 -> 1227 | S31: =Q31*120/$F$9-R31 -> -27 | U31: =B31/((C31^2-N31^2)^0.5)*(V31^2-N31^2)^0.5 -> 803.60084 | V31: =IF(AND($L$24>=20%,$L$24<=80%)=TRUE,((C31^2*0.9-N31^2*(1-$L$24))/$L$24)^0.5,0) -> 167.22338 | W31: =(((V31^2-N31^2)^0.5*X31/U31)^2+N31^2)^0.5 -> 414.4791 | X31: =X32 -> 2044.434 | Y31: ='driving mode datasheet'!Y31*$M$21/'driving mode datasheet'!$M$21*F31/'driving mode datasheet'!F31*'driving mode datasheet'!F$21/'absorbing mode datasheet'!F$21 -> 979.1561 | Z31: =X31*Y31*PI()/30000 -> 209.63011 | AA31: =AC31*(D31/J31)^(1/AD31) -> 2229.7423 | AB31: =AC31*(B31*E31/AC31/H31)^(1/(1+AD31)) -> 1603.0024 | AC31: =0.95*Y31*(Z31/D31)^(1/AD31) -> 3642.4923 | AD31: =AD30 -> 0.81
A32: =RESUM!G9 -> F41 | B32: =RESUM!G11 -> 540 | C32: =RESUM!G15 -> 130.9 | D32: =E32*$B32*PI()/30000 -> 77.867516 | E32: =(F32*120/$F$9-$S32) -> 1377 | F32: =$Q32*$F$21/'driving mode datasheet'!$F$21 -> 45 | G32: =IF(AC32<$L$13,AC32,$L$13) -> 4110.207 | H32: =IF(U32<X32*0.95,U32,X32*0.95) -> 803.79208 | I32: =MIN(V32:W32) -> 188.27625 | J32: =MIN(Z32,H32*E32*PI()/30000) -> 115.9061 | K32: =IF($E$32<$M$32,$E$32,$M$32) -> 1377 | L32: =(K32+S32*H32/B32)*$F$9/120 -> 44.560347 | M32: =MIN($L$13,MAX(AB32,AA32)) -> 2515.3136 | N32: =RESUM!G32 -> 45.5 | O32: ='driving mode parameters'!G81 -> 0.93726106 | P32: ='driving mode parameters'!G82 -> 0.80474193 | Q32: ='driving mode parameters'!G75 -> 45 | R32: ='driving mode parameters'!G76 -> 1377 | S32: =Q32*120/$F$9-R32 -> -27 | U32: =B32/((C32^2-N32^2)^0.5)*(V32^2-N32^2)^0.5 -> 803.79208 | V32: =IF(AND($L$24>=20%,$L$24<=80%)=TRUE,((C32^2*0.9-N32^2*(1-$L$24))/$L$24)^0.5,0) -> 188.27625 | W32: =(((V32^2-N32^2)^0.5*X32/U32)^2+N32^2)^0.5 -> 466.90611 | X32: ='limit 480V'!K27*0.95 -> 2044.434 | Y32: ='driving mode datasheet'!Y32*$M$21/'driving mode datasheet'!$M$21*F32/'driving mode datasheet'!F32*'driving mode datasheet'!F$21/'absorbing mode datasheet'!F$21 -> 1101.5506 | Z32: =X32*Y32*PI()/30000 -> 235.83387 | AA32: =AC32*(D32/J32)^(1/AD32) -> 2515.3136 | AB32: =AC32*(B32*E32/AC32/H32)^(1/(1+AD32)) -> 1803.1406 | AC32: =0.95*Y32*(Z32/D32)^(1/AD32) -> 4110.207 | AD32: =AD31 -> 0.81 | AE32: =AB32*(J32/D32)^(1/2/AD32) -> 2304.9705
A33: =RESUM!H9 -> G41 | B33: =RESUM!H11 -> 540 | C33: =RESUM!H15 -> 149.4 | D33: =E33*$B33*PI()/30000 -> 88.046276 | E33: =(F33*120/$F$9-$S33) -> 1557 | F33: =$Q33*$F$21/'driving mode datasheet'!$F$21 -> 51 | G33: =IF(AC33<$L$13,AC33,$L$13) -> 4671.5351 | H33: =IF(U33<X33*0.95,U33,X33*0.95) -> 803.2959 | I33: =MIN(V33:W33) -> 214.23183 | J33: =MIN(Z33,H33*E33*PI()/30000) -> 130.97632 | K33: =IF(E33<M33,E33,M33) -> 1557 | L33: =(K33+S33*H33/B33)*$F$9/120 -> 50.561173 | M33: =MIN($L$13,MAX(AB33,AA33)) -> 2861.0084 | N33: =RESUM!H32 -> 53.7 | O33: ='driving mode parameters'!H81 -> 0.94350306 | P33: ='driving mode parameters'!H82 -> 0.8025703 | Q33: ='driving mode parameters'!H75 -> 51 | R33: ='driving mode parameters'!H76 -> 1557 | S33: =Q33*120/$F$9-R33 -> -27 | U33: =B33/((C33^2-N33^2)^0.5)*(V33^2-N33^2)^0.5 -> 803.2959 | V33: =IF(AND($L$24>=20%,$L$24<=80%)=TRUE,((C33^2*0.9-N33^2*(1-$L$24))/$L$24)^0.5,0) -> 214.23183 | W33: =(((V33^2-N33^2)^0.5*X33/U33)^2+N33^2)^0.5 -> 530.55002 | X33: =X32 -> 2044.434 | Y33: ='driving mode datasheet'!Y33*$M$21/'driving mode datasheet'!$M$21*F33/'driving mode datasheet'!F33*'driving mode datasheet'!F$21/'absorbing mode datasheet'!F$21 -> 1248.424 | Z33: =X33*Y33*PI()/30000 -> 267.27839 | AA33: =AC33*(D33/J33)^(1/AD33) -> 2861.0084 | AB33: =AC33*(B33*E33/AC33/H33)^(1/(1+AD33)) -> 2044.2566 | AC33: =0.95*Y33*(Z33/D33)^(1/AD33) -> 4671.5351 | AD33: =AD32 -> 0.81
A34: =RESUM!I9 -> H41 | B34: =RESUM!I11 -> 540 | C34: =RESUM!I15 -> 174.3 | D34: =E34*$B34*PI()/30000 -> 101.56141 | E34: =(F34*120/$F$9-$S34) -> 1796 | F34: =$Q34*$F$21/'driving mode datasheet'!$F$21 -> 59 | G34: =IF(AC34<$L$13,AC34,$L$13) -> 5423.7803 | H34: =IF(U34<X34*0.95,U34,X34*0.95) -> 802.80238 | I34: =MIN(V34:W34) -> 249.19142 | J34: =MIN(Z34,H34*E34*PI()/30000) -> 150.98841 | K34: =IF(E34<M34,E34,M34) -> 1796 | L34: =(K34+S34*H34/B34)*$F$9/120 -> 58.578218 | M34: =MIN($L$13,MAX(AB34,AA34)) -> 3324.2303 | N34: =RESUM!I32 -> 64.6 | O34: ='driving mode parameters'!I81 -> 0.94956115 | P34: ='driving mode parameters'!I82 -> 0.79860797 | Q34: ='driving mode parameters'!I75 -> 59 | R34: ='driving mode parameters'!I76 -> 1796 | S34: =Q34*120/$F$9-R34 -> -26 | U34: =B34/((C34^2-N34^2)^0.5)*(V34^2-N34^2)^0.5 -> 802.80238 | V34: =IF(AND($L$24>=20%,$L$24<=80%)=TRUE,((C34^2*0.9-N34^2*(1-$L$24))/$L$24)^0.5,0) -> 249.19142 | W34: =(((V34^2-N34^2)^0.5*X34/U34)^2+N34^2)^0.5 -> 616.29659 | X34: =X33 -> 2044.434 | Y34: ='driving mode datasheet'!Y34*$M$21/'driving mode datasheet'!$M$21*F34/'driving mode datasheet'!F34*'driving mode datasheet'!F$21/'absorbing mode datasheet'!F$21 -> 1444.2553 | Z34: =X34*Y34*PI()/30000 -> 309.20441 | AA34: =AC34*(D34/J34)^(1/AD34) -> 3324.2303 | AB34: =AC34*(B34*E34/AC34/H34)^(1/(1+AD34)) -> 2365.7275 | AC34: =0.95*Y34*(Z34/D34)^(1/AD34) -> 5423.7803 | AD34: =AD33 -> 0.81
A35: =RESUM!J9 -> I41 | B35: =RESUM!J11 -> 540 | C35: =RESUM!J15 -> 208.9 | D35: =E35*$B35*PI()/30000 -> 121.97548 | E35: =(F35*120/$F$9-$S35) -> 2157 | F35: =$Q35*$F$21/'driving mode datasheet'!$F$21 -> 71 | G35: =IF(AC35<$L$13,AC35,$L$13) -> 6500 | H35: =IF(U35<X35*0.95,U35,X35*0.95) -> 803.27251 | I35: =MIN(V35:W35) -> 299.50904 | J35: =MIN(Z35,H35*E35*PI()/30000) -> 181.44361 | K35: =IF(E35<M35,E35,M35) -> 2157 | L35: =(K35+S35*H35/B35)*$F$9/120 -> 70.561212 | M35: =MIN($L$13,MAX(AB35,AA35)) -> 4007.2681 | N35: =RESUM!J32 -> 75.2 | O35: ='driving mode parameters'!J81 -> 0.95562716 | P35: ='driving mode parameters'!J82 -> 0.80538206 | Q35: ='driving mode parameters'!J75 -> 71 | R35: ='driving mode parameters'!J76 -> 2157 | S35: =Q35*120/$F$9-R35 -> -27 | U35: =B35/((C35^2-N35^2)^0.5)*(V35^2-N35^2)^0.5 -> 803.27251 | V35: =IF(AND($L$24>=20%,$L$24<=80%)=TRUE,((C35^2*0.9-N35^2*(1-$L$24))/$L$24)^0.5,0) -> 299.50904 | W35: =(((V35^2-N35^2)^0.5*X35/U35)^2+N35^2)^0.5 -> 741.69347 | X35: =X34 -> 2044.434 | Y35: ='driving mode datasheet'!Y35*$M$21/'driving mode datasheet'!$M$21*F35/'driving mode datasheet'!F35*'driving mode datasheet'!F$21/'absorbing mode datasheet'!F$21 -> 1738.0021 | Z35: =X35*Y35*PI()/30000 -> 372.09344 | AA35: =AC35*(D35/J35)^(1/AD35) -> 4007.2681 | AB35: =AC35*(B35*E35/AC35/H35)^(1/(1+AD35)) -> 2845.9717 | AC35: =0.95*Y35*(Z35/D35)^(1/AD35) -> 6542.945 | AD35: =AD34 -> 0.81
A36: =RESUM!K9 -> F42 | B36: =RESUM!K11 -> 520 | C36: =RESUM!K15 -> 219.3 | D36: =E36*$B36*PI()/30000 -> 127.20518 | E36: =(F36*120/$F$9-$S36) -> 2336 | F36: =$Q36*$F$21/'driving mode datasheet'!$F$21 -> 77 | G36: =IF(AC36<$L$13,AC36,$L$13) -> 6500 | H36: =IF(U36<X36*0.95,U36,X36*0.95) -> 773.2418 | I36: =MIN(V36:W36) -> 313.86599 | J36: =MIN(Z36,H36*E36*PI()/30000) -> 189.15455 | K36: =IF(E36<M36,E36,M36) -> 2336 | L36: =(K36+S36*H36/B36)*$F$9/120 -> 76.57793 | M36: =MIN($L$13,MAX(AB36,AA36)) -> 4759.6534 | N36: =RESUM!K32 -> 80.4 | O36: ='driving mode parameters'!K81 -> 0.95830957 | P36: ='driving mode parameters'!K82 -> 0.80232694 | Q36: ='driving mode parameters'!K75 -> 77 | R36: ='driving mode parameters'!K76 -> 2336 | S36: =Q36*120/$F$9-R36 -> -26 | U36: =B36/((C36^2-N36^2)^0.5)*(V36^2-N36^2)^0.5 -> 773.2418 | V36: =IF(AND($L$24>=20%,$L$24<=80%)=TRUE,((C36^2*0.9-N36^2*(1-$L$24))/$L$24)^0.5,0) -> 313.86599 | W36: =(((V36^2-N36^2)^0.5*X36/U36)^2+N36^2)^0.5 -> 806.18513 | X36: =X35 -> 2044.434 | Y36: ='driving mode datasheet'!Y36*$M$21/'driving mode datasheet'!$M$21*F36/'driving mode datasheet'!F36*'driving mode datasheet'!F$21/'absorbing mode datasheet'!F$21 -> 1920.7811 | Z36: =X36*Y36*PI()/30000 -> 411.22508 | AA36: =AC36*(D36/J36)^(1/AD36) -> 4759.6534 | AB36: =AC36*(B36*E36/AC36/H36)^(1/(1+AD36)) -> 3212.1844 | AC36: =0.95*Y36*(Z36/D36)^(1/AD36) -> 7767.9455 | AD36: =AD35 -> 0.81
A37: =RESUM!L9 -> G42 | B37: =RESUM!L11 -> 500 | C37: =RESUM!L15 -> 242.9 | D37: =E37*$B37*PI()/30000 -> 139.53907 | E37: =(F37*120/$F$9-$S37) -> 2665 | F37: =$Q37*$F$21/'driving mode datasheet'!$F$21 -> 88 | G37: =IF(AC37<$L$13,AC37,$L$13) -> 6500 | H37: =IF(U37<X37*0.95,U37,X37*0.95) -> 743.07774 | I37: =MIN(V37:W37) -> 346.68797 | J37: =MIN(Z37,H37*E37*PI()/30000) -> 207.37676 | K37: =IF(E37<M37,E37,M37) -> 2665 | L37: =(K37+S37*H37/B37)*$F$9/120 -> 87.59487 | M37: =MIN($L$13,MAX(AB37,AA37)) -> 5982.4714 | N37: =RESUM!L32 -> 91.5 | O37: ='driving mode parameters'!L81 -> 0.96182484 | P37: ='driving mode parameters'!L82 -> 0.79752387 | Q37: ='driving mode parameters'!L75 -> 88 | R37: ='driving mode parameters'!L76 -> 2665 | S37: =Q37*120/$F$9-R37 -> -25 | U37: =B37/((C37^2-N37^2)^0.5)*(V37^2-N37^2)^0.5 -> 743.07774 | V37: =IF(AND($L$24>=20%,$L$24<=80%)=TRUE,((C37^2*0.9-N37^2*(1-$L$24))/$L$24)^0.5,0) -> 346.68797 | W37: =(((V37^2-N37^2)^0.5*X37/U37)^2+N37^2)^0.5 -> 924.56285 | X37: =X36 -> 2044.434 | Y37: ='driving mode datasheet'!Y37*$M$21/'driving mode datasheet'!$M$21*F37/'driving mode datasheet'!F37*'driving mode datasheet'!F$21/'absorbing mode datasheet'!F$21 -> 2238.6515 | Z37: =X37*Y37*PI()/30000 -> 479.27879 | AA37: =AC37*(D37/J37)^(1/AD37) -> 5982.4714 | AB37: =AC37*(B37*E37/AC37/H37)^(1/(1+AD37)) -> 3826.984 | AC37: =0.95*Y37*(Z37/D37)^(1/AD37) -> 9756.7601 | AD37: =AD36 -> 0.81
A38: =RESUM!M9 -> H42 | B38: =RESUM!M11 -> 480 | C38: =RESUM!M15 -> 274.6 | D38: =E38*$B38*PI()/30000 -> 155.01875 | E38: =(F38*120/$F$9-$S38) -> 3084 | F38: =$Q38*$F$21/'driving mode datasheet'!$F$21 -> 102 | G38: =IF(AC38<$L$13,AC38,$L$13) -> 6500 | H38: =IF(U38<X38*0.95,U38,X38*0.95) -> 712.31346 | I38: =MIN(V38:W38) -> 389.24492 | J38: =MIN(Z38,H38*E38*PI()/30000) -> 230.04571 | K38: =IF(E38<M38,E38,M38) -> 3084 | L38: =(K38+S38*H38/B38)*$F$9/120 -> 101.61281 | M38: =MIN($L$13,MAX(AB38,AA38)) -> 6500 | N38: =RESUM!M32 -> 110 | O38: ='driving mode parameters'!M81 -> 0.96470033 | P38: ='driving mode parameters'!M82 -> 0.78605964 | Q38: ='driving mode parameters'!M75 -> 102 | R38: ='driving mode parameters'!M76 -> 3084 | S38: =Q38*120/$F$9-R38 -> -24 | U38: =B38/((C38^2-N38^2)^0.5)*(V38^2-N38^2)^0.5 -> 712.31346 | V38: =IF(AND($L$24>=20%,$L$24<=80%)=TRUE,((C38^2*0.9-N38^2*(1-$L$24))/$L$24)^0.5,0) -> 389.24492 | W38: =(((V38^2-N38^2)^0.5*X38/U38)^2+N38^2)^0.5 -> 1077.2769 | X38: =X37 -> 2044.434 | Y38: ='driving mode datasheet'!Y38*$M$21/'driving mode datasheet'!$M$21*F38/'driving mode datasheet'!F38*'driving mode datasheet'!F$21/'absorbing mode datasheet'!F$21 -> 2648.3073 | Z38: =X38*Y38*PI()/30000 -> 566.98308 | AA38: =AC38*(D38/J38)^(1/AD38) -> 7661.9852 | AB38: =AC38*(B38*E38/AC38/H38)^(1/(1+AD38)) -> 4634.2972 | AC38: =0.95*Y38*(Z38/D38)^(1/AD38) -> 12473.352 | AD38: =AD37 -> 0.81
A39: =RESUM!N9 -> 0 | B39: =RESUM!N11 -> 0 | C39: =RESUM!N15 -> 0 | D39: =E39*$B39*PI()/30000 -> 0 | E39: =(F39*120/$F$9-$S39) -> 0 | F39: =$Q39*$F$21/'driving mode datasheet'!$F$21 -> 0 | G39: =IF(AC39<$L$13,AC39,$L$13) -> #DIV/0! | H39: =IF(U39<X39*0.95,U39,X39*0.95) -> #DIV/0! | I39: =MIN(V39:W39) -> #DIV/0! | J39: =MIN(Z39,H39*E39*PI()/30000) -> #DIV/0! | K39: =IF(E39<M39,E39,M39) -> #DIV/0! | L39: =(K39+S39*H39/B39)*$F$9/120 -> #DIV/0! | M39: =MIN($L$13,MAX(AB39,AA39)) -> #DIV/0! | N39: =RESUM!N32 -> 0 | O39: ='driving mode parameters'!N81 -> 0 | P39: ='driving mode parameters'!N82 -> 0 | Q39: ='driving mode parameters'!N75 -> 0 | R39: ='driving mode parameters'!N76 -> 0 | S39: =Q39*120/$F$9-R39 -> 0 | U39: =B39/((C39^2-N39^2)^0.5)*(V39^2-N39^2)^0.5 -> #DIV/0! | V39: =IF(AND($L$24>=20%,$L$24<=80%)=TRUE,((C39^2*0.9-N39^2*(1-$L$24))/$L$24)^0.5,0) -> 0 | W39: =(((V39^2-N39^2)^0.5*X39/U39)^2+N39^2)^0.5 -> #DIV/0! | X39: =X38 -> 2044.434 | Y39: ='driving mode datasheet'!Y39*$M$21/'driving mode datasheet'!$M$21*F39/'driving mode datasheet'!F39*'driving mode datasheet'!F$21/'absorbing mode datasheet'!F$21 -> #DIV/0! | Z39: =X39*Y39*PI()/30000 -> #DIV/0! | AA39: =AC39*(D39/J39)^(1/AD39) -> #DIV/0! | AB39: =AC39*(B39*E39/AC39/H39)^(1/(1+AD39)) -> #DIV/0! | AC39: =0.95*Y39*(Z39/D39)^(1/AD39) -> #DIV/0! | AD39: =AD38 -> 0.81
A40: =RESUM!O9 -> 0 | B40: =RESUM!O11 -> 0 | C40: =RESUM!O15 -> 0 | D40: =E40*$B40*PI()/30000 -> 0 | E40: =(F40*120/$F$9-$S40) -> 0 | F40: =$Q40*$F$21/'driving mode datasheet'!$F$21 -> 0 | G40: =IF(AC40<$L$13,AC40,$L$13) -> #DIV/0! | H40: =IF(U40<X40*0.95,U40,X40*0.95) -> #DIV/0! | I40: =MIN(V40:W40) -> #DIV/0! | J40: =MIN(Z40,H40*E40*PI()/30000) -> #DIV/0! | K40: =IF(E40<M40,E40,M40) -> #DIV/0! | L40: =(K40+S40*H40/B40)*$F$9/120 -> #DIV/0! | M40: =MIN($L$13,MAX(AB40,AA40)) -> #DIV/0! | N40: =RESUM!O32 -> 0 | O40: ='driving mode parameters'!O81 -> 0 | P40: ='driving mode parameters'!O82 -> 0 | Q40: ='driving mode parameters'!O75 -> 0 | R40: ='driving mode parameters'!O76 -> 0 | S40: =Q40*120/$F$9-R40 -> 0 | U40: =B40/((C40^2-N40^2)^0.5)*(V40^2-N40^2)^0.5 -> #DIV/0! | V40: =IF(AND($L$24>=20%,$L$24<=80%)=TRUE,((C40^2*0.9-N40^2*(1-$L$24))/$L$24)^0.5,0) -> 0 | W40: =(((V40^2-N40^2)^0.5*X40/U40)^2+N40^2)^0.5 -> #DIV/0! | X40: =X39 -> 2044.434 | Y40: ='driving mode datasheet'!Y40*$M$21/'driving mode datasheet'!$M$21*F40/'driving mode datasheet'!F40*'driving mode datasheet'!F$21/'absorbing mode datasheet'!F$21 -> #DIV/0! | Z40: =X40*Y40*PI()/30000 -> #DIV/0! | AA40: =AC40*(D40/J40)^(1/AD40) -> #DIV/0! | AB40: =AC40*(B40*E40/AC40/H40)^(1/(1+AD40)) -> #DIV/0! | AC40: =0.95*Y40*(Z40/D40)^(1/AD40) -> #DIV/0! | AD40: =AD39 -> 0.81
A41: Otras Velocidades disponibles bajo consulta / Other speeds available on request | H41: La tensión para el servicio S6 es mayor que Vb / Voltage for S6 duty is bigger than Vb
A72: Elabora: | E72: Revisa: | K72: Aprueba:
D74: =M4 -> 45239 | J74: =D74 -> 45239 | N74: =J74 -> 45239
D76: =D2 -> MAC QT 160 P
D77: - Hoja de Curvas Características Modo Generador- | L77: Página | M77: ='driving mode datasheet'!M77 -> 2 de 3
D78: - Absorbing Mode Power and Torque Diagrams - | L78: Fecha | M78: ='driving mode datasheet'!M78 -> 45239
A81: Tensión de Base del Motor | E81: Vb ± 5% | F81: =F21 -> 400 | H81: Tensión Máxima de Salida del Convertidor | L81: Vc | M81: =M21 -> 400
A82: Motor Base Voltage | H82: Inverter max. Output Voltage
F83: =IF(F81>500," LA TENSIÓN DE BASE HA DE SER INFERIOR O IGUAL A 500 V"," ") | G83: =IF(M81>500," LA TENSIÓN MÁXIMA HA DE SER INFERIOR O IGUAL A 500 V"," ") | N83: =IF(M81<F81," LA TENSIÓN MÁXIMA HA DE SER SUPERIOR O IGUAL A LA DE BASE"," ")
B84: Servicio / Service | F84: =F24 -> S1 | H84: =H24 -> Servicio / Service S6 - | L84: =L24 -> 0.4
K85: =H29 -> 803.34862 | L85: =L29 -> 29.577342
A86: Bobinado Winding | B86: Nm | C86: A ± 2% | D86: KW | E86: rpm | F86: Hz | G86: Velocidad a Pot.Cte Const. Power Speed. (rpm) | H86: Nm | I86: A ± 5% | J86: KW | K86: rpm | L86: Hz | M86: Velocidad a Pot.Cte Const. Power Speed. (rpm) | N86: Corriente en vacio No Load Current (A) | O86: eff | P86: cos fi | Q86: Hz | R86: rpm | S86: rpm llisc. | U86: Nm S6 | V86: A S6 | W86: Alim | X86: Nm lim | Y86: rpm lim | Z86: KW lim | AA86: rpm lim KW s6 | AB86: rpm lim Nm s6 | AC86: =AC26 -> rpm lim s1 | AD86: =AD26 -> Coef
A87: F42 | B87: =VLOOKUP($A$87,$A$27:$Y$40,2,FALSE) -> 520 | C87: =VLOOKUP($A$87,$A$27:$Y$40,3,FALSE) -> 219.3 | D87: =VLOOKUP($A$87,$A$27:$Y$40,4,FALSE) -> 127.20518 | E87: =VLOOKUP($A$87,$A$27:$Y$40,5,FALSE) -> 2336 | F87: =VLOOKUP($A$87,$A$27:$Y$40,6,FALSE) -> 77 | G87: =VLOOKUP($A$87,$A$27:$Y$40,7,FALSE) -> 6500 | H87: =VLOOKUP($A$87,$A$27:$Y$40,8,FALSE) -> 773.2418 | I87: =VLOOKUP($A$87,$A$27:$Y$40,9,FALSE) -> 313.86599 | J87: =VLOOKUP($A$87,$A$27:$Y$40,10,FALSE) -> 189.15455 | K87: =VLOOKUP($A$87,$A$27:$Y$40,11,FALSE) -> 2336 | L87: =VLOOKUP($A$87,$A$27:$Y$40,12,FALSE) -> 76.57793 | M87: =VLOOKUP($A$87,$A$27:$Y$40,13,FALSE) -> 4759.6534 | N87: =VLOOKUP($A$87,$A$27:$Y$40,14,FALSE) -> 80.4 | O87: =VLOOKUP($A$87,$A$27:$Y$40,15,FALSE) -> 0.95830957 | P87: =VLOOKUP($A$87,$A$27:$Y$40,16,FALSE) -> 0.80232694 | Q87: =VLOOKUP($A$87,$A$27:$Y$40,17,FALSE) -> 77 | R87: =VLOOKUP($A$87,$A$27:$Y$40,18,FALSE) -> 2336 | S87: =VLOOKUP($A$87,$A$27:$Y$40,19,FALSE) -> -26 | U87: =VLOOKUP($A$87,$A$27:$Y$40,21,FALSE) -> 773.2418 | V87: =VLOOKUP($A$87,$A$27:$Y$40,22,FALSE) -> 313.86599 | W87: =VLOOKUP($A$87,$A$27:$Y$40,23,FALSE) -> 806.18513 | X87: =VLOOKUP($A$87,$A$27:$Y$40,24,FALSE) -> 2044.434 | Y87: =VLOOKUP($A$87,$A$27:$Y$40,25,FALSE) -> 1920.7811 | Z87: =VLOOKUP($A$87,$A$27:$AD$40,26,FALSE) -> 411.22508 | AA87: =VLOOKUP($A$87,$A$27:$AD$40,27,FALSE) -> 4759.6534 | AB87: =VLOOKUP($A$87,$A$27:$AD$40,28,FALSE) -> 3212.1844 | AC87: =VLOOKUP($A$87,$A$27:$AD$40,29,FALSE) -> 7767.9455 | AD87: =VLOOKUP($A$87,$A$27:$AD$40,30,FALSE) -> 0.81
A88: =IF(O87=0,"ESTE BOBINADO NO EXISTE / THIS WINDING DOESN'T EXIST","")
A89: Carga / Load
A91: rpm | B91: Nm 1 | C91: Nm 2
P99: rpm S1 | Q99: kW S1 | R99: Nm S1 | S99: rpm S6 | T99: kW S6 | U99: Nm S6 | V99: rpm limit | W99: KW limit | X99: Nm Limit
P100: 10 | Q100: =IF($D$87<W100*0.9,$D$87,W100*0.9) -> 2.028246 | R100: =B87 -> 520 | S100: =P100 -> 10 | T100: =U100*V100*PI()/30000 -> 0.80973692 | U100: =H87 -> 773.2418 | V100: =P100 -> 10 | W100: =X100*V100*PI()/30000 -> 2.2536066 | X100: ='limit 480V'!K27 -> 2152.0358
P101: =E87 -> 2336 | Q101: =R101*P101*PI()/30000 -> 127.20518 | R101: =B87 -> 520 | S101: =K87 -> 2336 | T101: =U101*S101*PI()/30000 -> 189.15455 | U101: =H87 -> 773.2418 | V101: =Y87 -> 1920.7811 | W101: =X101*V101*PI()/30000 -> 432.86851 | X101: =X100 -> 2152.0358
P102: =P101 -> 2336 | Q102: =R102*P102*PI()/30000 -> 127.20518 | R102: =R101*P101/P102 -> 520 | S102: =S101 -> 2336 | T102: =U102*S102*PI()/30000 -> 189.15455 | U102: =U101*S101/S102 -> 773.2418 | V102: =V101 -> 1920.7811 | W102: =X102*V102*PI()/30000 -> 432.86851 | X102: =X101 -> 2152.0358
P103: =P102+($P$112-$P$102)/10 -> 2752.4 | Q103: =R103*P103*PI()/30000 -> 127.20518 | R103: =R102*P102/P103 -> 441.3312 | S103: =S102+($S$112-$S$102)/10 -> 2578.3653 | T103: =U103*S103*PI()/30000 -> 189.15455 | U103: =U102*S102/S103 -> 700.55738 | V103: =IF(V102*1.1>MIN($L$13,$D$112),MIN($L$13,$D$112),V102*1.1) -> 2112.8592 | W103: =X103*V103*PI()/30000 -> 400.70791 | X103: =X102*(V102/V103)^(1+$AD$87) -> 1811.0429
P104: =P103+($P$112-$P$102)/10 -> 3168.8 | Q104: =R104*P104*PI()/30000 -> 127.20518 | R104: =R103*P103/P104 -> 383.33754 | S104: =S103+($S$112-$S$102)/10 -> 2820.7307 | T104: =U104*S104*PI()/30000 -> 189.15455 | U104: =U103*S103/S104 -> 640.36346 | V104: =IF(V103*1.1>MIN($L$13,$D$112),MIN($L$13,$D$112),V103*1.1) -> 2324.1451 | W104: =X104*V104*PI()/30000 -> 370.93673 | X104: =X103*(V103/V104)^(1+$AD$87) -> 1524.0807
P105: =P104+($P$112-$P$102)/10 -> 3585.2 | Q105: =R105*P105*PI()/30000 -> 127.20518 | R105: =R104*P104/P105 -> 338.81513 | S105: =S104+($S$112-$S$102)/10 -> 3063.096 | T105: =U105*S105*PI()/30000 -> 189.15455 | U105: =U104*S104/S105 -> 589.69515 | V105: =IF(V104*1.1>MIN($L$13,$D$112),MIN($L$13,$D$112),V104*1.1) -> 2556.5597 | W105: =X105*V105*PI()/30000 -> 343.37745 | X105: =X104*(V104/V105)^(1+$AD$87) -> 1282.5881
P106: =P105+($P$112-$P$102)/10 -> 4001.6 | Q106: =R106*P106*PI()/30000 -> 127.20518 | R106: =R105*P105/P106 -> 303.55858 | S106: =S105+($S$112-$S$102)/10 -> 3305.4614 | T106: =U106*S106*PI()/30000 -> 189.15455 | U106: =U105*S105/S106 -> 546.45711 | V106: =IF(V105*1.1>MIN($L$13,$D$112),MIN($L$13,$D$112),V105*1.1) -> 2812.2156 | W106: =X106*V106*PI()/30000 -> 317.86572 | X106: =X105*(V105/V106)^(1+$AD$87) -> 1079.3603
P107: =P106+($P$112-$P$102)/10 -> 4418 | Q107: =R107*P107*PI()/30000 -> 127.20518 | R107: =R106*P106/P107 -> 274.94794 | S107: =S106+($S$112-$S$102)/10 -> 3547.8267 | T107: =U107*S107*PI()/30000 -> 189.15455 | U107: =U106*S106/S107 -> 509.12657 | V107: =IF(V106*1.1>MIN($L$13,$D$112),MIN($L$13,$D$112),V106*1.1) -> 3093.4372 | W107: =X107*V107*PI()/30000 -> 294.24942 | X107: =X106*(V106/V107)^(1+$AD$87) -> 908.33426
P108: =P107+($P$112-$P$102)/10 -> 4834.4 | Q108: =R108*P108*PI()/30000 -> 127.20518 | R108: =R107*P107/P108 -> 251.26593 | S108: =S107+($S$112-$S$102)/10 -> 3790.192 | T108: =U108*S108*PI()/30000 -> 189.15455 | U108: =U107*S107/S108 -> 476.57027 | V108: =IF(V107*1.1>MIN($L$13,$D$112),MIN($L$13,$D$112),V107*1.1) -> 3402.7809 | W108: =X108*V108*PI()/30000 -> 272.38773 | X108: =X107*(V107/V108)^(1+$AD$87) -> 764.40749
P109: =P108+($P$112-$P$102)/10 -> 5250.8 | Q109: =R109*P109*PI()/30000 -> 127.20518 | R109: =R108*P108/P109 -> 231.33999 | S109: =S108+($S$112-$S$102)/10 -> 4032.5574 | T109: =U109*S109*PI()/30000 -> 189.15455 | U109: =U108*S108/S109 -> 447.92738 | V109: =IF(V108*1.1>MIN($L$13,$D$112),MIN($L$13,$D$112),V108*1.1) -> 3743.059 | W109: =X109*V109*PI()/30000 -> 252.15029 | X109: =X108*(V108/V109)^(1+$AD$87) -> 643.28611
P110: =P109+($P$112-$P$102)/10 -> 5667.2 | Q110: =R110*P110*PI()/30000 -> 127.20518 | R110: =R109*P109/P110 -> 214.34218 | S110: =S109+($S$112-$S$102)/10 -> 4274.9227 | T110: =U110*S110*PI()/30000 -> 189.15455 | U110: =U109*S109/S110 -> 422.53228 | V110: =IF(V109*1.1>MIN($L$13,$D$112),MIN($L$13,$D$112),V109*1.1) -> 4117.3649 | W110: =X110*V110*PI()/30000 -> 233.41641 | X110: =X109*(V109/V110)^(1+$AD$87) -> 541.35658
P111: =P110+($P$112-$P$102)/10 -> 6083.6 | Q111: =R111*P111*PI()/30000 -> 127.20518 | R111: =R110*P110/P111 -> 199.67125 | S111: =S110+($S$112-$S$102)/10 -> 4517.2881 | T111: =U111*S111*PI()/30000 -> 189.15455 | U111: =U110*S110/S111 -> 399.86223 | V111: =IF(V110*1.1>MIN($L$13,$D$112),MIN($L$13,$D$112),V110*1.1) -> 4529.1014 | W111: =X111*V111*PI()/30000 -> 216.0744 | X111: =X110*(V110/V111)^(1+$AD$87) -> 455.57791
A112: Speed range | B112: Nnom x | C112: 4 | D112: =TRUNC(E87*C112,-1) -> 9340 | P112: =IF(G87>E87*C112,E87*C112,G87) -> 6500 | Q112: =R112*P112*PI()/30000 -> 127.20518 | R112: =R106*P106/P112 -> 186.88 | S112: =M87 -> 4759.6534 | T112: =U112*S112*PI()/30000 -> 189.15455 | U112: =U106*S106/S112 -> 379.50092 | V112: =IF(V111*1.1>MIN($L$13,$D$112),MIN($L$13,$D$112),V111*1.1) -> 4982.0115 | W112: =X112*V112*PI()/30000 -> 200.02084 | X112: =X111*(V111/V112)^(1+$AD$87) -> 383.39098 | Z112: 4000
A113: Carga / Load | P113: =P112 -> 6500 | Q113: =R113*P113*PI()/30000 -> 127.20518 | R113: =R112*(P112/P113)^2 -> 186.88 | S113: =S112 -> 4759.6534 | T113: =U113*S113*PI()/30000 -> 189.15455 | U113: =U112 -> 379.50092 | V113: =IF(V112*1.1>MIN($L$13,$D$112),MIN($L$13,$D$112),V112*1.1) -> 5480.2127 | W113: =X113*V113*PI()/30000 -> 185.16 | X113: =X112*(V112/V113)^(1+$AD$87) -> 322.64217
P114: =IF(P113*1.1>MIN($L$13,$D$112),MIN($L$13,$D$112),P113*1.1) -> 6500 | Q114: =R114*P114*PI()/30000 -> 127.20518 | R114: =R113*(P113/P114)^(1+$AD$87) -> 186.88 | S114: =IF(S113*1.1>MIN($L$13,$D$112),MIN($L$13,$D$112),S113*1.1) -> 5235.6187 | T114: =U114*S114*PI()/30000 -> 175.10103 | U114: =U113*(S113/S114)^(1+$AD$87) -> 319.3685 | V114: =IF(V113*1.1>MIN($L$13,$D$112),MIN($L$13,$D$112),V113*1.1) -> 6028.234 | W114: =X114*V114*PI()/30000 -> 171.40327 | X114: =X113*(V113/V114)^(1+$AD$87) -> 271.51909
A115: rpm | B115: KW 1 | C115: KW 2 | P115: =IF(P114*1.1>MIN($L$13,$D$112),MIN($L$13,$D$112),P114*1.1) -> 6500 | Q115: =R115*P115*PI()/30000 -> 127.20518 | R115: =R114*(P114/P115)^(1+$AD$87) -> 186.88 | S115: =IF(S114*1.1>MIN($L$13,$D$112),MIN($L$13,$D$112),S114*1.1) -> 5759.1806 | T115: =U115*S115*PI()/30000 -> 162.09165 | U115: =U114*(S114/S115)^(1+$AD$87) -> 268.76414 | V115: =IF(V114*1.1>MIN($L$13,$D$112),MIN($L$13,$D$112),V114*1.1) -> 6500 | W115: =X115*V115*PI()/30000 -> 161.25502 | X115: =X114*(V114/V115)^(1+$AD$87) -> 236.90339
P116: =IF(P115*1.1>MIN($L$13,$D$112),MIN($L$13,$D$112),P115*1.1) -> 6500 | Q116: =R116*P116*PI()/30000 -> 127.20518 | R116: =R115*(P115/P116)^(1+$AD$87) -> 186.88 | S116: =IF(S115*1.1>MIN($L$13,$D$112),MIN($L$13,$D$112),S115*1.1) -> 6335.0987 | T116: =U116*S116*PI()/30000 -> 150.04881 | U116: =U115*(S115/S116)^(1+$AD$87) -> 226.1781 | V116: =IF(V115*1.1>MIN($L$13,$D$112),MIN($L$13,$D$112),V115*1.1) -> 6500 | W116: =X116*V116*PI()/30000 -> 161.25502 | X116: =X115*(V115/V116)^(1+$AD$87) -> 236.90339
P117: =IF(P116*1.1>MIN($L$13,$D$112),MIN($L$13,$D$112),P116*1.1) -> 6500 | Q117: =R117*P117*PI()/30000 -> 127.20518 | R117: =R116*(P116/P117)^(1+$AD$87) -> 186.88 | S117: =IF(S116*1.1>MIN($L$13,$D$112),MIN($L$13,$D$112),S116*1.1) -> 6500 | T117: =U117*S117*PI()/30000 -> 146.95791 | U117: =U116*(S116/S117)^(1+$AD$87) -> 215.89919 | V117: =IF(V116*1.1>MIN($L$13,$D$112),MIN($L$13,$D$112),V116*1.1) -> 6500 | W117: =X117*V117*PI()/30000 -> 161.25502 | X117: =X116*(V116/V117)^(1+$AD$87) -> 236.90339
P118: =IF(P117*1.1>MIN($L$13,$D$112),MIN($L$13,$D$112),P117*1.1) -> 6500 | Q118: =R118*P118*PI()/30000 -> 127.20518 | R118: =R117*(P117/P118)^(1+$AD$87) -> 186.88 | S118: =IF(S117*1.1>MIN($L$13,$D$112),MIN($L$13,$D$112),S117*1.1) -> 6500 | T118: =U118*S118*PI()/30000 -> 146.95791 | U118: =U117*(S117/S118)^(1+$AD$87) -> 215.89919 | V118: =IF(V117*1.1>MIN($L$13,$D$112),MIN($L$13,$D$112),V117*1.1) -> 6500 | W118: =X118*V118*PI()/30000 -> 161.25502 | X118: =X117*(V117/V118)^(1+$AD$87) -> 236.90339
P119: =IF(P118*1.1>MIN($L$13,$D$112),MIN($L$13,$D$112),P118*1.1) -> 6500 | Q119: =R119*P119*PI()/30000 -> 127.20518 | R119: =R118*(P118/P119)^(1+$AD$87) -> 186.88 | S119: =IF(S118*1.1>MIN($L$13,$D$112),MIN($L$13,$D$112),S118*1.1) -> 6500 | T119: =U119*S119*PI()/30000 -> 146.95791 | U119: =U118*(S118/S119)^(1+$AD$87) -> 215.89919 | V119: =IF(V118*1.1>MIN($L$13,$D$112),MIN($L$13,$D$112),V118*1.1) -> 6500 | W119: =X119*V119*PI()/30000 -> 161.25502 | X119: =X118*(V118/V119)^(1+$AD$87) -> 236.90339
P120: =IF(P119*1.1>MIN($L$13,$D$112),MIN($L$13,$D$112),P119*1.1) -> 6500 | Q120: =R120*P120*PI()/30000 -> 127.20518 | R120: =R119*(P119/P120)^(1+$AD$87) -> 186.88 | S120: =IF(S119*1.1>MIN($L$13,$D$112),MIN($L$13,$D$112),S119*1.1) -> 6500 | T120: =U120*S120*PI()/30000 -> 146.95791 | U120: =U119*(S119/S120)^(1+$AD$87) -> 215.89919 | V120: =IF(V119*1.1>MIN($L$13,$D$112),MIN($L$13,$D$112),V119*1.1) -> 6500 | W120: =X120*V120*PI()/30000 -> 161.25502 | X120: =X119*(V119/V120)^(1+$AD$87) -> 236.90339
P121: =IF(P120*1.1>MIN($L$13,$D$112),MIN($L$13,$D$112),P120*1.1) -> 6500 | Q121: =R121*P121*PI()/30000 -> 127.20518 | R121: =R120*(P120/P121)^(1+$AD$87) -> 186.88 | S121: =IF(S120*1.1>MIN($L$13,$D$112),MIN($L$13,$D$112),S120*1.1) -> 6500 | T121: =U121*S121*PI()/30000 -> 146.95791 | U121: =U120*(S120/S121)^(1+$AD$87) -> 215.89919 | V121: =IF(V120*1.1>MIN($L$13,$D$112),MIN($L$13,$D$112),V120*1.1) -> 6500 | W121: =X121*V121*PI()/30000 -> 161.25502 | X121: =X120*(V120/V121)^(1+$AD$87) -> 236.90339
P122: =IF(P121*1.1>MIN($L$13,$D$112),MIN($L$13,$D$112),P121*1.1) -> 6500 | Q122: =R122*P122*PI()/30000 -> 127.20518 | R122: =R121*(P121/P122)^(1+$AD$87) -> 186.88 | S122: =IF(S121*1.1>MIN($L$13,$D$112),MIN($L$13,$D$112),S121*1.1) -> 6500 | T122: =U122*S122*PI()/30000 -> 146.95791 | U122: =U121*(S121/S122)^(1+$AD$87) -> 215.89919 | V122: =IF(V121*1.1>MIN($L$13,$D$112),MIN($L$13,$D$112),V121*1.1) -> 6500 | W122: =X122*V122*PI()/30000 -> 161.25502 | X122: =X121*(V121/V122)^(1+$AD$87) -> 236.90339
P123: =IF(P122*1.1>MIN($L$13,$D$112),MIN($L$13,$D$112),P122*1.1) -> 6500 | Q123: =R123*P123*PI()/30000 -> 127.20518 | R123: =R122*(P122/P123)^(1+$AD$87) -> 186.88 | S123: =IF(S122*1.1>MIN($L$13,$D$112),MIN($L$13,$D$112),S122*1.1) -> 6500 | T123: =U123*S123*PI()/30000 -> 146.95791 | U123: =U122*(S122/S123)^(1+$AD$87) -> 215.89919 | V123: =IF(V122*1.1>MIN($L$13,$D$112),MIN($L$13,$D$112),V122*1.1) -> 6500 | W123: =X123*V123*PI()/30000 -> 161.25502 | X123: =X122*(V122/V123)^(1+$AD$87) -> 236.90339
P124: =IF(P123*1.1>MIN($L$13,$D$112),MIN($L$13,$D$112),P123*1.1) -> 6500 | Q124: =R124*P124*PI()/30000 -> 127.20518 | R124: =R123*(P123/P124)^(1+$AD$87) -> 186.88 | S124: =IF(S123*1.1>MIN($L$13,$D$112),MIN($L$13,$D$112),S123*1.1) -> 6500 | T124: =U124*S124*PI()/30000 -> 146.95791 | U124: =U123*(S123/S124)^(1+$AD$87) -> 215.89919 | V124: =IF(V123*1.1>MIN($L$13,$D$112),MIN($L$13,$D$112),V123*1.1) -> 6500 | W124: =X124*V124*PI()/30000 -> 161.25502 | X124: =X123*(V123/V124)^(1+$AD$87) -> 236.90339
P125: =IF(P124*1.1>MIN($L$13,$D$112),MIN($L$13,$D$112),P124*1.1) -> 6500 | Q125: =R125*P125*PI()/30000 -> 127.20518 | R125: =R124*(P124/P125)^(1+$AD$87) -> 186.88 | S125: =IF(S124*1.1>MIN($L$13,$D$112),MIN($L$13,$D$112),S124*1.1) -> 6500 | T125: =U125*S125*PI()/30000 -> 146.95791 | U125: =U124*(S124/S125)^(1+$AD$87) -> 215.89919 | V125: =IF(V124*1.1>MIN($L$13,$D$112),MIN($L$13,$D$112),V124*1.1) -> 6500 | W125: =X125*V125*PI()/30000 -> 161.25502 | X125: =X124*(V124/V125)^(1+$AD$87) -> 236.90339
P126: =IF(P125*1.1>MIN($L$13,$D$112),MIN($L$13,$D$112),P125*1.1) -> 6500 | Q126: =R126*P126*PI()/30000 -> 127.20518 | R126: =R125*(P125/P126)^(1+$AD$87) -> 186.88 | S126: =IF(S125*1.1>MIN($L$13,$D$112),MIN($L$13,$D$112),S125*1.1) -> 6500 | T126: =U126*S126*PI()/30000 -> 146.95791 | U126: =U125*(S125/S126)^(1+$AD$87) -> 215.89919 | V126: =IF(V125*1.1>MIN($L$13,$D$112),MIN($L$13,$D$112),V125*1.1) -> 6500 | W126: =X126*V126*PI()/30000 -> 161.25502 | X126: =X125*(V125/V126)^(1+$AD$87) -> 236.90339
P127: =IF(P126*1.1>MIN($L$13,$D$112),MIN($L$13,$D$112),P126*1.1) -> 6500 | Q127: =R127*P127*PI()/30000 -> 127.20518 | R127: =R126*(P126/P127)^(1+$AD$87) -> 186.88 | S127: =IF(S126*1.1>MIN($L$13,$D$112),MIN($L$13,$D$112),S126*1.1) -> 6500 | T127: =U127*S127*PI()/30000 -> 146.95791 | U127: =U126*(S126/S127)^(1+$AD$87) -> 215.89919 | V127: =IF(V126*1.1>MIN($L$13,$D$112),MIN($L$13,$D$112),V126*1.1) -> 6500 | W127: =X127*V127*PI()/30000 -> 161.25502 | X127: =X126*(V126/V127)^(1+$AD$87) -> 236.90339
... P131: =IF(P130*1.1>MIN($L$13,$D$112),MIN($L$13,$D$112),P130*1.1) -> 6500 | Q131: =R131*P131*PI()/30000 -> 127.20518 | R131: =R130*(P130/P131)^(1+$AD$87) -> 186.88 | S131: =IF(S130*1.1>MIN($L$13,$D$112),MIN($L$13,$D$112),S130*1.1) -> 6500 | T131: =U131*S131*PI()/30000 -> 146.95791 | U131: =U130*(S130/S131)^(1+$AD$87) -> 215.89919 | V131: =IF(V130*1.1>MIN($L$13,$D$112),MIN($L$13,$D$112),V130*1.1) -> 6500 | W131: =X131*V131*PI()/30000 -> 161.25502 | X131: =X130*(V130/V131)^(1+$AD$87) -> 236.90339
A136: =MAX(A112,IF(A116="",0,MAX(A116:A135))) -> 0
D139: =D76 -> MAC QT 160 P
D140: - Placa de Características en Modo Generador- | L140: Página | M140: ='driving mode datasheet'!M140 -> 3 de 3
D141: - Absorbing Mode Nameplate - | L141: Fecha | M141: ='driving mode datasheet'!M141 -> 45239
C145: =D76 -> MAC QT 160 P | G145: =A87 -> F42 | H145: abs. | I145: =F9 -> 4 | J145: Pole | K145: EN60034
C146: Nr: | G146: DATE | K146: =J11 -> IM B3
C147: Pn | D147: =D87 -> 127.20518 | F147: kW | G147: Mn | H147: =B87 -> 520 | J147: Nm | K147: =G11 -> IP 23
C148: Un | D148: =IF(RIGHT(G145)="1","Y","D") -> D | E148: =F81 -> 400 | F148: V | G148: Fn | H148: =F87 -> 77 | J148: Hz | K148: =C8 -> IC 06
C149: In | D149: =C87 -> 219.3 | F149: A | G149: Cos fi | H149: =P87 -> 0.80232694 | I149: Eff. | J149: =O87 -> 0.95830957 | K149: =I15 -> Cl. F
C150: Nn | D150: =E87 -> 2336 | F150: rpm | G150: Nmax | H150: =L13 -> 6500 | J150: rpm | K150: =F24 -> S1
C151: FAN | E151: V | F151: v | G151: A 50/60Hz | I151: BRAKE | J151: Nm | K151: Nm | L151: Vdc | M151: Vdc
C152: MADE IN SPAIN

Sheet absorbing mode parameters
H2: =RESUM!G2 -> MAC QT 160 P
H4: Parámetros modo generador / Absorbing mode parameters
N5: Fecha - Date | O5: =RESUM!O5 -> 45239
B8: ='driving mode parameters'!B8 -> MAC QT 160 P | C8: ='driving mode parameters'!C8 -> MAC QT 160 P | D8: ='driving mode parameters'!D8 -> MAC QT 160 P | E8: ='driving mode parameters'!E8 -> MAC QT 160 P | F8: ='driving mode parameters'!F8 -> MAC QT 160 P | G8: ='driving mode parameters'!G8 -> MAC QT 160 P | H8: ='driving mode parameters'!H8 -> MAC QT 160 P | I8: ='driving mode parameters'!I8 -> MAC QT 160 P | ... O8: ='driving mode parameters'!O8 -> MAC QT 160 P
B9: ='driving mode parameters'!B9 -> A41 | C9: ='driving mode parameters'!C9 -> B41 | D9: ='driving mode parameters'!D9 -> C41 | E9: ='driving mode parameters'!E9 -> D41 | F9: ='driving mode parameters'!F9 -> E41 | G9: ='driving mode parameters'!G9 -> F41 | H9: ='driving mode parameters'!H9 -> G41 | I9: ='driving mode parameters'!I9 -> H41 | ... O9: ='driving mode parameters'!O9 -> 0
A10: ='driving mode parameters'!A10 -> Poles | B10: ='driving mode parameters'!B10 -> 4 | C10: ='driving mode parameters'!U12 -> 4 | D10: ='driving mode parameters'!V12 -> 4 | E10: ='driving mode parameters'!E10 -> 4 | F10: ='driving mode parameters'!F10 -> 4 | G10: ='driving mode parameters'!G10 -> 4 | H10: ='driving mode parameters'!H10 -> 4 | I10: ='driving mode parameters'!I10 -> 4 | J10: ='driving mode parameters'!J10 -> 4 | K10: ='driving mode parameters'!K10 -> 4 | L10: ='driving mode parameters'!L10 -> 4 | ... O10: ='driving mode parameters'!O10 -> 4
A11: Nm | B11: ='absorbing mode datasheet'!B27 -> 540 | C11: ='absorbing mode datasheet'!B28 -> 540 | D11: ='absorbing mode datasheet'!B29 -> 540 | E11: ='absorbing mode datasheet'!B30 -> 540 | F11: ='absorbing mode datasheet'!B31 -> 540 | G11: ='absorbing mode datasheet'!B32 -> 540 | H11: ='absorbing mode datasheet'!B33 -> 540 | I11: ='absorbing mode datasheet'!B34 -> 540 | J11: ='absorbing mode datasheet'!B35 -> 540 | K11: ='absorbing mode datasheet'!B36 -> 520 | L11: ='absorbing mode datasheet'!B37 -> 500 | M11: ='absorbing mode datasheet'!B38 -> 480 | N11: ='absorbing mode datasheet'!B39 -> 0 | O11: ='absorbing mode datasheet'!B40 -> 0
A12: rpm | B12: ='absorbing mode datasheet'!E27 -> 657 | C12: ='absorbing mode datasheet'!E28 -> 807 | D12: ='absorbing mode datasheet'!E29 -> 926 | E12: ='absorbing mode datasheet'!E30 -> 1107 | F12: ='absorbing mode datasheet'!E31 -> 1227 | G12: ='absorbing mode datasheet'!E32 -> 1377 | H12: ='absorbing mode datasheet'!E33 -> 1557 | I12: ='absorbing mode datasheet'!E34 -> 1796 | J12: ='absorbing mode datasheet'!E35 -> 2157 | K12: ='absorbing mode datasheet'!E36 -> 2336 | L12: ='absorbing mode datasheet'!E37 -> 2665 | M12: ='absorbing mode datasheet'!E38 -> 3084 | N12: ='absorbing mode datasheet'!E39 -> 0 | O12: ='absorbing mode datasheet'!E40 -> 0
A13: KW | B13: =B12*B11*PI()/30000 -> 37.152475 | C13: =C12*C11*PI()/30000 -> 45.634775 | D13: =D12*D11*PI()/30000 -> 52.364066 | E13: =E12*E11*PI()/30000 -> 62.599375 | F13: =F12*F11*PI()/30000 -> 69.385215 | G13: =G12*G11*PI()/30000 -> 77.867516 | H13: =H12*H11*PI()/30000 -> 88.046276 | I13: =I12*I11*PI()/30000 -> 101.56141 | ... O13: =O12*O11*PI()/30000 -> 0
A14: V | B14: ='absorbing mode datasheet'!$F$21 -> 400 | C14: ='absorbing mode datasheet'!$F$21 -> 400 | D14: ='absorbing mode datasheet'!$F$21 -> 400 | E14: ='absorbing mode datasheet'!$F$21 -> 400 | F14: ='absorbing mode datasheet'!$F$21 -> 400 | G14: ='absorbing mode datasheet'!$F$21 -> 400 | H14: ='absorbing mode datasheet'!$F$21 -> 400 | I14: ='absorbing mode datasheet'!$F$21 -> 400 | ... O14: ='absorbing mode datasheet'!$F$21 -> 400
A15: A | B15: ='absorbing mode datasheet'!C27 -> 57 | C15: ='absorbing mode datasheet'!C28 -> 75.2 | D15: ='absorbing mode datasheet'!C29 -> 87.1 | E15: ='absorbing mode datasheet'!C30 -> 104.9 | F15: ='absorbing mode datasheet'!C31 -> 116.4 | G15: ='absorbing mode datasheet'!C32 -> 130.9 | H15: ='absorbing mode datasheet'!C33 -> 149.4 | I15: ='absorbing mode datasheet'!C34 -> 174.3 | J15: ='absorbing mode datasheet'!C35 -> 208.9 | K15: ='absorbing mode datasheet'!C36 -> 219.3 | L15: ='absorbing mode datasheet'!C37 -> 242.9 | M15: ='absorbing mode datasheet'!C38 -> 274.6 | N15: ='absorbing mode datasheet'!C39 -> 0 | O15: ='absorbing mode datasheet'!C40 -> 0
A16: Hz | B16: ='absorbing mode datasheet'!F27 -> 21 | C16: ='absorbing mode datasheet'!F28 -> 26 | D16: ='absorbing mode datasheet'!F29 -> 30 | E16: ='absorbing mode datasheet'!F30 -> 36 | F16: ='absorbing mode datasheet'!F31 -> 40 | G16: ='absorbing mode datasheet'!F32 -> 45 | H16: ='absorbing mode datasheet'!F33 -> 51 | I16: ='absorbing mode datasheet'!F34 -> 59 | J16: ='absorbing mode datasheet'!F35 -> 71 | K16: ='absorbing mode datasheet'!F36 -> 77 | L16: ='absorbing mode datasheet'!F37 -> 88 | M16: ='absorbing mode datasheet'!F38 -> 102 | N16: ='absorbing mode datasheet'!F39 -> 0 | O16: ='absorbing mode datasheet'!F40 -> 0
A17: Cos fi | B17: =B13*B18*1000/B14/B15/3^0.5 -> 0.83353282 | C17: =C13*C18*1000/C14/C15/3^0.5 -> 0.79013415 | D17: =D13*D18*1000/D14/D15/3^0.5 -> 0.79345391 | E17: =E13*E18*1000/E14/E15/3^0.5 -> 0.79783679 | F17: =F13*F18*1000/F14/F15/3^0.5 -> 0.80250204 | G17: =G13*G18*1000/G14/G15/3^0.5 -> 0.80595402 | H17: =H13*H18*1000/H14/H15/3^0.5 -> 0.80362427 | I17: =I13*I18*1000/I14/I15/3^0.5 -> 0.7995356 | ... O17: =O13*O18*1000/O14/O15/3^0.5 -> #DIV/0!
A18: Rend / eff. | B18: =(B13*1000-3*B23/1000*B15^2-3*B24/1000*(B15^2-B32^2)-3*(2*PI()*B16*B28/1000*B32)^2/B25)/B13/1000 -> 0.88599329 | C18: =(C13*1000-3*C23/1000*C15^2-3*C24/1000*(C15^2-C32^2)-3*(2*PI()*C16*C28/1000*C32)^2/C25)/C13/1000 -> 0.90207652 | D18: =(D13*1000-3*D23/1000*D15^2-3*D24/1000*(D15^2-D32^2)-3*(2*PI()*D16*D28/1000*D32)^2/D25)/D13/1000 -> 0.91438084 | E18: =(E13*1000-3*E23/1000*E15^2-3*E24/1000*(E15^2-E32^2)-3*(2*PI()*E16*E28/1000*E32)^2/E25)/E13/1000 -> 0.92627548 | F18: =(F13*1000-3*F23/1000*F15^2-3*F24/1000*(F15^2-F32^2)-3*(2*PI()*F16*F28/1000*F32)^2/F25)/F13/1000 -> 0.93272325 | G18: =(G13*1000-3*G23/1000*G15^2-3*G24/1000*(G15^2-G32^2)-3*(2*PI()*G16*G28/1000*G32)^2/G25)/G13/1000 -> 0.93867275 | H18: =(H13*1000-3*H23/1000*H15^2-3*H24/1000*(H15^2-H32^2)-3*(2*PI()*H16*H28/1000*H32)^2/H25)/H13/1000 -> 0.94474211 | I18: =(I13*1000-3*I23/1000*I15^2-3*I24/1000*(I15^2-I32^2)-3*(2*PI()*I16*I28/1000*I32)^2/I25)/I13/1000 -> 0.95066411 | ... O18: =(O13*1000-3*O23/1000*O15^2-3*O24/1000*(O15^2-O32^2)-3*(2*PI()*O16*O28/1000*O32)^2/O25)/O13/1000 -> #DIV/0!
A19: J (Kg m2) | B19: ='driving mode parameters'!B19 -> 0.462632 | C19: ='driving mode parameters'!C19 -> 0.462632 | D19: ='driving mode parameters'!D19 -> 0.462632 | E19: ='driving mode parameters'!E19 -> 0.462632 | F19: ='driving mode parameters'!F19 -> 0.462632 | G19: ='driving mode parameters'!G19 -> 0.462632 | H19: ='driving mode parameters'!H19 -> 0.462632 | I19: ='driving mode parameters'!I19 -> 0.462632 | ... O19: ='driving mode parameters'!O19 -> 0
B20: ='driving mode parameters'!B20 -> ESQUEMA EQUIVALENTE POR FASE EN ESTRELLA / PHASE STAR EQUIVALENT SCHEMA
B21: ='driving mode parameters'!B21 -> MAC QT 160 P | C21: ='driving mode parameters'!C21 -> MAC QT 160 P | D21: ='driving mode parameters'!D21 -> MAC QT 160 P | E21: ='driving mode parameters'!E21 -> MAC QT 160 P | F21: ='driving mode parameters'!F21 -> MAC QT 160 P | G21: ='driving mode parameters'!G21 -> MAC QT 160 P | H21: ='driving mode parameters'!H21 -> MAC QT 160 P | I21: ='driving mode parameters'!I21 -> MAC QT 160 P | ... O21: ='driving mode parameters'!O21 -> MAC QT 160 P
B22: ='driving mode parameters'!B22 -> A41 | C22: ='driving mode parameters'!C22 -> B41 | D22: ='driving mode parameters'!D22 -> C41 | E22: ='driving mode parameters'!E22 -> D41 | F22: ='driving mode parameters'!F22 -> E41 | G22: ='driving mode parameters'!G22 -> F41 | H22: ='driving mode parameters'!H22 -> G41 | I22: ='driving mode parameters'!I22 -> H41 | ... O22: ='driving mode parameters'!O22 -> 0
A23: Rs (mOhm) | B23: ='driving mode parameters'!B23 -> 236.0555 | C23: ='driving mode parameters'!C23 -> 140.72795 | D23: ='driving mode parameters'!D23 -> 103.83299 | E23: ='driving mode parameters'!E23 -> 72.046276 | F23: ='driving mode parameters'!F23 -> 58.106815 | G23: ='driving mode parameters'!G23 -> 46.147994 | H23: ='driving mode parameters'!H23 -> 35.181989 | I23: ='driving mode parameters'!I23 -> 25.693612 | ... O23: ='driving mode parameters'!O23 -> 0
A24: Rr (mOhm) | B24: ='driving mode parameters'!B24 -> 187.99062 | C24: ='driving mode parameters'!C24 -> 113.72272 | D24: ='driving mode parameters'!D24 -> 83.551388 | E24: ='driving mode parameters'!E24 -> 58.021797 | F24: ='driving mode parameters'!F24 -> 46.997656 | G24: ='driving mode parameters'!G24 -> 37.13395 | H24: ='driving mode parameters'!H24 -> 28.430681 | I24: ='driving mode parameters'!I24 -> 20.887847 | ... O24: ='driving mode parameters'!O24 -> 0
A25: Rfe (Ohm) | B25: ='driving mode parameters'!B25 -> 518.78894 | C25: ='driving mode parameters'!C25 -> 406.0518 | D25: ='driving mode parameters'!D25 -> 342.8588 | E25: ='driving mode parameters'!E25 -> 278.51907 | F25: ='driving mode parameters'!F25 -> 246.93159 | G25: ='driving mode parameters'!G25 -> 215.16473 | H25: ='driving mode parameters'!H25 -> 182.13632 | I25: ='driving mode parameters'!I25 -> 149.66889 | ... O25: ='driving mode parameters'!O25 -> 0
A26: Ls (mH) | B26: ='driving mode parameters'!B26 -> 2.6453861 | C26: ='driving mode parameters'!C26 -> 1.6002953 | D26: ='driving mode parameters'!D26 -> 1.1757272 | E26: ='driving mode parameters'!E26 -> 0.8164772 | F26: ='driving mode parameters'!F26 -> 0.66134653 | G26: ='driving mode parameters'!G26 -> 0.52254541 | H26: ='driving mode parameters'!H26 -> 0.40007383 | I26: ='driving mode parameters'!I26 -> 0.29393179 | ... O26: ='driving mode parameters'!O26 -> 0
A27: Lr (mH) | B27: ='driving mode parameters'!B27 -> 2.3710549 | C27: ='driving mode parameters'!C27 -> 1.4802642 | D27: ='driving mode parameters'!D27 -> 1.0868623 | E27: ='driving mode parameters'!E27 -> 0.75253935 | F27: ='driving mode parameters'!F27 -> 0.60742838 | G27: ='driving mode parameters'!G27 -> 0.47831092 | H27: ='driving mode parameters'!H27 -> 0.36797283 | I27: ='driving mode parameters'!I27 -> 0.27171656 | ... O27: ='driving mode parameters'!O27 -> 0
A28: Lm (mH) | B28: ='driving mode parameters'!B28 -> 89.840416 | C28: ='driving mode parameters'!C28 -> 53.097233 | D28: ='driving mode parameters'!D28 -> 39.098763 | E28: ='driving mode parameters'!E28 -> 27.026582 | F28: ='driving mode parameters'!F28 -> 22.149052 | G28: ='driving mode parameters'!G28 -> 17.724785 | H28: ='driving mode parameters'!H28 -> 13.214172 | I28: ='driving mode parameters'!I28 -> 9.4503213 | ... O28: ='driving mode parameters'!O28 -> 0
A29: Ts (s) | B29: ='driving mode parameters'!B29 -> 0.39179685 | C29: ='driving mode parameters'!C29 -> 0.38867564 | D29: ='driving mode parameters'!D29 -> 0.38787761 | E29: ='driving mode parameters'!E29 -> 0.38646077 | F29: ='driving mode parameters'!F29 -> 0.39255978 | G29: ='driving mode parameters'!G29 -> 0.39540897 | H29: ='driving mode parameters'!H29 -> 0.38696635 | I29: ='driving mode parameters'!I29 -> 0.37924809 | ... O29: ='driving mode parameters'!O29 -> 0
A30: Tr (s) | B30: ='driving mode parameters'!B30 -> 0.49051101 | C30: ='driving mode parameters'!C30 -> 0.47991725 | D30: ='driving mode parameters'!D30 -> 0.48096897 | E30: ='driving mode parameters'!E30 -> 0.47877044 | F30: ='driving mode parameters'!F30 -> 0.48420458 | G30: ='driving mode parameters'!G30 -> 0.4902009 | H30: ='driving mode parameters'!H30 -> 0.47772844 | I30: ='driving mode parameters'!I30 -> 0.46543992 | ... O30: ='driving mode parameters'!O30 -> 0
A31: Kt | B31: ='driving mode parameters'!B31 -> 138.4387 | C31: ='driving mode parameters'!C31 -> 107.67455 | D31: ='driving mode parameters'!D31 -> 92.292467 | E31: ='driving mode parameters'!E31 -> 76.91039 | F31: ='driving mode parameters'!F31 -> 69.219351 | G31: ='driving mode parameters'!G31 -> 61.528312 | H31: ='driving mode parameters'!H31 -> 53.837273 | I31: ='driving mode parameters'!I31 -> 46.146234 | ... O31: ='driving mode parameters'!O31 -> 0
A32: Im (A/fase) | B32: ='driving mode parameters'!B32 -> 20.3 | C32: ='driving mode parameters'!C32 -> 26.6 | D32: ='driving mode parameters'!D32 -> 31.2 | E32: ='driving mode parameters'!E32 -> 37.5 | F32: ='driving mode parameters'!F32 -> 41 | G32: ='driving mode parameters'!G32 -> 45.5 | H32: ='driving mode parameters'!H32 -> 53.7 | I32: ='driving mode parameters'!I32 -> 64.6 | ... O32: ='driving mode parameters'!O32 -> 0
A33: L/min | B33: =RESUM!B33 -> 0 | C33: =RESUM!C33 -> 0 | D33: =RESUM!D33 -> 0 | E33: =RESUM!E33 -> 0 | F33: =RESUM!F33 -> 0 | G33: =RESUM!G33 -> 0 | H33: =RESUM!H33 -> 0 | I33: =RESUM!I33 -> 0 | ... K33: =RESUM!K33 -> 0 | L33: =RESUM!M33 -> 0 | M33: =RESUM!N33 -> 0 | N33: =RESUM!O33 -> 0 | O33: =RESUM!P33 -> 0
A61: s rpm | B61: =B16*20-B12 -> -237 | C61: =C16*20-C12 -> -287 | D61: =D16*20-D12 -> -326 | E61: =E16*20-E12 -> -387 | F61: =F16*20-F12 -> -427 | G61: =G16*20-G12 -> -477 | H61: =H16*20-H12 -> -537 | I61: =I16*20-I12 -> -616 | ... L61: =L16*20-L12 -> -905
A62: MODO GENERADOR a fnom
A63: E | B63: =2*PI()*B16*B28/1000*B32 -> 240.63952 | C63: =2*PI()*C16*C28/1000*C32 -> 230.73142 | D63: =2*PI()*D16*D28/1000*D32 -> 229.94223 | E63: =2*PI()*E16*E28/1000*E32 -> 229.24758 | F63: =2*PI()*F16*F28/1000*F32 -> 228.23322 | G63: =2*PI()*G16*G28/1000*G32 -> 228.0262 | H63: =2*PI()*H16*H28/1000*H32 -> 227.3863 | I63: =2*PI()*I16*I28/1000*I32 -> 226.31377 | ... L63: =2*PI()*L16*L28/1000*L32 -> 225.65264
A64: urq | B64: =B23/1000*(B15^2-B32^2)^0.5 -> 12.572942 | C64: =C23/1000*(C15^2-C32^2)^0.5 -> 9.8985687 | D64: =D23/1000*(D15^2-D32^2)^0.5 -> 8.443716 | E64: =E23/1000*(E15^2-E32^2)^0.5 -> 7.058241 | F64: =F23/1000*(F15^2-F32^2)^0.5 -> 6.3301661 | G64: =G23/1000*(G15^2-G32^2)^0.5 -> 5.6641018 | H64: =H23/1000*(H15^2-H32^2)^0.5 -> 4.9049131 | I64: =I23/1000*(I15^2-I32^2)^0.5 -> 4.1594561 | ... L64: =L23/1000*(L15^2-L32^2)^0.5 -> 2.6387315
A65: urd | B65: =B23/1000*B32 -> 4.7919267 | C65: =C23/1000*C32 -> 3.7433636 | D65: =D23/1000*D32 -> 3.2395891 | E65: =E23/1000*E32 -> 2.7017354 | F65: =F23/1000*F32 -> 2.3823794 | G65: =G23/1000*G32 -> 2.0997337 | H65: =H23/1000*H32 -> 1.8892728 | I65: =I23/1000*I32 -> 1.6598073 | ... L65: =L23/1000*L32 -> 1.0730507
A66: exd | B66: =2*PI()*B16*B26/1000*B32 -> 7.0857246 | C66: =2*PI()*C16*C26/1000*C32 -> 6.9540048 | D66: =2*PI()*D16*D26/1000*D32 -> 6.9145237 | E66: =2*PI()*E16*E26/1000*E32 -> 6.9256047 | F66: =2*PI()*F16*F26/1000*F32 -> 6.814795 | G66: =2*PI()*G16*G26/1000*G32 -> 6.7224536 | H66: =2*PI()*H16*H26/1000*H32 -> 6.8843742 | I66: =2*PI()*I16*I26/1000*I32 -> 7.0389999 | ... L66: =2*PI()*L16*L26/1000*L32 -> 6.7468728
A67: exq | B67: =2*PI()*B16*B26/1000*(B15^2-B32^2)^0.5 -> 18.591354 | C67: =2*PI()*C16*C26/1000*(C15^2-C32^2)^0.5 -> 18.38846 | D67: =2*PI()*D16*D26/1000*(D15^2-D32^2)^0.5 -> 18.022123 | E67: =2*PI()*E16*E26/1000*(E15^2-E32^2)^0.5 -> 18.093033 | F67: =2*PI()*F16*F26/1000*(F15^2-F32^2)^0.5 -> 18.107437 | G67: =2*PI()*G16*G26/1000*(G15^2-G32^2)^0.5 -> 18.134043 | H67: =2*PI()*H16*H26/1000*(H15^2-H32^2)^0.5 -> 17.873151 | I67: =2*PI()*I16*I26/1000*(I15^2-I32^2)^0.5 -> 17.639645 | ... L67: =2*PI()*L16*L26/1000*(L15^2-L32^2)^0.5 -> 16.591188
A68: Vq | B68: =B63+B66-B64 -> 235.1523 | C68: =C63+C66-C64 -> 227.78686 | D68: =D63+D66-D64 -> 228.41304 | E68: =E63+E66-E64 -> 229.11495 | F68: =F63+F66-F64 -> 228.71785 | G68: =G63+G66-G64 -> 229.08455 | H68: =H63+H66-H64 -> 229.36576 | I68: =I63+I66-I64 -> 229.19331 | ... L68: =L63+L66-L64 -> 229.76078
A69: Vd | B69: =B65-B67 -> -13.799427 | C69: =C65-C67 -> -14.645097 | D69: =D65-D67 -> -14.782534 | E69: =E65-E67 -> -15.391297 | F69: =F65-F67 -> -15.725057 | G69: =G65-G67 -> -16.034309 | H69: =H65-H67 -> -15.983878 | I69: =I65-I67 -> -15.979837 | ... L69: =L65-L67 -> -15.518138
A70: V | B70: =3^0.5*(B68^2+B69^2)^0.5 -> 407.99643 | C70: =3^0.5*(C68^2+C69^2)^0.5 -> 395.353 | D70: =3^0.5*(D68^2+D69^2)^0.5 -> 396.45064 | E70: =3^0.5*(E68^2+E69^2)^0.5 -> 397.73314 | F70: =3^0.5*(F68^2+F69^2)^0.5 -> 397.08613 | G70: =3^0.5*(G68^2+G69^2)^0.5 -> 397.75683 | H70: =3^0.5*(H68^2+H69^2)^0.5 -> 398.23662 | I70: =3^0.5*(I68^2+I69^2)^0.5 -> 397.93817 | ... L70: =3^0.5*(L68^2+L69^2)^0.5 -> 398.86399
A72: Correcció a | B72: =B14 -> 400
A73: E | B73: =B63*B74/B16 -> 235.92316 | C73: =C63*C74/C16 -> 233.44345 | D73: =D63*D74/D16 -> 232.00086 | E73: =E63*E74/E16 -> 230.55417 | F73: =F63*F74/F16 -> 229.90802 | G73: =G63*G74/G16 -> 229.31217 | H73: =H63*H74/H16 -> 228.39316 | I73: =I63*I74/I16 -> 227.48636 | ... K73: =K63*K74/K16 -> 226.73296
A74: Hz gen | B74: =B16*B14/B70 -> 20.588415 | C74: =C16*C14/C70 -> 26.305606 | D74: =D16*D14/D70 -> 30.268585 | E74: =E16*E14/E70 -> 36.20518 | F74: =F16*F14/F70 -> 40.293525 | G74: =G16*G14/G70 -> 45.25378 | H74: =H16*H14/H70 -> 51.225827 | I74: =I16*I14/I70 -> 59.305696 | ... K74: =K16*K14/K70 -> 77.299112
A75: Hz gen adoptat | B75: =ROUND(B74,0) -> 21 | C75: =ROUND(C74,0) -> 26 | D75: =ROUND(D74,0) -> 30 | E75: =ROUND(E74,0) -> 36 | F75: =ROUND(F74,0) -> 40 | G75: =ROUND(G74,0) -> 45 | H75: =ROUND(H74,0) -> 51 | I75: =ROUND(I74,0) -> 59 | ... K75: =ROUND(K74,0) -> 77
A76: rpm gen | B76: =B75*20+B61 -> 183 | C76: =C75*20+C61 -> 233 | D76: =D75*20+D61 -> 274 | E76: =E75*20+E61 -> 333 | F76: =F75*20+F61 -> 373 | G76: =G75*20+G61 -> 423 | H76: =H75*20+H61 -> 483 | I76: =I75*20+I61 -> 564 | ... K76: =K75*20+K61 -> 744
A77: Nm gen | B77: =B11 -> 540 | C77: =C11 -> 540 | D77: =D11 -> 540 | E77: =E11 -> 540 | F77: =F11 -> 540 | G77: =G11 -> 540 | H77: =H11 -> 540 | I77: =I11 -> 540 | ... K77: =K11 -> 520
A78: KW abs | B78: =B76*B77*PI()/30000 -> 10.348406 | C78: =C76*C77*PI()/30000 -> 13.17584 | D78: =D76*D77*PI()/30000 -> 15.494335 | E78: =E76*E77*PI()/30000 -> 18.830706 | F78: =F76*F77*PI()/30000 -> 21.092653 | G78: =G76*G77*PI()/30000 -> 23.920086 | H78: =H76*H77*PI()/30000 -> 27.313007 | I78: =I76*I77*PI()/30000 -> 31.893449 | ... K78: =K76*K77*PI()/30000 -> 40.513979
A79: KW perd. | B79: =(3*B23/1000*B15^2+3*B73^2/B25+3*B24/1000*(B15^2-B32^2)+100)/1000 -> 4.3226339 | C79: =(3*C23/1000*C15^2+3*C73^2/C25+3*C24/1000*(C15^2-C32^2)+100)/1000 -> 4.5780166 | D79: =(3*D23/1000*D15^2+3*D73^2/D25+3*D24/1000*(D15^2-D32^2)+100)/1000 -> 4.5916885 | E79: =(3*E23/1000*E15^2+3*E73^2/E25+3*E24/1000*(E15^2-E32^2)+100)/1000 -> 4.7215802 | F79: =(3*F23/1000*F15^2+3*F73^2/F25+3*F24/1000*(F15^2-F32^2)+100)/1000 -> 4.7773339 | G79: =(3*G23/1000*G15^2+3*G73^2/G25+3*G24/1000*(G15^2-G32^2)+100)/1000 -> 4.8836006 | H79: =(3*H23/1000*H15^2+3*H73^2/H25+3*H24/1000*(H15^2-H32^2)+100)/1000 -> 4.9728105 | I79: =(3*I23/1000*I15^2+3*I73^2/I25+3*I24/1000*(I15^2-I32^2)+100)/1000 -> 5.1212883 | ... K79: =(3*K23/1000*K15^2+3*K73^2/K25+3*K24/1000*(K15^2-K32^2)+100)/1000 -> 5.3021667
A80: KW out | B80: =B78-B79 -> 6.0257723 | C80: =C78-C79 -> 8.597823 | D80: =D78-D79 -> 10.902646 | E80: =E78-E79 -> 14.109126 | F80: =F78-F79 -> 16.315319 | G80: =G78-G79 -> 19.036486 | H80: =H78-H79 -> 22.340196 | I80: =I78-I79 -> 26.77216 | ... K80: =K78-K79 -> 35.211812
A81: eff gen. | B81: =B80/B78 -> 0.58228989 | C81: =C80/C78 -> 0.6525446 | D81: =D80/D78 -> 0.70365372 | E81: =E80/E78 -> 0.74926165 | F81: =F80/F78 -> 0.77350721 | G81: =G80/G78 -> 0.79583683 | H81: =H80/H78 -> 0.81793251 | I81: =I80/I78 -> 0.83942507 | ... K81: =K80/K78 -> 0.86912747
A82: Cos fi gen | B82: =B80*1000/3^0.5/B14/B15 -> 0.1525869 | C82: =C80*1000/3^0.5/C14/C15 -> 0.16502511 | D82: =D80*1000/3^0.5/D14/D15 -> 0.18067296 | E82: =E80*1000/3^0.5/E14/E15 -> 0.19413508 | F82: =F80*1000/3^0.5/F14/F15 -> 0.20231216 | G82: =G80*1000/3^0.5/G14/G15 -> 0.2099068 | H82: =H80*1000/3^0.5/H14/H15 -> 0.21583196 | I82: =I80*1000/3^0.5/I14/I15 -> 0.22169986 | ... K82: =K80*1000/3^0.5/K14/K15 -> 0.23175501

Sheet limit 480V
B1: =RESUM!G8 -> MAC QT 160 P | E1: Corba parell-velocitat a Nnom | P1: =P6/O6 -> 3.5310023 | S1: =S6/R6 -> 3.5310023 | AA1: diagrama vectorial
B2: =RESUM!G9 -> F41 | E2: V/f | F2: f | G2: s pu | H2: s rpm | I2: rpm | J2: Kweix | K2: Meix | L2: Im | M2: Ir | N2: is | O2: Rs Im | P2: Rs Ir | Q2: Rs Is | R2: w Ls Im | S2: w Ls Ir | T2: w Ls Is | U2: E | V2: Vs (m) | W2: Vs (r) | X2: Vs | Y2: Vs (f-f) | AA2: eix m | AB2: eix r
B3: =RESUM!G10 -> 4 | E3: =X3/F3 -> 5.3450849 | F3: =$B$9-B27/120*$B$3 -> 42.1 | G3: =H3/I3 -> 7.9176564e-10 | H3: 1e-06 | I3: =F3*120/$B3-$H3 -> 1263 | J3: =3*(1-G3)/G3*$B$17/1000*M3^2/1000 -> 2.9110886e-06 | K3: =J3/I3*1000*30/PI() -> 2.2010173e-05 | L3: =B25 -> 45.5 | M3: =U3/$B$17*1000*G3 -> 4.5486219e-06 | N3: =(L3^2+M3^2)^0.5 -> 45.5 | O3: =$B$16*L3/1000 -> 2.0997337 | P3: =$B$16*M3/1000 -> 2.0990977e-07 | Q3: =N3*$B$16/1000 -> 2.0997337 | R3: =2*PI()*F3*$B$19*L3/1000 -> 11.687097 | S3: =2*PI()*F3*$B$19*M3/1000 -> 1.1683557e-06 | T3: =2*PI()*F3*$B$19*N3/1000 -> 11.687097 | U3: =$B$21*2*PI()*F3*L3/1000 -> 213.33118 | V3: =O3-S3 -> 2.0997325 | W3: =P3+R3+U3 -> 225.01828 | X3: =(W3^2+V3^2)^0.5 -> 225.02807 | Y3: =X3*3^0.5 -> 389.76006 | AA3: 0 | AB3: 0
A4: Nm | B4: =RESUM!G11 -> 540 | E4: =X4/F4 -> 5.4221722 | F4: =$F$3+H4/120*$B$3 -> 42.55 | G4: =H4/I4 -> 0.010688836 | H4: =H5/2 -> 13.5 | I4: =I3 -> 1263 | J4: =3*(1-G4)/G4*$B$17/1000*M4^2/1000 -> 39.715226 | K4: =J4/I4*1000*30/PI() -> 300.27908 | L4: =L3 -> 45.5 | M4: =U4/$B$17*1000*G4 -> 62.062758 | N4: =(L4^2+M4^2)^0.5 -> 76.954766 | O4: =$B$16*L4/1000 -> 2.0997337 | P4: =$B$16*M4/1000 -> 2.8640718 | Q4: =N4*$B$16/1000 -> 3.551308 | R4: =2*PI()*F4*$B$19*L4/1000 -> 11.812018 | S4: =2*PI()*F4*$B$19*M4/1000 -> 16.111789 | T4: =2*PI()*F4*$B$19*N4/1000 -> 19.977826 | U4: =$B$21*2*PI()*F4*L4/1000 -> 215.61144 | V4: =O4-S4 -> -14.012056 | W4: =P4+R4+U4 -> 230.28753 | X4: =(W4^2+V4^2)^0.5 -> 230.71343 | Y4: =X4*3^0.5 -> 399.60738 | Z4: E | AA4: 0 | AB4: =U9 -> 212.94838
A5: rpm | B5: =RESUM!G12 -> 1263 | D5: Nominal | E5: =X5/F5 -> 5.5261187 | F5: =$F$3+H5/120*$B$3 -> 43 | G5: =H5/I5 -> 0.021377672 | H5: =B27 -> 27 | I5: =I4 -> 1263 | J5: =3*(1-G5)/G5*$B$17/1000*M5^2/1000 -> 80.242977 | K5: =J5/I5*1000*30/PI() -> 606.70149 | L5: =L4 -> 45.5 | M5: =U5/$B$17*1000*G5 -> 125.43824 | N5: =(L5^2+M5^2)^0.5 -> 133.43539 | O5: =$B$16*L5/1000 -> 2.0997337 | P5: =$B$16*M5/1000 -> 5.7887232 | Q5: =N5*$B$16/1000 -> 6.1577754 | R5: =2*PI()*F5*$B$19*L5/1000 -> 11.936939 | S5: =2*PI()*F5*$B$19*M5/1000 -> 32.908763 | T5: =2*PI()*F5*$B$19*N5/1000 -> 35.006816 | U5: =$B$21*1*2*PI()*F5*L5/1000 -> 217.8917 | V5: =O5-S5 -> -30.809029 | W5: =P5+R5+U5 -> 235.61737 | X5: =(W5^2+V5^2)^0.5 -> 237.62311 | Y5: =X5*3^0.5 -> 411.57529 | Z5: Rs im | AA5: =AA4+O9 -> 2.0061598 | AB5: =AB4+0 -> 212.94838
A6: KW | B6: =RESUM!G13 -> 71.420967 | E6: =X6/F6 -> 5.5320876 | F6: =$F$3+H6/120*$B$3 -> 43.246154 | G6: =H6/I6 -> 0.027224557 | H6: =H5+($H$18-$H$5)/13 -> 34.384615 | I6: =I5 -> 1263 | J6: =3*(1-G6)/G6*$B$17/1000*M6^2/1000 -> 100.46888 | K6: =J6/I6*1000*30/PI() -> 759.62563 | L6: =L5+(L$18-L$5)/13 -> 44.993077 | M6: =U6/$B$17*1000*G6 -> 158.87066 | N6: =(L6^2+M6^2)^0.5 -> 165.11894 | O6: =$B$16*L6/1000 -> 2.0763402 | P6: =$B$16*M6/1000 -> 7.3315621 | Q6: =N6*$B$16/1000 -> 7.6199076 | R6: =2*PI()*F6*$B$19*L6/1000 -> 11.87152 | S6: =2*PI()*F6*$B$19*M6/1000 -> 41.918364 | T6: =2*PI()*F6*$B$19*N6/1000 -> 43.566985 | U6: =$B$21*1*2*PI()*F6*L6/1000 -> 216.69756 | V6: =O6-S6 -> -39.842024 | W6: =P6+R6+U6 -> 235.90065 | X6: =(W6^2+V6^2)^0.5 -> 239.24151 | Y6: =X6*3^0.5 -> 414.37845 | Z6: Rs Ir | AA6: =AA5+0 -> 2.0061598 | AB6: =AB5+P9 -> 224.79506
A7: V | B7: =RESUM!G14 -> 400 | E7: =X7/F7 -> 5.5444264 | F7: =$F$3+H7/120*$B$3 -> 43.492308 | G7: =H7/I7 -> 0.033071442 | H7: =H6+($H$18-$H$5)/13 -> 41.769231 | I7: =I6 -> 1263 | J7: =3*(1-G7)/G7*$B$17/1000*M7^2/1000 -> 119.94825 | K7: =J7/I7*1000*30/PI() -> 906.90534 | L7: =L6+(L$18-L$5)/13 -> 44.486154 | M7: =U7/$B$17*1000*G7 -> 191.90228 | N7: =(L7^2+M7^2)^0.5 -> 196.99112 | O7: =$B$16*L7/1000 -> 2.0529467 | P7: =$B$16*M7/1000 -> 8.8559051 | Q7: =N7*$B$16/1000 -> 9.090745 | R7: =2*PI()*F7*$B$19*L7/1000 -> 11.804578 | S7: =2*PI()*F7*$B$19*M7/1000 -> 50.922032 | T7: =2*PI()*F7*$B$19*N7/1000 -> 52.272377 | U7: =$B$21*1*2*PI()*F7*L7/1000 -> 215.47563 | V7: =O7-S7 -> -48.869085 | W7: =P7+R7+U7 -> 236.13611 | X7: =(W7^2+V7^2)^0.5 -> 241.1399 | Y7: =X7*3^0.5 -> 417.66655 | Z7: wLs Ir | AA7: =AA6-S9 -> -66.88409 | AB7: =AB6 -> 224.79506
A8: A | B8: =RESUM!G15 -> 130.9 | E8: =X8/F8 -> 5.562817 | F8: =$F$3+H8/120*$B$3 -> 43.738462 | G8: =H8/I8 -> 0.038918326 | H8: =H7+($H$18-$H$5)/13 -> 49.153846 | I8: =I7 -> 1263 | J8: =3*(1-G8)/G8*$B$17/1000*M8^2/1000 -> 138.6783 | K8: =J8/I8*1000*30/PI() -> 1048.5196 | L8: =L7+(L$18-L$5)/13 -> 43.979231 | M8: =U8/$B$17*1000*G8 -> 224.51997 | N8: =(L8^2+M8^2)^0.5 -> 228.78678 | O8: =$B$16*L8/1000 -> 2.0295533 | P8: =$B$16*M8/1000 -> 10.361146 | Q8: =N8*$B$16/1000 -> 10.558051 | R8: =2*PI()*F8*$B$19*L8/1000 -> 11.736113 | S8: =2*PI()*F8*$B$19*M8/1000 -> 59.914456 | T8: =2*PI()*F8*$B$19*N8/1000 -> 61.053079 | U8: =$B$21*1*2*PI()*F8*L8/1000 -> 214.2259 | V8: =O8-S8 -> -57.884903 | W8: =P8+R8+U8 -> 236.32316 | X8: =(W8^2+V8^2)^0.5 -> 243.30906 | Y8: =X8*3^0.5 -> 421.42365 | Z8: wLs Im | AA8: =AA7 -> -66.88409 | AB8: =AB7+R9 -> 236.46118 | AC8: =(AB8^2+AA8^2)^0.5 -> 245.73842
A9: Hz | B9: =RESUM!G16 -> 43 | E9: =X9/F9 -> 5.5869176 | F9: =$F$3+H9/120*$B$3 -> 43.984615 | G9: =H9/I9 -> 0.044765211 | H9: =H8+($H$18-$H$5)/13 -> 56.538462 | I9: =I8 -> 1263 | J9: =3*(1-G9)/G9*$B$17/1000*M9^2/1000 -> 156.65691 | K9: =J9/I9*1000*30/PI() -> 1184.4523 | L9: =L8+(L$18-L$5)/13 -> 43.472308 | M9: =U9/$B$17*1000*G9 -> 256.71061 | N9: =(L9^2+M9^2)^0.5 -> 260.36547 | O9: =$B$16*L9/1000 -> 2.0061598 | P9: =$B$16*M9/1000 -> 11.84668 | Q9: =N9*$B$16/1000 -> 12.015344 | R9: =2*PI()*F9*$B$19*L9/1000 -> 11.666125 | S9: =2*PI()*F9*$B$19*M9/1000 -> 68.89025 | T9: =2*PI()*F9*$B$19*N9/1000 -> 69.87106 | U9: =$B$21*1*2*PI()*F9*L9/1000 -> 212.94838 | V9: =O9-S9 -> -66.88409 | W9: =P9+R9+U9 -> 236.46118 | X9: =(W9^2+V9^2)^0.5 -> 245.73842 | Y9: =X9*3^0.5 -> 425.63144 | Z9: Vs | AA9: 0 | AB9: 0
A10: Cos fi | B10: =RESUM!G17 -> 0.83948844 | E10: =X10/F10 -> 5.6163669 | F10: =$F$3+H10/120*$B$3 -> 44.230769 | G10: =H10/I10 -> 0.050612096 | H10: =H9+($H$18-$H$5)/13 -> 63.923077 | I10: =I9 -> 1263 | J10: =3*(1-G10)/G10*$B$17/1000*M10^2/1000 -> 173.88263 | K10: =J10/I10*1000*30/PI() -> 1314.6926 | L10: =L9+(L$18-L$5)/13 -> 42.965385 | M10: =U10/$B$17*1000*G10 -> 288.46107 | N10: =(L10^2+M10^2)^0.5 -> 291.6433 | O10: =$B$16*L10/1000 -> 1.9827663 | P10: =$B$16*M10/1000 -> 13.3119 | Q10: =N10*$B$16/1000 -> 13.458753 | R10: =2*PI()*F10*$B$19*L10/1000 -> 11.594615 | S10: =2*PI()*F10*$B$19*M10/1000 -> 77.843946 | T10: =2*PI()*F10*$B$19*N10/1000 -> 78.7027 | U10: =$B$21*1*2*PI()*F10*L10/1000 -> 211.64306 | V10: =O10-S10 -> -75.86118 | W10: =P10+R10+U10 -> 236.54958 | X10: =(W10^2+V10^2)^0.5 -> 248.41623 | Y10: =X10*3^0.5 -> 430.26953
A11: Rend / eff. | B11: =RESUM!G18 -> 0.93810347 | E11: =X11/F11 -> 5.650788 | F11: =$F$3+H11/120*$B$3 -> 44.476923 | G11: =H11/I11 -> 0.05645898 | H11: =H10+($H$18-$H$5)/13 -> 71.307692 | I11: =I10 -> 1263 | J11: =3*(1-G11)/G11*$B$17/1000*M11^2/1000 -> 190.35469 | K11: =J11/I11*1000*30/PI() -> 1439.2347 | L11: =L10+(L$18-L$5)/13 -> 42.458462 | M11: =U11/$B$17*1000*G11 -> 319.75822 | N11: =(L11^2+M11^2)^0.5 -> 322.56478 | O11: =$B$16*L11/1000 -> 1.9593728 | P11: =$B$16*M11/1000 -> 14.7562 | Q11: =N11*$B$16/1000 -> 14.885717 | R11: =2*PI()*F11*$B$19*L11/1000 -> 11.521582 | S11: =2*PI()*F11*$B$19*M11/1000 -> 86.769998 | T11: =2*PI()*F11*$B$19*N11/1000 -> 87.531591 | U11: =$B$21*1*2*PI()*F11*L11/1000 -> 210.30996 | V11: =O11-S11 -> -84.810625 | W11: =P11+R11+U11 -> 236.58774 | X11: =(W11^2+V11^2)^0.5 -> 251.32966 | Y11: =X11*3^0.5 -> 435.31575
A12: J (Kg m2) | B12: =RESUM!G19 -> 0.462632 | E12: =X12/F12 -> 5.6897934 | F12: =$F$3+H12/120*$B$3 -> 44.723077 | G12: =H12/I12 -> 0.062305865 | H12: =H11+($H$18-$H$5)/13 -> 78.692308 | I12: =I11 -> 1263 | J12: =3*(1-G12)/G12*$B$17/1000*M12^2/1000 -> 206.07298 | K12: =J12/I12*1000*30/PI() -> 1558.0776 | L12: =L11+(L$18-L$5)/13 -> 41.951538 | M12: =U12/$B$17*1000*G12 -> 350.58892 | N12: =(L12^2+M12^2)^0.5 -> 353.08997 | O12: =$B$16*L12/1000 -> 1.9359793 | P12: =$B$16*M12/1000 -> 16.178975 | Q12: =N12*$B$16/1000 -> 16.294394 | R12: =2*PI()*F12*$B$19*L12/1000 -> 11.447027 | S12: =2*PI()*F12*$B$19*M12/1000 -> 95.662782 | T12: =2*PI()*F12*$B$19*N12/1000 -> 96.345224 | U12: =$B$21*1*2*PI()*F12*L12/1000 -> 208.94906 | V12: =O12-S12 -> -93.726802 | W12: =P12+R12+U12 -> 236.57506 | X12: =(W12^2+V12^2)^0.5 -> 254.46507 | Y12: =X12*3^0.5 -> 440.74643
B13: =RESUM!G20 -> 0 | E13: =X13/F13 -> 5.7329883 | F13: =$F$3+H13/120*$B$3 -> 44.969231 | G13: =H13/I13 -> 0.06815275 | H13: =H12+($H$18-$H$5)/13 -> 86.076923 | I13: =I12 -> 1263 | J13: =3*(1-G13)/G13*$B$17/1000*M13^2/1000 -> 221.03805 | K13: =J13/I13*1000*30/PI() -> 1671.2256 | L13: =L12+(L$18-L$5)/13 -> 41.444615 | M13: =U13/$B$17*1000*G13 -> 380.94006 | N13: =(L13^2+M13^2)^0.5 -> 383.18793 | O13: =$B$16*L13/1000 -> 1.9125858 | P13: =$B$16*M13/1000 -> 17.57962 | Q13: =N13*$B$16/1000 -> 17.683354 | R13: =2*PI()*F13*$B$19*L13/1000 -> 11.370949 | S13: =2*PI()*F13*$B$19*M13/1000 -> 104.51659 | T13: =2*PI()*F13*$B$19*N13/1000 -> 105.13333 | U13: =$B$21*1*2*PI()*F13*L13/1000 -> 207.56036 | V13: =O13-S13 -> -102.60401 | W13: =P13+R13+U13 -> 236.51093 | X13: =(W13^2+V13^2)^0.5 -> 257.80807 | Y13: =X13*3^0.5 -> 446.53668
B14: =RESUM!G21 -> MAC QT 160 P | E14: =X14/F14 -> 5.7799743 | F14: =$F$3+H14/120*$B$3 -> 45.215385 | G14: =H14/I14 -> 0.073999635 | H14: =H13+($H$18-$H$5)/13 -> 93.461538 | I14: =I13 -> 1263 | J14: =3*(1-G14)/G14*$B$17/1000*M14^2/1000 -> 235.25112 | K14: =J14/I14*1000*30/PI() -> 1778.6878 | L14: =L13+(L$18-L$5)/13 -> 40.937692 | M14: =U14/$B$17*1000*G14 -> 410.79851 | N14: =(L14^2+M14^2)^0.5 -> 412.83327 | O14: =$B$16*L14/1000 -> 1.8891924 | P14: =$B$16*M14/1000 -> 18.957527 | Q14: =N14*$B$16/1000 -> 19.051427 | R14: =2*PI()*F14*$B$19*L14/1000 -> 11.293348 | S14: =2*PI()*F14*$B$19*M14/1000 -> 113.32565 | T14: =2*PI()*F14*$B$19*N14/1000 -> 113.88697 | U14: =$B$21*1*2*PI()*F14*L14/1000 -> 206.14387 | V14: =O14-S14 -> -111.43646 | W14: =P14+R14+U14 -> 236.39475 | X14: =(W14^2+V14^2)^0.5 -> 261.34376 | Y14: =X14*3^0.5 -> 452.66067
B15: =RESUM!G22 -> F41 | E15: =X15/F15 -> 5.8303531 | F15: =$F$3+H15/120*$B$3 -> 45.461538 | G15: =H15/I15 -> 0.079846519 | H15: =H14+($H$18-$H$5)/13 -> 100.84615 | I15: =I14 -> 1263 | J15: =3*(1-G15)/G15*$B$17/1000*M15^2/1000 -> 248.71405 | K15: =J15/I15*1000*30/PI() -> 1880.4784 | L15: =L14+(L$18-L$5)/13 -> 40.430769 | M15: =U15/$B$17*1000*G15 -> 440.15112 | N15: =(L15^2+M15^2)^0.5 -> 442.00414 | O15: =$B$16*L15/1000 -> 1.8657989 | P15: =$B$16*M15/1000 -> 20.312091 | Q15: =N15*$B$16/1000 -> 20.397604 | R15: =2*PI()*F15*$B$19*L15/1000 -> 11.214225 | S15: =2*PI()*F15*$B$19*M15/1000 -> 122.08409 | T15: =2*PI()*F15*$B$19*N15/1000 -> 122.59806 | U15: =$B$21*1*2*PI()*F15*L15/1000 -> 204.69959 | V15: =O15-S15 -> -120.21829 | W15: =P15+R15+U15 -> 236.22591 | X15: =(W15^2+V15^2)^0.5 -> 265.05682 | Y15: =X15*3^0.5 -> 459.09188
A16: Rs (mOhm) | B16: =RESUM!G23 -> 46.147994 | E16: =X16/F16 -> 5.8837288 | F16: =$F$3+H16/120*$B$3 -> 45.707692 | G16: =H16/I16 -> 0.085693404 | H16: =H15+($H$18-$H$5)/13 -> 108.23077 | I16: =I15 -> 1263 | J16: =3*(1-G16)/G16*$B$17/1000*M16^2/1000 -> 261.42937 | K16: =J16/I16*1000*30/PI() -> 1976.6165 | L16: =L15+(L$18-L$5)/13 -> 39.923846 | M16: =U16/$B$17*1000*G16 -> 468.98479 | N16: =(L16^2+M16^2)^0.5 -> 470.68104 | O16: =$B$16*L16/1000 -> 1.8424054 | P16: =$B$16*M16/1000 -> 21.642707 | Q16: =N16*$B$16/1000 -> 21.720986 | R16: =2*PI()*F16*$B$19*L16/1000 -> 11.133579 | S16: =2*PI()*F16*$B$19*M16/1000 -> 130.78598 | T16: =2*PI()*F16*$B$19*N16/1000 -> 131.25902 | U16: =$B$21*1*2*PI()*F16*L16/1000 -> 203.22752 | V16: =O16-S16 -> -128.94357 | W16: =P16+R16+U16 -> 236.0038 | X16: =(W16^2+V16^2)^0.5 -> 268.93167 | Y16: =X16*3^0.5 -> 465.80331
A17: Rr (mOhm) | B17: =RESUM!G24 -> 37.13395 | E17: =X17/F17 -> 5.9397108 | F17: =$F$3+H17/120*$B$3 -> 45.953846 | G17: =H17/I17 -> 0.091540289 | H17: =H16+($H$18-$H$5)/13 -> 115.61538 | I17: =I16 -> 1263 | J17: =3*(1-G17)/G17*$B$17/1000*M17^2/1000 -> 273.40025 | K17: =J17/I17*1000*30/PI() -> 2067.126 | L17: =L16+(L$18-L$5)/13 -> 39.416923 | M17: =U17/$B$17*1000*G17 -> 497.28637 | N17: =(L17^2+M17^2)^0.5 -> 498.8461 | O17: =$B$16*L17/1000 -> 1.8190119 | P17: =$B$16*M17/1000 -> 22.948768 | Q17: =N17*$B$16/1000 -> 23.020746 | R17: =2*PI()*F17*$B$19*L17/1000 -> 11.051411 | S17: =2*PI()*F17*$B$19*M17/1000 -> 139.42529 | T17: =2*PI()*F17*$B$19*N17/1000 -> 139.8626 | U17: =$B$21*1*2*PI()*F17*L17/1000 -> 201.72765 | V17: =O17-S17 -> -137.60628 | W17: =P17+R17+U17 -> 235.72783 | X17: =(W17^2+V17^2)^0.5 -> 272.95256 | Y17: =X17*3^0.5 -> 472.76769
A18: Rfe (Ohm) | B18: =RESUM!G25 -> 215.16473 | E18: =X18/F18 -> 5.9979155 | F18: =$F$3+H18/120*$B$3 -> 46.2 | G18: =H18/I18 -> 0.097387173 | H18: 123 | I18: =I12 -> 1263 | J18: =3*(1-G18)/G18*$B$17/1000*M18^2/1000 -> 284.63052 | K18: =J18/I18*1000*30/PI() -> 2152.0358 | L18: 38.91 | M18: =U18/$B$17*1000*G18 -> 525.04274 | N18: =(L18^2+M18^2)^0.5 -> 526.48254 | O18: =$B$16*L18/1000 -> 1.7956184 | P18: =$B$16*M18/1000 -> 24.229669 | Q18: =N18*$B$16/1000 -> 24.296113 | R18: =2*PI()*F18*$B$19*L18/1000 -> 10.96772 | S18: =2*PI()*F18*$B$19*M18/1000 -> 147.99593 | T18: =2*PI()*F18*$B$19*N18/1000 -> 148.40177 | U18: =$B$21*1*2*PI()*F18*L18/1000 -> 200.19999 | V18: =O18-S18 -> -146.20031 | W18: =P18+R18+U18 -> 235.39738 | X18: =(W18^2+V18^2)^0.5 -> 277.10369 | Y18: =X18*3^0.5 -> 479.95768
A19: Ls (mH) | B19: =RESUM!G26+B20*B26/B8 -> 0.97103139 | C19: concentrada a l'estator | D19: maxim | E19: =X19/F19 -> 5.9549852 | F19: =$F$3+H19/120*$B$3 -> 46.533333 | G19: =H19/I19 -> 0.10530483 | H19: =H18+10 -> 133 | I19: =I18 -> 1263 | J19: =3*(1-G19)/G19*$B$17/1000*M19^2/1000 -> 286.54655 | K19: =J19/I19*1000*30/PI() -> 2166.5226 | L19: 37.44 | M19: =U19/$B$17*1000*G19 -> 550.22204 | N19: =(L19^2+M19^2)^0.5 -> 551.49438 | O19: =$B$16*L19/1000 -> 1.7277809 | P19: =$B$16*M19/1000 -> 25.391643 | Q19: =N19*$B$16/1000 -> 25.450359 | R19: =2*PI()*F19*$B$19*L19/1000 -> 10.629508 | S19: =2*PI()*F19*$B$19*M19/1000 -> 156.21232 | T19: =2*PI()*F19*$B$19*N19/1000 -> 156.57355 | U19: =$B$21*1*2*PI()*F19*L19/1000 -> 194.02641 | V19: =O19-S19 -> -154.48454 | W19: =P19+R19+U19 -> 230.04756 | X19: =(W19^2+V19^2)^0.5 -> 277.10531 | Y19: =X19*3^0.5 -> 479.96048
B20: =RESUM!G27 -> 0.47831092 | E20: =X20/F20 -> 5.9130394 | F20: =$F$3+H20/120*$B$3 -> 46.866667 | G20: =H20/I20 -> 0.11322249 | H20: =H19+10 -> 143 | I20: =I19 -> 1263 | J20: =3*(1-G20)/G20*$B$17/1000*M20^2/1000 -> 286.54546 | K20: =J20/I20*1000*30/PI() -> 2166.5143 | L20: 36.01 | M20: =U20/$B$17*1000*G20 -> 573.0725 | N20: =(L20^2+M20^2)^0.5 -> 574.20276 | O20: =$B$16*L20/1000 -> 1.6617892 | P20: =$B$16*M20/1000 -> 26.446146 | Q20: =N20*$B$16/1000 -> 26.498305 | R20: =2*PI()*F20*$B$19*L20/1000 -> 10.296754 | S20: =2*PI()*F20*$B$19*M20/1000 -> 163.86522 | T20: =2*PI()*F20*$B$19*N20/1000 -> 164.1884 | U20: =$B$21*1*2*PI()*F20*L20/1000 -> 187.95247 | V20: =O20-S20 -> -162.20343 | W20: =P20+R20+U20 -> 224.69537 | X20: =(W20^2+V20^2)^0.5 -> 277.12445 | Y20: =X20*3^0.5 -> 479.99362
A21: Lm (mH) | B21: =RESUM!G28 -> 17.724785 | E21: =X21/F21 -> 2.4082193 | F21: =$F$3+H21/120*$B$3 -> 47.2 | G21: =H21/I21 -> 0.12114014 | H21: =H20+10 -> 153 | I21: =I20 -> 1263 | J21: =3*(1-G21)/G21*$B$17/1000*M21^2/1000 -> 47.922579 | K21: =J21/I21*1000*30/PI() -> 362.33327 | L21: 14.2 | M21: =U21/$B$17*1000*G21 -> 243.50513 | N21: =(L21^2+M21^2)^0.5 -> 243.91882 | O21: =$B$16*L21/1000 -> 0.65530151 | P21: =$B$16*M21/1000 -> 11.237273 | Q21: =N21*$B$16/1000 -> 11.256364 | R21: =2*PI()*F21*$B$19*L21/1000 -> 4.0892483 | S21: =2*PI()*F21*$B$19*M21/1000 -> 70.123447 | T21: =2*PI()*F21*$B$19*N21/1000 -> 70.242578 | U21: =$B$21*1*2*PI()*F21*L21/1000 -> 74.643361 | V21: =O21-S21 -> -69.468145 | W21: =P21+R21+U21 -> 89.969883 | X21: =(W21^2+V21^2)^0.5 -> 113.66795 | Y21: =X21*3^0.5 -> 196.87867
A22: Ts (s) | B22: =RESUM!G29 -> 0.39540897 | E22: =X22/F22 -> 2.4353779 | F22: =$F$3+H22/120*$B$3 -> 47.533333 | G22: =H22/I22 -> 0.1290578 | H22: =H21+10 -> 163 | I22: =I21 -> 1263 | J22: =3*(1-G22)/G22*$B$17/1000*M22^2/1000 -> 49.166752 | K22: =J22/I22*1000*30/PI() -> 371.74022 | L22: 13.9 | M22: =U22/$B$17*1000*G22 -> 255.73314 | N22: =(L22^2+M22^2)^0.5 -> 256.11062 | O22: =$B$16*L22/1000 -> 0.64145711 | P22: =$B$16*M22/1000 -> 11.801571 | Q22: =N22*$B$16/1000 -> 11.818991 | R22: =2*PI()*F22*$B$19*L22/1000 -> 4.0311245 | S22: =2*PI()*F22*$B$19*M22/1000 -> 74.164902 | T22: =2*PI()*F22*$B$19*N22/1000 -> 74.274374 | U22: =$B$21*1*2*PI()*F22*L22/1000 -> 73.582394 | V22: =O22-S22 -> -73.523445 | W22: =P22+R22+U22 -> 89.41509 | X22: =(W22^2+V22^2)^0.5 -> 115.76163 | Y22: =X22*3^0.5 -> 200.50503
A23: Tr (s) | B23: =RESUM!G30 -> 0.4902009 | E23: =X23/F23 -> 2.4621305 | F23: =$F$3+H23/120*$B$3 -> 47.866667 | G23: =H23/I23 -> 0.13697546 | H23: =H22+10 -> 173 | I23: =I22 -> 1263 | J23: =3*(1-G23)/G23*$B$17/1000*M23^2/1000 -> 50.197476 | K23: =J23/I23*1000*30/PI() -> 379.53332 | L23: 13.6 | M23: =U23/$B$17*1000*G23 -> 267.42656 | N23: =(L23^2+M23^2)^0.5 -> 267.77215 | O23: =$B$16*L23/1000 -> 0.62761271 | P23: =$B$16*M23/1000 -> 12.341199 | Q23: =N23*$B$16/1000 -> 12.357148 | R23: =2*PI()*F23*$B$19*L23/1000 -> 3.9717804 | S23: =2*PI()*F23*$B$19*M23/1000 -> 78.099969 | T23: =2*PI()*F23*$B$19*N23/1000 -> 78.200897 | U23: =$B$21*1*2*PI()*F23*L23/1000 -> 72.499154 | V23: =O23-S23 -> -77.472357 | W23: =P23+R23+U23 -> 88.812133 | X23: =(W23^2+V23^2)^0.5 -> 117.85398 | Y23: =X23*3^0.5 -> 204.12908
A24: Kt | B24: =RESUM!G31 -> 61.528312 | O24: =$B$16*L24/1000 -> 0 | Z24: coef.
A25: Im (A/fase) | B25: =RESUM!G32 -> 45.5 | E25: Limit 480V | Z25: 0.81
A26: Ir (A) | B26: =(B8^2-B25^2)^0.5 -> 122.73777 | E26: V/f | F26: f | G26: s pu | H26: s rpm | I26: rpm | J26: Kweix | K26: Meix | L26: Im | M26: Ir | N26: is | O26: Rs Im | P26: Rs Ir | Q26: Rs Is | R26: w Ls Im | S26: w Ls Ir | T26: w Ls Is | U26: E | V26: Vs (m) | W26: Vs (r) | X26: Vs | Y26: Vs (f-f) | Z26: KW eix
A27: s rpm | B27: =B9*120/B3-B5 -> 27 | E27: =X27/F27 -> 5.9979155 | F27: =F18 -> 46.2 | G27: =H27/I27 -> 0.097387173 | H27: =H18 -> 123 | I27: =F27*120/$B$3-H27 -> 1263 | J27: =3*(1-G27)/G27*$B$17/1000*M27^2/1000 -> 284.63052 | K27: =J27/I27*1000*30/PI() -> 2152.0358 | L27: =L18 -> 38.91 | M27: =U27/$B$17*1000*G27 -> 525.04274 | N27: =(L27^2+M27^2)^0.5 -> 526.48254 | O27: =$B$16*L27/1000 -> 1.7956184 | P27: =$B$16*M27/1000 -> 24.229669 | Q27: =N27*$B$16/1000 -> 24.296113 | R27: =2*PI()*F27*$B$19*L27/1000 -> 10.96772 | S27: =2*PI()*F27*$B$19*M27/1000 -> 147.99593 | T27: =2*PI()*F27*$B$19*N27/1000 -> 148.40177 | U27: =$B$21*2*PI()*F27*L27/1000 -> 200.19999 | V27: =O27-S27 -> -146.20031 | W27: =P27+R27+U27 -> 235.39738 | X27: =(W27^2+V27^2)^0.5 -> 277.10369 | Y27: =X27*3^0.5 -> 479.95768 | Z27: =J27 -> 284.63052
A28: s Hz | B28: =B27/120*B3 -> 0.9 | E28: =X28/F28 -> 5.13117 | F28: =F27+($F$49-$F$27)/22 -> 53.463636 | G28: =H28/I28 -> 0.08405863 | H28: =H27+($H$49-$H$27)/22 -> 124.36818 | I28: =F28*120/$B$3-H28 -> 1479.5409 | J28: =3*(1-G28)/G28*$B$17/1000*M28^2/1000 -> 249.30339 | K28: =J28/I28*1000*30/PI() -> 1609.0613 | L28: =L27*F27/F28 -> 33.623639 | M28: =U28/$B$17*1000*G28 -> 453.18467 | N28: =(L28^2+M28^2)^0.5 -> 454.43029 | O28: =$B$16*L28/1000 -> 1.5516635 | P28: =$B$16*M28/1000 -> 20.913563 | Q28: =N28*$B$16/1000 -> 20.971046 | R28: =2*PI()*F28*$B$19*L28/1000 -> 10.96772 | S28: =2*PI()*F28*$B$19*M28/1000 -> 147.82464 | T28: =2*PI()*F28*$B$19*N28/1000 -> 148.23096 | U28: =$B$21*2*PI()*F28*L28/1000 -> 200.19999 | V28: =O28-S28 -> -146.27298 | W28: =P28+R28+U28 -> 232.08127 | X28: =(W28^2+V28^2)^0.5 -> 274.33101 | Y28: =X28*3^0.5 -> 475.15524 | Z28: =Z27*(I27/I28)^Z$25 -> 250.38905
E29: =X29/F29 -> 4.4870068 | F29: =F28+($F$49-$F$27)/22 -> 60.727273 | G29: =H29/I29 -> 0.074133431 | H29: =H28+($H$49-$H$27)/22 -> 125.73636 | I29: =F29*120/$B$3-H29 -> 1696.0818 | J29: =3*(1-G29)/G29*$B$17/1000*M29^2/1000 -> 222.24946 | K29: =J29/I29*1000*30/PI() -> 1251.3111 | L29: =L28*F28/F29 -> 29.601889 | M29: =U29/$B$17*1000*G29 -> 399.67501 | N29: =(L29^2+M29^2)^0.5 -> 400.76974 | O29: =$B$16*L29/1000 -> 1.3660678 | P29: =$B$16*M29/1000 -> 18.4442 | Q29: =N29*$B$16/1000 -> 18.49472 | R29: =2*PI()*F29*$B$19*L29/1000 -> 10.96772 | S29: =2*PI()*F29*$B$19*M29/1000 -> 148.08256 | T29: =2*PI()*F29*$B$19*N29/1000 -> 148.48817 | U29: =$B$21*2*PI()*F29*L29/1000 -> 200.19999 | V29: =O29-S29 -> -146.71649 | W29: =P29+R29+U29 -> 229.61191 | X29: =(W29^2+V29^2)^0.5 -> 272.48368 | Y29: =X29*3^0.5 -> 471.95558 | Z29: =Z28*(I28/I29)^Z$25 -> 224.16421
E30: =X30/F30 -> 3.9894869 | F30: =F29+($F$49-$F$27)/22 -> 67.990909 | G30: =H30/I30 -> 0.066455629 | H30: =H29+($H$49-$H$27)/22 -> 127.10455 | I30: =F30*120/$B$3-H30 -> 1912.6227 | J30: =3*(1-G30)/G30*$B$17/1000*M30^2/1000 -> 200.88381 | K30: =J30/I30*1000*30/PI() -> 1002.9678 | L30: =L29*F29/F30 -> 26.439446 | M30: =U30/$B$17*1000*G30 -> 358.28173 | N30: =(L30^2+M30^2)^0.5 -> 359.25596 | O30: =$B$16*L30/1000 -> 1.2201274 | P30: =$B$16*M30/1000 -> 16.533983 | Q30: =N30*$B$16/1000 -> 16.578942 | R30: =2*PI()*F30*$B$19*L30/1000 -> 10.96772 | S30: =2*PI()*F30*$B$19*M30/1000 -> 148.6239 | T30: =2*PI()*F30*$B$19*N30/1000 -> 149.02803 | U30: =$B$21*2*PI()*F30*L30/1000 -> 200.19999 | V30: =O30-S30 -> -147.40377 | W30: =P30+R30+U30 -> 227.70169 | X30: =(W30^2+V30^2)^0.5 -> 271.24884 | Y30: =X30*3^0.5 -> 469.81677 | Z30: =Z29*(I29/I30)^Z$25 -> 203.37541
E31: =X31/F31 -> 3.5936844 | F31: =F30+($F$49-$F$27)/22 -> 75.254545 | G31: =H31/I31 -> 0.060339527 | H31: =H30+($H$49-$H$27)/22 -> 128.47273 | I31: =F31*120/$B$3-H31 -> 2129.1636 | J31: =3*(1-G31)/G31*$B$17/1000*M31^2/1000 -> 183.59086 | K31: =J31/I31*1000*30/PI() -> 823.40482 | L31: =L30*F30/F31 -> 23.887487 | M31: =U31/$B$17*1000*G31 -> 325.30804 | N31: =(L31^2+M31^2)^0.5 -> 326.1839 | O31: =$B$16*L31/1000 -> 1.1023596 | P31: =$B$16*M31/1000 -> 15.012314 | Q31: =N31*$B$16/1000 -> 15.052732 | R31: =2*PI()*F31*$B$19*L31/1000 -> 10.96772 | S31: =2*PI()*F31*$B$19*M31/1000 -> 149.36219 | T31: =2*PI()*F31*$B$19*N31/1000 -> 149.76433 | U31: =$B$21*2*PI()*F31*L31/1000 -> 200.19999 | V31: =O31-S31 -> -148.25983 | W31: =P31+R31+U31 -> 226.18002 | X31: =(W31^2+V31^2)^0.5 -> 270.44109 | Y31: =X31*3^0.5 -> 468.4177 | Z31: =Z30*(I30/I31)^Z$25 -> 186.45278
E32: =X32/F32 -> 3.2713225 | F32: =F31+($F$49-$F$27)/22 -> 82.518182 | G32: =H32/I32 -> 0.055352627 | H32: =H31+($H$49-$H$27)/22 -> 129.84091 | I32: =F32*120/$B$3-H32 -> 2345.7045 | J32: =3*(1-G32)/G32*$B$17/1000*M32^2/1000 -> 169.31139 | K32: =J32/I32*1000*30/PI() -> 689.26184 | L32: =L31*F31/F32 -> 21.784799 | M32: =U32/$B$17*1000*G32 -> 298.42221 | N32: =(L32^2+M32^2)^0.5 -> 299.21629 | O32: =$B$16*L32/1000 -> 1.0053248 | P32: =$B$16*M32/1000 -> 13.771586 | Q32: =N32*$B$16/1000 -> 13.808232 | R32: =2*PI()*F32*$B$19*L32/1000 -> 10.96772 | S32: =2*PI()*F32*$B$19*M32/1000 -> 150.24289 | T32: =2*PI()*F32*$B$19*N32/1000 -> 150.64268 | U32: =$B$21*2*PI()*F32*L32/1000 -> 200.19999 | V32: =O32-S32 -> -149.23756 | W32: =P32+R32+U32 -> 224.9393 | X32: =(W32^2+V32^2)^0.5 -> 269.94358 | Y32: =X32*3^0.5 -> 467.556 | Z32: =Z31*(I31/I32)^Z$25 -> 172.38394
E33: =X33/F33 -> 3.0037154 | F33: =F32+($F$49-$F$27)/22 -> 89.781818 | G33: =H33/I33 -> 0.051208634 | H33: =H32+($H$49-$H$27)/22 -> 131.20909 | I33: =F33*120/$B$3-H33 -> 2562.2455 | J33: =3*(1-G33)/G33*$B$17/1000*M33^2/1000 -> 157.32297 | K33: =J33/I33*1000*30/PI() -> 586.33089 | L33: =L32*F32/F33 -> 20.022339 | M33: =U33/$B$17*1000*G33 -> 276.08073 | N33: =(L33^2+M33^2)^0.5 -> 276.80582 | O33: =$B$16*L33/1000 -> 0.92399077 | P33: =$B$16*M33/1000 -> 12.740572 | Q33: =N33*$B$16/1000 -> 12.774033 | R33: =2*PI()*F33*$B$19*L33/1000 -> 10.96772 | S33: =2*PI()*F33*$B$19*M33/1000 -> 151.22989 | T33: =2*PI()*F33*$B$19*N33/1000 -> 151.62707 | U33: =$B$21*2*PI()*F33*L33/1000 -> 200.19999 | V33: =O33-S33 -> -150.3059 | W33: =P33+R33+U33 -> 223.90828 | X33: =(W33^2+V33^2)^0.5 -> 269.67903 | Y33: =X33*3^0.5 -> 467.09779 | Z33: =Z32*(I32/I33)^Z$25 -> 160.48535
E34: =X34/F34 -> 2.7780204 | F34: =F33+($F$49-$F$27)/22 -> 97.045455 | G34: =H34/I34 -> 0.047710495 | H34: =H33+($H$49-$H$27)/22 -> 132.57727 | I34: =F34*120/$B$3-H34 -> 2778.7864 | J34: =3*(1-G34)/G34*$B$17/1000*M34^2/1000 -> 147.11641 | K34: =J34/I34*1000*30/PI() -> 505.5654 | L34: =L33*F33/F34 -> 18.523711 | M34: =U34/$B$17*1000*G34 -> 257.22124 | N34: =(L34^2+M34^2)^0.5 -> 257.88736 | O34: =$B$16*L34/1000 -> 0.85483212 | P34: =$B$16*M34/1000 -> 11.870244 | Q34: =N34*$B$16/1000 -> 11.900984 | R34: =2*PI()*F34*$B$19*L34/1000 -> 10.96772 | S34: =2*PI()*F34*$B$19*M34/1000 -> 152.29834 | T34: =2*PI()*F34*$B$19*N34/1000 -> 152.69274 | U34: =$B$21*2*PI()*F34*L34/1000 -> 200.19999 | V34: =O34-S34 -> -151.4435 | W34: =P34+R34+U34 -> 223.03795 | X34: =(W34^2+V34^2)^0.5 -> 269.59426 | Y34: =X34*3^0.5 -> 466.95095 | Z34: =Z33*(I33/I34)^Z$25 -> 150.27803
E35: =X35/F35 -> 2.5851194 | F35: =F34+($F$49-$F$27)/22 -> 104.30909 | G35: =H35/I35 -> 0.044718137 | H35: =H34+($H$49-$H$27)/22 -> 133.94545 | I35: =F35*120/$B$3-H35 -> 2995.3273 | J35: =3*(1-G35)/G35*$B$17/1000*M35^2/1000 -> 138.32269 | K35: =J35/I35*1000*30/PI() -> 440.98167 | L35: =L34*F34/F35 -> 17.2338 | M35: =U35/$B$17*1000*G35 -> 241.08856 | N35: =(L35^2+M35^2)^0.5 -> 241.70374 | O35: =$B$16*L35/1000 -> 0.79530529 | P35: =$B$16*M35/1000 -> 11.125753 | Q35: =N35*$B$16/1000 -> 11.154142 | R35: =2*PI()*F35*$B$19*L35/1000 -> 10.96772 | S35: =2*PI()*F35*$B$19*M35/1000 -> 153.43057 | T35: =2*PI()*F35*$B$19*N35/1000 -> 153.82207 | U35: =$B$21*2*PI()*F35*L35/1000 -> 200.19999 | V35: =O35-S35 -> -152.63526 | W35: =P35+R35+U35 -> 222.29346 | X35: =(W35^2+V35^2)^0.5 -> 269.65146 | Y35: =X35*3^0.5 -> 467.05002 | Z35: =Z34*(I34/I35)^Z$25 -> 141.41592
E36: =X36/F36 -> 2.41836 | F36: =F35+($F$49-$F$27)/22 -> 111.57273 | G36: =H36/I36 -> 0.042129262 | H36: =H35+($H$49-$H$27)/22 -> 135.31364 | I36: =F36*120/$B$3-H36 -> 3211.8682 | J36: =3*(1-G36)/G36*$B$17/1000*M36^2/1000 -> 130.66792 | K36: =J36/I36*1000*30/PI() -> 388.49249 | L36: =L35*F35/F36 -> 16.111841 | M36: =U36/$B$17*1000*G36 -> 227.13118 | N36: =(L36^2+M36^2)^0.5 -> 227.70192 | O36: =$B$16*L36/1000 -> 0.74352912 | P36: =$B$16*M36/1000 -> 10.481648 | Q36: =N36*$B$16/1000 -> 10.507987 | R36: =2*PI()*F36*$B$19*L36/1000 -> 10.96772 | S36: =2*PI()*F36*$B$19*M36/1000 -> 154.61369 | T36: =2*PI()*F36*$B$19*N36/1000 -> 155.0022 | U36: =$B$21*2*PI()*F36*L36/1000 -> 200.19999 | V36: =O36-S36 -> -153.87016 | W36: =P36+R36+U36 -> 221.64936 | X36: =(W36^2+V36^2)^0.5 -> 269.82302 | Y36: =X36*3^0.5 -> 467.34718 | Z36: =Z35*(I35/I36)^Z$25 -> 133.64245
E37: =X37/F37 -> 2.272775 | F37: =F36+($F$49-$F$27)/22 -> 118.83636 | G37: =H37/I37 -> 0.039867418 | H37: =H36+($H$49-$H$27)/22 -> 136.68182 | I37: =F37*120/$B$3-H37 -> 3428.4091 | J37: =3*(1-G37)/G37*$B$17/1000*M37^2/1000 -> 123.94457 | K37: =J37/I37*1000*30/PI() -> 345.2282 | L37: =L36*F36/F37 -> 15.127036 | M37: =U37/$B$17*1000*G37 -> 214.93691 | N37: =(L37^2+M37^2)^0.5 -> 215.46857 | O37: =$B$16*L37/1000 -> 0.69808238 | P37: =$B$16*M37/1000 -> 9.9189073 | Q37: =N37*$B$16/1000 -> 9.9434421 | R37: =2*PI()*F37*$B$19*L37/1000 -> 10.96772 | S37: =2*PI()*F37*$B$19*M37/1000 -> 155.83805 | T37: =2*PI()*F37*$B$19*N37/1000 -> 156.22352 | U37: =$B$21*2*PI()*F37*L37/1000 -> 200.19999 | V37: =O37-S37 -> -155.13997 | W37: =P37+R37+U37 -> 221.08662 | X37: =(W37^2+V37^2)^0.5 -> 270.08832 | Y37: =X37*3^0.5 -> 467.80669 | Z37: =Z36*(I36/I37)^Z$25 -> 126.76319
E38: =X38/F38 -> 2.1445806 | F38: =F37+($F$49-$F$27)/22 -> 126.1 | G38: =H38/I38 -> 0.037874319 | H38: =H37+($H$49-$H$27)/22 -> 138.05 | I38: =F38*120/$B$3-H38 -> 3644.95 | J38: =3*(1-G38)/G38*$B$17/1000*M38^2/1000 -> 117.99262 | K38: =J38/I38*1000*30/PI() -> 309.12537 | L38: =L37*F37/F38 -> 14.255686 | M38: =U38/$B$17*1000*G38 -> 204.19154 | N38: =(L38^2+M38^2)^0.5 -> 204.68856 | O38: =$B$16*L38/1000 -> 0.6578713 | P38: =$B$16*M38/1000 -> 9.4230297 | Q38: =N38*$B$16/1000 -> 9.4459665 | R38: =2*PI()*F38*$B$19*L38/1000 -> 10.96772 | S38: =2*PI()*F38*$B$19*M38/1000 -> 157.0963 | T38: =2*PI()*F38*$B$19*N38/1000 -> 157.47869 | U38: =$B$21*2*PI()*F38*L38/1000 -> 200.19999 | V38: =O38-S38 -> -156.43843 | W38: =P38+R38+U38 -> 220.59074 | X38: =(W38^2+V38^2)^0.5 -> 270.43161 | Y38: =X38*3^0.5 -> 468.40129 | Z38: =Z37*(I37/I38)^Z$25 -> 120.62797
E39: =X39/F39 -> 2.0308435 | F39: =F38+($F$49-$F$27)/22 -> 133.36364 | G39: =H39/I39 -> 0.036104755 | H39: =H38+($H$49-$H$27)/22 -> 139.41818 | I39: =F39*120/$B$3-H39 -> 3861.4909 | J39: =3*(1-G39)/G39*$B$17/1000*M39^2/1000 -> 112.68664 | K39: =J39/I39*1000*30/PI() -> 278.66909 | L39: =L38*F38/F39 -> 13.479252 | M39: =U39/$B$17*1000*G39 -> 194.65129 | N39: =(L39^2+M39^2)^0.5 -> 195.11744 | O39: =$B$16*L39/1000 -> 0.62204041 | P39: =$B$16*M39/1000 -> 8.9827667 | Q39: =N39*$B$16/1000 -> 9.0042785 | R39: =2*PI()*F39*$B$19*L39/1000 -> 10.96772 | S39: =2*PI()*F39*$B$19*M39/1000 -> 158.38274 | T39: =2*PI()*F39*$B$19*N39/1000 -> 158.76204 | U39: =$B$21*2*PI()*F39*L39/1000 -> 200.19999 | V39: =O39-S39 -> -157.7607 | W39: =P39+R39+U39 -> 220.15048 | X39: =(W39^2+V39^2)^0.5 -> 270.84068 | Y39: =X39*3^0.5 -> 469.10981 | Z39: =Z38*(I38/I39)^Z$25 -> 115.1189
E40: =X40/F40 -> 1.9292551 | F40: =F39+($F$49-$F$27)/22 -> 140.62727 | G40: =H40/I40 -> 0.034523116 | H40: =H39+($H$49-$H$27)/22 -> 140.78636 | I40: =F40*120/$B$3-H40 -> 4078.0318 | J40: =3*(1-G40)/G40*$B$17/1000*M40^2/1000 -> 107.92699 | K40: =J40/I40*1000*30/PI() -> 252.72653 | L40: =L39*F39/F40 -> 12.783025 | M40: =U40/$B$17*1000*G40 -> 186.12422 | N40: =(L40^2+M40^2)^0.5 -> 186.56267 | O40: =$B$16*L40/1000 -> 0.58991097 | P40: =$B$16*M40/1000 -> 8.5892591 | Q40: =N40*$B$16/1000 -> 8.6094928 | R40: =2*PI()*F40*$B$19*L40/1000 -> 10.96772 | S40: =2*PI()*F40*$B$19*M40/1000 -> 159.69289 | T40: =2*PI()*F40*$B$19*N40/1000 -> 160.06908 | U40: =$B$21*2*PI()*F40*L40/1000 -> 200.19999 | V40: =O40-S40 -> -159.10298 | W40: =P40+R40+U40 -> 219.75697 | X40: =(W40^2+V40^2)^0.5 -> 271.30588 | Y40: =X40*3^0.5 -> 469.91557 | Z40: =Z39*(I39/I40)^Z$25 -> 110.14206
... E48: =X48/F48 -> 1.3906081 | F48: =F47+($F$49-$F$27)/22 -> 198.73636 | G48: =H48/I48 -> 0.026114017 | H48: =H47+($H$49-$H$27)/22 -> 151.73182 | I48: =F48*120/$B$3-H48 -> 5810.3591 | J48: =3*(1-G48)/G48*$B$17/1000*M48^2/1000 -> 82.349318 | K48: =J48/I48*1000*30/PI() -> 135.3407 | L48: =L47*F47/F48 -> 9.0453602 | M48: =U48/$B$17*1000*G48 -> 140.78831 | N48: =(L48^2+M48^2)^0.5 -> 141.07858 | O48: =$B$16*L48/1000 -> 0.41742523 | P48: =$B$16*M48/1000 -> 6.4970979 | Q48: =N48*$B$16/1000 -> 6.5104934 | R48: =2*PI()*F48*$B$19*L48/1000 -> 10.96772 | S48: =2*PI()*F48*$B$19*M48/1000 -> 170.70925 | T48: =2*PI()*F48*$B$19*N48/1000 -> 171.06122 | U48: =$B$21*2*PI()*F48*L48/1000 -> 200.19999 | V48: =O48-S48 -> -170.29183 | W48: =P48+R48+U48 -> 217.66481 | X48: =(W48^2+V48^2)^0.5 -> 276.36439 | Y48: =X48*3^0.5 -> 478.67716 | Z48: =Z47*(I47/I48)^Z$25 -> 82.682533
D49: limit PC | E49: =X49/F49 -> 1.3452029 | F49: 206 | G49: =H49/I49 -> 0.025402778 | H49: 153.1 | I49: =F49*120/$B$3-H49 -> 6026.9 | J49: =3*(1-G49)/G49*$B$17/1000*M49^2/1000 -> 80.16496 | K49: =J49/I49*1000*30/PI() -> 127.01704 | L49: =L48*F48/F49 -> 8.7264175 | M49: =U49/$B$17*1000*G49 -> 136.95381 | N49: =(L49^2+M49^2)^0.5 -> 137.23154 | O49: =$B$16*L49/1000 -> 0.40270666 | P49: =$B$16*M49/1000 -> 6.3201433 | Q49: =N49*$B$16/1000 -> 6.3329602 | R49: =2*PI()*F49*$B$19*L49/1000 -> 10.96772 | S49: =2*PI()*F49*$B$19*M49/1000 -> 172.12917 | T49: =2*PI()*F49*$B$19*N49/1000 -> 172.47823 | U49: =$B$21*2*PI()*F49*L49/1000 -> 200.19999 | V49: =O49-S49 -> -171.72646 | W49: =P49+R49+U49 -> 217.48785 | X49: =(W49^2+V49^2)^0.5 -> 277.11179 | Y49: =X49*3^0.5 -> 479.9717 | Z49: =Z48*(I48/I49)^Z$25 -> 80.267928
E50: =X50/F50 -> 1.2794863 | F50: =F49*1.05 -> 216.3 | G50: =H50/I50 -> 0.024163891 | H50: =H49 -> 153.1 | I50: =F50*120/$B$3-H50 -> 6335.9 | J50: =3*(1-G50)/G50*$B$17/1000*M50^2/1000 -> 76.352272 | K50: =J50/I50*1000*30/PI() -> 115.07607 | L50: =L49*F49/F50 -> 8.3108738 | M50: =U50/$B$17*1000*G50 -> 130.27461 | N50: =(L50^2+M50^2)^0.5 -> 130.53944 | O50: =$B$16*L50/1000 -> 0.38353015 | P50: =$B$16*M50/1000 -> 6.0119118 | Q50: =N50*$B$16/1000 -> 6.024133 | R50: =2*PI()*F50*$B$19*L50/1000 -> 10.96772 | S50: =2*PI()*F50*$B$19*M50/1000 -> 171.9212 | T50: =2*PI()*F50*$B$19*N50/1000 -> 172.27069 | U50: =$B$21*2*PI()*F50*L50/1000 -> 200.19999 | V50: =O50-S50 -> -171.53767 | W50: =P50+R50+U50 -> 217.17962 | X50: =(W50^2+V50^2)^0.5 -> 276.75289 | Y50: =X50*3^0.5 -> 479.35006 | Z50: =Z49*(I49/I50)^Z$25 -> 77.082084
E51: =X51/F51 -> 1.2170571 | F51: =F50*1.05 -> 227.115 | G51: =H51/I51 -> 0.02298678 | H51: =H50 -> 153.1 | I51: =F51*120/$B$3-H51 -> 6660.35 | J51: =3*(1-G51)/G51*$B$17/1000*M51^2/1000 -> 72.720488 | K51: =J51/I51*1000*30/PI() -> 104.26322 | L51: =L50*F50/F51 -> 7.9151179 | M51: =U51/$B$17*1000*G51 -> 123.92846 | N51: =(L51^2+M51^2)^0.5 -> 124.18096 | O51: =$B$16*L51/1000 -> 0.36526681 | P51: =$B$16*M51/1000 -> 5.7190496 | Q51: =N51*$B$16/1000 -> 5.7307022 | R51: =2*PI()*F51*$B$19*L51/1000 -> 10.96772 | S51: =2*PI()*F51*$B$19*M51/1000 -> 171.7236 | T51: =2*PI()*F51*$B$19*N51/1000 -> 172.07349 | U51: =$B$21*2*PI()*F51*L51/1000 -> 200.19999 | V51: =O51-S51 -> -171.35834 | W51: =P51+R51+U51 -> 216.88676 | X51: =(W51^2+V51^2)^0.5 -> 276.41191 | Y51: =X51*3^0.5 -> 478.75948 | Z51: =Z50*(I50/I51)^Z$25 -> 74.026219
E52: =X52/F52 -> 1.1577434 | F52: =F51*1.05 -> 238.47075 | G52: =H52/I52 -> 0.021868234 | H52: =H51 -> 153.1 | I52: =F52*120/$B$3-H52 -> 7001.0225 | J52: =3*(1-G52)/G52*$B$17/1000*M52^2/1000 -> 69.261084 | K52: =J52/I52*1000*30/PI() -> 94.471148 | L52: =L51*F51/F52 -> 7.5382075 | M52: =U52/$B$17*1000*G52 -> 117.89805 | N52: =(L52^2+M52^2)^0.5 -> 118.13879 | O52: =$B$16*L52/1000 -> 0.34787315 | P52: =$B$16*M52/1000 -> 5.4407584 | Q52: =N52*$B$16/1000 -> 5.4518683 | R52: =2*PI()*F52*$B$19*L52/1000 -> 10.96772 | S52: =2*PI()*F52*$B$19*M52/1000 -> 171.53584 | T52: =2*PI()*F52*$B$19*N52/1000 -> 171.88611 | U52: =$B$21*2*PI()*F52*L52/1000 -> 200.19999 | V52: =O52-S52 -> -171.18797 | W52: =P52+R52+U52 -> 216.60847 | X52: =(W52^2+V52^2)^0.5 -> 276.08794 | Y52: =X52*3^0.5 -> 478.19833 | Z52: =Z51*(I51/I52)^Z$25 -> 71.094726
E53: =X53/F53 -> 1.1013832 | F53: =F52*1.05 -> 250.39429 | G53: =H53/I53 -> 0.020805224 | H53: =H52 -> 153.1 | I53: =F53*120/$B$3-H53 -> 7358.7286 | J53: =3*(1-G53)/G53*$B$17/1000*M53^2/1000 -> 65.965931 | K53: =J53/I53*1000*30/PI() -> 85.602863 | L53: =L52*F52/F53 -> 7.1792453 | M53: =U53/$B$17*1000*G53 -> 112.16705 | N53: =(L53^2+M53^2)^0.5 -> 112.39657 | O53: =$B$16*L53/1000 -> 0.33130776 | P53: =$B$16*M53/1000 -> 5.1762843 | Q53: =N53*$B$16/1000 -> 5.1868762 | R53: =2*PI()*F53*$B$19*L53/1000 -> 10.96772 | S53: =2*PI()*F53*$B$19*M53/1000 -> 171.3574 | T53: =2*PI()*F53*$B$19*N53/1000 -> 171.70803 | U53: =$B$21*2*PI()*F53*L53/1000 -> 200.19999 | V53: =O53-S53 -> -171.02609 | W53: =P53+R53+U53 -> 216.34399 | X53: =(W53^2+V53^2)^0.5 -> 275.78007 | Y53: =X53*3^0.5 -> 477.66509 | Z53: =Z52*(I52/I53)^Z$25 -> 68.282266
E54: =X54/F54 -> 1.6176594 | F54: =F53*1.05 -> 262.914 | G54: =H54/I54 -> 0.042011145 | H54: 318 | I54: =F54*120/$B$3-H54 -> 7569.4201 | J54: =3*(1-G54)/G54*$B$17/1000*M54^2/1000 -> 130.31763 | K54: =J54/I54*1000*30/PI() -> 164.40384 | L54: =L53*F53/F54 -> 6.8373764 | M54: =U54/$B$17*1000*G54 -> 226.49437 | N54: =(L54^2+M54^2)^0.5 -> 226.59755 | O54: =$B$16*L54/1000 -> 0.3155312 | P54: =$B$16*M54/1000 -> 10.452261 | Q54: =N54*$B$16/1000 -> 10.457022 | R54: =2*PI()*F54*$B$19*L54/1000 -> 10.96772 | S54: =2*PI()*F54*$B$19*M54/1000 -> 363.31579 | T54: =2*PI()*F54*$B$19*N54/1000 -> 363.48129 | U54: =$B$21*2*PI()*F54*L54/1000 -> 200.19999 | V54: =O54-S54 -> -363.00025 | W54: =P54+R54+U54 -> 221.61997 | X54: =(W54^2+V54^2)^0.5 -> 425.3053 | Y54: =X54*3^0.5 -> 736.65038 | Z54: =Z53*(I53/I54)^Z$25 -> 66.738658
E55: =X55/F55 -> 1.5374548 | F55: =F54*1.05 -> 276.0597 | G55: =H55/I55 -> 0.039930731 | H55: =H54 -> 318 | I55: =F55*120/$B$3-H55 -> 7963.7911 | J55: =3*(1-G55)/G55*$B$17/1000*M55^2/1000 -> 124.13322 | K55: =J55/I55*1000*30/PI() -> 148.84682 | L55: =L54*F54/F55 -> 6.5117871 | M55: =U55/$B$17*1000*G55 -> 215.27825 | N55: =(L55^2+M55^2)^0.5 -> 215.37672 | O55: =$B$16*L55/1000 -> 0.30050591 | P55: =$B$16*M55/1000 -> 9.9346595 | Q55: =N55*$B$16/1000 -> 9.9392033 | R55: =2*PI()*F55*$B$19*L55/1000 -> 10.96772 | S55: =2*PI()*F55*$B$19*M55/1000 -> 362.59041 | T55: =2*PI()*F55*$B$19*N55/1000 -> 362.75625 | U55: =$B$21*2*PI()*F55*L55/1000 -> 200.19999 | V55: =O55-S55 -> -362.28991 | W55: =P55+R55+U55 -> 221.10237 | X55: =(W55^2+V55^2)^0.5 -> 424.4293 | Y55: =X55*3^0.5 -> 735.13312 | Z55: =Z54*(I54/I55)^Z$25 -> 64.048814
E56: =X56/F56 -> 1.4613758 | F56: =F55*1.05 -> 289.86269 | G56: =H56/I56 -> 0.037957094 | H56: =H55 -> 318 | I56: =F56*120/$B$3-H56 -> 8377.8806 | J56: =3*(1-G56)/G56*$B$17/1000*M56^2/1000 -> 118.24032 | K56: =J56/I56*1000*30/PI() -> 134.77297 | L56: =L55*F55/F56 -> 6.201702 | M56: =U56/$B$17*1000*G56 -> 204.6378 | N56: =(L56^2+M56^2)^0.5 -> 204.73175 | O56: =$B$16*L56/1000 -> 0.2861961 | P56: =$B$16*M56/1000 -> 9.4436237 | Q56: =N56*$B$16/1000 -> 9.4479594 | R56: =2*PI()*F56*$B$19*L56/1000 -> 10.96772 | S56: =2*PI()*F56*$B$19*M56/1000 -> 361.90227 | T56: =2*PI()*F56*$B$19*N56/1000 -> 362.06842 | U56: =$B$21*2*PI()*F56*L56/1000 -> 200.19999 | V56: =O56-S56 -> -361.61607 | W56: =P56+R56+U56 -> 220.61133 | X56: =(W56^2+V56^2)^0.5 -> 423.59833 | Y56: =X56*3^0.5 -> 733.69383 | Z56: =Z55*(I55/I56)^Z$25 -> 61.472306
E58: Corba parell-velocitat a N1 | P58: =P63/O63 -> 4.2031088 | S58: =S63/R63 -> 4.2031088
E59: V/f | F59: f | G59: s pu | H59: s rpm | I59: rpm | J59: Kweix | K59: Meix | L59: Im | M59: Ir | N59: is | O59: Rs Im | P59: Rs Ir | Q59: Rs Is | R59: w Ls Im | S59: w Ls Ir | T59: w Ls Is | U59: E | V59: Vs (m) | W59: Vs (r) | X59: Vs | Y59: Vs (f-f)
E60: =X60/F60 -> 1.0250879 | F60: =F$71-$H$71/120*$B$3+H60/120*$B$3 -> 200.89667 | G60: =H60/I60 -> 1.6592278e-10 | H60: 1e-06 | I60: =I61 -> 6026.9 | J60: =3*(1-G60)/G60*$B$17/1000*M60^2/1000 -> 5.1096981e-07 | K60: =J60/I60*1000*30/PI() -> 8.0960398e-07 | L60: =L61 -> 8.7264175 | M60: =U60/$B$17*1000*G60 -> 8.7237744e-07 | N60: =(L60^2+M60^2)^0.5 -> 8.7264175 | O60: =$B$16*L60/1000 -> 0.40270666 | P60: =$B$16*M60/1000 -> 4.0258468e-08 | Q60: =N60*$B$16/1000 -> 0.40270666 | R60: =2*PI()*F60*$B$19*L60/1000 -> 10.696011 | S60: =2*PI()*F60*$B$19*M60/1000 -> 1.0692772e-06 | T60: =2*PI()*F60*$B$19*N60/1000 -> 10.696011 | U60: =$B$21*2*PI()*F60*L60/1000 -> 195.24034 | V60: =O60-S60 -> 0.40270559 | W60: =P60+R60+U60 -> 205.93635 | X60: =(W60^2+V60^2)^0.5 -> 205.93675 | Y60: =X60*3^0.5 -> 356.69291
E61: =X61/F61 -> 1.0304113 | F61: =F$71-$H$71/120*$B$3+H61/120*$B$3 -> 201.36061 | G61: =H61/I61 -> 0.0023093436 | H61: =H60+($H$71-$H$60)/11 -> 13.918183 | I61: =I62 -> 6026.9 | J61: =3*(1-G61)/G61*$B$17/1000*M61^2/1000 -> 7.1281567 | K61: =J61/I61*1000*30/PI() -> 11.294178 | L61: =L62 -> 8.7264175 | M61: =U61/$B$17*1000*G61 -> 12.169948 | N61: =(L61^2+M61^2)^0.5 -> 14.975246 | O61: =$B$16*L61/1000 -> 0.40270666 | P61: =$B$16*M61/1000 -> 0.5616187 | Q61: =N61*$B$16/1000 -> 0.69107758 | R61: =2*PI()*F61*$B$19*L61/1000 -> 10.720712 | S61: =2*PI()*F61*$B$19*M61/1000 -> 14.951212 | T61: =2*PI()*F61*$B$19*N61/1000 -> 18.397619 | U61: =$B$21*2*PI()*F61*L61/1000 -> 195.69122 | V61: =O61-S61 -> -14.548505 | W61: =P61+R61+U61 -> 206.97355 | X61: =(W61^2+V61^2)^0.5 -> 207.48424 | Y61: =X61*3^0.5 -> 359.37324
E62: =X62/F62 -> 1.0410731 | F62: =F$71-$H$71/120*$B$3+H62/120*$B$3 -> 201.82455 | G62: =H62/I62 -> 0.004618687 | H62: =H61+($H$71-$H$60)/11 -> 27.836364 | I62: =I63 -> 6026.9 | J62: =3*(1-G62)/G62*$B$17/1000*M62^2/1000 -> 14.288931 | K62: =J62/I62*1000*30/PI() -> 22.640037 | L62: =L63 -> 8.7264175 | M62: =U62/$B$17*1000*G62 -> 24.395976 | N62: =(L62^2+M62^2)^0.5 -> 25.909728 | O62: =$B$16*L62/1000 -> 0.40270666 | P62: =$B$16*M62/1000 -> 1.1258253 | Q62: =N62*$B$16/1000 -> 1.1956819 | R62: =2*PI()*F62*$B$19*L62/1000 -> 10.745413 | S62: =2*PI()*F62*$B$19*M62/1000 -> 30.040372 | T62: =2*PI()*F62*$B$19*N62/1000 -> 31.904355 | U62: =$B$21*2*PI()*F62*L62/1000 -> 196.1421 | V62: =O62-S62 -> -29.637666 | W62: =P62+R62+U62 -> 208.01333 | X62: =(W62^2+V62^2)^0.5 -> 210.11411 | Y62: =X62*3^0.5 -> 363.92831
E63: =X63/F63 -> 1.0569843 | F63: =F$71-$H$71/120*$B$3+H63/120*$B$3 -> 202.28848 | G63: =H63/I63 -> 0.0069280304 | H63: =H62+($H$71-$H$60)/11 -> 41.754546 | I63: =I64 -> 6026.9 | J63: =3*(1-G63)/G63*$B$17/1000*M63^2/1000 -> 21.482093 | K63: =J63/I63*1000*30/PI() -> 34.037213 | L63: =L64 -> 8.7264175 | M63: =U63/$B$17*1000*G63 -> 36.678082 | N63: =(L63^2+M63^2)^0.5 -> 37.701884 | O63: =$B$16*L63/1000 -> 0.40270666 | P63: =$B$16*M63/1000 -> 1.6926199 | Q63: =N63*$B$16/1000 -> 1.7398663 | R63: =2*PI()*F63*$B$19*L63/1000 -> 10.770114 | S63: =2*PI()*F63*$B$19*M63/1000 -> 45.26796 | T63: =2*PI()*F63*$B$19*N63/1000 -> 46.531533 | U63: =$B$21*2*PI()*F63*L63/1000 -> 196.59297 | V63: =O63-S63 -> -44.865253 | W63: =P63+R63+U63 -> 209.05571 | X63: =(W63^2+V63^2)^0.5 -> 213.81576 | Y63: =X63*3^0.5 -> 370.33976
E64: =X64/F64 -> 1.0779839 | F64: =F$71-$H$71/120*$B$3+H64/120*$B$3 -> 202.75242 | G64: =H64/I64 -> 0.0092373738 | H64: =H63+($H$71-$H$60)/11 -> 55.672728 | I64: =I65 -> 6026.9 | J64: =3*(1-G64)/G64*$B$17/1000*M64^2/1000 -> 28.70741 | K64: =J64/I64*1000*30/PI() -> 45.485336 | L64: =L65 -> 8.7264175 | M64: =U64/$B$17*1000*G64 -> 49.016269 | N64: =(L64^2+M64^2)^0.5 -> 49.786996 | O64: =$B$16*L64/1000 -> 0.40270666 | P64: =$B$16*M64/1000 -> 2.2620025 | Q64: =N64*$B$16/1000 -> 2.29757 | R64: =2*PI()*F64*$B$19*L64/1000 -> 10.794814 | S64: =2*PI()*F64*$B$19*M64/1000 -> 60.63445 | T64: =2*PI()*F64*$B$19*N64/1000 -> 61.587861 | U64: =$B$21*2*PI()*F64*L64/1000 -> 197.04385 | V64: =O64-S64 -> -60.231744 | W64: =P64+R64+U64 -> 210.10067 | X64: =(W64^2+V64^2)^0.5 -> 218.56384 | Y64: =X64*3^0.5 -> 378.56368
E65: =X65/F65 -> 1.1038513 | F65: =F$71-$H$71/120*$B$3+H65/120*$B$3 -> 203.21636 | G65: =H65/I65 -> 0.011546717 | H65: =H64+($H$71-$H$60)/11 -> 69.59091 | I65: =I66 -> 6026.9 | J65: =3*(1-G65)/G65*$B$17/1000*M65^2/1000 -> 35.964646 | K65: =J65/I65*1000*30/PI() -> 56.984034 | L65: =L66 -> 8.7264175 | M65: =U65/$B$17*1000*G65 -> 61.410535 | N65: =(L65^2+M65^2)^0.5 -> 62.027447 | O65: =$B$16*L65/1000 -> 0.40270666 | P65: =$B$16*M65/1000 -> 2.833973 | Q65: =N65*$B$16/1000 -> 2.8624422 | R65: =2*PI()*F65*$B$19*L65/1000 -> 10.819515 | S65: =2*PI()*F65*$B$19*M65/1000 -> 76.14032 | T65: =2*PI()*F65*$B$19*N65/1000 -> 76.905203 | U65: =$B$21*2*PI()*F65*L65/1000 -> 197.49473 | V65: =O65-S65 -> -75.737613 | W65: =P65+R65+U65 -> 211.14822 | X65: =(W65^2+V65^2)^0.5 -> 224.32065 | Y65: =X65*3^0.5 -> 388.53477
E66: =X66/F66 -> 1.1343221 | F66: =F$71-$H$71/120*$B$3+H66/120*$B$3 -> 203.6803 | G66: =H66/I66 -> 0.013856061 | H66: =H65+($H$71-$H$60)/11 -> 83.509091 | I66: =I67 -> 6026.9 | J66: =3*(1-G66)/G66*$B$17/1000*M66^2/1000 -> 43.253565 | K66: =J66/I66*1000*30/PI() -> 68.532931 | L66: =L67 -> 8.7264175 | M66: =U66/$B$17*1000*G66 -> 73.860881 | N66: =(L66^2+M66^2)^0.5 -> 74.374593 | O66: =$B$16*L66/1000 -> 0.40270666 | P66: =$B$16*M66/1000 -> 3.4085315 | Q66: =N66*$B$16/1000 -> 3.4322382 | R66: =2*PI()*F66*$B$19*L66/1000 -> 10.844216 | S66: =2*PI()*F66*$B$19*M66/1000 -> 91.786045 | T66: =2*PI()*F66*$B$19*N66/1000 -> 92.424429 | U66: =$B$21*2*PI()*F66*L66/1000 -> 197.9456 | V66: =O66-S66 -> -91.383338 | W66: =P66+R66+U66 -> 212.19835 | X66: =(W66^2+V66^2)^0.5 -> 231.03908 | Y66: =X66*3^0.5 -> 400.17142
E67: =X67/F67 -> 1.1691031 | F67: =F$71-$H$71/120*$B$3+H67/120*$B$3 -> 204.14424 | G67: =H67/I67 -> 0.016165404 | H67: =H66+($H$71-$H$60)/11 -> 97.427273 | I67: =I68 -> 6026.9 | J67: =3*(1-G67)/G67*$B$17/1000*M67^2/1000 -> 50.573928 | K67: =J67/I67*1000*30/PI() -> 80.13165 | L67: =L68 -> 8.7264175 | M67: =U67/$B$17*1000*G67 -> 86.367307 | N67: =(L67^2+M67^2)^0.5 -> 86.807039 | O67: =$B$16*L67/1000 -> 0.40270666 | P67: =$B$16*M67/1000 -> 3.9856779 | Q67: =N67*$B$16/1000 -> 4.0059707 | R67: =2*PI()*F67*$B$19*L67/1000 -> 10.868917 | S67: =2*PI()*F67*$B$19*M67/1000 -> 107.5721 | T67: =2*PI()*F67*$B$19*N67/1000 -> 108.1198 | U67: =$B$21*2*PI()*F67*L67/1000 -> 198.39648 | V67: =O67-S67 -> -107.16939 | W67: =P67+R67+U67 -> 213.25108 | X67: =(W67^2+V67^2)^0.5 -> 238.66567 | Y67: =X67*3^0.5 -> 413.38106
E68: =X68/F68 -> 1.2078868 | F68: =F$71-$H$71/120*$B$3+H68/120*$B$3 -> 204.60818 | G68: =H68/I68 -> 0.018474747 | H68: =H67+($H$71-$H$60)/11 -> 111.34545 | I68: =I69 -> 6026.9 | J68: =3*(1-G68)/G68*$B$17/1000*M68^2/1000 -> 57.925493 | K68: =J68/I68*1000*30/PI() -> 91.779807 | L68: =L69 -> 8.7264175 | M68: =U68/$B$17*1000*G68 -> 98.929812 | N68: =(L68^2+M68^2)^0.5 -> 99.313937 | O68: =$B$16*L68/1000 -> 0.40270666 | P68: =$B$16*M68/1000 -> 4.5654123 | Q68: =N68*$B$16/1000 -> 4.5831389 | R68: =2*PI()*F68*$B$19*L68/1000 -> 10.893617 | S68: =2*PI()*F68*$B$19*M68/1000 -> 123.49897 | T68: =2*PI()*F68*$B$19*N68/1000 -> 123.97849 | U68: =$B$21*2*PI()*F68*L68/1000 -> 198.84736 | V68: =O68-S68 -> -123.09626 | W68: =P68+R68+U68 -> 214.30639 | X68: =(W68^2+V68^2)^0.5 -> 247.14351 | Y68: =X68*3^0.5 -> 428.06512
E69: =X69/F69 -> 1.2503636 | F69: =F$71-$H$71/120*$B$3+H69/120*$B$3 -> 205.07212 | G69: =H69/I69 -> 0.020784091 | H69: =H68+($H$71-$H$60)/11 -> 125.26364 | I69: =I70 -> 6026.9 | J69: =3*(1-G69)/G69*$B$17/1000*M69^2/1000 -> 65.308018 | K69: =J69/I69*1000*30/PI() -> 103.47702 | L69: =L70 -> 8.7264175 | M69: =U69/$B$17*1000*G69 -> 111.5484 | N69: =(L69^2+M69^2)^0.5 -> 111.88921 | O69: =$B$16*L69/1000 -> 0.40270666 | P69: =$B$16*M69/1000 -> 5.1477347 | Q69: =N69*$B$16/1000 -> 5.1634625 | R69: =2*PI()*F69*$B$19*L69/1000 -> 10.918318 | S69: =2*PI()*F69*$B$19*M69/1000 -> 139.56711 | T69: =2*PI()*F69*$B$19*N69/1000 -> 139.99353 | U69: =$B$21*2*PI()*F69*L69/1000 -> 199.29824 | V69: =O69-S69 -> -139.16441 | W69: =P69+R69+U69 -> 215.36429 | X69: =(W69^2+V69^2)^0.5 -> 256.41472 | Y69: =X69*3^0.5 -> 444.12332
E70: =X70/F70 -> 1.2962316 | F70: =F$71-$H$71/120*$B$3+H70/120*$B$3 -> 205.53606 | G70: =H70/I70 -> 0.023093434 | H70: =H69+($H$71-$H$60)/11 -> 139.18182 | I70: =I71 -> 6026.9 | J70: =3*(1-G70)/G70*$B$17/1000*M70^2/1000 -> 72.721256 | K70: =J70/I70*1000*30/PI() -> 115.22289 | L70: =L71 -> 8.7264175 | M70: =U70/$B$17*1000*G70 -> 124.22306 | N70: =(L70^2+M70^2)^0.5 -> 124.52919 | O70: =$B$16*L70/1000 -> 0.40270666 | P70: =$B$16*M70/1000 -> 5.732645 | Q70: =N70*$B$16/1000 -> 5.7467723 | R70: =2*PI()*F70*$B$19*L70/1000 -> 10.943019 | S70: =2*PI()*F70*$B$19*M70/1000 -> 155.77702 | T70: =2*PI()*F70*$B$19*N70/1000 -> 156.16091 | U70: =$B$21*2*PI()*F70*L70/1000 -> 199.74911 | V70: =O70-S70 -> -155.37431 | W70: =P70+R70+U70 -> 216.42478 | X70: =(W70^2+V70^2)^0.5 -> 266.42234 | Y70: =X70*3^0.5 -> 461.45702
D71: maxim | E71: =X71/F71 -> 1.3452029 | F71: =F49 -> 206 | G71: =H71/I71 -> 0.025402778 | H71: =H49 -> 153.1 | I71: =F71*120/$B$3-H71 -> 6026.9 | J71: =3*(1-G71)/G71*$B$17/1000*M71^2/1000 -> 80.16496 | K71: =J71/I71*1000*30/PI() -> 127.01704 | L71: =L49 -> 8.7264175 | M71: =U71/$B$17*1000*G71 -> 136.95381 | N71: =(L71^2+M71^2)^0.5 -> 137.23154 | O71: =$B$16*L71/1000 -> 0.40270666 | P71: =$B$16*M71/1000 -> 6.3201433 | Q71: =N71*$B$16/1000 -> 6.3329602 | R71: =2*PI()*F71*$B$19*L71/1000 -> 10.96772 | S71: =2*PI()*F71*$B$19*M71/1000 -> 172.12917 | T71: =2*PI()*F71*$B$19*N71/1000 -> 172.47823 | U71: =$B$21*2*PI()*F71*L71/1000 -> 200.19999 | V71: =O71-S71 -> -171.72646 | W71: =P71+R71+U71 -> 217.48785 | X71: =(W71^2+V71^2)^0.5 -> 277.11179 | Y71: =X71*3^0.5 -> 479.9717
E72: =X72/F72 -> 1.345343 | F72: =F71 -> 206 | G72: =H72/I72 -> 0.026232391 | H72: =H71+5 -> 158.1 | I72: =I71 -> 6026.9 | J72: =3*(1-G72)/G72*$B$17/1000*M72^2/1000 -> 80.576488 | K72: =J72/I72*1000*30/PI() -> 127.66908 | L72: 8.613 | M72: =U72/$B$17*1000*G72 -> 139.58837 | N72: =(L72^2+M72^2)^0.5 -> 139.85384 | O72: =$B$16*L72/1000 -> 0.39747267 | P72: =$B$16*M72/1000 -> 6.4417233 | Q72: =N72*$B$16/1000 -> 6.4539743 | R72: =2*PI()*F72*$B$19*L72/1000 -> 10.825172 | S72: =2*PI()*F72*$B$19*M72/1000 -> 175.4404 | T72: =2*PI()*F72*$B$19*N72/1000 -> 175.77405 | U72: =$B$21*2*PI()*F72*L72/1000 -> 197.59799 | V72: =O72-S72 -> -175.04293 | W72: =P72+R72+U72 -> 214.86488 | X72: =(W72^2+V72^2)^0.5 -> 277.14065 | Y72: =X72*3^0.5 -> 480.0217
E73: =X73/F73 -> 1.3453861 | F73: =F72 -> 206 | G73: =H73/I73 -> 0.027062005 | H73: =H72+5 -> 163.1 | I73: =I72 -> 6026.9 | J73: =3*(1-G73)/G73*$B$17/1000*M73^2/1000 -> 80.888955 | K73: =J73/I73*1000*30/PI() -> 128.16417 | L73: 8.5 | M73: =U73/$B$17*1000*G73 -> 142.11366 | N73: =(L73^2+M73^2)^0.5 -> 142.36763 | O73: =$B$16*L73/1000 -> 0.39225795 | P73: =$B$16*M73/1000 -> 6.5582601 | Q73: =N73*$B$16/1000 -> 6.5699804 | R73: =2*PI()*F73*$B$19*L73/1000 -> 10.683149 | S73: =2*PI()*F73*$B$19*M73/1000 -> 178.61428 | T73: =2*PI()*F73*$B$19*N73/1000 -> 178.93348 | U73: =$B$21*2*PI()*F73*L73/1000 -> 195.00556 | V73: =O73-S73 -> -178.22202 | W73: =P73+R73+U73 -> 212.24697 | X73: =(W73^2+V73^2)^0.5 -> 277.14953 | Y73: =X73*3^0.5 -> 480.03707
E74: =X74/F74 -> 0.60629174 | F74: =F73 -> 206 | G74: =H74/I74 -> 0.028721233 | H74: =H73+10 -> 173.1 | I74: =I73 -> 6026.9 | J74: =3*(1-G74)/G74*$B$17/1000*M74^2/1000 -> 16.503303 | K74: =J74/I74*1000*30/PI() -> 26.14859 | L74: 3.73 | M74: =U74/$B$17*1000*G74 -> 66.18641 | N74: =(L74^2+M74^2)^0.5 -> 66.291431 | O74: =$B$16*L74/1000 -> 0.17213202 | P74: =$B$16*M74/1000 -> 3.05437 | Q74: =N74*$B$16/1000 -> 3.0592165 | R74: =2*PI()*F74*$B$19*L74/1000 -> 4.6880171 | S74: =2*PI()*F74*$B$19*M74/1000 -> 83.185798 | T74: =2*PI()*F74*$B$19*N74/1000 -> 83.317792 | U74: =$B$21*2*PI()*F74*L74/1000 -> 85.573027 | V74: =O74-S74 -> -83.013666 | W74: =P74+R74+U74 -> 93.315415 | X74: =(W74^2+V74^2)^0.5 -> 124.8961 | Y74: =X74*3^0.5 -> 216.32639
E75: =X75/F75 -> 0.61765748 | F75: =F74 -> 206 | G75: =H75/I75 -> 0.030380461 | H75: =H74+10 -> 183.1 | I75: =I74 -> 6026.9 | J75: =3*(1-G75)/G75*$B$17/1000*M75^2/1000 -> 17.147681 | K75: =J75/I75*1000*30/PI() -> 27.169572 | L75: 3.7 | M75: =U75/$B$17*1000*G75 -> 69.446921 | N75: =(L75^2+M75^2)^0.5 -> 69.545416 | O75: =$B$16*L75/1000 -> 0.17074758 | P75: =$B$16*M75/1000 -> 3.2048361 | Q75: =N75*$B$16/1000 -> 3.2093814 | R75: =2*PI()*F75*$B$19*L75/1000 -> 4.6503119 | S75: =2*PI()*F75*$B$19*M75/1000 -> 87.283742 | T75: =2*PI()*F75*$B$19*N75/1000 -> 87.407534 | U75: =$B$21*2*PI()*F75*L75/1000 -> 84.884772 | V75: =O75-S75 -> -87.112994 | W75: =P75+R75+U75 -> 92.73992 | X75: =(W75^2+V75^2)^0.5 -> 127.23744 | Y75: =X75*3^0.5 -> 220.38171
E82: corba a pnom
E83: V/f | F83: f | G83: s pu | H83: s rpm | I83: rpm | J83: Kweix | K83: Meix | L83: Im | M83: Ir | N83: is | O83: Rs Im | P83: Rs Ir | Q83: Rs Is | R83: w Ls Im | S83: w Ls Ir | T83: w Ls Is | U83: E | V83: Vs (m) | W83: Vs (r) | X83: Vs | Y83: Vs (f-f)
E84: =X84/F84 -> 5.5261187 | F84: =F5 -> 43 | G84: =H84/I84 -> 0.021377672 | H84: =H5 -> 27 | I84: =F84*120/$B$3-H84 -> 1263 | J84: =J5 -> 80.242977 | K84: =J84/I84*1000*30/PI() -> 606.70149 | L84: =L5 -> 45.5 | M84: =M5 -> 125.43824 | N84: =(L84^2+M84^2)^0.5 -> 133.43539 | O84: =$B$16*L84/1000 -> 2.0997337 | P84: =$B$16*M84/1000 -> 5.7887232 | Q84: =N84*$B$16/1000 -> 6.1577754 | R84: =2*PI()*F84*$B$19*L84/1000 -> 11.936939 | S84: =2*PI()*F84*$B$19*M84/1000 -> 32.908763 | T84: =2*PI()*F84*$B$19*N84/1000 -> 35.006816 | U84: =$B$21*2*PI()*F84*L84/1000 -> 217.8917 | V84: =O84-S84 -> -30.809029 | W84: =P84+R84+U84 -> 235.61737 | X84: =(W84^2+V84^2)^0.5 -> 237.62311 | Y84: =X84*3^0.5 -> 411.57529
E85: =X85/F85 -> 4.6013319 | F85: =IF(F84*1.2>$F$92,$F$92,F84*1.2) -> 51.6 | G85: =H85/I85 -> 0.021377672 | H85: =H84*F85/F84 -> 32.4 | I85: =F85*120/$B$3-H85 -> 1515.6 | J85: =J84 -> 80.242977 | K85: =J85/I85*1000*30/PI() -> 505.58457 | L85: =L84*F84/F85/1.053 -> 36.00823 | M85: =M84*J85/J84 -> 125.43824 | N85: =(L85^2+M85^2)^0.5 -> 130.5042 | O85: =$B$16*L85/1000 -> 1.6617076 | P85: =$B$16*M85/1000 -> 5.7887232 | Q85: =N85*$B$16/1000 -> 6.0225068 | R85: =2*PI()*F85*$B$19*L85/1000 -> 11.336125 | S85: =2*PI()*F85*$B$19*M85/1000 -> 39.490515 | T85: =2*PI()*F85*$B$19*N85/1000 -> 41.085381 | U85: =$B$21*1.05*2*PI()*F85*L85/1000 -> 217.27093 | V85: =O85-S85 -> -37.828808 | W85: =P85+R85+U85 -> 234.39578 | X85: =(W85^2+V85^2)^0.5 -> 237.42873 | Y85: =X85*3^0.5 -> 411.23862
E86: =X86/F86 -> 3.675736 | F86: =IF(F85*1.2>$F$92,$F$92,F85*1.2) -> 61.92 | G86: =H86/I86 -> 0.021377672 | H86: =H85*F86/F85 -> 38.88 | I86: =F86*120/$B$3-H86 -> 1818.72 | J86: =J85 -> 80.242977 | K86: =J86/I86*1000*30/PI() -> 421.32048 | L86: =L85*F85/F86/1.053 -> 28.496542 | M86: =M85*J86/J85 -> 125.43824 | N86: =(L86^2+M86^2)^0.5 -> 128.63439 | O86: =$B$16*L86/1000 -> 1.3150582 | P86: =$B$16*M86/1000 -> 5.7887232 | Q86: =N86*$B$16/1000 -> 5.9362188 | R86: =2*PI()*F86*$B$19*L86/1000 -> 10.765551 | S86: =2*PI()*F86*$B$19*M86/1000 -> 47.388618 | T86: =2*PI()*F86*$B$19*N86/1000 -> 48.596072 | U86: =$B$21*1.05*2*PI()*F86*L86/1000 -> 206.33517 | V86: =O86-S86 -> -46.07356 | W86: =P86+R86+U86 -> 222.88944 | X86: =(W86^2+V86^2)^0.5 -> 227.60157 | Y86: =X86*3^0.5 -> 394.21749
E87: =X87/F87 -> 2.9499157 | F87: =IF(F86*1.2>$F$92,$F$92,F86*1.2) -> 74.304 | G87: =H87/I87 -> 0.021377672 | H87: =H86*F87/F86 -> 46.656 | I87: =F87*120/$B$3-H87 -> 2182.464 | J87: =J86 -> 80.242977 | K87: =J87/I87*1000*30/PI() -> 351.1004 | L87: =L86*F86/F87/1.053 -> 22.551869 | M87: =M86*J87/J86 -> 125.43824 | N87: =(L87^2+M87^2)^0.5 -> 127.44936 | O87: =$B$16*L87/1000 -> 1.0407235 | P87: =$B$16*M87/1000 -> 5.7887232 | Q87: =N87*$B$16/1000 -> 5.8815322 | R87: =2*PI()*F87*$B$19*L87/1000 -> 10.223695 | S87: =2*PI()*F87*$B$19*M87/1000 -> 56.866342 | T87: =2*PI()*F87*$B$19*N87/1000 -> 57.778065 | U87: =$B$21*1.05*2*PI()*F87*L87/1000 -> 195.94983 | V87: =O87-S87 -> -55.825618 | W87: =P87+R87+U87 -> 211.96224 | X87: =(W87^2+V87^2)^0.5 -> 219.19054 | Y87: =X87*3^0.5 -> 379.64915
E88: =X88/F88 -> 2.3838922 | F88: =IF(F87*1.2>$F$92,$F$92,F87*1.2) -> 89.1648 | G88: =H88/I88 -> 0.021377672 | H88: =H87*F88/F87 -> 55.9872 | I88: =F88*120/$B$3-H88 -> 2618.9568 | J88: =J87 -> 80.242977 | K88: =J88/I88*1000*30/PI() -> 292.58367 | L88: =L87*F87/F88/1.053 -> 17.847317 | M88: =M87*J88/J87 -> 125.43824 | N88: =(L88^2+M88^2)^0.5 -> 126.70154 | O88: =$B$16*L88/1000 -> 0.82361785 | P88: =$B$16*M88/1000 -> 5.7887232 | Q88: =N88*$B$16/1000 -> 5.8470217 | R88: =2*PI()*F88*$B$19*L88/1000 -> 9.7091119 | S88: =2*PI()*F88*$B$19*M88/1000 -> 68.23961 | T88: =2*PI()*F88*$B$19*N88/1000 -> 68.926854 | U88: =$B$21*1.05*2*PI()*F88*L88/1000 -> 186.0872 | V88: =O88-S88 -> -67.415992 | W88: =P88+R88+U88 -> 201.58504 | X88: =(W88^2+V88^2)^0.5 -> 212.55927 | Y88: =X88*3^0.5 -> 368.16346
E89: =X89/F89 -> 1.9461146 | F89: =IF(F88*1.2>$F$92,$F$92,F88*1.2) -> 106.99776 | G89: =H89/I89 -> 0.021377672 | H89: =H88*F89/F88 -> 67.18464 | I89: =F89*120/$B$3-H89 -> 3142.7482 | J89: =J88 -> 80.242977 | K89: =J89/I89*1000*30/PI() -> 243.81972 | L89: =L88*F88/F89/1.053 -> 14.124182 | M89: =M88*J89/J88 -> 125.43824 | N89: =(L89^2+M89^2)^0.5 -> 126.23092 | O89: =$B$16*L89/1000 -> 0.65180267 | P89: =$B$16*M89/1000 -> 5.7887232 | Q89: =N89*$B$16/1000 -> 5.8253037 | R89: =2*PI()*F89*$B$19*L89/1000 -> 9.2204292 | S89: =2*PI()*F89*$B$19*M89/1000 -> 81.887532 | T89: =2*PI()*F89*$B$19*N89/1000 -> 82.405001 | U89: =$B$21*1.05*2*PI()*F89*L89/1000 -> 176.72099 | V89: =O89-S89 -> -81.23573 | W89: =P89+R89+U89 -> 191.73014 | X89: =(W89^2+V89^2)^0.5 -> 208.2299 | Y89: =X89*3^0.5 -> 360.66477
E90: =X90/F90 -> 1.6115282 | F90: =IF(F89*1.2>$F$92,$F$92,F89*1.2) -> 128.39731 | G90: =H90/I90 -> 0.021377672 | H90: =H89*F90/F89 -> 80.621568 | I90: =F90*120/$B$3-H90 -> 3771.2978 | J90: =J89 -> 80.242977 | K90: =J90/I90*1000*30/PI() -> 203.1831 | L90: =L89*F89/F90/1.053 -> 11.177732 | M90: =M89*J90/J89 -> 125.43824 | N90: =(L90^2+M90^2)^0.5 -> 125.93528 | O90: =$B$16*L90/1000 -> 0.51582991 | P90: =$B$16*M90/1000 -> 5.7887232 | Q90: =N90*$B$16/1000 -> 5.8116604 | R90: =2*PI()*F90*$B$19*L90/1000 -> 8.756343 | S90: =2*PI()*F90*$B$19*M90/1000 -> 98.265039 | T90: =2*PI()*F90*$B$19*N90/1000 -> 98.654404 | U90: =$B$21*1.05*2*PI()*F90*L90/1000 -> 167.8262 | V90: =O90-S90 -> -97.749209 | W90: =P90+R90+U90 -> 182.37127 | X90: =(W90^2+V90^2)^0.5 -> 206.91589 | Y90: =X90*3^0.5 -> 358.38884
E91: =X91/F91 -> 1.3599412 | F91: =IF(F90*1.2>$F$92,$F$92,F90*1.2) -> 154.07677 | G91: =H91/I91 -> 0.021377672 | H91: =H90*F91/F90 -> 96.745882 | I91: =F91*120/$B$3-H91 -> 4525.5574 | J91: =J90 -> 80.242977 | K91: =J91/I91*1000*30/PI() -> 169.31925 | L91: =L90*F90/F91/1.053 -> 8.8459418 | M91: =M90*J91/J90 -> 125.43824 | N91: =(L91^2+M91^2)^0.5 -> 125.74976 | O91: =$B$16*L91/1000 -> 0.40822246 | P91: =$B$16*M91/1000 -> 5.7887232 | Q91: =N91*$B$16/1000 -> 5.8030993 | R91: =2*PI()*F91*$B$19*L91/1000 -> 8.3156154 | S91: =2*PI()*F91*$B$19*M91/1000 -> 117.91805 | T91: =2*PI()*F91*$B$19*N91/1000 -> 118.21089 | U91: =$B$21*1.05*2*PI()*F91*L91/1000 -> 159.37911 | V91: =O91-S91 -> -117.50982 | W91: =P91+R91+U91 -> 173.48345 | X91: =(W91^2+V91^2)^0.5 -> 209.53536 | Y91: =X91*3^0.5 -> 362.92588
E92: =E47 -> 1.4395624 | F92: =F49 -> 206 | G92: =G49 -> 0.025402778 | H92: =H49 -> 153.1 | I92: =F92*120/$B$3-H92 -> 6026.9 | J92: =J49 -> 80.16496 | K92: =K49 -> 127.01704 | L92: =L49 -> 8.7264175 | M92: =M49 -> 136.95381 | N92: =N49 -> 137.23154 | O92: =O49 -> 0.40270666 | P92: =P49 -> 6.3201433 | Q92: =Q49 -> 6.3329602 | ... Y92: =Y49 -> 479.9717
H100: ,
