Workbook

Sheet RESUM
G2: =B21 -> MAC QT 160 P | N2: Codi | O2: DT-QT 160 P
N3: Edició | O3: 06
G4: - Fitxa Tècnica - | N4: Pàgina | O4: 1 de 2
N5: Data | O5: 45239
B8: =B21 -> MAC QT 160 P | C8: =C21 -> MAC QT 160 P | D8: =D21 -> MAC QT 160 P | E8: =E21 -> MAC QT 160 P | F8: =F21 -> MAC QT 160 P | G8: =G21 -> MAC QT 160 P | H8: =H21 -> MAC QT 160 P | I8: =I21 -> MAC QT 160 P | ... O8: =O21 -> MAC QT 160 P
B9: =B22 -> A41 | C9: =C22 -> B41 | D9: =D22 -> C41 | E9: =E22 -> D41 | F9: =F22 -> E41 | G9: =G22 -> F41 | H9: =H22 -> G41 | I9: =I22 -> H41 | ... O9: =O22 -> 0
A10: Pols | B10: 4 | C10: =B10 -> 4 | D10: =C10 -> 4 | E10: =D10 -> 4 | F10: =E10 -> 4 | G10: =F10 -> 4 | H10: =G10 -> 4 | I10: =H10 -> 4 | J10: =I10 -> 4 | ... O10: =N10 -> 4
A11: Nm | B11: 540 | C11: 540 | D11: 540 | E11: 540 | F11: 540 | G11: 540 | H11: 540 | I11: 540 | J11: 540 | K11: 520 | L11: 500 | M11: 480
A12: rpm | B12: 513 | C12: 693 | D12: 814 | E12: 993 | F12: 1113 | G12: 1263 | H12: 1443 | I12: 1684 | J12: 2043 | K12: 2224 | L12: 2555 | M12: 2976
A13: KW | B13: 29.009467 | C13: 39.188227 | D13: 46.030616 | E13: 56.152827 | F13: 62.938667 | G13: 71.420967 | H13: 81.599728 | I13: 95.227957 | J13: 115.52893 | K13: 121.1063 | L13: 133.77949 | M13: 149.59008
A14: V | B14: 400 | C14: 400 | D14: 400 | E14: 400 | F14: 400 | G14: 400 | H14: 400 | I14: 400 | J14: 400 | K14: 400 | L14: 400 | M14: 400
A15: A | B15: 57 | C15: 75.2 | D15: 87.1 | E15: 104.9 | F15: 116.4 | G15: 130.9 | H15: 149.4 | I15: 174.3 | J15: 208.9 | K15: 219.3 | L15: 242.9 | M15: 274.6
A16: Hz | B16: 18 | C16: 24 | D16: 28 | E16: 34 | F16: 38 | G16: 43 | H16: 49 | I16: 57 | J16: 69 | K16: 75 | L16: 86 | M16: 100
A17: Cos fi | B17: 0.83959535 | C17: 0.83682696 | D17: 0.83610318 | E17: 0.83529741 | F17: 0.8375668 | G17: 0.83948844 | H17: 0.83471839 | I17: 0.82950756 | J17: 0.83436038 | K17: 0.83077532 | L17: 0.82549518 | M17: 0.81405129
A18: Rend / eff. | B18: 0.87493188 | C18: 0.89883814 | D18: 0.91232197 | E18: 0.92498435 | F18: 0.93180383 | G18: 0.93810347 | H18: 0.94444682 | I18: 0.95066195 | J18: 0.95670493 | K18: 0.95945345 | L18: 0.96300125 | M18: 0.96589488
A19: J (Kg m2) | B19: 0.462632 | C19: 0.462632 | D19: 0.462632 | E19: 0.462632 | F19: 0.462632 | G19: 0.462632 | H19: 0.462632 | I19: 0.462632 | J19: 0.462632 | K19: 0.462632 | L19: 0.462632 | M19: 0.462632
B20: ESQUEMA EQUIVALENTE POR FASE EN ESTRELLA / PHASE STAR EQUIVALENT SCHEMA
B21: MAC QT 160 P | C21: MAC QT 160 P | D21: MAC QT 160 P | E21: MAC QT 160 P | F21: MAC QT 160 P | G21: MAC QT 160 P | H21: MAC QT 160 P | I21: MAC QT 160 P | J21: MAC QT 160 P | K21: MAC QT 160 P | L21: MAC QT 160 P | M21: MAC QT 160 P | N21: MAC QT 160 P | O21: MAC QT 160 P
B22: A41 | C22: B41 | D22: C41 | E22: D41 | F22: E41 | G22: F41 | H22: G41 | I22: H41 | J22: I41 | K22: F42 | L22: G42 | M22: H42
A23: Rs (mOhm) | B23: 236.0555 | C23: 140.72795 | D23: 103.83299 | E23: 72.046276 | F23: 58.106815 | G23: 46.147994 | H23: 35.181989 | I23: 25.693612 | J23: 18.011569 | K23: 15.382665 | L23: 11.72733 | M23: 8.5645373
A24: Rr (mOhm) | B24: 187.99062 | C24: 113.72272 | D24: 83.551388 | E24: 58.021797 | F24: 46.997656 | G24: 37.13395 | H24: 28.430681 | I24: 20.887847 | J24: 14.505449 | K24: 12.377983 | L24: 9.4768936 | M24: 6.9626157
A25: Rfe (Ohm) | B25: 518.78894 | C25: 406.0518 | D25: 342.8588 | E25: 278.51907 | F25: 246.93159 | G25: 215.16473 | H25: 182.13632 | I25: 149.66889 | J25: 118.89031 | K25: 107.32545 | L25: 89.79688 | M25: 72.373091
A26: Ls (mH) | B26: 2.6453861 | C26: 1.6002953 | D26: 1.1757272 | E26: 0.8164772 | F26: 0.66134653 | G26: 0.52254541 | H26: 0.40007383 | I26: 0.29393179 | J26: 0.2041193 | K26: 0.1741818 | L26: 0.13335794 | M26: 0.097977264
A27: Lr (mH) | B27: 2.3710549 | C27: 1.4802642 | D27: 1.0868623 | E27: 0.75253935 | F27: 0.60742838 | G27: 0.47831092 | H27: 0.36797283 | I27: 0.27171656 | J27: 0.18751255 | K27: 0.16046035 | L27: 0.12344407 | M27: 0.091815098
A28: Lm (mH) | B28: 89.840416 | C28: 53.097233 | D28: 39.098763 | E28: 27.026582 | F28: 22.149052 | G28: 17.724785 | H28: 13.214172 | I28: 9.4503213 | J28: 6.7367578 | K28: 5.8063637 | L28: 4.4602251 | M28: 3.195702
A29: Ts (s) | B29: 0.39179685 | C29: 0.38867564 | D29: 0.38787761 | E29: 0.38646077 | F29: 0.39255978 | G29: 0.39540897 | H29: 0.38696635 | I29: 0.37924809 | J29: 0.3853566 | K29: 0.38878476 | L29: 0.39169898 | M29: 0.38457177
A30: Tr (s) | B30: 0.49051101 | C30: 0.47991725 | D30: 0.48096897 | E30: 0.47877044 | F30: 0.48420458 | G30: 0.4902009 | H30: 0.47772844 | I30: 0.46543992 | J30: 0.47735649 | K30: 0.48205139 | L30: 0.4836679 | M30: 0.47216696
A31: Kt | B31: 138.4387 | C31: 107.67455 | D31: 92.292467 | E31: 76.91039 | F31: 69.219351 | G31: 61.528312 | H31: 53.837273 | I31: 46.146234 | J31: 38.455195 | K31: 35.523387 | L31: 31.082964 | M31: 26.64254
A32: Im (A/fase) | B32: 20.3 | C32: 26.6 | D32: 31.2 | E32: 37.5 | F32: 41 | G32: 45.5 | H32: 53.7 | I32: 64.6 | J32: 75.2 | K32: 80.4 | L32: 91.5 | M32: 110

Sheet driving mode datasheet
L1: Codigo | M1: =RESUM!O2 -> DT-QT 160 P
D2: =RESUM!G2 -> MAC QT 160 P | L2: Edición | M2: =RESUM!O3 -> 06
D3: - Hoja de Datos Técnicos Modo Motor - | L3: Página | M3: 1 de 3
D4: - Driving mode Technical Datasheet - | L4: Fecha | M4: =RESUM!O5 -> 45239
A7: Ventilador / Fan | E7: Rodamientos | G7: Delantero | H7: 6012 ZZ C3 | J7: Trasero | M7: 6010 ZZ C3
A8: Tipo de Refrigeración | C8: IC 06 | E8: Bearings | G8: Drive End | J8: Non Drive End
A9: Cooling Mode | E9: Nº de polos | F9: =RESUM!B10 -> 4 | G9: Momento de inercia | I9: =RESUM!B19 -> 0.462632 | K9: Peso Motor | M9: 387 | P9: 400V 50Hz | S9: IM B3
A10: Alimentación / Supply | E10: No of poles | G10: Rotor Inertia | K10: Motor Weight | P10: 480V 60Hz | Q10: 1 | S10: IM B35
A11: Potencia / Power | C11: =IF($Q$10=1,P11,IF($Q$10=2,Q11,"")) -> 1,50 kW | E11: Protección | G11: IP 23 | H11: Construcción | J11: IM B3 | K11: standard | L11: Equilibrado grado | N11: B | P11: 1,50 kW | Q11: 1,8 kW
A12: Corriente / Current | C12: =IF($Q$10=1,P12,IF($Q$10=2,Q12,"")) -> 3.1A | E12: Protection Degree | H12: Mounting | J12: IM B35 | K12: on request | L12: Balancing degree | P12: 3.1A | Q12: 3.0 A
A13: Velocidad / Speed | C13: =IF($Q$10=1,P13,IF($Q$10=2,Q13,"")) -> 2850 rpm | E13: Nivel de ruido | G13: < 80 dB | I13: Velocidad máxima mecánica | L13: 6500 | P13: 2850 rpm | Q13: 3420 rpm
A14: Caudal / Air flow | C14: =IF($Q$10=1,P14,IF($Q$10=2,Q14,"")) -> 2170 m3/h | E14: Noise Level | I14: Max. Mechanical Speed | P14: 2170 m3/h | Q14: 2170 m3/h
A15: Presión / Pressure | C15: =IF($Q$10=1,P15,IF($Q$10=2,Q15,"")) -> 1625 Pa | E15: Aislamiento | F15: Cl. H | G15: Incremento Temperatura | I15: Cl. F | J15: Termistores | K15: PTC155º C | L15: Termómetros | N15: 3xPt100 | P15: 1625 Pa | Q15: 1625 Pa
A16: Por favor, indicar en los pedidos la alimentación deseada para el ventilador / Please indicate the required fan supply voltage when placing your order | E16: Insulation | G16: Temperature Rise | J16: Thermistors | L16: Thermometers
E17: Ambiente | F17: < 40 ºC < 1000 m | I17: Conmutación Variador | K17: 4 kHz ; IVIC C/B acc. EN60034-25
E18: Ambient | I18: Inverter Switching
A19: Normas de referencia | C19: EN60034 | D19: Sondas rodamientos | F19: 2 x Pt100 | G19: Alojamientos de los rodamientos eléctricamente aislados | K19: Anillo SGR de puesta a tierra del eje en NDE
A20: Reference Standards | D20: Bearing Probes | G20: Electrically insulated bearing housings | K20: SGR shaft grounding rings on NDE
A21: Tensión de Base del Motor | E21: Vb ± 5% | F21: 400 | H21: Tensión Máxima de Salida del Convertidor | L21: Vc | M21: 400
A22: Motor Base Voltage | H22: Inverter max. Output Voltage
F23: =IF(F21>500," Vb ha de ser / must be < 500 V"," ") | G23: =IF(M21>500," Vc ha de ser / must be < 500 V"," ") | N23: =IF(M21<F21,"Vc ha de ser / must be > Vb"," ")
B24: Servicio / Service | F24: S1 | H24: Servicio / Service S6 - | L24: 0.4 | M24: =IF(L24>80%,"max 80%","")
M25: =IF(L24<20%,"min 20%","")
A26: Bobinado Winding | B26: Nm | C26: A ± 2% | D26: KW | E26: rpm | F26: Hz | G26: Velocidad a Pot.Cte Const. Power Speed. (rpm) | H26: Nm | I26: A ± 5% | J26: KW | K26: rpm | L26: Hz | M26: Velocidad a Pot.Cte Const. Power Speed. (rpm) | N26: Corriente en vacio No Load Current (A) | O26: eff | P26: cos fi | Q26: Hz | R26: rpm | S26: rpm llisc. | U26: Nm S6 | V26: A S6 | W26: Alim | X26: Nm lim | Y26: rpm lim | Z26: KW lim | AA26: rpm lim KW s6 | AB26: rpm lim Nm s6 | AC26: rpm lim s1 | AD26: Coef
A27: =RESUM!B9 -> A41 | B27: =RESUM!B11 -> 540 | C27: =RESUM!B15 -> 57 | D27: =E27*$B27*PI()/30000 -> 29.009467 | E27: =(F27*120/$F$9-$S27) -> 513 | F27: =$Q27*$F$21/400 -> 18 | G27: =IF(AC27<$L$13,AC27,$L$13) -> 1794.9109 | H27: =IF(U27<X27*0.95,U27,X27*0.95) -> 803.4367 | I27: =MIN(V27:W27) -> 81.805348 | J27: =MIN(Z27,H27*E27*PI()/30000) -> 43.161611 | K27: =MIN(E27,M27) -> 513 | L27: =(K27+S27*H27/B27)*$F$9/120 -> 18.439061 | M27: =MIN($L$13,MAX(AB27,AA27)) -> 1099.0272 | N27: =RESUM!B32 -> 20.3 | O27: ='driving mode parameters'!B18 -> 0.87493188 | P27: ='driving mode parameters'!B17 -> 0.83959535 | Q27: =RESUM!B16 -> 18 | R27: =RESUM!B12 -> 513 | S27: =Q27*120/$F$9-R27 -> 27 | U27: =B27/((C27^2-N27^2)^0.5)*(V27^2-N27^2)^0.5 -> 803.4367 | V27: =IF(AND($L$24>=20%,$L$24<=80%)=TRUE,((C27^2*0.9-N27^2*(1-$L$24))/$L$24)^0.5,0) -> 81.805348 | W27: =(((V27^2-N27^2)^0.5*X27/U27)^2+N27^2)^0.5 -> 202.67102 | X27: =X28 -> 2044.434 | Y27: =Y$32*F27/F$32*(B$32/B27)^0.5 -> 440.62025 | Z27: =X27*Y27*PI()/30000 -> 94.333548 | AA27: =AC27*(D27/J27)^(1/AD27) -> 1099.0272 | AB27: =AC27*(B27*E27/AC27/H27)^(1/(1+AD27)) -> 721.43249 | AC27: =0.95*Y27*(Z27/D27)^(1/AD27) -> 1794.9109 | AD27: ='limit 480V'!Z25 -> 0.81
A28: =RESUM!C9 -> B41 | B28: =RESUM!C11 -> 540 | C28: =RESUM!C15 -> 75.2 | D28: =E28*$B28*PI()/30000 -> 39.188227 | E28: =(F28*120/$F$9-$S28) -> 693 | F28: =$Q28*$F$21/400 -> 24 | G28: =IF(AC28<$L$13,AC28,$L$13) -> 2354.902 | H28: =IF(U28<X28*0.95,U28,X28*0.95) -> 803.53859 | I28: =MIN(V28:W28) -> 107.99306 | J28: =MIN(Z28,H28*E28*PI()/30000) -> 58.31343 | K28: =IF(E28<M28,E28,M28) -> 693 | L28: =(K28+S28*H28/B28)*$F$9/120 -> 24.439231 | M28: =MIN($L$13,MAX(AB28,AA28)) -> 1441.685 | N28: =RESUM!C32 -> 26.6 | O28: ='driving mode parameters'!C18 -> 0.89883814 | P28: ='driving mode parameters'!C17 -> 0.83682696 | Q28: =RESUM!C16 -> 24 | R28: =RESUM!C12 -> 693 | S28: =Q28*120/$F$9-R28 -> 27 | U28: =B28/((C28^2-N28^2)^0.5)*(V28^2-N28^2)^0.5 -> 803.53859 | V28: =IF(AND($L$24>=20%,$L$24<=80%)=TRUE,((C28^2*0.9-N28^2*(1-$L$24))/$L$24)^0.5,0) -> 107.99306 | W28: =(((V28^2-N28^2)^0.5*X28/U28)^2+N28^2)^0.5 -> 267.62533 | X28: =X29 -> 2044.434 | Y28: =Y$32*F28/F$32*(B$32/B28)^0.5 -> 587.49366 | Z28: =X28*Y28*PI()/30000 -> 125.77806 | AA28: =AC28*(D28/J28)^(1/AD28) -> 1441.685 | AB28: =AC28*(B28*E28/AC28/H28)^(1/(1+AD28)) -> 961.8426 | AC28: =0.95*Y28*(Z28/D28)^(1/AD28) -> 2354.902 | AD28: =AD27 -> 0.81
A29: =RESUM!D9 -> C41 | B29: =RESUM!D11 -> 540 | C29: =RESUM!D15 -> 87.1 | D29: =E29*$B29*PI()/30000 -> 46.030616 | E29: =(F29*120/$F$9-$S29) -> 814 | F29: =$Q29*$F$21/400 -> 28 | G29: =IF(AC29<$L$13,AC29,$L$13) -> 2724.486 | H29: =IF(U29<X29*0.95,U29,X29*0.95) -> 803.34862 | I29: =MIN(V29:W29) -> 124.93703 | J29: =MIN(Z29,H29*E29*PI()/30000) -> 68.478947 | K29: =IF(E29<M29,E29,M29) -> 814 | L29: =(K29+S29*H29/B29)*$F$9/120 -> 28.422658 | M29: =MIN($L$13,MAX(AB29,AA29)) -> 1668.4336 | N29: =RESUM!D32 -> 31.2 | O29: ='driving mode parameters'!D18 -> 0.91232197 | P29: ='driving mode parameters'!D17 -> 0.83610318 | Q29: =RESUM!D16 -> 28 | R29: =RESUM!D12 -> 814 | S29: =Q29*120/$F$9-R29 -> 26 | U29: =B29/((C29^2-N29^2)^0.5)*(V29^2-N29^2)^0.5 -> 803.34862 | V29: =IF(AND($L$24>=20%,$L$24<=80%)=TRUE,((C29^2*0.9-N29^2*(1-$L$24))/$L$24)^0.5,0) -> 124.93703 | W29: =(((V29^2-N29^2)^0.5*X29/U29)^2+N29^2)^0.5 -> 309.45412 | X29: =X30 -> 2044.434 | Y29: =Y$32*F29/F$32*(B$32/B29)^0.5 -> 685.40927 | Z29: =X29*Y29*PI()/30000 -> 146.74107 | AA29: =AC29*(D29/J29)^(1/AD29) -> 1668.4336 | AB29: =AC29*(B29*E29/AC29/H29)^(1/(1+AD29)) -> 1122.2963 | AC29: =0.95*Y29*(Z29/D29)^(1/AD29) -> 2724.486 | AD29: =AD28 -> 0.81
A30: =RESUM!E9 -> D41 | B30: =RESUM!E11 -> 540 | C30: =RESUM!E15 -> 104.9 | D30: =E30*$B30*PI()/30000 -> 56.152827 | E30: =(F30*120/$F$9-$S30) -> 993 | F30: =$Q30*$F$21/400 -> 34 | G30: =IF(AC30<$L$13,AC30,$L$13) -> 3289.5118 | H30: =IF(U30<X30*0.95,U30,X30*0.95) -> 803.37961 | I30: =MIN(V30:W30) -> 150.498 | J30: =MIN(Z30,H30*E30*PI()/30000) -> 83.540808 | K30: =IF(E30<M30,E30,M30) -> 993 | L30: =(K30+S30*H30/B30)*$F$9/120 -> 34.438966 | M30: =MIN($L$13,MAX(AB30,AA30)) -> 2014.3508 | N30: =RESUM!E32 -> 37.5 | O30: ='driving mode parameters'!E18 -> 0.92498435 | P30: ='driving mode parameters'!E17 -> 0.83529741 | Q30: =RESUM!E16 -> 34 | R30: =RESUM!E12 -> 993 | S30: =Q30*120/$F$9-R30 -> 27 | U30: =B30/((C30^2-N30^2)^0.5)*(V30^2-N30^2)^0.5 -> 803.37961 | V30: =IF(AND($L$24>=20%,$L$24<=80%)=TRUE,((C30^2*0.9-N30^2*(1-$L$24))/$L$24)^0.5,0) -> 150.498 | W30: =(((V30^2-N30^2)^0.5*X30/U30)^2+N30^2)^0.5 -> 372.79724 | X30: =X31 -> 2044.434 | Y30: =Y$32*F30/F$32*(B$32/B30)^0.5 -> 832.28269 | Z30: =X30*Y30*PI()/30000 -> 178.18559 | AA30: =AC30*(D30/J30)^(1/AD30) -> 2014.3508 | AB30: =AC30*(B30*E30/AC30/H30)^(1/(1+AD30)) -> 1362.7593 | AC30: =0.95*Y30*(Z30/D30)^(1/AD30) -> 3289.5118 | AD30: =AD29 -> 0.81
A31: =RESUM!F9 -> E41 | B31: =RESUM!F11 -> 540 | C31: =RESUM!F15 -> 116.4 | D31: =E31*$B31*PI()/30000 -> 62.938667 | E31: =(F31*120/$F$9-$S31) -> 1113 | F31: =$Q31*$F$21/400 -> 38 | G31: =IF(AC31<$L$13,AC31,$L$13) -> 3663.5636 | H31: =IF(U31<X31*0.95,U31,X31*0.95) -> 803.60084 | I31: =MIN(V31:W31) -> 167.22338 | J31: =MIN(Z31,H31*E31*PI()/30000) -> 93.662159 | K31: =IF(E31<M31,E31,M31) -> 1113 | L31: =(K31+S31*H31/B31)*$F$9/120 -> 38.439335 | M31: =MIN($L$13,MAX(AB31,AA31)) -> 2242.641 | N31: =RESUM!F32 -> 41 | O31: ='driving mode parameters'!F18 -> 0.93180383 | P31: ='driving mode parameters'!F17 -> 0.8375668 | Q31: =RESUM!F16 -> 38 | R31: =RESUM!F12 -> 1113 | S31: =Q31*120/$F$9-R31 -> 27 | U31: =B31/((C31^2-N31^2)^0.5)*(V31^2-N31^2)^0.5 -> 803.60084 | V31: =IF(AND($L$24>=20%,$L$24<=80%)=TRUE,((C31^2*0.9-N31^2*(1-$L$24))/$L$24)^0.5,0) -> 167.22338 | W31: =(((V31^2-N31^2)^0.5*X31/U31)^2+N31^2)^0.5 -> 414.4791 | X31: =X32 -> 2044.434 | Y31: =Y$32*F31/F$32*(B$32/B31)^0.5 -> 930.1983 | Z31: =X31*Y31*PI()/30000 -> 199.1486 | AA31: =AC31*(D31/J31)^(1/AD31) -> 2242.641 | AB31: =AC31*(B31*E31/AC31/H31)^(1/(1+AD31)) -> 1522.8523 | AC31: =0.95*Y31*(Z31/D31)^(1/AD31) -> 3663.5636 | AD31: =AD30 -> 0.81
A32: =RESUM!G9 -> F41 | B32: =RESUM!G11 -> 540 | C32: =RESUM!G15 -> 130.9 | D32: =E32*$B32*PI()/30000 -> 71.420967 | E32: =(F32*120/$F$9-$S32) -> 1263 | F32: =$Q32*$F$21/400 -> 43 | G32: =IF(AC32<$L$13,AC32,$L$13) -> 4131.2199 | H32: =IF(U32<X32*0.95,U32,X32*0.95) -> 803.79208 | I32: =MIN(V32:W32) -> 188.27625 | J32: =MIN(Z32,H32*E32*PI()/30000) -> 106.31038 | K32: =IF($E$32<$M$32,$E$32,$M$32) -> 1263 | L32: =(K32+S32*H32/B32)*$F$9/120 -> 43.439653 | M32: =MIN($L$13,MAX(AB32,AA32)) -> 2528.1728 | N32: =RESUM!G32 -> 45.5 | O32: ='driving mode parameters'!G18 -> 0.93810347 | P32: ='driving mode parameters'!G17 -> 0.83948844 | Q32: =RESUM!G16 -> 43 | R32: =RESUM!G12 -> 1263 | S32: =Q32*120/$F$9-R32 -> 27 | U32: =B32/((C32^2-N32^2)^0.5)*(V32^2-N32^2)^0.5 -> 803.79208 | V32: =IF(AND($L$24>=20%,$L$24<=80%)=TRUE,((C32^2*0.9-N32^2*(1-$L$24))/$L$24)^0.5,0) -> 188.27625 | W32: =(((V32^2-N32^2)^0.5*X32/U32)^2+N32^2)^0.5 -> 466.90611 | X32: ='limit 480V'!K27*0.95 -> 2044.434 | Y32: ='limit 480V'!I27/'limit 480V'!Y27*M21 -> 1052.5928 | Z32: =X32*Y32*PI()/30000 -> 225.35236 | AA32: =AC32*(D32/J32)^(1/AD32) -> 2528.1728 | AB32: =AC32*(B32*E32/AC32/H32)^(1/(1+AD32)) -> 1723.001 | AC32: =0.95*Y32*(Z32/D32)^(1/AD32) -> 4131.2199 | AD32: =AD31 -> 0.81 | AE32: =AB32*(J32/D32)^(1/2/AD32) -> 2202.5274
A33: =RESUM!H9 -> G41 | B33: =RESUM!H11 -> 540 | C33: =RESUM!H15 -> 149.4 | D33: =E33*$B33*PI()/30000 -> 81.599728 | E33: =(F33*120/$F$9-$S33) -> 1443 | F33: =$Q33*$F$21/400 -> 49 | G33: =IF(AC33<$L$13,AC33,$L$13) -> 4692.4998 | H33: =IF(U33<X33*0.95,U33,X33*0.95) -> 803.2959 | I33: =MIN(V33:W33) -> 214.23183 | J33: =MIN(Z33,H33*E33*PI()/30000) -> 121.38653 | K33: =IF(E33<M33,E33,M33) -> 1443 | L33: =(K33+S33*H33/B33)*$F$9/120 -> 49.438827 | M33: =MIN($L$13,MAX(AB33,AA33)) -> 2873.8479 | N33: =RESUM!H32 -> 53.7 | O33: ='driving mode parameters'!H18 -> 0.94444682 | P33: ='driving mode parameters'!H17 -> 0.83471839 | Q33: =RESUM!H16 -> 49 | R33: =RESUM!H12 -> 1443 | S33: =Q33*120/$F$9-R33 -> 27 | U33: =B33/((C33^2-N33^2)^0.5)*(V33^2-N33^2)^0.5 -> 803.2959 | V33: =IF(AND($L$24>=20%,$L$24<=80%)=TRUE,((C33^2*0.9-N33^2*(1-$L$24))/$L$24)^0.5,0) -> 214.23183 | W33: =(((V33^2-N33^2)^0.5*X33/U33)^2+N33^2)^0.5 -> 530.55002 | X33: =X32 -> 2044.434 | Y33: =Y$32*F33/F$32*(B$32/B33)^0.5 -> 1199.4662 | Z33: =X33*Y33*PI()/30000 -> 256.79688 | AA33: =AC33*(D33/J33)^(1/AD33) -> 2873.8479 | AB33: =AC33*(B33*E33/AC33/H33)^(1/(1+AD33)) -> 1964.0897 | AC33: =0.95*Y33*(Z33/D33)^(1/AD33) -> 4692.4998 | AD33: =AD32 -> 0.81
A34: =RESUM!I9 -> H41 | B34: =RESUM!I11 -> 540 | C34: =RESUM!I15 -> 174.3 | D34: =E34*$B34*PI()/30000 -> 95.227957 | E34: =(F34*120/$F$9-$S34) -> 1684 | F34: =$Q34*$F$21/400 -> 57 | G34: =IF(AC34<$L$13,AC34,$L$13) -> 5436.988 | H34: =IF(U34<X34*0.95,U34,X34*0.95) -> 802.80238 | I34: =MIN(V34:W34) -> 249.19142 | J34: =MIN(Z34,H34*E34*PI()/30000) -> 141.57265 | K34: =IF(E34<M34,E34,M34) -> 1684 | L34: =(K34+S34*H34/B34)*$F$9/120 -> 57.421782 | M34: =MIN($L$13,MAX(AB34,AA34)) -> 3332.3253 | N34: =RESUM!I32 -> 64.6 | O34: ='driving mode parameters'!I18 -> 0.95066195 | P34: ='driving mode parameters'!I17 -> 0.82950756 | Q34: =RESUM!I16 -> 57 | R34: =RESUM!I12 -> 1684 | S34: =Q34*120/$F$9-R34 -> 26 | U34: =B34/((C34^2-N34^2)^0.5)*(V34^2-N34^2)^0.5 -> 802.80238 | V34: =IF(AND($L$24>=20%,$L$24<=80%)=TRUE,((C34^2*0.9-N34^2*(1-$L$24))/$L$24)^0.5,0) -> 249.19142 | W34: =(((V34^2-N34^2)^0.5*X34/U34)^2+N34^2)^0.5 -> 616.29659 | X34: =X33 -> 2044.434 | Y34: =Y$32*F34/F$32*(B$32/B34)^0.5 -> 1395.2974 | Z34: =X34*Y34*PI()/30000 -> 298.7229 | AA34: =AC34*(D34/J34)^(1/AD34) -> 3332.3253 | AB34: =AC34*(B34*E34/AC34/H34)^(1/(1+AD34)) -> 2285.5333 | AC34: =0.95*Y34*(Z34/D34)^(1/AD34) -> 5436.988 | AD34: =AD33 -> 0.81
A35: =RESUM!J9 -> I41 | B35: =RESUM!J11 -> 540 | C35: =RESUM!J15 -> 208.9 | D35: =E35*$B35*PI()/30000 -> 115.52893 | E35: =(F35*120/$F$9-$S35) -> 2043 | F35: =$Q35*$F$21/400 -> 69 | G35: =IF(AC35<$L$13,AC35,$L$13) -> 6500 | H35: =IF(U35<X35*0.95,U35,X35*0.95) -> 803.27251 | I35: =MIN(V35:W35) -> 299.50904 | J35: =MIN(Z35,H35*E35*PI()/30000) -> 171.8541 | K35: =IF(E35<M35,E35,M35) -> 2043 | L35: =(K35+S35*H35/B35)*$F$9/120 -> 69.438788 | M35: =MIN($L$13,MAX(AB35,AA35)) -> 4020.0585 | N35: =RESUM!J32 -> 75.2 | O35: ='driving mode parameters'!J18 -> 0.95670493 | P35: ='driving mode parameters'!J17 -> 0.83436038 | Q35: =RESUM!J16 -> 69 | R35: =RESUM!J12 -> 2043 | S35: =Q35*120/$F$9-R35 -> 27 | U35: =B35/((C35^2-N35^2)^0.5)*(V35^2-N35^2)^0.5 -> 803.27251 | V35: =IF(AND($L$24>=20%,$L$24<=80%)=TRUE,((C35^2*0.9-N35^2*(1-$L$24))/$L$24)^0.5,0) -> 299.50904 | W35: =(((V35^2-N35^2)^0.5*X35/U35)^2+N35^2)^0.5 -> 741.69347 | X35: =X34 -> 2044.434 | Y35: =Y$32*F35/F$32*(B$32/B35)^0.5 -> 1689.0443 | Z35: =X35*Y35*PI()/30000 -> 361.61193 | AA35: =AC35*(D35/J35)^(1/AD35) -> 4020.0585 | AB35: =AC35*(B35*E35/AC35/H35)^(1/(1+AD35)) -> 2765.8035 | AC35: =0.95*Y35*(Z35/D35)^(1/AD35) -> 6563.8288 | AD35: =AD34 -> 0.81
A36: =RESUM!K9 -> F42 | B36: =RESUM!K11 -> 520 | C36: =RESUM!K15 -> 219.3 | D36: =E36*$B36*PI()/30000 -> 121.1063 | E36: =(F36*120/$F$9-$S36) -> 2224 | F36: =$Q36*$F$21/400 -> 75 | G36: =IF(AC36<$L$13,AC36,$L$13) -> 6500 | H36: =IF(U36<X36*0.95,U36,X36*0.95) -> 773.2418 | I36: =MIN(V36:W36) -> 313.86599 | J36: =MIN(Z36,H36*E36*PI()/30000) -> 180.08549 | K36: =IF(E36<M36,E36,M36) -> 2224 | L36: =(K36+S36*H36/B36)*$F$9/120 -> 75.42207 | M36: =MIN($L$13,MAX(AB36,AA36)) -> 4768.4661 | N36: =RESUM!K32 -> 80.4 | O36: ='driving mode parameters'!K18 -> 0.95945345 | P36: ='driving mode parameters'!K17 -> 0.83077532 | Q36: =RESUM!K16 -> 75 | R36: =RESUM!K12 -> 2224 | S36: =Q36*120/$F$9-R36 -> 26 | U36: =B36/((C36^2-N36^2)^0.5)*(V36^2-N36^2)^0.5 -> 773.2418 | V36: =IF(AND($L$24>=20%,$L$24<=80%)=TRUE,((C36^2*0.9-N36^2*(1-$L$24))/$L$24)^0.5,0) -> 313.86599 | W36: =(((V36^2-N36^2)^0.5*X36/U36)^2+N36^2)^0.5 -> 806.18513 | X36: =X35 -> 2044.434 | Y36: =Y$32*F36/F$32*(B$32/B36)^0.5 -> 1870.8907 | Z36: =X36*Y36*PI()/30000 -> 400.54391 | AA36: =AC36*(D36/J36)^(1/AD36) -> 4768.4661 | AB36: =AC36*(B36*E36/AC36/H36)^(1/(1+AD36)) -> 3128.7511 | AC36: =0.95*Y36*(Z36/D36)^(1/AD36) -> 7782.3282 | AD36: =AD35 -> 0.81
A37: =RESUM!L9 -> G42 | B37: =RESUM!L11 -> 500 | C37: =RESUM!L15 -> 242.9 | D37: =E37*$B37*PI()/30000 -> 133.77949 | E37: =(F37*120/$F$9-$S37) -> 2555 | F37: =$Q37*$F$21/400 -> 86 | G37: =IF(AC37<$L$13,AC37,$L$13) -> 6500 | H37: =IF(U37<X37*0.95,U37,X37*0.95) -> 743.07774 | I37: =MIN(V37:W37) -> 346.68797 | J37: =MIN(Z37,H37*E37*PI()/30000) -> 198.81712 | K37: =IF(E37<M37,E37,M37) -> 2555 | L37: =(K37+S37*H37/B37)*$F$9/120 -> 86.40513 | M37: =MIN($L$13,MAX(AB37,AA37)) -> 5986.467 | N37: =RESUM!L32 -> 91.5 | O37: ='driving mode parameters'!L18 -> 0.96300125 | P37: ='driving mode parameters'!L17 -> 0.82549518 | Q37: =RESUM!L16 -> 86 | R37: =RESUM!L12 -> 2555 | S37: =Q37*120/$F$9-R37 -> 25 | U37: =B37/((C37^2-N37^2)^0.5)*(V37^2-N37^2)^0.5 -> 743.07774 | V37: =IF(AND($L$24>=20%,$L$24<=80%)=TRUE,((C37^2*0.9-N37^2*(1-$L$24))/$L$24)^0.5,0) -> 346.68797 | W37: =(((V37^2-N37^2)^0.5*X37/U37)^2+N37^2)^0.5 -> 924.56285 | X37: =X36 -> 2044.434 | Y37: =Y$32*F37/F$32*(B$32/B37)^0.5 -> 2187.7731 | Z37: =X37*Y37*PI()/30000 -> 468.38609 | AA37: =AC37*(D37/J37)^(1/AD37) -> 5986.467 | AB37: =AC37*(B37*E37/AC37/H37)^(1/(1+AD37)) -> 3740.0071 | AC37: =0.95*Y37*(Z37/D37)^(1/AD37) -> 9763.2765 | AD37: =AD36 -> 0.81
A38: =RESUM!M9 -> H42 | B38: =RESUM!M11 -> 480 | C38: =RESUM!M15 -> 274.6 | D38: =E38*$B38*PI()/30000 -> 149.59008 | E38: =(F38*120/$F$9-$S38) -> 2976 | F38: =$Q38*$F$21/400 -> 100 | G38: =IF(AC38<$L$13,AC38,$L$13) -> 6500 | H38: =IF(U38<X38*0.95,U38,X38*0.95) -> 712.31346 | I38: =MIN(V38:W38) -> 389.24492 | J38: =MIN(Z38,H38*E38*PI()/30000) -> 221.98964 | K38: =IF(E38<M38,E38,M38) -> 2976 | L38: =(K38+S38*H38/B38)*$F$9/120 -> 100.38719 | M38: =MIN($L$13,MAX(AB38,AA38)) -> 6500 | N38: =RESUM!M32 -> 110 | O38: ='driving mode parameters'!M18 -> 0.96589488 | P38: ='driving mode parameters'!M17 -> 0.81405129 | Q38: =RESUM!M16 -> 100 | R38: =RESUM!M12 -> 2976 | S38: =Q38*120/$F$9-R38 -> 24 | U38: =B38/((C38^2-N38^2)^0.5)*(V38^2-N38^2)^0.5 -> 712.31346 | V38: =IF(AND($L$24>=20%,$L$24<=80%)=TRUE,((C38^2*0.9-N38^2*(1-$L$24))/$L$24)^0.5,0) -> 389.24492 | W38: =(((V38^2-N38^2)^0.5*X38/U38)^2+N38^2)^0.5 -> 1077.2769 | X38: =X37 -> 2044.434 | Y38: =Y$32*F38/F$32*(B$32/B38)^0.5 -> 2596.3797 | Z38: =X38*Y38*PI()/30000 -> 555.86576 | AA38: =AC38*(D38/J38)^(1/AD38) -> 7660.137 | AB38: =AC38*(B38*E38/AC38/H38)^(1/(1+AD38)) -> 4543.4287 | AC38: =0.95*Y38*(Z38/D38)^(1/AD38) -> 12470.343 | AD38: =AD37 -> 0.81
A39: =RESUM!N9 -> 0 | B39: =RESUM!N11 -> 0 | C39: =RESUM!N15 -> 0 | D39: =E39*$B39*PI()/30000 -> 0 | E39: =(F39*120/$F$9-$S39) -> 0 | F39: =$Q39*$F$21/400 -> 0 | G39: =IF(AC39<$L$13,AC39,$L$13) -> #DIV/0! | H39: =IF(U39<X39*0.95,U39,X39*0.95) -> #DIV/0! | I39: =MIN(V39:W39) -> #DIV/0! | J39: =MIN(Z39,H39*E39*PI()/30000) -> #DIV/0! | K39: =IF(E39<M39,E39,M39) -> #DIV/0! | L39: =(K39+S39*H39/B39)*$F$9/120 -> #DIV/0! | M39: =MIN($L$13,MAX(AB39,AA39)) -> #DIV/0! | N39: =RESUM!N32 -> 0 | O39: ='driving mode parameters'!N18 -> #DIV/0! | P39: ='driving mode parameters'!N17 -> #DIV/0! | Q39: =RESUM!N16 -> 0 | R39: =RESUM!N12 -> 0 | S39: =Q39*120/$F$9-R39 -> 0 | U39: =B39/((C39^2-N39^2)^0.5)*(V39^2-N39^2)^0.5 -> #DIV/0! | V39: =IF(AND($L$24>=20%,$L$24<=80%)=TRUE,((C39^2*0.9-N39^2*(1-$L$24))/$L$24)^0.5,0) -> 0 | W39: =(((V39^2-N39^2)^0.5*X39/U39)^2+N39^2)^0.5 -> #DIV/0! | X39: =X38 -> 2044.434 | Y39: =Y$32*F39/F$32*(B$32/B39)^0.5 -> #DIV/0! | Z39: =X39*Y39*PI()/30000 -> #DIV/0! | AA39: =AC39*(D39/J39)^(1/AD39) -> #DIV/0! | AB39: =AC39*(B39*E39/AC39/H39)^(1/(1+AD39)) -> #DIV/0! | AC39: =0.95*Y39*(Z39/D39)^(1/AD39) -> #DIV/0! | AD39: =AD38 -> 0.81
A40: =RESUM!O9 -> 0 | B40: =RESUM!O11 -> 0 | C40: =RESUM!O15 -> 0 | D40: =E40*$B40*PI()/30000 -> 0 | E40: =(F40*120/$F$9-$S40) -> 0 | F40: =$Q40*$F$21/400 -> 0 | G40: =IF(AC40<$L$13,AC40,$L$13) -> #DIV/0! | H40: =IF(U40<X40*0.95,U40,X40*0.95) -> #DIV/0! | I40: =MIN(V40:W40) -> #DIV/0! | J40: =MIN(Z40,H40*E40*PI()/30000) -> #DIV/0! | K40: =IF(E40<M40,E40,M40) -> #DIV/0! | L40: =(K40+S40*H40/B40)*$F$9/120 -> #DIV/0! | M40: =MIN($L$13,MAX(AB40,AA40)) -> #DIV/0! | N40: =RESUM!O32 -> 0 | O40: ='driving mode parameters'!O18 -> #DIV/0! | P40: ='driving mode parameters'!O17 -> #DIV/0! | Q40: =RESUM!O16 -> 0 | R40: =RESUM!O12 -> 0 | S40: =Q40*120/$F$9-R40 -> 0 | U40: =B40/((C40^2-N40^2)^0.5)*(V40^2-N40^2)^0.5 -> #DIV/0! | V40: =IF(AND($L$24>=20%,$L$24<=80%)=TRUE,((C40^2*0.9-N40^2*(1-$L$24))/$L$24)^0.5,0) -> 0 | W40: =(((V40^2-N40^2)^0.5*X40/U40)^2+N40^2)^0.5 -> #DIV/0! | X40: =X39 -> 2044.434 | Y40: =Y$32*F40/F$32*(B$32/B40)^0.5 -> #DIV/0! | Z40: =X40*Y40*PI()/30000 -> #DIV/0! | AA40: =AC40*(D40/J40)^(1/AD40) -> #DIV/0! | AB40: =AC40*(B40*E40/AC40/H40)^(1/(1+AD40)) -> #DIV/0! | AC40: =0.95*Y40*(Z40/D40)^(1/AD40) -> #DIV/0! | AD40: =AD39 -> 0.81
A41: Otras Velocidades disponibles bajo consulta / Other speeds available on request | H41: La tensión para el servicio S6 es mayor que Vb / Voltage for S6 duty is bigger than Vb
A72: Elabora: | E72: Revisa: | K72: Aprueba:
...

Sheet driving mode parameters
H2: =RESUM!G2 -> MAC QT 160 P
H4: Parámetros modo motor / Driving mode parameters
N5: Fecha - Date | O5: =RESUM!O5 -> 45239
B8: =RESUM!B8 -> MAC QT 160 P | C8: =RESUM!C8 -> MAC QT 160 P | D8: =RESUM!D8 -> MAC QT 160 P | E8: =RESUM!E8 -> MAC QT 160 P | F8: =RESUM!F8 -> MAC QT 160 P | G8: =RESUM!G8 -> MAC QT 160 P | H8: =RESUM!H8 -> MAC QT 160 P | I8: =RESUM!I8 -> MAC QT 160 P | ... O8: =RESUM!O8 -> MAC QT 160 P
B9: =RESUM!B9 -> A41 | C9: =RESUM!C9 -> B41 | D9: =RESUM!D9 -> C41 | E9: =RESUM!E9 -> D41 | F9: =RESUM!F9 -> E41 | G9: =RESUM!G9 -> F41 | H9: =RESUM!H9 -> G41 | I9: =RESUM!I9 -> H41 | ... O9: =RESUM!O9 -> 0
A10: Poles | B10: =RESUM!B10 -> 4 | C10: =RESUM!C10 -> 4 | D10: =RESUM!D10 -> 4 | E10: =RESUM!E10 -> 4 | F10: =RESUM!F10 -> 4 | G10: =RESUM!G10 -> 4 | H10: =RESUM!H10 -> 4 | I10: =RESUM!I10 -> 4 | ... O10: =RESUM!O10 -> 4
A11: Nm | B11: =RESUM!B11 -> 540 | C11: =RESUM!C11 -> 540 | D11: =RESUM!D11 -> 540 | E11: =RESUM!E11 -> 540 | F11: =RESUM!F11 -> 540 | G11: =RESUM!G11 -> 540 | H11: =RESUM!H11 -> 540 | I11: =RESUM!I11 -> 540 | ... O11: =RESUM!O11 -> 0
A12: rpm | B12: ='driving mode datasheet'!E27 -> 513 | C12: ='driving mode datasheet'!E28 -> 693 | D12: ='driving mode datasheet'!E29 -> 814 | E12: ='driving mode datasheet'!E30 -> 993 | F12: ='driving mode datasheet'!E31 -> 1113 | G12: ='driving mode datasheet'!E32 -> 1263 | H12: ='driving mode datasheet'!E33 -> 1443 | I12: ='driving mode datasheet'!E34 -> 1684 | J12: ='driving mode datasheet'!E35 -> 2043 | K12: ='driving mode datasheet'!E36 -> 2224 | L12: ='driving mode datasheet'!E37 -> 2555 | M12: ='driving mode datasheet'!E38 -> 2976 | N12: ='driving mode datasheet'!E39 -> 0 | O12: ='driving mode datasheet'!E40 -> 0 | U12: =RESUM!C10 -> 4 | V12: =RESUM!D10 -> 4
A13: KW | B13: =B11*B12*PI()/30000 -> 29.009467 | C13: =C11*C12*PI()/30000 -> 39.188227 | D13: =D11*D12*PI()/30000 -> 46.030616 | E13: =E11*E12*PI()/30000 -> 56.152827 | F13: =F11*F12*PI()/30000 -> 62.938667 | G13: =G11*G12*PI()/30000 -> 71.420967 | H13: =H11*H12*PI()/30000 -> 81.599728 | I13: =I11*I12*PI()/30000 -> 95.227957 | ... O13: =O11*O12*PI()/30000 -> 0
A14: V | B14: ='driving mode datasheet'!F21 -> 400 | C14: =B14 -> 400 | D14: =C14 -> 400 | E14: =D14 -> 400 | F14: =E14 -> 400 | G14: =F14 -> 400 | H14: =G14 -> 400 | I14: =H14 -> 400 | J14: =I14 -> 400 | ... O14: =N14 -> 400
A15: A | B15: =RESUM!B15 -> 57 | C15: =RESUM!C15 -> 75.2 | D15: =RESUM!D15 -> 87.1 | E15: =RESUM!E15 -> 104.9 | F15: =RESUM!F15 -> 116.4 | G15: =RESUM!G15 -> 130.9 | H15: =RESUM!H15 -> 149.4 | I15: =RESUM!I15 -> 174.3 | ... O15: =RESUM!O15 -> 0
A16: Hz | B16: ='driving mode datasheet'!F27 -> 18 | C16: ='driving mode datasheet'!F28 -> 24 | D16: ='driving mode datasheet'!F29 -> 28 | E16: ='driving mode datasheet'!F30 -> 34 | F16: ='driving mode datasheet'!F31 -> 38 | G16: ='driving mode datasheet'!F32 -> 43 | H16: ='driving mode datasheet'!F33 -> 49 | I16: ='driving mode datasheet'!F34 -> 57 | J16: ='driving mode datasheet'!F35 -> 69 | K16: ='driving mode datasheet'!F36 -> 75 | L16: ='driving mode datasheet'!F37 -> 86 | M16: ='driving mode datasheet'!F38 -> 100 | N16: ='driving mode datasheet'!F39 -> 0 | O16: ='driving mode datasheet'!F40 -> 0
A17: Cos fi | B17: =B13/B18*1000/B14/B15/3^0.5 -> 0.83959535 | C17: =C13/C18*1000/C14/C15/3^0.5 -> 0.83682696 | D17: =D13/D18*1000/D14/D15/3^0.5 -> 0.83610318 | E17: =E13/E18*1000/E14/E15/3^0.5 -> 0.83529741 | F17: =F13/F18*1000/F14/F15/3^0.5 -> 0.8375668 | G17: =G13/G18*1000/G14/G15/3^0.5 -> 0.83948844 | H17: =H13/H18*1000/H14/H15/3^0.5 -> 0.83471839 | I17: =I13/I18*1000/I14/I15/3^0.5 -> 0.82950756 | ... O17: =O13/O18*1000/O14/O15/3^0.5 -> #DIV/0!
A18: Rend / eff. | B18: =B13*1000/(B13*1000+3*B23/1000*B15^2+3*B24/1000*(B15^2-B32^2)+3*(2*PI()*B16*B28/1000*B32)^2/B25) -> 0.87493188 | C18: =C13*1000/(C13*1000+3*C23/1000*C15^2+3*C24/1000*(C15^2-C32^2)+3*(2*PI()*C16*C28/1000*C32)^2/C25) -> 0.89883814 | D18: =D13*1000/(D13*1000+3*D23/1000*D15^2+3*D24/1000*(D15^2-D32^2)+3*(2*PI()*D16*D28/1000*D32)^2/D25) -> 0.91232197 | E18: =E13*1000/(E13*1000+3*E23/1000*E15^2+3*E24/1000*(E15^2-E32^2)+3*(2*PI()*E16*E28/1000*E32)^2/E25) -> 0.92498435 | F18: =F13*1000/(F13*1000+3*F23/1000*F15^2+3*F24/1000*(F15^2-F32^2)+3*(2*PI()*F16*F28/1000*F32)^2/F25) -> 0.93180383 | G18: =G13*1000/(G13*1000+3*G23/1000*G15^2+3*G24/1000*(G15^2-G32^2)+3*(2*PI()*G16*G28/1000*G32)^2/G25) -> 0.93810347 | H18: =H13*1000/(H13*1000+3*H23/1000*H15^2+3*H24/1000*(H15^2-H32^2)+3*(2*PI()*H16*H28/1000*H32)^2/H25) -> 0.94444682 | I18: =I13*1000/(I13*1000+3*I23/1000*I15^2+3*I24/1000*(I15^2-I32^2)+3*(2*PI()*I16*I28/1000*I32)^2/I25) -> 0.95066195 | ... O18: =O13*1000/(O13*1000+3*O23/1000*O15^2+3*O24/1000*(O15^2-O32^2)+3*(2*PI()*O16*O28/1000*O32)^2/O25) -> #DIV/0!
A19: J (Kg m2) | B19: =RESUM!B19 -> 0.462632 | C19: =RESUM!C19 -> 0.462632 | D19: =RESUM!D19 -> 0.462632 | E19: =RESUM!E19 -> 0.462632 | F19: =RESUM!F19 -> 0.462632 | G19: =RESUM!G19 -> 0.462632 | H19: =RESUM!H19 -> 0.462632 | I19: =RESUM!I19 -> 0.462632 | ... O19: =RESUM!O19 -> 0
B20: ESQUEMA EQUIVALENTE POR FASE EN ESTRELLA / PHASE STAR EQUIVALENT SCHEMA
B21: =RESUM!B21 -> MAC QT 160 P | C21: =RESUM!C21 -> MAC QT 160 P | D21: =RESUM!D21 -> MAC QT 160 P | E21: =RESUM!E21 -> MAC QT 160 P | F21: =RESUM!F21 -> MAC QT 160 P | G21: =RESUM!G21 -> MAC QT 160 P | H21: =RESUM!H21 -> MAC QT 160 P | I21: =RESUM!I21 -> MAC QT 160 P | ... O21: =RESUM!O21 -> MAC QT 160 P
B22: =RESUM!B22 -> A41 | C22: =RESUM!C22 -> B41 | D22: =RESUM!D22 -> C41 | E22: =RESUM!E22 -> D41 | F22: =RESUM!F22 -> E41 | G22: =RESUM!G22 -> F41 | H22: =RESUM!H22 -> G41 | I22: =RESUM!I22 -> H41 | ... O22: =RESUM!O22 -> 0
A23: Rs (mOhm) | B23: =RESUM!B23 -> 236.0555 | C23: =RESUM!C23 -> 140.72795 | D23: =RESUM!D23 -> 103.83299 | E23: =RESUM!E23 -> 72.046276 | F23: =RESUM!F23 -> 58.106815 | G23: =RESUM!G23 -> 46.147994 | H23: =RESUM!H23 -> 35.181989 | I23: =RESUM!I23 -> 25.693612 | ... O23: =RESUM!O23 -> 0
A24: Rr (mOhm) | B24: =RESUM!B24 -> 187.99062 | C24: =RESUM!C24 -> 113.72272 | D24: =RESUM!D24 -> 83.551388 | E24: =RESUM!E24 -> 58.021797 | F24: =RESUM!F24 -> 46.997656 | G24: =RESUM!G24 -> 37.13395 | H24: =RESUM!H24 -> 28.430681 | I24: =RESUM!I24 -> 20.887847 | ... O24: =RESUM!O24 -> 0
A25: Rfe (Ohm) | B25: =RESUM!B25 -> 518.78894 | C25: =RESUM!C25 -> 406.0518 | D25: =RESUM!D25 -> 342.8588 | E25: =RESUM!E25 -> 278.51907 | F25: =RESUM!F25 -> 246.93159 | G25: =RESUM!G25 -> 215.16473 | H25: =RESUM!H25 -> 182.13632 | I25: =RESUM!I25 -> 149.66889 | ... O25: =RESUM!O25 -> 0
A26: Ls (mH) | B26: =RESUM!B26 -> 2.6453861 | C26: =RESUM!C26 -> 1.6002953 | D26: =RESUM!D26 -> 1.1757272 | E26: =RESUM!E26 -> 0.8164772 | F26: =RESUM!F26 -> 0.66134653 | G26: =RESUM!G26 -> 0.52254541 | H26: =RESUM!H26 -> 0.40007383 | I26: =RESUM!I26 -> 0.29393179 | ... O26: =RESUM!O26 -> 0
A27: Lr (mH) | B27: =RESUM!B27 -> 2.3710549 | C27: =RESUM!C27 -> 1.4802642 | D27: =RESUM!D27 -> 1.0868623 | E27: =RESUM!E27 -> 0.75253935 | F27: =RESUM!F27 -> 0.60742838 | G27: =RESUM!G27 -> 0.47831092 | H27: =RESUM!H27 -> 0.36797283 | I27: =RESUM!I27 -> 0.27171656 | ... O27: =RESUM!O27 -> 0
A28: Lm (mH) | B28: =RESUM!B28 -> 89.840416 | C28: =RESUM!C28 -> 53.097233 | D28: =RESUM!D28 -> 39.098763 | E28: =RESUM!E28 -> 27.026582 | F28: =RESUM!F28 -> 22.149052 | G28: =RESUM!G28 -> 17.724785 | H28: =RESUM!H28 -> 13.214172 | I28: =RESUM!I28 -> 9.4503213 | ... O28: =RESUM!O28 -> 0
A29: Ts (s) | B29: =RESUM!B29 -> 0.39179685 | C29: =RESUM!C29 -> 0.38867564 | D29: =RESUM!D29 -> 0.38787761 | E29: =RESUM!E29 -> 0.38646077 | F29: =RESUM!F29 -> 0.39255978 | G29: =RESUM!G29 -> 0.39540897 | H29: =RESUM!H29 -> 0.38696635 | I29: =RESUM!I29 -> 0.37924809 | ... O29: =RESUM!O29 -> 0
A30: Tr (s) | B30: =RESUM!B30 -> 0.49051101 | C30: =RESUM!C30 -> 0.47991725 | D30: =RESUM!D30 -> 0.48096897 | E30: =RESUM!E30 -> 0.47877044 | F30: =RESUM!F30 -> 0.48420458 | G30: =RESUM!G30 -> 0.4902009 | H30: =RESUM!H30 -> 0.47772844 | I30: =RESUM!I30 -> 0.46543992 | ... O30: =RESUM!O30 -> 0
A31: Kt | B31: =RESUM!B31 -> 138.4387 | C31: =RESUM!C31 -> 107.67455 | D31: =RESUM!D31 -> 92.292467 | E31: =RESUM!E31 -> 76.91039 | F31: =RESUM!F31 -> 69.219351 | G31: =RESUM!G31 -> 61.528312 | H31: =RESUM!H31 -> 53.837273 | I31: =RESUM!I31 -> 46.146234 | ... O31: =RESUM!O31 -> 0
A32: Im (A/fase) | B32: =RESUM!B32 -> 20.3 | C32: =RESUM!C32 -> 26.6 | D32: =RESUM!D32 -> 31.2 | E32: =RESUM!E32 -> 37.5 | F32: =RESUM!F32 -> 41 | G32: =RESUM!G32 -> 45.5 | H32: =RESUM!H32 -> 53.7 | I32: =RESUM!I32 -> 64.6 | ... O32: =RESUM!O32 -> 0
B33: =RESUM!B33 -> 0 | C33: =RESUM!C33 -> 0 | D33: =RESUM!D33 -> 0 | E33: =RESUM!E33 -> 0 | F33: =RESUM!F33 -> 0 | G33: =RESUM!G33 -> 0 | H33: =RESUM!H33 -> 0 | I33: =RESUM!I33 -> 0 | ... O33: =RESUM!O33 -> 0
A61: s rpm | B61: =B16*120/B10-B12 -> 27 | C61: =C16*120/U12-C12 -> 27 | D61: =D16*120/V12-D12 -> 26 | E61: =E16*120/E10-E12 -> 27 | F61: =F16*120/F10-F12 -> 27 | G61: =G16*120/G10-G12 -> 27 | H61: =H16*120/H10-H12 -> 27 | I61: =I16*120/I10-I12 -> 26 | J61: =J16*120/J10-J12 -> 27 | K61: =K16*120/K10-K12 -> 26 | L61: =L16*120/L10-L12 -> 25 | M61: =M16*120/M10-M12 -> 24
A62: MODO GENERADOR a fnom
A63: E | B63: =2*PI()*B16*B28/1000*B32 -> 206.26245 | C63: =2*PI()*C16*C28/1000*C32 -> 212.98285 | D63: =2*PI()*D16*D28/1000*D32 -> 214.61275 | E63: =2*PI()*E16*E28/1000*E32 -> 216.51161 | F63: =2*PI()*F16*F28/1000*F32 -> 216.82156 | G63: =2*PI()*G16*G28/1000*G32 -> 217.8917 | H63: =2*PI()*H16*H28/1000*H32 -> 218.46919 | I63: =2*PI()*I16*I28/1000*I32 -> 218.64211 | ... M63: =2*PI()*M16*M28/1000*M32 -> 220.87106
A64: urq | B64: =B23/1000*(B15^2-B32^2)^0.5 -> 12.572942 | C64: =C23/1000*(C15^2-C32^2)^0.5 -> 9.8985687 | D64: =D23/1000*(D15^2-D32^2)^0.5 -> 8.443716 | E64: =E23/1000*(E15^2-E32^2)^0.5 -> 7.058241 | F64: =F23/1000*(F15^2-F32^2)^0.5 -> 6.3301661 | G64: =G23/1000*(G15^2-G32^2)^0.5 -> 5.6641018 | H64: =H23/1000*(H15^2-H32^2)^0.5 -> 4.9049131 | I64: =I23/1000*(I15^2-I32^2)^0.5 -> 4.1594561 | ... M64: =M23/1000*(M15^2-M32^2)^0.5 -> 2.1548818
A65: urd | B65: =B23/1000*B32 -> 4.7919267 | C65: =C23/1000*C32 -> 3.7433636 | D65: =D23/1000*D32 -> 3.2395891 | E65: =E23/1000*E32 -> 2.7017354 | F65: =F23/1000*F32 -> 2.3823794 | G65: =G23/1000*G32 -> 2.0997337 | H65: =H23/1000*H32 -> 1.8892728 | I65: =I23/1000*I32 -> 1.6598073 | ... M65: =M23/1000*M32 -> 0.9420991
A66: exd | B66: =2*PI()*B16*B26/1000*B32 -> 6.0734783 | C66: =2*PI()*C16*C26/1000*C32 -> 6.4190813 | D66: =2*PI()*D16*D26/1000*D32 -> 6.4535554 | E66: =2*PI()*E16*E26/1000*E32 -> 6.5408488 | F66: =2*PI()*F16*F26/1000*F32 -> 6.4740552 | G66: =2*PI()*G16*G26/1000*G32 -> 6.4236779 | H66: =2*PI()*H16*H26/1000*H32 -> 6.6143988 | I66: =2*PI()*I16*I26/1000*I32 -> 6.8003897 | ... M66: =2*PI()*M16*M26/1000*M32 -> 6.7717023
A67: exq | B67: =2*PI()*B16*B26/1000*(B15^2-B32^2)^0.5 -> 15.935446 | C67: =2*PI()*C16*C26/1000*(C15^2-C32^2)^0.5 -> 16.973964 | D67: =2*PI()*D16*D26/1000*(D15^2-D32^2)^0.5 -> 16.820648 | E67: =2*PI()*E16*E26/1000*(E15^2-E32^2)^0.5 -> 17.087864 | F67: =2*PI()*F16*F26/1000*(F15^2-F32^2)^0.5 -> 17.202065 | G67: =2*PI()*G16*G26/1000*(G15^2-G32^2)^0.5 -> 17.328086 | H67: =2*PI()*H16*H26/1000*(H15^2-H32^2)^0.5 -> 17.172243 | I67: =2*PI()*I16*I26/1000*(I15^2-I32^2)^0.5 -> 17.04169 | ... M67: =2*PI()*M16*M26/1000*(M15^2-M32^2)^0.5 -> 15.489048
A68: Vq | B68: =B63+B66-B64 -> 199.76298 | C68: =C63+C66-C64 -> 209.50336 | D68: =D63+D66-D64 -> 212.62258 | E68: =E63+E66-E64 -> 215.99422 | F68: =F63+F66-F64 -> 216.96545 | G68: =G63+G66-G64 -> 218.65128 | H68: =H63+H66-H64 -> 220.17867 | I68: =I63+I66-I64 -> 221.28305 | ... M68: =M63+M66-M64 -> 225.48788
A69: Vd | B69: =B65-B67 -> -11.143519 | C69: =C65-C67 -> -13.2306 | D69: =D65-D67 -> -13.581059 | E69: =E65-E67 -> -14.386129 | F69: =F65-F67 -> -14.819685 | G69: =G65-G67 -> -15.228352 | H69: =H65-H67 -> -15.28297 | I69: =I65-I67 -> -15.381883 | ... M69: =M65-M67 -> -14.546949
A70: V | B70: =3^0.5*(B68^2+B69^2)^0.5 -> 346.53756 | C70: =3^0.5*(C68^2+C69^2)^0.5 -> 363.59335 | D70: =3^0.5*(D68^2+D69^2)^0.5 -> 369.02361 | E70: =3^0.5*(E68^2+E69^2)^0.5 -> 374.94184 | F70: =3^0.5*(F68^2+F69^2)^0.5 -> 376.67079 | G70: =3^0.5*(G68^2+G69^2)^0.5 -> 379.63253 | H70: =3^0.5*(H68^2+H69^2)^0.5 -> 382.27824 | I70: =3^0.5*(I68^2+I69^2)^0.5 -> 384.19835 | ... M70: =3^0.5*(M68^2+M69^2)^0.5 -> 391.36837
A72: Correcció a | B72: =B14 -> 400
...

Sheet absorbing mode datasheet
L1: Codigo | M1: =RESUM!O2 -> DT-QT 160 P
D2: =RESUM!G2 -> MAC QT 160 P | L2: Edición | M2: ='driving mode datasheet'!M2 -> 06
D3: - Hoja de Datos Técnicos Modo Generador - | L3: Página | M3: ='driving mode datasheet'!M3 -> 1 de 3
D4: - Absorbing Mode Technical Datasheet - | L4: Fecha | M4: ='driving mode datasheet'!M4 -> 45239
A7: Ventilador / Fan | E7: Rodamientos | G7: Delantero | H7: ='driving mode datasheet'!H7 -> 6012 ZZ C3 | J7: ='driving mode datasheet'!J7 -> Trasero | M7: ='driving mode datasheet'!M7 -> 6010 ZZ C3
A8: Tipo de Refrigeración | C8: ='driving mode datasheet'!C8 -> IC 06 | E8: Bearings | G8: Drive End | J8: ='driving mode datasheet'!J8 -> Non Drive End
A9: Cooling Mode | E9: Nº de polos | F9: ='driving mode datasheet'!F9 -> 4 | G9: Momento de inercia | I9: ='driving mode datasheet'!I9 -> 0.462632 | K9: Peso Motor | M9: ='driving mode datasheet'!M9 -> 387 | P9: ='driving mode datasheet'!P9 -> 400V 50Hz
A10: Alimentación / Supply | E10: No of poles | G10: Rotor Inertia | K10: Motor Weight | P10: ='driving mode datasheet'!P10 -> 480V 60Hz | Q10: 1
A11: Potencia / Power | C11: =IF($Q$10=1,P11,IF($Q$10=2,Q11,"")) -> 1,50 kW | E11: Protección | G11: ='driving mode datasheet'!G11 -> IP 23 | H11: Construcción | J11: ='driving mode datasheet'!J11 -> IM B3 | K11: standard | L11: Equilibrado grado | N11: ='driving mode datasheet'!N11 -> B | P11: ='driving mode datasheet'!P11 -> 1,50 kW | Q11: ='driving mode datasheet'!Q11 -> 1,8 kW
A12: Corriente / Current | C12: =IF($Q$10=1,P12,IF($Q$10=2,Q12,"")) -> 3.1A | E12: Protection Degree | H12: Mounting | J12: ='driving mode datasheet'!J12 -> IM B35 | K12: on request | L12: Balancing degree | P12: ='driving mode datasheet'!P12 -> 3.1A | Q12: ='driving mode datasheet'!Q12 -> 3.0 A
A13: Velocidad / Speed | C13: =IF($Q$10=1,P13,IF($Q$10=2,Q13,"")) -> 2850 rpm | E13: Nivel de ruido | G13: ='driving mode datasheet'!G13 -> < 80 dB | I13: Velocidad máxima mecánica | L13: ='driving mode datasheet'!L13 -> 6500 | P13: ='driving mode datasheet'!P13 -> 2850 rpm | Q13: ='driving mode datasheet'!Q13 -> 3420 rpm
A14: Caudal / Air flow | C14: =IF($Q$10=1,P14,IF($Q$10=2,Q14,"")) -> 2170 m3/h | E14: Noise Level | I14: Max. Mechanical Speed | P14: ='driving mode datasheet'!P14 -> 2170 m3/h | Q14: ='driving mode datasheet'!Q14 -> 2170 m3/h
A15: Presión / Pressure | C15: =IF($Q$10=1,P15,IF($Q$10=2,Q15,"")) -> 1625 Pa | E15: Aislamiento | F15: ='driving mode datasheet'!F15 -> Cl. H | G15: Incremento Temperatura | I15: ='driving mode datasheet'!I15 -> Cl. F | J15: Termistores | K15: ='driving mode datasheet'!K15 -> PTC155º C | L15: Termómetros | N15: ='driving mode datasheet'!N15 -> 3xPt100 | P15: ='driving mode datasheet'!P15 -> 1625 Pa | Q15: ='driving mode datasheet'!Q15 -> 1625 Pa
A16: Por favor, indicar en los pedidos la alimentación deseada para el ventilador / Please indicate the required fan supply voltage when placing your order | E16: Insulation | G16: Temperature Rise | J16: Thermistors | L16: Thermometers
E17: Ambiente | F17: ='driving mode datasheet'!F17 -> < 40 ºC < 1000 m | I17: Conmutación Variador | K17: ='driving mode datasheet'!K17 -> 4 kHz ; IVIC C/B acc. EN60034-25
E18: Ambient | I18: Inverter Switching
A19: Normas de referencia | C19: EN60034 | D19: Sondas rodamientos | F19: 2 x Pt100 | G19: Alojamientos de los rodamientos eléctricamente aislados | K19: Anillo SGR de puesta a tierra del eje en NDE
A20: Reference Standards | D20: Bearing Probes | G20: Electrically insulated bearing housings | K20: SGR shaft grounding rings on NDE
A21: Tensión de Base del Motor | E21: Vb ± 5% | F21: 400 | H21: Tensión Máxima de Salida del Convertidor | L21: Vc | M21: 400
A22: Motor Base Voltage | H22: Inverter max. Output Voltage
F23: =IF(F21>500," Vb ha de ser / must be < 500 V"," ") | G23: =IF(M21>500," Vc ha de ser / must be < 500 V"," ") | N23: =IF(M21<F21,"Vc ha de ser / must be > Vb"," ")
B24: Servicio / Service | F24: S1 | H24: Servicio / Service S6 - | L24: 0.4 | M24: =IF(L24>80%,"max 80%","")
M25: =IF(L24<20%,"min 20%","")
A26: Bobinado Winding | B26: Nm | C26: A ± 2% | D26: KW | E26: rpm | F26: Hz | G26: Velocidad a Pot.Cte Const. Power Speed. (rpm) | H26: Nm | I26: A ± 5% | J26: KW | K26: rpm | L26: Hz | M26: Velocidad a Pot.Cte Const. Power Speed. (rpm) | N26: Corriente en vacio No Load Current (A) | O26: eff | P26: cos fi | Q26: Hz | R26: rpm | S26: rpm llisc. | U26: Nm S6 | V26: A S6 | W26: Alim | X26: Nm lim | Y26: rpm lim | Z26: KW lim | AA26: rpm lim KW s6 | AB26: rpm lim Nm s6 | AC26: rpm lim s1 | AD26: Coef
A27: =RESUM!B9 -> A41 | B27: =RESUM!B11 -> 540 | C27: =RESUM!B15 -> 57 | D27: =E27*$B27*PI()/30000 -> 37.152475 | E27: =(F27*120/$F$9-$S27) -> 657 | F27: =$Q27*$F$21/'driving mode datasheet'!$F$21 -> 21 | G27: =IF(AC27<$L$13,AC27,$L$13) -> 1866.3289 | H27: =IF(U27<X27*0.95,U27,X27*0.95) -> 803.4367 | I27: =MIN(V27:W27) -> 81.805348 | J27: =MIN(Z27,H27*E27*PI()/30000) -> 55.277151 | K27: =MIN(E27,M27) -> 657 | L27: =(K27+S27*H27/B27)*$F$9/120 -> 20.560939 | M27: =MIN($L$13,MAX(AB27,AA27)) -> 1142.7566 | N27: =RESUM!B32 -> 20.3 | O27: ='driving mode parameters'!B81 -> 0.88349211 | P27: ='driving mode parameters'!B82 -> 0.83117974 | Q27: ='driving mode parameters'!B75 -> 21 | R27: ='driving mode parameters'!B76 -> 657 | S27: =Q27*120/$F$9-R27 -> -27 | U27: =B27/((C27^2-N27^2)^0.5)*(V27^2-N27^2)^0.5 -> 803.4367 | V27: =IF(AND($L$24>=20%,$L$24<=80%)=TRUE,((C27^2*0.9-N27^2*(1-$L$24))/$L$24)^0.5,0) -> 81.805348 | W27: =(((V27^2-N27^2)^0.5*X27/U27)^2+N27^2)^0.5 -> 202.67102 | X27: =X28 -> 2044.434 | Y27: ='driving mode datasheet'!Y27*$M$21/'driving mode datasheet'!$M$21*F27/'driving mode datasheet'!F27*'driving mode datasheet'!F$21/'absorbing mode datasheet'!F$21 -> 514.05695 | Z27: =X27*Y27*PI()/30000 -> 110.05581 | AA27: =AC27*(D27/J27)^(1/AD27) -> 1142.7566 | AB27: =AC27*(B27*E27/AC27/H27)^(1/(1+AD27)) -> 841.67123 | AC27: =0.95*Y27*(Z27/D27)^(1/AD27) -> 1866.3289 | AD27: ='limit 480V'!Z25 -> 0.81
A28: =RESUM!C9 -> B41 | B28: =RESUM!C11 -> 540 | C28: =RESUM!C15 -> 75.2 | D28: =E28*$B28*PI()/30000 -> 45.634775 | E28: =(F28*120/$F$9-$S28) -> 807 | F28: =$Q28*$F$21/'driving mode datasheet'!$F$21 -> 26 | G28: =IF(AC28<$L$13,AC28,$L$13) -> 2333.4389 | H28: =IF(U28<X28*0.95,U28,X28*0.95) -> 803.53859 | I28: =MIN(V28:W28) -> 107.99306 | J28: =MIN(Z28,H28*E28*PI()/30000) -> 67.906116 | K28: =IF(E28<M28,E28,M28) -> 807 | L28: =(K28+S28*H28/B28)*$F$9/120 -> 25.560769 | M28: =MIN($L$13,MAX(AB28,AA28)) -> 1428.5452 | N28: =RESUM!C32 -> 26.6 | O28: ='driving mode parameters'!C81 -> 0.89961587 | P28: ='driving mode parameters'!C82 -> 0.78797885 | Q28: ='driving mode parameters'!C75 -> 26 | R28: ='driving mode parameters'!C76 -> 807 | S28: =Q28*120/$F$9-R28 -> -27 | U28: =B28/((C28^2-N28^2)^0.5)*(V28^2-N28^2)^0.5 -> 803.53859 | V28: =IF(AND($L$24>=20%,$L$24<=80%)=TRUE,((C28^2*0.9-N28^2*(1-$L$24))/$L$24)^0.5,0) -> 107.99306 | W28: =(((V28^2-N28^2)^0.5*X28/U28)^2+N28^2)^0.5 -> 267.62533 | X28: =X29 -> 2044.434 | Y28: ='driving mode datasheet'!Y28*$M$21/'driving mode datasheet'!$M$21*F28/'driving mode datasheet'!F28*'driving mode datasheet'!F$21/'absorbing mode datasheet'!F$21 -> 636.45147 | Z28: =X28*Y28*PI()/30000 -> 136.25957 | AA28: =AC28*(D28/J28)^(1/AD28) -> 1428.5452 | AB28: =AC28*(B28*E28/AC28/H28)^(1/(1+AD28)) -> 1041.9961 | AC28: =0.95*Y28*(Z28/D28)^(1/AD28) -> 2333.4389 | AD28: =AD27 -> 0.81
A29: =RESUM!D9 -> C41 | B29: =RESUM!D11 -> 540 | C29: =RESUM!D15 -> 87.1 | D29: =E29*$B29*PI()/30000 -> 52.364066 | E29: =(F29*120/$F$9-$S29) -> 926 | F29: =$Q29*$F$21/'driving mode datasheet'!$F$21 -> 30 | G29: =IF(AC29<$L$13,AC29,$L$13) -> 2710.9419 | H29: =IF(U29<X29*0.95,U29,X29*0.95) -> 803.34862 | I29: =MIN(V29:W29) -> 124.93703 | J29: =MIN(Z29,H29*E29*PI()/30000) -> 77.901112 | K29: =IF(E29<M29,E29,M29) -> 926 | L29: =(K29+S29*H29/B29)*$F$9/120 -> 29.577342 | M29: =MIN($L$13,MAX(AB29,AA29)) -> 1660.1393 | N29: =RESUM!D32 -> 31.2 | O29: ='driving mode parameters'!D81 -> 0.91226356 | P29: ='driving mode parameters'!D82 -> 0.79161665 | Q29: ='driving mode parameters'!D75 -> 30 | R29: ='driving mode parameters'!D76 -> 926 | S29: =Q29*120/$F$9-R29 -> -26 | U29: =B29/((C29^2-N29^2)^0.5)*(V29^2-N29^2)^0.5 -> 803.34862 | V29: =IF(AND($L$24>=20%,$L$24<=80%)=TRUE,((C29^2*0.9-N29^2*(1-$L$24))/$L$24)^0.5,0) -> 124.93703 | W29: =(((V29^2-N29^2)^0.5*X29/U29)^2+N29^2)^0.5 -> 309.45412 | X29: =X30 -> 2044.434 | Y29: ='driving mode datasheet'!Y29*$M$21/'driving mode datasheet'!$M$21*F29/'driving mode datasheet'!F29*'driving mode datasheet'!F$21/'absorbing mode datasheet'!F$21 -> 734.36708 | Z29: =X29*Y29*PI()/30000 -> 157.22258 | AA29: =AC29*(D29/J29)^(1/AD29) -> 1660.1393 | AB29: =AC29*(B29*E29/AC29/H29)^(1/(1+AD29)) -> 1202.4603 | AC29: =0.95*Y29*(Z29/D29)^(1/AD29) -> 2710.9419 | AD29: =AD28 -> 0.81
A30: =RESUM!E9 -> D41 | B30: =RESUM!E11 -> 540 | C30: =RESUM!E15 -> 104.9 | D30: =E30*$B30*PI()/30000 -> 62.599375 | E30: =(F30*120/$F$9-$S30) -> 1107 | F30: =$Q30*$F$21/'driving mode datasheet'!$F$21 -> 36 | G30: =IF(AC30<$L$13,AC30,$L$13) -> 3268.3747 | H30: =IF(U30<X30*0.95,U30,X30*0.95) -> 803.37961 | I30: =MIN(V30:W30) -> 150.498 | J30: =MIN(Z30,H30*E30*PI()/30000) -> 93.131596 | K30: =IF(E30<M30,E30,M30) -> 1107 | L30: =(K30+S30*H30/B30)*$F$9/120 -> 35.561034 | M30: =MIN($L$13,MAX(AB30,AA30)) -> 2001.4073 | N30: =RESUM!E32 -> 37.5 | O30: ='driving mode parameters'!E81 -> 0.9245407 | P30: ='driving mode parameters'!E82 -> 0.79634256 | Q30: ='driving mode parameters'!E75 -> 36 | R30: ='driving mode parameters'!E76 -> 1107 | S30: =Q30*120/$F$9-R30 -> -27 | U30: =B30/((C30^2-N30^2)^0.5)*(V30^2-N30^2)^0.5 -> 803.37961 | V30: =IF(AND($L$24>=20%,$L$24<=80%)=TRUE,((C30^2*0.9-N30^2*(1-$L$24))/$L$24)^0.5,0) -> 150.498 | W30: =(((V30^2-N30^2)^0.5*X30/U30)^2+N30^2)^0.5 -> 372.79724 | X30: =X31 -> 2044.434 | Y30: ='driving mode datasheet'!Y30*$M$21/'driving mode datasheet'!$M$21*F30/'driving mode datasheet'!F30*'driving mode datasheet'!F$21/'absorbing mode datasheet'!F$21 -> 881.24049 | Z30: =X30*Y30*PI()/30000 -> 188.6671 | AA30: =AC30*(D30/J30)^(1/AD30) -> 2001.4073 | AB30: =AC30*(B30*E30/AC30/H30)^(1/(1+AD30)) -> 1442.9216 | AC30: =0.95*Y30*(Z30/D30)^(1/AD30) -> 3268.3747 | AD30: =AD29 -> 0.81
A31: =RESUM!F9 -> E41 | B31: =RESUM!F11 -> 540 | C31: =RESUM!F15 -> 116.4 | D31: =E31*$B31*PI()/30000 -> 69.385215 | E31: =(F31*120/$F$9-$S31) -> 1227 | F31: =$Q31*$F$21/'driving mode datasheet'!$F$21 -> 40 | G31: =IF(AC31<$L$13,AC31,$L$13) -> 3642.4923 | H31: =IF(U31<X31*0.95,U31,X31*0.95) -> 803.60084 | I31: =MIN(V31:W31) -> 167.22338 | J31: =MIN(Z31,H31*E31*PI()/30000) -> 103.25559 | K31: =IF(E31<M31,E31,M31) -> 1227 | L31: =(K31+S31*H31/B31)*$F$9/120 -> 39.560665 | M31: =MIN($L$13,MAX(AB31,AA31)) -> 2229.7423 | N31: =RESUM!F32 -> 41 | O31: ='driving mode parameters'!F81 -> 0.93112008 | P31: ='driving mode parameters'!F82 -> 0.80112269 | Q31: ='driving mode parameters'!F75 -> 40 | R31: ='driving mode parameters'!F76 -> 1227 | S31: =Q31*120/$F$9-R31 -> -27 | U31: =B31/((C31^2-N31^2)^0.5)*(V31^2-N31^2)^0.5 -> 803.60084 | V31: =IF(AND($L$24>=20%,$L$24<=80%)=TRUE,((C31^2*0.9-N31^2*(1-$L$24))/$L$24)^0.5,0) -> 167.22338 | W31: =(((V31^2-N31^2)^0.5*X31/U31)^2+N31^2)^0.5 -> 414.4791 | X31: =X32 -> 2044.434 | Y31: ='driving mode datasheet'!Y31*$M$21/'driving mode datasheet'!$M$21*F31/'driving mode datasheet'!F31*'driving mode datasheet'!F$21/'absorbing mode datasheet'!F$21 -> 979.1561 | Z31: =X31*Y31*PI()/30000 -> 209.63011 | AA31: =AC31*(D31/J31)^(1/AD31) -> 2229.7423 | AB31: =AC31*(B31*E31/AC31/H31)^(1/(1+AD31)) -> 1603.0024 | AC31: =0.95*Y31*(Z31/D31)^(1/AD31) -> 3642.4923 | AD31: =AD30 -> 0.81
A32: =RESUM!G9 -> F41 | B32: =RESUM!G11 -> 540 | C32: =RESUM!G15 -> 130.9 | D32: =E32*$B32*PI()/30000 -> 77.867516 | E32: =(F32*120/$F$9-$S32) -> 1377 | F32: =$Q32*$F$21/'driving mode datasheet'!$F$21 -> 45 | G32: =IF(AC32<$L$13,AC32,$L$13) -> 4110.207 | H32: =IF(U32<X32*0.95,U32,X32*0.95) -> 803.79208 | I32: =MIN(V32:W32) -> 188.27625 | J32: =MIN(Z32,H32*E32*PI()/30000) -> 115.9061 | K32: =IF($E$32<$M$32,$E$32,$M$32) -> 1377 | L32: =(K32+S32*H32/B32)*$F$9/120 -> 44.560347 | M32: =MIN($L$13,MAX(AB32,AA32)) -> 2515.3136 | N32: =RESUM!G32 -> 45.5 | O32: ='driving mode parameters'!G81 -> 0.93726106 | P32: ='driving mode parameters'!G82 -> 0.80474193 | Q32: ='driving mode parameters'!G75 -> 45 | R32: ='driving mode parameters'!G76 -> 1377 | S32: =Q32*120/$F$9-R32 -> -27 | U32: =B32/((C32^2-N32^2)^0.5)*(V32^2-N32^2)^0.5 -> 803.79208 | V32: =IF(AND($L$24>=20%,$L$24<=80%)=TRUE,((C32^2*0.9-N32^2*(1-$L$24))/$L$24)^0.5,0) -> 188.27625 | W32: =(((V32^2-N32^2)^0.5*X32/U32)^2+N32^2)^0.5 -> 466.90611 | X32: ='limit 480V'!K27*0.95 -> 2044.434 | Y32: ='driving mode datasheet'!Y32*$M$21/'driving mode datasheet'!$M$21*F32/'driving mode datasheet'!F32*'driving mode datasheet'!F$21/'absorbing mode datasheet'!F$21 -> 1101.5506 | Z32: =X32*Y32*PI()/30000 -> 235.83387 | AA32: =AC32*(D32/J32)^(1/AD32) -> 2515.3136 | AB32: =AC32*(B32*E32/AC32/H32)^(1/(1+AD32)) -> 1803.1406 | AC32: =0.95*Y32*(Z32/D32)^(1/AD32) -> 4110.207 | AD32: =AD31 -> 0.81 | AE32: =AB32*(J32/D32)^(1/2/AD32) -> 2304.9705
A33: =RESUM!H9 -> G41 | B33: =RESUM!H11 -> 540 | C33: =RESUM!H15 -> 149.4 | D33: =E33*$B33*PI()/30000 -> 88.046276 | E33: =(F33*120/$F$9-$S33) -> 1557 | F33: =$Q33*$F$21/'driving mode datasheet'!$F$21 -> 51 | G33: =IF(AC33<$L$13,AC33,$L$13) -> 4671.5351 | H33: =IF(U33<X33*0.95,U33,X33*0.95) -> 803.2959 | I33: =MIN(V33:W33) -> 214.23183 | J33: =MIN(Z33,H33*E33*PI()/30000) -> 130.97632 | K33: =IF(E33<M33,E33,M33) -> 1557 | L33: =(K33+S33*H33/B33)*$F$9/120 -> 50.561173 | M33: =MIN($L$13,MAX(AB33,AA33)) -> 2861.0084 | N33: =RESUM!H32 -> 53.7 | O33: ='driving mode parameters'!H81 -> 0.94350306 | P33: ='driving mode parameters'!H82 -> 0.8025703 | Q33: ='driving mode parameters'!H75 -> 51 | R33: ='driving mode parameters'!H76 -> 1557 | S33: =Q33*120/$F$9-R33 -> -27 | U33: =B33/((C33^2-N33^2)^0.5)*(V33^2-N33^2)^0.5 -> 803.2959 | V33: =IF(AND($L$24>=20%,$L$24<=80%)=TRUE,((C33^2*0.9-N33^2*(1-$L$24))/$L$24)^0.5,0) -> 214.23183 | W33: =(((V33^2-N33^2)^0.5*X33/U33)^2+N33^2)^0.5 -> 530.55002 | X33: =X32 -> 2044.434 | Y33: ='driving mode datasheet'!Y33*$M$21/'driving mode datasheet'!$M$21*F33/'driving mode datasheet'!F33*'driving mode datasheet'!F$21/'absorbing mode datasheet'!F$21 -> 1248.424 | Z33: =X33*Y33*PI()/30000 -> 267.27839 | AA33: =AC33*(D33/J33)^(1/AD33) -> 2861.0084 | AB33: =AC33*(B33*E33/AC33/H33)^(1/(1+AD33)) -> 2044.2566 | AC33: =0.95*Y33*(Z33/D33)^(1/AD33) -> 4671.5351 | AD33: =AD32 -> 0.81
A34: =RESUM!I9 -> H41 | B34: =RESUM!I11 -> 540 | C34: =RESUM!I15 -> 174.3 | D34: =E34*$B34*PI()/30000 -> 101.56141 | E34: =(F34*120/$F$9-$S34) -> 1796 | F34: =$Q34*$F$21/'driving mode datasheet'!$F$21 -> 59 | G34: =IF(AC34<$L$13,AC34,$L$13) -> 5423.7803 | H34: =IF(U34<X34*0.95,U34,X34*0.95) -> 802.80238 | I34: =MIN(V34:W34) -> 249.19142 | J34: =MIN(Z34,H34*E34*PI()/30000) -> 150.98841 | K34: =IF(E34<M34,E34,M34) -> 1796 | L34: =(K34+S34*H34/B34)*$F$9/120 -> 58.578218 | M34: =MIN($L$13,MAX(AB34,AA34)) -> 3324.2303 | N34: =RESUM!I32 -> 64.6 | O34: ='driving mode parameters'!I81 -> 0.94956115 | P34: ='driving mode parameters'!I82 -> 0.79860797 | Q34: ='driving mode parameters'!I75 -> 59 | R34: ='driving mode parameters'!I76 -> 1796 | S34: =Q34*120/$F$9-R34 -> -26 | U34: =B34/((C34^2-N34^2)^0.5)*(V34^2-N34^2)^0.5 -> 802.80238 | V34: =IF(AND($L$24>=20%,$L$24<=80%)=TRUE,((C34^2*0.9-N34^2*(1-$L$24))/$L$24)^0.5,0) -> 249.19142 | W34: =(((V34^2-N34^2)^0.5*X34/U34)^2+N34^2)^0.5 -> 616.29659 | X34: =X33 -> 2044.434 | Y34: ='driving mode datasheet'!Y34*$M$21/'driving mode datasheet'!$M$21*F34/'driving mode datasheet'!F34*'driving mode datasheet'!F$21/'absorbing mode datasheet'!F$21 -> 1444.2553 | Z34: =X34*Y34*PI()/30000 -> 309.20441 | AA34: =AC34*(D34/J34)^(1/AD34) -> 3324.2303 | AB34: =AC34*(B34*E34/AC34/H34)^(1/(1+AD34)) -> 2365.7275 | AC34: =0.95*Y34*(Z34/D34)^(1/AD34) -> 5423.7803 | AD34: =AD33 -> 0.81
A35: =RESUM!J9 -> I41 | B35: =RESUM!J11 -> 540 | C35: =RESUM!J15 -> 208.9 | D35: =E35*$B35*PI()/30000 -> 121.97548 | E35: =(F35*120/$F$9-$S35) -> 2157 | F35: =$Q35*$F$21/'driving mode datasheet'!$F$21 -> 71 | G35: =IF(AC35<$L$13,AC35,$L$13) -> 6500 | H35: =IF(U35<X35*0.95,U35,X35*0.95) -> 803.27251 | I35: =MIN(V35:W35) -> 299.50904 | J35: =MIN(Z35,H35*E35*PI()/30000) -> 181.44361 | K35: =IF(E35<M35,E35,M35) -> 2157 | L35: =(K35+S35*H35/B35)*$F$9/120 -> 70.561212 | M35: =MIN($L$13,MAX(AB35,AA35)) -> 4007.2681 | N35: =RESUM!J32 -> 75.2 | O35: ='driving mode parameters'!J81 -> 0.95562716 | P35: ='driving mode parameters'!J82 -> 0.80538206 | Q35: ='driving mode parameters'!J75 -> 71 | R35: ='driving mode parameters'!J76 -> 2157 | S35: =Q35*120/$F$9-R35 -> -27 | U35: =B35/((C35^2-N35^2)^0.5)*(V35^2-N35^2)^0.5 -> 803.27251 | V35: =IF(AND($L$24>=20%,$L$24<=80%)=TRUE,((C35^2*0.9-N35^2*(1-$L$24))/$L$24)^0.5,0) -> 299.50904 | W35: =(((V35^2-N35^2)^0.5*X35/U35)^2+N35^2)^0.5 -> 741.69347 | X35: =X34 -> 2044.434 | Y35: ='driving mode datasheet'!Y35*$M$21/'driving mode datasheet'!$M$21*F35/'driving mode datasheet'!F35*'driving mode datasheet'!F$21/'absorbing mode datasheet'!F$21 -> 1738.0021 | Z35: =X35*Y35*PI()/30000 -> 372.09344 | AA35: =AC35*(D35/J35)^(1/AD35) -> 4007.2681 | AB35: =AC35*(B35*E35/AC35/H35)^(1/(1+AD35)) -> 2845.9717 | AC35: =0.95*Y35*(Z35/D35)^(1/AD35) -> 6542.945 | AD35: =AD34 -> 0.81
A36: =RESUM!K9 -> F42 | B36: =RESUM!K11 -> 520 | C36: =RESUM!K15 -> 219.3 | D36: =E36*$B36*PI()/30000 -> 127.20518 | E36: =(F36*120/$F$9-$S36) -> 2336 | F36: =$Q36*$F$21/'driving mode datasheet'!$F$21 -> 77 | G36: =IF(AC36<$L$13,AC36,$L$13) -> 6500 | H36: =IF(U36<X36*0.95,U36,X36*0.95) -> 773.2418 | I36: =MIN(V36:W36) -> 313.86599 | J36: =MIN(Z36,H36*E36*PI()/30000) -> 189.15455 | K36: =IF(E36<M36,E36,M36) -> 2336 | L36: =(K36+S36*H36/B36)*$F$9/120 -> 76.57793 | M36: =MIN($L$13,MAX(AB36,AA36)) -> 4759.6534 | N36: =RESUM!K32 -> 80.4 | O36: ='driving mode parameters'!K81 -> 0.95830957 | P36: ='driving mode parameters'!K82 -> 0.80232694 | Q36: ='driving mode parameters'!K75 -> 77 | R36: ='driving mode parameters'!K76 -> 2336 | S36: =Q36*120/$F$9-R36 -> -26 | U36: =B36/((C36^2-N36^2)^0.5)*(V36^2-N36^2)^0.5 -> 773.2418 | V36: =IF(AND($L$24>=20%,$L$24<=80%)=TRUE,((C36^2*0.9-N36^2*(1-$L$24))/$L$24)^0.5,0) -> 313.86599 | W36: =(((V36^2-N36^2)^0.5*X36/U36)^2+N36^2)^0.5 -> 806.18513 | X36: =X35 -> 2044.434 | Y36: ='driving mode datasheet'!Y36*$M$21/'driving mode datasheet'!$M$21*F36/'driving mode datasheet'!F36*'driving mode datasheet'!F$21/'absorbing mode datasheet'!F$21 -> 1920.7811 | Z36: =X36*Y36*PI()/30000 -> 411.22508 | AA36: =AC36*(D36/J36)^(1/AD36) -> 4759.6534 | AB36: =AC36*(B36*E36/AC36/H36)^(1/(1+AD36)) -> 3212.1844 | AC36: =0.95*Y36*(Z36/D36)^(1/AD36) -> 7767.9455 | AD36: =AD35 -> 0.81
A37: =RESUM!L9 -> G42 | B37: =RESUM!L11 -> 500 | C37: =RESUM!L15 -> 242.9 | D37: =E37*$B37*PI()/30000 -> 139.53907 | E37: =(F37*120/$F$9-$S37) -> 2665 | F37: =$Q37*$F$21/'driving mode datasheet'!$F$21 -> 88 | G37: =IF(AC37<$L$13,AC37,$L$13) -> 6500 | H37: =IF(U37<X37*0.95,U37,X37*0.95) -> 743.07774 | I37: =MIN(V37:W37) -> 346.68797 | J37: =MIN(Z37,H37*E37*PI()/30000) -> 207.37676 | K37: =IF(E37<M37,E37,M37) -> 2665 | L37: =(K37+S37*H37/B37)*$F$9/120 -> 87.59487 | M37: =MIN($L$13,MAX(AB37,AA37)) -> 5982.4714 | N37: =RESUM!L32 -> 91.5 | O37: ='driving mode parameters'!L81 -> 0.96182484 | P37: ='driving mode parameters'!L82 -> 0.79752387 | Q37: ='driving mode parameters'!L75 -> 88 | R37: ='driving mode parameters'!L76 -> 2665 | S37: =Q37*120/$F$9-R37 -> -25 | U37: =B37/((C37^2-N37^2)^0.5)*(V37^2-N37^2)^0.5 -> 743.07774 | V37: =IF(AND($L$24>=20%,$L$24<=80%)=TRUE,((C37^2*0.9-N37^2*(1-$L$24))/$L$24)^0.5,0) -> 346.68797 | W37: =(((V37^2-N37^2)^0.5*X37/U37)^2+N37^2)^0.5 -> 924.56285 | X37: =X36 -> 2044.434 | Y37: ='driving mode datasheet'!Y37*$M$21/'driving mode datasheet'!$M$21*F37/'driving mode datasheet'!F37*'driving mode datasheet'!F$21/'absorbing mode datasheet'!F$21 -> 2238.6515 | Z37: =X37*Y37*PI()/30000 -> 479.27879 | AA37: =AC37*(D37/J37)^(1/AD37) -> 5982.4714 | AB37: =AC37*(B37*E37/AC37/H37)^(1/(1+AD37)) -> 3826.984 | AC37: =0.95*Y37*(Z37/D37)^(1/AD37) -> 9756.7601 | AD37: =AD36 -> 0.81
A38: =RESUM!M9 -> H42 | B38: =RESUM!M11 -> 480 | C38: =RESUM!M15 -> 274.6 | D38: =E38*$B38*PI()/30000 -> 155.01875 | E38: =(F38*120/$F$9-$S38) -> 3084 | F38: =$Q38*$F$21/'driving mode datasheet'!$F$21 -> 102 | G38: =IF(AC38<$L$13,AC38,$L$13) -> 6500 | H38: =IF(U38<X38*0.95,U38,X38*0.95) -> 712.31346 | I38: =MIN(V38:W38) -> 389.24492 | J38: =MIN(Z38,H38*E38*PI()/30000) -> 230.04571 | K38: =IF(E38<M38,E38,M38) -> 3084 | L38: =(K38+S38*H38/B38)*$F$9/120 -> 101.61281 | M38: =MIN($L$13,MAX(AB38,AA38)) -> 6500 | N38: =RESUM!M32 -> 110 | O38: ='driving mode parameters'!M81 -> 0.96470033 | P38: ='driving mode parameters'!M82 -> 0.78605964 | Q38: ='driving mode parameters'!M75 -> 102 | R38: ='driving mode parameters'!M76 -> 3084 | S38: =Q38*120/$F$9-R38 -> -24 | U38: =B38/((C38^2-N38^2)^0.5)*(V38^2-N38^2)^0.5 -> 712.31346 | V38: =IF(AND($L$24>=20%,$L$24<=80%)=TRUE,((C38^2*0.9-N38^2*(1-$L$24))/$L$24)^0.5,0) -> 389.24492 | W38: =(((V38^2-N38^2)^0.5*X38/U38)^2+N38^2)^0.5 -> 1077.2769 | X38: =X37 -> 2044.434 | Y38: ='driving mode datasheet'!Y38*$M$21/'driving mode datasheet'!$M$21*F38/'driving mode datasheet'!F38*'driving mode datasheet'!F$21/'absorbing mode datasheet'!F$21 -> 2648.3073 | Z38: =X38*Y38*PI()/30000 -> 566.98308 | AA38: =AC38*(D38/J38)^(1/AD38) -> 7661.9852 | AB38: =AC38*(B38*E38/AC38/H38)^(1/(1+AD38)) -> 4634.2972 | AC38: =0.95*Y38*(Z38/D38)^(1/AD38) -> 12473.352 | AD38: =AD37 -> 0.81
