Workbook

Sheet RESUM
H2: =B21 -> MAC QE 200 P | N2: Codi | O2: DT-QE 200 P
N3: Edició | O3: 06
H4: - Fitxa Tècnica - | N4: Pàgina | O4: 1 de 2
N5: Data | O5: 45244
B8: =B21 -> MAC QE 200 P | C8: =C21 -> MAC QE 200 P | D8: =D21 -> MAC QE 200 P | E8: =E21 -> MAC QE 200 P | F8: =F21 -> MAC QE 200 P | G8: =G21 -> MAC QE 200 P | H8: =H21 -> MAC QE 200 P | I8: =I21 -> MAC QE 200 P | ... O8: =O21 -> 0
B9: =B22 -> A61 | C9: =C22 -> B61 | D9: =D22 -> C61 | E9: =E22 -> D61 | F9: =F22 -> E61 | G9: =G22 -> F61 | H9: =H22 -> G61 | I9: =I22 -> H61 | ... O9: =O22 -> 0
A10: Pols | B10: 6 | C10: =B10 -> 6 | D10: =C10 -> 6 | E10: =D10 -> 6 | F10: =E10 -> 6 | G10: =F10 -> 6 | H10: =G10 -> 6 | I10: =H10 -> 6 | J10: =I10 -> 6 | ... O10: =N10 -> 6
A11: Nm | B11: 705 | C11: 705 | D11: 705 | E11: 705 | F11: 705 | G11: 705 | H11: 705 | I11: 705 | J11: 650 | K11: 600
A12: rpm | B12: 540 | C12: 660 | D12: 780 | E12: 920 | F12: 1140 | G12: 1280 | H12: 1460 | I12: 1700 | J12: 2026.536 | K12: 2287.58
A13: KW | B13: 39.8466 | C13: 48.7014 | D13: 57.5562 | E13: 67.8868 | F13: 84.1206 | G13: 94.4512 | H13: 107.7334 | I13: 125.443 | J13: 137.872 | K13: 143.66002
A14: V | B14: 399.68682 | C14: 399.68682 | D14: 399.68682 | E14: 399.68682 | F14: 399.68682 | G14: 399.68682 | H14: 399.68682 | I14: 399.68682 | J14: 400 | K14: 400
A15: A | B15: 82.933162 | C15: 99.215177 | D15: 114.2232 | E15: 134.94617 | F15: 164.80705 | G15: 185.40753 | H15: 211.95147 | I15: 247.42495 | J15: 270.1745 | K15: 288.62162
A16: Hz | B16: 28 | C16: 34 | D16: 40 | E16: 47 | F16: 58 | G16: 65 | H16: 74 | I16: 86 | J16: 102 | K16: 115
A17: Cos fi | B17: 0.7551 | C17: 0.7619 | D17: 0.7753 | E17: 0.7689 | F17: 0.7746 | G17: 0.7708 | H17: 0.7668 | I17: 0.7628 | J17: 0.7606 | K17: 0.7418
A18: Rend / eff. | B18: 0.9327 | C18: 0.9421 | D18: 0.9485 | E18: 0.9541 | F18: 0.9596 | G18: 0.962 | H18: 0.9645 | I18: 0.9666 | J18: 0.9684 | K18: 0.9685
A19: J (Kg m2) | B19: 1.3150058 | C19: 1.3150058 | D19: 1.3150058 | E19: 1.3150058 | F19: 1.3150058 | G19: 1.3150058 | H19: 1.3150058 | I19: 1.3150058 | J19: 1.3150058 | K19: 1.3150058
B20: ESQUEMA EQUIVALENTE POR FASE EN ESTRELLA / PHASE STAR EQUIVALENT SCHEMA
B21: MAC QE 200 P | C21: MAC QE 200 P | D21: MAC QE 200 P | E21: MAC QE 200 P | F21: MAC QE 200 P | G21: MAC QE 200 P | H21: MAC QE 200 P | I21: MAC QE 200 P | J21: MAC QE 200 P | K21: MAC QE 200 P
B22: A61 | C22: B61 | D22: C61 | E22: D61 | F22: E61 | G22: F61 | H22: G61 | I22: H61 | J22: E62 | K22: F62
A23: Rs (mOhm) | B23: 66.724864 | C23: 45.945448 | D23: 34.278317 | E23: 24.465739 | F23: 16.532384 | G23: 13.185177 | H23: 9.9783457 | I23: 7.4138738 | J23: 5.5107948 | K23: 4.3950591
A24: Rr (mOhm) | B24: 79.917524 | C24: 55.49828 | D24: 41.684734 | E24: 29.845633 | F24: 19.979381 | G24: 15.786099 | H24: 12.086289 | I24: 8.8797249 | J24: 6.6597936 | K24: 5.2620329
A25: Rfe (Ohm) | B25: 296.49103 | C25: 241.92751 | D25: 206.96989 | E25: 167.8842 | F25: 131.21998 | G25: 112.33354 | H25: 93.892757 | I25: 75.996028 | J25: 63.208813 | K25: 53.483251
A26: Ls (mH) | B26: 1.3145781 | C26: 0.91290147 | D26: 0.68567989 | E26: 0.49093634 | F26: 0.32864453 | G26: 0.25966845 | H26: 0.1988096 | I26: 0.14606424 | J26: 0.10954818 | K26: 0.086556151
A27: Lr (mH) | B27: 1.2767794 | C27: 0.87660235 | D27: 0.64592888 | E27: 0.4659158 | F27: 0.30932047 | G27: 0.24554822 | H27: 0.18896213 | I27: 0.13956137 | J27: 0.10525608 | K27: 0.085524032
A28: Lm (mH) | B28: 25.583371 | C28: 17.994328 | D28: 13.827754 | E28: 9.8022781 | F28: 6.6258118 | G28: 5.2040803 | H28: 3.9587351 | I28: 2.8895336 | J28: 2.2234749 | K28: 1.7574929
A29: Ts (s) | B29: 0.40311733 | C29: 0.41151475 | D29: 0.42339985 | E29: 0.42071954 | F29: 0.42065658 | G29: 0.41438569 | H29: 0.41665671 | I29: 0.40944828 | J29: 0.4233551 | K29: 0.4195732
A30: Tr (s) | B30: 0.33609838 | C30: 0.3400273 | D30: 0.34721784 | E30: 0.34404342 | F30: 0.34711447 | G30: 0.34521693 | H30: 0.34317377 | I30: 0.34112487 | J30: 0.34967014 | K30: 0.35024808
A31: Kt | B31: 98.583945 | C31: 82.153287 | D31: 71.198968 | E31: 60.245635 | F31: 49.291972 | G31: 43.814977 | H31: 38.338195 | I31: 32.861315 | J31: 28.458734 | K31: 25.296589
A32: Im (A/fase) | B32: 47.379104 | C32: 55.668351 | D32: 61.730627 | E32: 74.257112 | F32: 89.209428 | G32: 101.43542 | H32: 117.24327 | I32: 138.3227 | J32: 152.62759 | K32: 171.58262

Sheet driving mode datasheet
L1: Codigo | M1: =RESUM!O2 -> DT-QE 200 P
D2: =RESUM!H2 -> MAC QE 200 P | L2: Edición | M2: 06
D3: - Hoja de Datos Técnicos Modo Motor - | L3: Página | M3: 1 de 3
D4: - Driving mode Technical Datasheet - | L4: Fecha | M4: =RESUM!O5 -> 45244
A7: Ventilador / Fan | E7: Rodamientos | G7: Delantero | H7: 6316 ZZ C3 | J7: Trasero | M7: 6312 ZZ C3
A8: Tipo de Refrigeración | C8: IC 416 | E8: Bearings | G8: Drive End | J8: Non Drive End
A9: Cooling Mode | E9: Nº de polos | F9: =RESUM!B10 -> 6 | G9: Momento de inercia | I9: =RESUM!B19 -> 1.3150058 | K9: Peso Motor | M9: 640
A10: Tensión / Voltage | C10: 3 x 400 V | D10: 3 x 460 V | E10: No of poles | G10: Rotor Inertia | K10: Motor Weight
A11: Frec. / Frequency | C11: 50 Hz | D11: 60 Hz | E11: Protección | G11: IP 54 | H11: Construcción | J11: IM B3 | K11: standard | L11: Equilibrado grado | N11: A
A12: Corriente / Current | C12: 2,6 A | D12: 2,6 A | E12: Protection Degree | H12: Mounting | J12: IM B35 | K12: on request | L12: Balancing degree
A13: Velocidad / Speed | C13: 2835 rpm | D13: 3400 rpm | E13: Nivel de ruido | G13: < 87 dB | I13: Velocidad máxima mecánica | L13: 4000
E14: Noise Level | I14: Max. Mechanical Speed
E15: Aislamiento | F15: Cl. H | G15: Incremento Temperatura | I15: Cl. F | J15: Termistor | K15: PTC155º C | L15: Termómetros | N15: 3xPt100
A16: Por favor, indicar en los pedidos la alimentación deseada para el ventilador / Please indicate the required fan supply voltage when placing your order | E16: Insulation | G16: Temperature Rise | J16: Thermistor | L16: Thermometers
E17: Ambiente | F17: < 40 ºC < 1000 m | I17: Conmutación Variador | K17: 4 kHz ; IVIC C/B acc. EN60034-25
E18: Ambient | I18: Inverter Switching
A19: Normas de referencia | C19: EN60034 | E19: Freno de Bloqueo (opcional) | H19: 300 Nm | I19: 24 Vdc | J19: 2.5 A | K19: 60 W | L19: 18 Kg | M19: J = 0.0017 Kg m2
A20: Reference Standards | E20: Holding Brake (optional)
A21: Tensión de Base del Motor | E21: Vb ± 5% | F21: 400 | H21: Tensión Máxima de Salida del Convertidor | L21: Vc | M21: 400
A22: Motor Base Voltage | H22: Inverter max. Output Voltage
F23: =IF(F21>500," Vb ha de ser / must be < 500 V"," ") | G23: =IF(M21>500," Vc ha de ser / must be < 500 V"," ") | N23: =IF(M21<F21,"Vc ha de ser / must be > Vb"," ")
B24: Servicio / Service | F24: S1 | H24: Servicio / Service S6 - | L24: 0.4 | M24: =IF(L24>80%,"max 80%","")
M25: =IF(L24<20%,"min 20%","")
A26: Bobinado Winding | B26: Nm | C26: A ± 2% | D26: KW | E26: rpm | F26: Hz | G26: Velocidad a Pot.Cte Const. Power Speed. (rpm) | H26: Nm | I26: A ± 5% | J26: KW | K26: rpm | L26: Hz | M26: Velocidad a Pot.Cte Const. Power Speed. (rpm) | N26: Corriente en vacio No Load Current (A) | O26: eff | P26: cos fi | Q26: Hz | R26: rpm | S26: rpm llisc. | U26: Nm S6 | V26: A S6 | W26: Alim | X26: Nm lim | Y26: rpm lim | Z26: KW lim | AA26: rpm lim KW s6 | AB26: rpm lim Nm s6 | AC26: rpm lim s1 | AD26: Coef
A27: =RESUM!B9 -> A61 | B27: =RESUM!B11 -> 705 | C27: =RESUM!B15 -> 82.933162 | D27: =E27*$B27*PI()/30000 -> 39.866811 | E27: =(F27*120/$F$9-$S27) -> 540 | F27: =$Q27*$F$21/400 -> 28 | G27: =IF(AC27<$L$13,AC27,$L$13) -> 1969.9355 | H27: =IF(U27<X27*0.95,U27,X27*0.95) -> 1028.6415 | I27: =MIN(V27:W27) -> 110.03693 | J27: =MIN(Z27,H27*E27*PI()/30000) -> 58.168307 | K27: =MIN(E27,M27) -> 540 | L27: =(K27+S27*H27/B27)*$F$9/120 -> 28.459066 | M27: =MIN($L$13,MAX(AB27,AA27)) -> 1288.5407 | N27: =RESUM!B32 -> 47.379104 | O27: ='driving mode parameters'!B18 -> 0.9311516 | P27: ='driving mode parameters'!B17 -> 0.74514752 | Q27: =RESUM!B16 -> 28 | R27: =RESUM!B12 -> 540 | S27: =Q27*120/$F$9-R27 -> 20 | U27: =B27/((C27^2-N27^2)^0.5)*(V27^2-N27^2)^0.5 -> 1028.6415 | V27: =IF(AND($L$24>=20%,$L$24<=80%)=TRUE,((C27^2*0.9-N27^2*(1-$L$24))/$L$24)^0.5,0) -> 110.03693 | W27: =(((V27^2-N27^2)^0.5*X27/U27)^2+N27^2)^0.5 -> 309.4545 | X27: =X28 -> 3167.3633 | Y27: =Y$32*F27/F$32*(B$32/B27)^0.5 -> 459.53003 | Z27: =X27*Y27*PI()/30000 -> 152.41945 | AA27: =AC27*(D27/J27)^(1/AD27) -> 1288.5407 | AB27: =AC27*(B27*E27/AC27/H27)^(1/(1+AD27)) -> 813.30709 | AC27: =0.95*Y27*(Z27/D27)^(1/AD27) -> 1969.9355 | AD27: ='limit 480V'!Z25 -> 0.89
A28: =RESUM!C9 -> B61 | B28: =RESUM!C11 -> 705 | C28: =RESUM!C15 -> 99.215177 | D28: =E28*$B28*PI()/30000 -> 48.726102 | E28: =(F28*120/$F$9-$S28) -> 660 | F28: =$Q28*$F$21/400 -> 34 | G28: =IF(AC28<$L$13,AC28,$L$13) -> 2374.6188 | H28: =IF(U28<X28*0.95,U28,X28*0.95) -> 1030.1527 | I28: =MIN(V28:W28) -> 132.28669 | J28: =MIN(Z28,H28*E28*PI()/30000) -> 71.199041 | K28: =IF(E28<M28,E28,M28) -> 660 | L28: =(K28+S28*H28/B28)*$F$9/120 -> 34.461209 | M28: =MIN($L$13,MAX(AB28,AA28)) -> 1550.6855 | N28: =RESUM!C32 -> 55.668351 | O28: ='driving mode parameters'!C18 -> 0.94113562 | P28: ='driving mode parameters'!C17 -> 0.75320073 | Q28: =RESUM!C16 -> 34 | R28: =RESUM!C12 -> 660 | S28: =Q28*120/$F$9-R28 -> 20 | U28: =B28/((C28^2-N28^2)^0.5)*(V28^2-N28^2)^0.5 -> 1030.1527 | V28: =IF(AND($L$24>=20%,$L$24<=80%)=TRUE,((C28^2*0.9-N28^2*(1-$L$24))/$L$24)^0.5,0) -> 132.28669 | W28: =(((V28^2-N28^2)^0.5*X28/U28)^2+N28^2)^0.5 -> 373.14465 | X28: =X29 -> 3167.3633 | Y28: =Y$32*F28/F$32*(B$32/B28)^0.5 -> 558.00075 | Z28: =X28*Y28*PI()/30000 -> 185.08076 | AA28: =AC28*(D28/J28)^(1/AD28) -> 1550.6855 | AB28: =AC28*(B28*E28/AC28/H28)^(1/(1+AD28)) -> 986.8204 | AC28: =0.95*Y28*(Z28/D28)^(1/AD28) -> 2374.6188 | AD28: =AD27 -> 0.89
A29: =RESUM!D9 -> C61 | B29: =RESUM!D11 -> 705 | C29: =RESUM!D15 -> 114.2232 | D29: =E29*$B29*PI()/30000 -> 57.585393 | E29: =(F29*120/$F$9-$S29) -> 780 | F29: =$Q29*$F$21/400 -> 40 | G29: =IF(AC29<$L$13,AC29,$L$13) -> 2779.4698 | H29: =IF(U29<X29*0.95,U29,X29*0.95) -> 1032.9768 | I29: =MIN(V29:W29) -> 153.75177 | J29: =MIN(Z29,H29*E29*PI()/30000) -> 84.374998 | K29: =IF(E29<M29,E29,M29) -> 780 | L29: =(K29+S29*H29/B29)*$F$9/120 -> 40.465215 | M29: =MIN($L$13,MAX(AB29,AA29)) -> 1809.4886 | N29: =RESUM!D32 -> 61.730627 | O29: ='driving mode parameters'!D18 -> 0.94791987 | P29: ='driving mode parameters'!D17 -> 0.76765446 | Q29: =RESUM!D16 -> 40 | R29: =RESUM!D12 -> 780 | S29: =Q29*120/$F$9-R29 -> 20 | U29: =B29/((C29^2-N29^2)^0.5)*(V29^2-N29^2)^0.5 -> 1032.9768 | V29: =IF(AND($L$24>=20%,$L$24<=80%)=TRUE,((C29^2*0.9-N29^2*(1-$L$24))/$L$24)^0.5,0) -> 153.75177 | W29: =(((V29^2-N29^2)^0.5*X29/U29)^2+N29^2)^0.5 -> 436.16503 | X29: =X30 -> 3167.3633 | Y29: =Y$32*F29/F$32*(B$32/B29)^0.5 -> 656.47147 | Z29: =X29*Y29*PI()/30000 -> 217.74208 | AA29: =AC29*(D29/J29)^(1/AD29) -> 1809.4886 | AB29: =AC29*(B29*E29/AC29/H29)^(1/(1+AD29)) -> 1159.2847 | AC29: =0.95*Y29*(Z29/D29)^(1/AD29) -> 2779.4698 | AD29: =AD28 -> 0.89
A30: =RESUM!E9 -> D61 | B30: =RESUM!E11 -> 705 | C30: =RESUM!E15 -> 134.94617 | D30: =E30*$B30*PI()/30000 -> 67.921233 | E30: =(F30*120/$F$9-$S30) -> 920 | F30: =$Q30*$F$21/400 -> 47 | G30: =IF(AC30<$L$13,AC30,$L$13) -> 3251.9201 | H30: =IF(U30<X30*0.95,U30,X30*0.95) -> 1031.669 | I30: =MIN(V30:W30) -> 180.83798 | J30: =MIN(Z30,H30*E30*PI()/30000) -> 99.393231 | K30: =IF(E30<M30,E30,M30) -> 920 | L30: =(K30+S30*H30/B30)*$F$9/120 -> 47.46336 | M30: =MIN($L$13,MAX(AB30,AA30)) -> 2120.0786 | N30: =RESUM!E32 -> 74.257112 | O30: ='driving mode parameters'!E18 -> 0.95367834 | P30: ='driving mode parameters'!E17 -> 0.76176755 | Q30: =RESUM!E16 -> 47 | R30: =RESUM!E12 -> 920 | S30: =Q30*120/$F$9-R30 -> 20 | U30: =B30/((C30^2-N30^2)^0.5)*(V30^2-N30^2)^0.5 -> 1031.669 | V30: =IF(AND($L$24>=20%,$L$24<=80%)=TRUE,((C30^2*0.9-N30^2*(1-$L$24))/$L$24)^0.5,0) -> 180.83798 | W30: =(((V30^2-N30^2)^0.5*X30/U30)^2+N30^2)^0.5 -> 511.64764 | X30: =X31 -> 3167.3633 | Y30: =Y$32*F30/F$32*(B$32/B30)^0.5 -> 771.35398 | Z30: =X30*Y30*PI()/30000 -> 255.84694 | AA30: =AC30*(D30/J30)^(1/AD30) -> 2120.0786 | AB30: =AC30*(B30*E30/AC30/H30)^(1/(1+AD30)) -> 1363.0729 | AC30: =0.95*Y30*(Z30/D30)^(1/AD30) -> 3251.9201 | AD30: =AD29 -> 0.89
A31: =RESUM!F9 -> E61 | B31: =RESUM!F11 -> 705 | C31: =RESUM!F15 -> 164.80705 | D31: =E31*$B31*PI()/30000 -> 84.163267 | E31: =(F31*120/$F$9-$S31) -> 1140 | F31: =$Q31*$F$21/400 -> 58 | G31: =IF(AC31<$L$13,AC31,$L$13) -> 3994.4986 | H31: =IF(U31<X31*0.95,U31,X31*0.95) -> 1032.8653 | I31: =MIN(V31:W31) -> 221.75569 | J31: =MIN(Z31,H31*E31*PI()/30000) -> 123.304 | K31: =IF(E31<M31,E31,M31) -> 1140 | L31: =(K31+S31*H31/B31)*$F$9/120 -> 58.465057 | M31: =MIN($L$13,MAX(AB31,AA31)) -> 2600.8112 | N31: =RESUM!F32 -> 89.209428 | O31: ='driving mode parameters'!F18 -> 0.95942955 | P31: ='driving mode parameters'!F17 -> 0.76826862 | Q31: =RESUM!F16 -> 58 | R31: =RESUM!F12 -> 1140 | S31: =Q31*120/$F$9-R31 -> 20 | U31: =B31/((C31^2-N31^2)^0.5)*(V31^2-N31^2)^0.5 -> 1032.8653 | V31: =IF(AND($L$24>=20%,$L$24<=80%)=TRUE,((C31^2*0.9-N31^2*(1-$L$24))/$L$24)^0.5,0) -> 221.75569 | W31: =(((V31^2-N31^2)^0.5*X31/U31)^2+N31^2)^0.5 -> 628.93695 | X31: =X32 -> 3167.3633 | Y31: =Y$32*F31/F$32*(B$32/B31)^0.5 -> 951.88364 | Z31: =X31*Y31*PI()/30000 -> 315.72601 | AA31: =AC31*(D31/J31)^(1/AD31) -> 2600.8112 | AB31: =AC31*(B31*E31/AC31/H31)^(1/(1+AD31)) -> 1681.0588 | AC31: =0.95*Y31*(Z31/D31)^(1/AD31) -> 3994.4986 | AD31: =AD30 -> 0.89
A32: =RESUM!G9 -> F61 | B32: =RESUM!G11 -> 705 | C32: =RESUM!G15 -> 185.40753 | D32: =E32*$B32*PI()/30000 -> 94.499107 | E32: =(F32*120/$F$9-$S32) -> 1280 | F32: =$Q32*$F$21/400 -> 65 | G32: =IF(AC32<$L$13,AC32,$L$13) -> 4000 | H32: =IF(U32<X32*0.95,U32,X32*0.95) -> 1032.0987 | I32: =MIN(V32:W32) -> 248.82158 | J32: =MIN(Z32,H32*E32*PI()/30000) -> 138.34384 | K32: =IF($E$32<$M$32,$E$32,$M$32) -> 1280 | L32: =(K32+S32*H32/B32)*$F$9/120 -> 65.46397 | M32: =MIN($L$13,MAX(AB32,AA32)) -> 2910.9544 | N32: =RESUM!G32 -> 101.43542 | O32: ='driving mode parameters'!G18 -> 0.96191261 | P32: ='driving mode parameters'!G17 -> 0.76479334 | Q32: =RESUM!G16 -> 65 | R32: =RESUM!G12 -> 1280 | S32: =Q32*120/$F$9-R32 -> 20 | U32: =B32/((C32^2-N32^2)^0.5)*(V32^2-N32^2)^0.5 -> 1032.0987 | V32: =IF(AND($L$24>=20%,$L$24<=80%)=TRUE,((C32^2*0.9-N32^2*(1-$L$24))/$L$24)^0.5,0) -> 248.82158 | W32: =(((V32^2-N32^2)^0.5*X32/U32)^2+N32^2)^0.5 -> 704.60543 | X32: ='limit 480V'!K27*0.95 -> 3167.3633 | Y32: ='limit 480V'!I27/'limit 480V'!Y27*M21 -> 1066.7661 | Z32: =X32*Y32*PI()/30000 -> 353.83087 | AA32: =AC32*(D32/J32)^(1/AD32) -> 2910.9544 | AB32: =AC32*(B32*E32/AC32/H32)^(1/(1+AD32)) -> 1884.6854 | AC32: =0.95*Y32*(Z32/D32)^(1/AD32) -> 4467.1091 | AD32: =AD31 -> 0.89 | AE32: =AB32*(J32/D32)^(1/2/AD32) -> 2334.7181
A33: =RESUM!H9 -> G61 | B33: =RESUM!H11 -> 705 | C33: =RESUM!H15 -> 211.95147 | D33: =E33*$B33*PI()/30000 -> 107.78804 | E33: =(F33*120/$F$9-$S33) -> 1460 | F33: =$Q33*$F$21/400 -> 74 | G33: =IF(AC33<$L$13,AC33,$L$13) -> 4000 | H33: =IF(U33<X33*0.95,U33,X33*0.95) -> 1031.2722 | I33: =MIN(V33:W33) -> 283.65248 | J33: =MIN(Z33,H33*E33*PI()/30000) -> 157.67207 | K33: =IF(E33<M33,E33,M33) -> 1460 | L33: =(K33+S33*H33/B33)*$F$9/120 -> 74.462797 | M33: =MIN($L$13,MAX(AB33,AA33)) -> 3309.9261 | N33: =RESUM!H32 -> 117.24327 | O33: ='driving mode parameters'!H18 -> 0.9645352 | P33: ='driving mode parameters'!H17 -> 0.76101893 | Q33: =RESUM!H16 -> 74 | R33: =RESUM!H12 -> 1460 | S33: =Q33*120/$F$9-R33 -> 20 | U33: =B33/((C33^2-N33^2)^0.5)*(V33^2-N33^2)^0.5 -> 1031.2722 | V33: =IF(AND($L$24>=20%,$L$24<=80%)=TRUE,((C33^2*0.9-N33^2*(1-$L$24))/$L$24)^0.5,0) -> 283.65248 | W33: =(((V33^2-N33^2)^0.5*X33/U33)^2+N33^2)^0.5 -> 801.9017 | X33: =X32 -> 3167.3633 | Y33: =Y$32*F33/F$32*(B$32/B33)^0.5 -> 1214.4722 | Z33: =X33*Y33*PI()/30000 -> 402.82284 | AA33: =AC33*(D33/J33)^(1/AD33) -> 3309.9261 | AB33: =AC33*(B33*E33/AC33/H33)^(1/(1+AD33)) -> 2146.5516 | AC33: =0.95*Y33*(Z33/D33)^(1/AD33) -> 5074.7949 | AD33: =AD32 -> 0.89
A34: =RESUM!I9 -> H61 | B34: =RESUM!I11 -> 705 | C34: =RESUM!I15 -> 247.42495 | D34: =E34*$B34*PI()/30000 -> 125.50663 | E34: =(F34*120/$F$9-$S34) -> 1700 | F34: =$Q34*$F$21/400 -> 86 | G34: =IF(AC34<$L$13,AC34,$L$13) -> 4000 | H34: =IF(U34<X34*0.95,U34,X34*0.95) -> 1030.4449 | I34: =MIN(V34:W34) -> 330.21696 | J34: =MIN(Z34,H34*E34*PI()/30000) -> 183.44349 | K34: =IF(E34<M34,E34,M34) -> 1700 | L34: =(K34+S34*H34/B34)*$F$9/120 -> 86.461624 | M34: =MIN($L$13,MAX(AB34,AA34)) -> 3841.8887 | N34: =RESUM!I32 -> 138.3227 | O34: ='driving mode parameters'!I18 -> 0.96669457 | P34: ='driving mode parameters'!I17 -> 0.75737901 | Q34: =RESUM!I16 -> 86 | R34: =RESUM!I12 -> 1700 | S34: =Q34*120/$F$9-R34 -> 20 | U34: =B34/((C34^2-N34^2)^0.5)*(V34^2-N34^2)^0.5 -> 1030.4449 | V34: =IF(AND($L$24>=20%,$L$24<=80%)=TRUE,((C34^2*0.9-N34^2*(1-$L$24))/$L$24)^0.5,0) -> 330.21696 | W34: =(((V34^2-N34^2)^0.5*X34/U34)^2+N34^2)^0.5 -> 931.99565 | X34: =X33 -> 3167.3633 | Y34: =Y$32*F34/F$32*(B$32/B34)^0.5 -> 1411.4137 | Z34: =X34*Y34*PI()/30000 -> 468.14546 | AA34: =AC34*(D34/J34)^(1/AD34) -> 3841.8887 | AB34: =AC34*(B34*E34/AC34/H34)^(1/(1+AD34)) -> 2495.7005 | AC34: =0.95*Y34*(Z34/D34)^(1/AD34) -> 5885.0938 | AD34: =AD33 -> 0.89
A35: =RESUM!J9 -> E62 | B35: =RESUM!J11 -> 650 | C35: =RESUM!J15 -> 270.1745 | D35: =E35*$B35*PI()/30000 -> 137.94193 | E35: =(F35*120/$F$9-$S35) -> 2026.536 | F35: =$Q35*$F$21/400 -> 102 | G35: =IF(AC35<$L$13,AC35,$L$13) -> 4000 | H35: =IF(U35<X35*0.95,U35,X35*0.95) -> 949.27128 | I35: =MIN(V35:W35) -> 359.57518 | J35: =MIN(Z35,H35*E35*PI()/30000) -> 201.45279 | K35: =IF(E35<M35,E35,M35) -> 2026.536 | L35: =(K35+S35*H35/B35)*$F$9/120 -> 102.30995 | M35: =MIN($L$13,MAX(AB35,AA35)) -> 4000 | N35: =RESUM!J32 -> 152.62759 | O35: ='driving mode parameters'!J18 -> 0.96878348 | P35: ='driving mode parameters'!J17 -> 0.76068456 | Q35: =RESUM!J16 -> 102 | R35: =RESUM!J12 -> 2026.536 | S35: =Q35*120/$F$9-R35 -> 13.464 | U35: =B35/((C35^2-N35^2)^0.5)*(V35^2-N35^2)^0.5 -> 949.27128 | V35: =IF(AND($L$24>=20%,$L$24<=80%)=TRUE,((C35^2*0.9-N35^2*(1-$L$24))/$L$24)^0.5,0) -> 359.57518 | W35: =(((V35^2-N35^2)^0.5*X35/U35)^2+N35^2)^0.5 -> 1096.9919 | X35: =X34 -> 3167.3633 | Y35: =Y$32*F35/F$32*(B$32/B35)^0.5 -> 1743.3875 | Z35: =X35*Y35*PI()/30000 -> 578.25636 | AA35: =AC35*(D35/J35)^(1/AD35) -> 5415.8281 | AB35: =AC35*(B35*E35/AC35/H35)^(1/(1+AD35)) -> 3219.484 | AC35: =0.95*Y35*(Z35/D35)^(1/AD35) -> 8288.3956 | AD35: =AD34 -> 0.89
A36: =RESUM!K9 -> F62 | B36: =RESUM!K11 -> 600 | C36: =RESUM!K15 -> 288.62162 | D36: =E36*$B36*PI()/30000 -> 143.73289 | E36: =(F36*120/$F$9-$S36) -> 2287.58 | F36: =$Q36*$F$21/400 -> 115 | G36: =IF(AC36<$L$13,AC36,$L$13) -> 4000 | H36: =IF(U36<X36*0.95,U36,X36*0.95) -> 872.24221 | I36: =MIN(V36:W36) -> 378.5097 | J36: =MIN(Z36,H36*E36*PI()/30000) -> 208.94982 | K36: =IF(E36<M36,E36,M36) -> 2287.58 | L36: =(K36+S36*H36/B36)*$F$9/120 -> 115.28177 | M36: =MIN($L$13,MAX(AB36,AA36)) -> 4000 | N36: =RESUM!K32 -> 171.58262 | O36: ='driving mode parameters'!K18 -> 0.96891187 | P36: ='driving mode parameters'!K17 -> 0.74186076 | Q36: =RESUM!K16 -> 115 | R36: =RESUM!K12 -> 2287.58 | S36: =Q36*120/$F$9-R36 -> 12.42 | U36: =B36/((C36^2-N36^2)^0.5)*(V36^2-N36^2)^0.5 -> 872.24221 | V36: =IF(AND($L$24>=20%,$L$24<=80%)=TRUE,((C36^2*0.9-N36^2*(1-$L$24))/$L$24)^0.5,0) -> 378.5097 | W36: =(((V36^2-N36^2)^0.5*X36/U36)^2+N36^2)^0.5 -> 1237.1011 | X36: =X35 -> 3167.3633 | Y36: =Y$32*F36/F$32*(B$32/B36)^0.5 -> 2045.8446 | Z36: =X36*Y36*PI()/30000 -> 678.57701 | AA36: =AC36*(D36/J36)^(1/AD36) -> 7300.9528 | AB36: =AC36*(B36*E36/AC36/H36)^(1/(1+AD36)) -> 3951.0375 | AC36: =0.95*Y36*(Z36/D36)^(1/AD36) -> 11115.984 | AD36: =AD35 -> 0.89
A37: =RESUM!L9 -> 0 | B37: =RESUM!L11 -> 0 | C37: =RESUM!L15 -> 0 | D37: =E37*$B37*PI()/30000 -> 0 | E37: =(F37*120/$F$9-$S37) -> 0 | F37: =$Q37*$F$21/400 -> 0 | G37: =IF(AC37<$L$13,AC37,$L$13) -> #DIV/0! | H37: =IF(U37<X37*0.95,U37,X37*0.95) -> #DIV/0! | I37: =MIN(V37:W37) -> #DIV/0! | J37: =MIN(Z37,H37*E37*PI()/30000) -> #DIV/0! | K37: =IF(E37<M37,E37,M37) -> #DIV/0! | L37: =(K37+S37*H37/B37)*$F$9/120 -> #DIV/0! | M37: =MIN($L$13,MAX(AB37,AA37)) -> #DIV/0! | N37: =RESUM!L32 -> 0 | O37: ='driving mode parameters'!L18 -> #DIV/0! | P37: ='driving mode parameters'!L17 -> #DIV/0! | Q37: =RESUM!L16 -> 0 | R37: =RESUM!L12 -> 0 | S37: =Q37*120/$F$9-R37 -> 0 | U37: =B37/((C37^2-N37^2)^0.5)*(V37^2-N37^2)^0.5 -> #DIV/0! | V37: =IF(AND($L$24>=20%,$L$24<=80%)=TRUE,((C37^2*0.9-N37^2*(1-$L$24))/$L$24)^0.5,0) -> 0 | W37: =(((V37^2-N37^2)^0.5*X37/U37)^2+N37^2)^0.5 -> #DIV/0! | X37: =X36 -> 3167.3633 | Y37: =Y$32*F37/F$32*(B$32/B37)^0.5 -> #DIV/0! | Z37: =X37*Y37*PI()/30000 -> #DIV/0! | AA37: =AC37*(D37/J37)^(1/AD37) -> #DIV/0! | AB37: =AC37*(B37*E37/AC37/H37)^(1/(1+AD37)) -> #DIV/0! | AC37: =0.95*Y37*(Z37/D37)^(1/AD37) -> #DIV/0! | AD37: =AD36 -> 0.89
A38: =RESUM!M9 -> 0 | B38: =RESUM!M11 -> 0 | C38: =RESUM!M15 -> 0 | D38: =E38*$B38*PI()/30000 -> 0 | E38: =(F38*120/$F$9-$S38) -> 0 | F38: =$Q38*$F$21/400 -> 0 | G38: =IF(AC38<$L$13,AC38,$L$13) -> #DIV/0! | H38: =IF(U38<X38*0.95,U38,X38*0.95) -> #DIV/0! | I38: =MIN(V38:W38) -> #DIV/0! | J38: =MIN(Z38,H38*E38*PI()/30000) -> #DIV/0! | K38: =IF(E38<M38,E38,M38) -> #DIV/0! | L38: =(K38+S38*H38/B38)*$F$9/120 -> #DIV/0! | M38: =MIN($L$13,MAX(AB38,AA38)) -> #DIV/0! | N38: =RESUM!M32 -> 0 | O38: ='driving mode parameters'!M18 -> #DIV/0! | P38: ='driving mode parameters'!M17 -> #DIV/0! | Q38: =RESUM!M16 -> 0 | R38: =RESUM!M12 -> 0 | S38: =Q38*120/$F$9-R38 -> 0 | U38: =B38/((C38^2-N38^2)^0.5)*(V38^2-N38^2)^0.5 -> #DIV/0! | V38: =IF(AND($L$24>=20%,$L$24<=80%)=TRUE,((C38^2*0.9-N38^2*(1-$L$24))/$L$24)^0.5,0) -> 0 | W38: =(((V38^2-N38^2)^0.5*X38/U38)^2+N38^2)^0.5 -> #DIV/0! | X38: =X37 -> 3167.3633 | Y38: =Y$32*F38/F$32*(B$32/B38)^0.5 -> #DIV/0! | Z38: =X38*Y38*PI()/30000 -> #DIV/0! | AA38: =AC38*(D38/J38)^(1/AD38) -> #DIV/0! | AB38: =AC38*(B38*E38/AC38/H38)^(1/(1+AD38)) -> #DIV/0! | AC38: =0.95*Y38*(Z38/D38)^(1/AD38) -> #DIV/0! | AD38: =AD37 -> 0.89
A39: =RESUM!N9 -> 0 | B39: =RESUM!N11 -> 0 | C39: =RESUM!N15 -> 0 | D39: =E39*$B39*PI()/30000 -> 0 | E39: =(F39*120/$F$9-$S39) -> 0 | F39: =$Q39*$F$21/400 -> 0 | G39: =IF(AC39<$L$13,AC39,$L$13) -> #DIV/0! | H39: =IF(U39<X39*0.95,U39,X39*0.95) -> #DIV/0! | I39: =MIN(V39:W39) -> #DIV/0! | J39: =MIN(Z39,H39*E39*PI()/30000) -> #DIV/0! | K39: =IF(E39<M39,E39,M39) -> #DIV/0! | L39: =(K39+S39*H39/B39)*$F$9/120 -> #DIV/0! | M39: =MIN($L$13,MAX(AB39,AA39)) -> #DIV/0! | N39: =RESUM!N32 -> 0 | O39: ='driving mode parameters'!N18 -> #DIV/0! | P39: ='driving mode parameters'!N17 -> #DIV/0! | Q39: =RESUM!N16 -> 0 | R39: =RESUM!N12 -> 0 | S39: =Q39*120/$F$9-R39 -> 0 | U39: =B39/((C39^2-N39^2)^0.5)*(V39^2-N39^2)^0.5 -> #DIV/0! | V39: =IF(AND($L$24>=20%,$L$24<=80%)=TRUE,((C39^2*0.9-N39^2*(1-$L$24))/$L$24)^0.5,0) -> 0 | W39: =(((V39^2-N39^2)^0.5*X39/U39)^2+N39^2)^0.5 -> #DIV/0! | X39: =X38 -> 3167.3633 | Y39: =Y$32*F39/F$32*(B$32/B39)^0.5 -> #DIV/0! | Z39: =X39*Y39*PI()/30000 -> #DIV/0! | AA39: =AC39*(D39/J39)^(1/AD39) -> #DIV/0! | AB39: =AC39*(B39*E39/AC39/H39)^(1/(1+AD39)) -> #DIV/0! | AC39: =0.95*Y39*(Z39/D39)^(1/AD39) -> #DIV/0! | AD39: =AD38 -> 0.89
A40: =RESUM!O9 -> 0 | B40: =RESUM!O11 -> 0 | C40: =RESUM!O15 -> 0 | D40: =E40*$B40*PI()/30000 -> 0 | E40: =(F40*120/$F$9-$S40) -> 0 | F40: =$Q40*$F$21/400 -> 0 | G40: =IF(AC40<$L$13,AC40,$L$13) -> #DIV/0! | H40: =IF(U40<X40*0.95,U40,X40*0.95) -> #DIV/0! | I40: =MIN(V40:W40) -> #DIV/0! | J40: =MIN(Z40,H40*E40*PI()/30000) -> #DIV/0! | K40: =IF(E40<M40,E40,M40) -> #DIV/0! | L40: =(K40+S40*H40/B40)*$F$9/120 -> #DIV/0! | M40: =MIN($L$13,MAX(AB40,AA40)) -> #DIV/0! | N40: =RESUM!O32 -> 0 | O40: ='driving mode parameters'!O18 -> #DIV/0! | P40: ='driving mode parameters'!O17 -> #DIV/0! | Q40: =RESUM!O16 -> 0 | R40: =RESUM!O12 -> 0 | S40: =Q40*120/$F$9-R40 -> 0 | U40: =B40/((C40^2-N40^2)^0.5)*(V40^2-N40^2)^0.5 -> #DIV/0! | V40: =IF(AND($L$24>=20%,$L$24<=80%)=TRUE,((C40^2*0.9-N40^2*(1-$L$24))/$L$24)^0.5,0) -> 0 | W40: =(((V40^2-N40^2)^0.5*X40/U40)^2+N40^2)^0.5 -> #DIV/0! | X40: =X39 -> 3167.3633 | Y40: =Y$32*F40/F$32*(B$32/B40)^0.5 -> #DIV/0! | Z40: =X40*Y40*PI()/30000 -> #DIV/0! | AA40: =AC40*(D40/J40)^(1/AD40) -> #DIV/0! | AB40: =AC40*(B40*E40/AC40/H40)^(1/(1+AD40)) -> #DIV/0! | AC40: =0.95*Y40*(Z40/D40)^(1/AD40) -> #DIV/0! | AD40: =AD39 -> 0.89
A41: Otras Velocidades disponibles bajo consulta / Other speeds available on request | H41: La tensión para el servicio S6 es mayor que Vb / Voltage for S6 duty is bigger than Vb
A72: Elabora: | E72: Revisa: | K72: Aprueba:
...

Sheet driving mode parameters
H2: =RESUM!H2 -> MAC QE 200 P
H4: Parámetros modo motor / Driving mode parameters
N5: Fecha - Date | O5: =RESUM!O5 -> 45244
B8: =RESUM!B8 -> MAC QE 200 P | C8: =RESUM!C8 -> MAC QE 200 P | D8: =RESUM!D8 -> MAC QE 200 P | E8: =RESUM!E8 -> MAC QE 200 P | F8: =RESUM!F8 -> MAC QE 200 P | G8: =RESUM!G8 -> MAC QE 200 P | H8: =RESUM!H8 -> MAC QE 200 P | I8: =RESUM!I8 -> MAC QE 200 P | ... O8: =RESUM!O8 -> 0
B9: =RESUM!B9 -> A61 | C9: =RESUM!C9 -> B61 | D9: =RESUM!D9 -> C61 | E9: =RESUM!E9 -> D61 | F9: =RESUM!F9 -> E61 | G9: =RESUM!G9 -> F61 | H9: =RESUM!H9 -> G61 | I9: =RESUM!I9 -> H61 | ... O9: =RESUM!O9 -> 0
A10: Poles | B10: =RESUM!B10 -> 6 | C10: =RESUM!C10 -> 6 | D10: =RESUM!D10 -> 6 | E10: =RESUM!E10 -> 6 | F10: =RESUM!F10 -> 6 | G10: =RESUM!G10 -> 6 | H10: =RESUM!H10 -> 6 | I10: =RESUM!I10 -> 6 | ... O10: =RESUM!O10 -> 6
A11: Nm | B11: =RESUM!B11 -> 705 | C11: =RESUM!C11 -> 705 | D11: =RESUM!D11 -> 705 | E11: =RESUM!E11 -> 705 | F11: =RESUM!F11 -> 705 | G11: =RESUM!G11 -> 705 | H11: =RESUM!H11 -> 705 | I11: =RESUM!I11 -> 705 | ... O11: =RESUM!O11 -> 0
A12: rpm | B12: ='driving mode datasheet'!E27 -> 540 | C12: ='driving mode datasheet'!E28 -> 660 | D12: ='driving mode datasheet'!E29 -> 780 | E12: ='driving mode datasheet'!E30 -> 920 | F12: ='driving mode datasheet'!E31 -> 1140 | G12: ='driving mode datasheet'!E32 -> 1280 | H12: ='driving mode datasheet'!E33 -> 1460 | I12: ='driving mode datasheet'!E34 -> 1700 | J12: ='driving mode datasheet'!E35 -> 2026.536 | K12: ='driving mode datasheet'!E36 -> 2287.58 | L12: ='driving mode datasheet'!E37 -> 0 | M12: ='driving mode datasheet'!E38 -> 0 | N12: ='driving mode datasheet'!E39 -> 0 | O12: ='driving mode datasheet'!E40 -> 0 | U12: =RESUM!C10 -> 6 | V12: =RESUM!D10 -> 6
A13: KW | B13: =B11*B12*PI()/30000 -> 39.866811 | C13: =C11*C12*PI()/30000 -> 48.726102 | D13: =D11*D12*PI()/30000 -> 57.585393 | E13: =E11*E12*PI()/30000 -> 67.921233 | F13: =F11*F12*PI()/30000 -> 84.163267 | G13: =G11*G12*PI()/30000 -> 94.499107 | H13: =H11*H12*PI()/30000 -> 107.78804 | I13: =I11*I12*PI()/30000 -> 125.50663 | ... O13: =O11*O12*PI()/30000 -> 0
A14: V | B14: ='driving mode datasheet'!F21 -> 400 | C14: =B14 -> 400 | D14: =C14 -> 400 | E14: =D14 -> 400 | F14: =E14 -> 400 | G14: =F14 -> 400 | H14: =G14 -> 400 | I14: =H14 -> 400 | J14: =I14 -> 400 | ... O14: =N14 -> 400
A15: A | B15: =RESUM!B15 -> 82.933162 | C15: =RESUM!C15 -> 99.215177 | D15: =RESUM!D15 -> 114.2232 | E15: =RESUM!E15 -> 134.94617 | F15: =RESUM!F15 -> 164.80705 | G15: =RESUM!G15 -> 185.40753 | H15: =RESUM!H15 -> 211.95147 | I15: =RESUM!I15 -> 247.42495 | ... O15: =RESUM!O15 -> 0
A16: Hz | B16: ='driving mode datasheet'!F27 -> 28 | C16: ='driving mode datasheet'!F28 -> 34 | D16: ='driving mode datasheet'!F29 -> 40 | E16: ='driving mode datasheet'!F30 -> 47 | F16: ='driving mode datasheet'!F31 -> 58 | G16: ='driving mode datasheet'!F32 -> 65 | H16: ='driving mode datasheet'!F33 -> 74 | I16: ='driving mode datasheet'!F34 -> 86 | J16: ='driving mode datasheet'!F35 -> 102 | K16: ='driving mode datasheet'!F36 -> 115 | L16: ='driving mode datasheet'!F37 -> 0 | M16: ='driving mode datasheet'!F38 -> 0 | N16: ='driving mode datasheet'!F39 -> 0 | O16: ='driving mode datasheet'!F40 -> 0
A17: Cos fi | B17: =B13/B18*1000/B14/B15/3^0.5 -> 0.74514752 | C17: =C13/C18*1000/C14/C15/3^0.5 -> 0.75320073 | D17: =D13/D18*1000/D14/D15/3^0.5 -> 0.76765446 | E17: =E13/E18*1000/E14/E15/3^0.5 -> 0.76176755 | F17: =F13/F18*1000/F14/F15/3^0.5 -> 0.76826862 | G17: =G13/G18*1000/G14/G15/3^0.5 -> 0.76479334 | H17: =H13/H18*1000/H14/H15/3^0.5 -> 0.76101893 | I17: =I13/I18*1000/I14/I15/3^0.5 -> 0.75737901 | ... O17: =O13/O18*1000/O14/O15/3^0.5 -> #DIV/0!
A18: Rend / eff. | B18: =B13*1000/(B13*1000+3*B23/1000*B15^2+3*B24/1000*(B15^2-B32^2)+3*(2*PI()*B16*B28/1000*B32)^2/B25) -> 0.9311516 | C18: =C13*1000/(C13*1000+3*C23/1000*C15^2+3*C24/1000*(C15^2-C32^2)+3*(2*PI()*C16*C28/1000*C32)^2/C25) -> 0.94113562 | D18: =D13*1000/(D13*1000+3*D23/1000*D15^2+3*D24/1000*(D15^2-D32^2)+3*(2*PI()*D16*D28/1000*D32)^2/D25) -> 0.94791987 | E18: =E13*1000/(E13*1000+3*E23/1000*E15^2+3*E24/1000*(E15^2-E32^2)+3*(2*PI()*E16*E28/1000*E32)^2/E25) -> 0.95367834 | F18: =F13*1000/(F13*1000+3*F23/1000*F15^2+3*F24/1000*(F15^2-F32^2)+3*(2*PI()*F16*F28/1000*F32)^2/F25) -> 0.95942955 | G18: =G13*1000/(G13*1000+3*G23/1000*G15^2+3*G24/1000*(G15^2-G32^2)+3*(2*PI()*G16*G28/1000*G32)^2/G25) -> 0.96191261 | H18: =H13*1000/(H13*1000+3*H23/1000*H15^2+3*H24/1000*(H15^2-H32^2)+3*(2*PI()*H16*H28/1000*H32)^2/H25) -> 0.9645352 | I18: =I13*1000/(I13*1000+3*I23/1000*I15^2+3*I24/1000*(I15^2-I32^2)+3*(2*PI()*I16*I28/1000*I32)^2/I25) -> 0.96669457 | ... O18: =O13*1000/(O13*1000+3*O23/1000*O15^2+3*O24/1000*(O15^2-O32^2)+3*(2*PI()*O16*O28/1000*O32)^2/O25) -> #DIV/0!
A19: J (Kg m2) | B19: =RESUM!B19 -> 1.3150058 | C19: =RESUM!C19 -> 1.3150058 | D19: =RESUM!D19 -> 1.3150058 | E19: =RESUM!E19 -> 1.3150058 | F19: =RESUM!F19 -> 1.3150058 | G19: =RESUM!G19 -> 1.3150058 | H19: =RESUM!H19 -> 1.3150058 | I19: =RESUM!I19 -> 1.3150058 | ... O19: =RESUM!O19 -> 0
B20: ESQUEMA EQUIVALENTE POR FASE EN ESTRELLA / PHASE STAR EQUIVALENT SCHEMA
B21: =RESUM!B21 -> MAC QE 200 P | C21: =RESUM!C21 -> MAC QE 200 P | D21: =RESUM!D21 -> MAC QE 200 P | E21: =RESUM!E21 -> MAC QE 200 P | F21: =RESUM!F21 -> MAC QE 200 P | G21: =RESUM!G21 -> MAC QE 200 P | H21: =RESUM!H21 -> MAC QE 200 P | I21: =RESUM!I21 -> MAC QE 200 P | ... O21: =RESUM!O21 -> 0
B22: =RESUM!B22 -> A61 | C22: =RESUM!C22 -> B61 | D22: =RESUM!D22 -> C61 | E22: =RESUM!E22 -> D61 | F22: =RESUM!F22 -> E61 | G22: =RESUM!G22 -> F61 | H22: =RESUM!H22 -> G61 | I22: =RESUM!I22 -> H61 | ... O22: =RESUM!O22 -> 0
A23: Rs (mOhm) | B23: =RESUM!B23 -> 66.724864 | C23: =RESUM!C23 -> 45.945448 | D23: =RESUM!D23 -> 34.278317 | E23: =RESUM!E23 -> 24.465739 | F23: =RESUM!F23 -> 16.532384 | G23: =RESUM!G23 -> 13.185177 | H23: =RESUM!H23 -> 9.9783457 | I23: =RESUM!I23 -> 7.4138738 | ... O23: =RESUM!O23 -> 0
A24: Rr (mOhm) | B24: =RESUM!B24 -> 79.917524 | C24: =RESUM!C24 -> 55.49828 | D24: =RESUM!D24 -> 41.684734 | E24: =RESUM!E24 -> 29.845633 | F24: =RESUM!F24 -> 19.979381 | G24: =RESUM!G24 -> 15.786099 | H24: =RESUM!H24 -> 12.086289 | I24: =RESUM!I24 -> 8.8797249 | ... O24: =RESUM!O24 -> 0
A25: Rfe (Ohm) | B25: =RESUM!B25 -> 296.49103 | C25: =RESUM!C25 -> 241.92751 | D25: =RESUM!D25 -> 206.96989 | E25: =RESUM!E25 -> 167.8842 | F25: =RESUM!F25 -> 131.21998 | G25: =RESUM!G25 -> 112.33354 | H25: =RESUM!H25 -> 93.892757 | I25: =RESUM!I25 -> 75.996028 | ... O25: =RESUM!O25 -> 0
A26: Ls (mH) | B26: =RESUM!B26 -> 1.3145781 | C26: =RESUM!C26 -> 0.91290147 | D26: =RESUM!D26 -> 0.68567989 | E26: =RESUM!E26 -> 0.49093634 | F26: =RESUM!F26 -> 0.32864453 | G26: =RESUM!G26 -> 0.25966845 | H26: =RESUM!H26 -> 0.1988096 | I26: =RESUM!I26 -> 0.14606424 | ... O26: =RESUM!O26 -> 0
A27: Lr (mH) | B27: =RESUM!B27 -> 1.2767794 | C27: =RESUM!C27 -> 0.87660235 | D27: =RESUM!D27 -> 0.64592888 | E27: =RESUM!E27 -> 0.4659158 | F27: =RESUM!F27 -> 0.30932047 | G27: =RESUM!G27 -> 0.24554822 | H27: =RESUM!H27 -> 0.18896213 | I27: =RESUM!I27 -> 0.13956137 | ... O27: =RESUM!O27 -> 0
A28: Lm (mH) | B28: =RESUM!B28 -> 25.583371 | C28: =RESUM!C28 -> 17.994328 | D28: =RESUM!D28 -> 13.827754 | E28: =RESUM!E28 -> 9.8022781 | F28: =RESUM!F28 -> 6.6258118 | G28: =RESUM!G28 -> 5.2040803 | H28: =RESUM!H28 -> 3.9587351 | I28: =RESUM!I28 -> 2.8895336 | ... O28: =RESUM!O28 -> 0
A29: Ts (s) | B29: =RESUM!B29 -> 0.40311733 | C29: =RESUM!C29 -> 0.41151475 | D29: =RESUM!D29 -> 0.42339985 | E29: =RESUM!E29 -> 0.42071954 | F29: =RESUM!F29 -> 0.42065658 | G29: =RESUM!G29 -> 0.41438569 | H29: =RESUM!H29 -> 0.41665671 | I29: =RESUM!I29 -> 0.40944828 | ... O29: =RESUM!O29 -> 0
A30: Tr (s) | B30: =RESUM!B30 -> 0.33609838 | C30: =RESUM!C30 -> 0.3400273 | D30: =RESUM!D30 -> 0.34721784 | E30: =RESUM!E30 -> 0.34404342 | F30: =RESUM!F30 -> 0.34711447 | G30: =RESUM!G30 -> 0.34521693 | H30: =RESUM!H30 -> 0.34317377 | I30: =RESUM!I30 -> 0.34112487 | ... O30: =RESUM!O30 -> 0
A31: Kt | B31: =RESUM!B31 -> 98.583945 | C31: =RESUM!C31 -> 82.153287 | D31: =RESUM!D31 -> 71.198968 | E31: =RESUM!E31 -> 60.245635 | F31: =RESUM!F31 -> 49.291972 | G31: =RESUM!G31 -> 43.814977 | H31: =RESUM!H31 -> 38.338195 | I31: =RESUM!I31 -> 32.861315 | ... O31: =RESUM!O31 -> 0
A32: Im (A/fase) | B32: =RESUM!B32 -> 47.379104 | C32: =RESUM!C32 -> 55.668351 | D32: =RESUM!D32 -> 61.730627 | E32: =RESUM!E32 -> 74.257112 | F32: =RESUM!F32 -> 89.209428 | G32: =RESUM!G32 -> 101.43542 | H32: =RESUM!H32 -> 117.24327 | I32: =RESUM!I32 -> 138.3227 | ... O32: =RESUM!O32 -> 0
B33: =RESUM!B33 -> 0 | C33: =RESUM!C33 -> 0 | D33: =RESUM!D33 -> 0 | E33: =RESUM!E33 -> 0 | F33: =RESUM!F33 -> 0 | G33: =RESUM!G33 -> 0 | H33: =RESUM!H33 -> 0 | I33: =RESUM!I33 -> 0 | ... O33: =RESUM!O33 -> 0
A61: s rpm | B61: =B16*120/B10-B12 -> 20 | C61: =C16*120/U12-C12 -> 20 | D61: =D16*120/V12-D12 -> 20 | E61: =E16*120/E10-E12 -> 20 | F61: =F16*120/F10-F12 -> 20 | G61: =G16*120/G10-G12 -> 20 | H61: =H16*120/H10-H12 -> 20 | I61: =I16*120/I10-I12 -> 20 | J61: =J16*120/J10-J12 -> 13.464 | K61: =K16*120/K10-K12 -> 12.42 | L61: =L16*120/L10-L12 -> 0 | M61: =M16*120/M10-M12 -> 0
A62: MODO GENERADOR a fnom
A63: E | B63: =2*PI()*B16*B28/1000*B32 -> 213.24679 | C63: =2*PI()*C16*C28/1000*C32 -> 213.99458 | D63: =2*PI()*D16*D28/1000*D32 -> 214.53206 | E63: =2*PI()*E16*E28/1000*E32 -> 214.95265 | F63: =2*PI()*F16*F28/1000*F32 -> 215.40596 | G63: =2*PI()*G16*G28/1000*G32 -> 215.58912 | H63: =2*PI()*H16*H28/1000*H32 -> 215.80225 | I63: =2*PI()*I16*I28/1000*I32 -> 215.97303 | ... O63: =2*PI()*O16*O28/1000*O32 -> 0
A64: urq | B64: =B23/1000*(B15^2-B32^2)^0.5 -> 4.5417678 | C64: =C23/1000*(C15^2-C32^2)^0.5 -> 3.7733176 | D64: =D23/1000*(D15^2-D32^2)^0.5 -> 3.294335 | E64: =E23/1000*(E15^2-E32^2)^0.5 -> 2.7567525 | F64: =F23/1000*(F15^2-F32^2)^0.5 -> 2.2909758 | G64: =G23/1000*(G15^2-G32^2)^0.5 -> 2.0463297 | H64: =H23/1000*(H15^2-H32^2)^0.5 -> 1.7618899 | I64: =I23/1000*(I15^2-I32^2)^0.5 -> 1.5209457 | ... O64: =O23/1000*(O15^2-O32^2)^0.5 -> 0
A65: urd | B65: =B23/1000*B32 -> 3.1613643 | C65: =C23/1000*C32 -> 2.5577073 | D65: =D23/1000*D32 -> 2.116022 | E65: =E23/1000*E32 -> 1.8167551 | F65: =F23/1000*F32 -> 1.4748445 | G65: =G23/1000*G32 -> 1.337444 | H65: =H23/1000*H32 -> 1.1698939 | I65: =I23/1000*I32 -> 1.025507 | ... O65: =O23/1000*O32 -> 0
A66: exd | B66: =2*PI()*B16*B26/1000*B32 -> 10.957492 | C66: =2*PI()*C16*C26/1000*C32 -> 10.85653 | D66: =2*PI()*D16*D26/1000*D32 -> 10.638048 | E66: =2*PI()*E16*E26/1000*E32 -> 10.765667 | F66: =2*PI()*F16*F26/1000*F32 -> 10.684274 | G66: =2*PI()*G16*G26/1000*G32 -> 10.757269 | H66: =2*PI()*H16*H26/1000*H32 -> 10.837694 | I66: =2*PI()*I16*I26/1000*I32 -> 10.91731 | ... O66: =2*PI()*O16*O26/1000*O32 -> 0
A67: exq | B67: =2*PI()*B16*B26/1000*(B15^2-B32^2)^0.5 -> 15.742059 | C67: =2*PI()*C16*C26/1000*(C15^2-C32^2)^0.5 -> 16.01635 | D67: =2*PI()*D16*D26/1000*(D15^2-D32^2)^0.5 -> 16.561877 | E67: =2*PI()*E16*E26/1000*(E15^2-E32^2)^0.5 -> 16.335873 | F67: =2*PI()*F16*F26/1000*(F15^2-F32^2)^0.5 -> 16.596606 | G67: =2*PI()*G16*G26/1000*(G15^2-G32^2)^0.5 -> 16.458947 | H67: =2*PI()*H16*H26/1000*(H15^2-H32^2)^0.5 -> 16.321842 | I67: =2*PI()*I16*I26/1000*(I15^2-I32^2)^0.5 -> 16.191636 | ... O67: =2*PI()*O16*O26/1000*(O15^2-O32^2)^0.5 -> 0
A68: Vq | B68: =B63+B66-B64 -> 219.66252 | C68: =C63+C66-C64 -> 221.07779 | D68: =D63+D66-D64 -> 221.87578 | E68: =E63+E66-E64 -> 222.96156 | F68: =F63+F66-F64 -> 223.79926 | G68: =G63+G66-G64 -> 224.30006 | H68: =H63+H66-H64 -> 224.87806 | I68: =I63+I66-I64 -> 225.36939 | ... O68: =O63+O66-O64 -> 0
A69: Vd | B69: =B65-B67 -> -12.580695 | C69: =C65-C67 -> -13.458643 | D69: =D65-D67 -> -14.445855 | E69: =E65-E67 -> -14.519118 | F69: =F65-F67 -> -15.121761 | G69: =G65-G67 -> -15.121503 | H69: =H65-H67 -> -15.151948 | I69: =I65-I67 -> -15.166129 | ... O69: =O65-O67 -> 0
A70: V | B70: =3^0.5*(B68^2+B69^2)^0.5 -> 381.09013 | C70: =3^0.5*(C68^2+C69^2)^0.5 -> 383.62687 | D70: =3^0.5*(D68^2+D69^2)^0.5 -> 385.11379 | E70: =3^0.5*(E68^2+E69^2)^0.5 -> 386.9987 | F70: =3^0.5*(F68^2+F69^2)^0.5 -> 388.51554 | G70: =3^0.5*(G68^2+G69^2)^0.5 -> 389.38095 | H70: =3^0.5*(H68^2+H69^2)^0.5 -> 390.38336 | I70: =3^0.5*(I68^2+I69^2)^0.5 -> 391.2341 | ... O70: =3^0.5*(O68^2+O69^2)^0.5 -> 0
A72: Correcció a | B72: =B14 -> 400
...

Sheet absorbing mode datasheet
L1: Codigo | M1: ='driving mode datasheet'!M1 -> DT-QE 200 P
D2: =RESUM!H2 -> MAC QE 200 P | L2: Edición | M2: ='driving mode datasheet'!M2 -> 06
D3: - Hoja de Datos Técnicos Modo Generador - | L3: Página | M3: ='driving mode datasheet'!M3 -> 1 de 3
D4: - Absorbing Mode Technical Datasheet - | L4: Fecha | M4: ='driving mode datasheet'!M4 -> 45244
A7: Ventilador / Fan | E7: Rodamientos | G7: Delantero | H7: ='driving mode datasheet'!H7 -> 6316 ZZ C3 | J7: ='driving mode datasheet'!J7 -> Trasero | M7: ='driving mode datasheet'!M7 -> 6312 ZZ C3
A8: Tipo de Refrigeración | C8: ='driving mode datasheet'!C8 -> IC 416 | E8: Bearings | G8: Drive End | J8: ='driving mode datasheet'!J8 -> Non Drive End
A9: Cooling Mode | E9: Nº de polos | F9: ='driving mode datasheet'!F9 -> 6 | G9: Momento de inercia | I9: ='driving mode datasheet'!I9 -> 1.3150058 | K9: Peso Motor | M9: ='driving mode datasheet'!M9 -> 640
A10: Tensión / Voltage | C10: 3 x 400 V | D10: 3 x 460 V | E10: No of poles | G10: Rotor Inertia | K10: Motor Weight
A11: Frec. / Frequency | C11: 50 Hz | D11: 60 Hz | E11: Protección | G11: ='driving mode datasheet'!G11 -> IP 54 | H11: Construcción | J11: ='driving mode datasheet'!J11 -> IM B3 | K11: standard | L11: Equilibrado grado | N11: ='driving mode datasheet'!N11 -> A
A12: Corriente / Current | C12: 2,6 A | D12: 2,6 A | E12: Protection Degree | H12: Mounting | J12: ='driving mode datasheet'!J12 -> IM B35 | K12: on request | L12: Balancing degree
A13: Velocidad / Speed | C13: 2835 rpm | D13: 3400 rpm | E13: Nivel de ruido | G13: ='driving mode datasheet'!G13 -> < 87 dB | I13: Velocidad máxima mecánica | L13: ='driving mode datasheet'!L13 -> 4000
E14: Noise Level | I14: Max. Mechanical Speed
E15: Aislamiento | F15: ='driving mode datasheet'!F15 -> Cl. H | G15: Incremento Temperatura | I15: ='driving mode datasheet'!I15 -> Cl. F | J15: Termistor | K15: ='driving mode datasheet'!K15 -> PTC155º C | L15: Termómetros | N15: ='driving mode datasheet'!N15 -> 3xPt100
A16: Por favor, indicar en los pedidos la alimentación deseada para el ventilador / Please indicate the required fan supply voltage when placing your order | E16: Insulation | G16: Temperature Rise | J16: Thermistor | L16: Thermometers
E17: Ambiente | F17: ='driving mode datasheet'!F17 -> < 40 ºC < 1000 m | I17: Conmutación Variador | K17: ='driving mode datasheet'!K17 -> 4 kHz ; IVIC C/B acc. EN60034-25
E18: Ambient | I18: Inverter Switching
A19: Normas de referencia | C19: ='driving mode datasheet'!C19 -> EN60034 | E19: Freno de Bloqueo (opcional) | H19: ='driving mode datasheet'!H19 -> 300 Nm | I19: ='driving mode datasheet'!I19 -> 24 Vdc | J19: ='driving mode datasheet'!J19 -> 2.5 A | K19: ='driving mode datasheet'!K19 -> 60 W | L19: ='driving mode datasheet'!L19 -> 18 Kg | M19: ='driving mode datasheet'!M19 -> J = 0.0017 Kg m2
A20: Reference Standards | E20: Holding Brake (optional)
A21: Tensión de Base del Motor | E21: Vb ± 5% | F21: 400 | H21: Tensión Máxima de Salida del Convertidor | L21: Vc | M21: 400
A22: Motor Base Voltage | H22: Inverter max. Output Voltage
F23: =IF(F21>500," Vb ha de ser / must be < 500 V"," ") | G23: =IF(M21>500," Vc ha de ser / must be < 500 V"," ") | N23: =IF(M21<F21,"Vc ha de ser / must be > Vb"," ")
B24: Servicio / Service | F24: S1 | H24: Servicio / Service S6 - | L24: 0.4 | M24: =IF(L24>80%,"max 80%","")
M25: =IF(L24<20%,"min 20%","")
A26: Bobinado Winding | B26: Nm | C26: A ± 2% | D26: KW | E26: rpm | F26: Hz | G26: Velocidad a Pot.Cte Const. Power Speed. (rpm) | H26: Nm | I26: A ± 5% | J26: KW | K26: rpm | L26: Hz | M26: Velocidad a Pot.Cte Const. Power Speed. (rpm) | N26: Corriente en vacio No Load Current (A) | O26: eff | P26: cos fi | Q26: Hz | R26: rpm | S26: rpm llisc. | U26: Nm S6 | V26: A S6 | W26: Alim | X26: Nm lim | Y26: rpm lim | Z26: KW lim | AA26: rpm lim KW s6 | AB26: rpm lim Nm s6 | AC26: rpm lim s1 | AD26: coef.
A27: ='driving mode datasheet'!$A27 -> A61 | B27: ='driving mode datasheet'!B27 -> 705 | C27: ='driving mode datasheet'!C27 -> 82.933162 | D27: =E27*$B27*PI()/30000 -> 44.296456 | E27: =(F27*120/$F$9-$S27) -> 600 | F27: =$Q27*$F$21/'driving mode datasheet'!$F$21 -> 29 | G27: =IF(AC27<$L$13,AC27,$L$13) -> 2188.8172 | H27: =IF(U27<X27*0.95,U27,X27*0.95) -> 1028.6415 | I27: =MIN(V27:W27) -> 110.03693 | J27: =MIN(Z27,H27*E27*PI()/30000) -> 64.631452 | K27: =MIN(E27,M27) -> 600 | L27: =(K27+S27*H27/B27)*$F$9/120 -> 28.540934 | M27: =MIN($L$13,MAX(AB27,AA27)) -> 1431.7119 | N27: =RESUM!B32 -> 47.379104 | O27: ='driving mode parameters'!B81 -> 0.93014097 | P27: ='driving mode parameters'!B82 -> 0.71708216 | Q27: ='driving mode parameters'!B75 -> 29 | R27: ='driving mode parameters'!B76 -> 600 | S27: =Q27*120/$F$9-R27 -> -20 | U27: =B27/((C27^2-N27^2)^0.5)*(V27^2-N27^2)^0.5 -> 1028.6415 | V27: =IF(AND($L$24>=20%,$L$24<=80%)=TRUE,((C27^2*0.9-N27^2*(1-$L$24))/$L$24)^0.5,0) -> 110.03693 | W27: =(((V27^2-N27^2)^0.5*X27/U27)^2+N27^2)^0.5 -> 309.4545 | X27: =X28 -> 3167.3633 | Y27: ='driving mode datasheet'!Y27*$M$21/'driving mode datasheet'!$M$21*E27/'driving mode datasheet'!E27 -> 510.58892 | Z27: =X27*Y27*PI()/30000 -> 169.35495 | AA27: =AC27*(D27/J27)^(1/AD27) -> 1431.7119 | AB27: =AC27*(B27*E27/AC27/H27)^(1/(1+AD27)) -> 903.67454 | AC27: =0.95*Y27*(Z27/D27)^(1/AD27) -> 2188.8172 | AD27: ='limit 480V'!Z25 -> 0.89
A28: ='driving mode datasheet'!$A28 -> B61 | B28: ='driving mode datasheet'!B28 -> 705 | C28: ='driving mode datasheet'!C28 -> 99.215177 | D28: =E28*$B28*PI()/30000 -> 53.155748 | E28: =(F28*120/$F$9-$S28) -> 720 | F28: =$Q28*$F$21/'driving mode datasheet'!$F$21 -> 35 | G28: =IF(AC28<$L$13,AC28,$L$13) -> 2590.4933 | H28: =IF(U28<X28*0.95,U28,X28*0.95) -> 1030.1527 | I28: =MIN(V28:W28) -> 132.28669 | J28: =MIN(Z28,H28*E28*PI()/30000) -> 77.671681 | K28: =IF(E28<M28,E28,M28) -> 720 | L28: =(K28+S28*H28/B28)*$F$9/120 -> 34.538791 | M28: =MIN($L$13,MAX(AB28,AA28)) -> 1691.6569 | N28: =RESUM!C32 -> 55.668351 | O28: ='driving mode parameters'!C81 -> 0.93985344 | P28: ='driving mode parameters'!C82 -> 0.72679451 | Q28: ='driving mode parameters'!C75 -> 35 | R28: ='driving mode parameters'!C76 -> 720 | S28: =Q28*120/$F$9-R28 -> -20 | U28: =B28/((C28^2-N28^2)^0.5)*(V28^2-N28^2)^0.5 -> 1030.1527 | V28: =IF(AND($L$24>=20%,$L$24<=80%)=TRUE,((C28^2*0.9-N28^2*(1-$L$24))/$L$24)^0.5,0) -> 132.28669 | W28: =(((V28^2-N28^2)^0.5*X28/U28)^2+N28^2)^0.5 -> 373.14465 | X28: =X29 -> 3167.3633 | Y28: ='driving mode datasheet'!Y28*$M$21/'driving mode datasheet'!$M$21*E28/'driving mode datasheet'!E28 -> 608.72809 | Z28: =X28*Y28*PI()/30000 -> 201.90629 | AA28: =AC28*(D28/J28)^(1/AD28) -> 1691.6569 | AB28: =AC28*(B28*E28/AC28/H28)^(1/(1+AD28)) -> 1076.5313 | AC28: =0.95*Y28*(Z28/D28)^(1/AD28) -> 2590.4933 | AD28: =AD27 -> 0.89
A29: ='driving mode datasheet'!$A29 -> C61 | B29: ='driving mode datasheet'!B29 -> 705 | C29: ='driving mode datasheet'!C29 -> 114.2232 | D29: =E29*$B29*PI()/30000 -> 63.491588 | E29: =(F29*120/$F$9-$S29) -> 860 | F29: =$Q29*$F$21/'driving mode datasheet'!$F$21 -> 42 | G29: =IF(AC29<$L$13,AC29,$L$13) -> 3064.5436 | H29: =IF(U29<X29*0.95,U29,X29*0.95) -> 1032.9768 | I29: =MIN(V29:W29) -> 153.75177 | J29: =MIN(Z29,H29*E29*PI()/30000) -> 93.028844 | K29: =IF(E29<M29,E29,M29) -> 860 | L29: =(K29+S29*H29/B29)*$F$9/120 -> 41.534785 | M29: =MIN($L$13,MAX(AB29,AA29)) -> 1995.0772 | N29: =RESUM!D32 -> 61.730627 | O29: ='driving mode parameters'!D81 -> 0.94776636 | P29: ='driving mode parameters'!D82 -> 0.76040076 | Q29: ='driving mode parameters'!D75 -> 42 | R29: ='driving mode parameters'!D76 -> 860 | S29: =Q29*120/$F$9-R29 -> -20 | U29: =B29/((C29^2-N29^2)^0.5)*(V29^2-N29^2)^0.5 -> 1032.9768 | V29: =IF(AND($L$24>=20%,$L$24<=80%)=TRUE,((C29^2*0.9-N29^2*(1-$L$24))/$L$24)^0.5,0) -> 153.75177 | W29: =(((V29^2-N29^2)^0.5*X29/U29)^2+N29^2)^0.5 -> 436.16503 | X29: =X30 -> 3167.3633 | Y29: ='driving mode datasheet'!Y29*$M$21/'driving mode datasheet'!$M$21*E29/'driving mode datasheet'!E29 -> 723.80188 | Z29: =X29*Y29*PI()/30000 -> 240.0746 | AA29: =AC29*(D29/J29)^(1/AD29) -> 1995.0772 | AB29: =AC29*(B29*E29/AC29/H29)^(1/(1+AD29)) -> 1278.1857 | AC29: =0.95*Y29*(Z29/D29)^(1/AD29) -> 3064.5436 | AD29: =AD28 -> 0.89
A30: ='driving mode datasheet'!$A30 -> D61 | B30: ='driving mode datasheet'!B30 -> 705 | C30: ='driving mode datasheet'!C30 -> 134.94617 | D30: =E30*$B30*PI()/30000 -> 73.827427 | E30: =(F30*120/$F$9-$S30) -> 1000 | F30: =$Q30*$F$21/'driving mode datasheet'!$F$21 -> 49 | G30: =IF(AC30<$L$13,AC30,$L$13) -> 3534.6958 | H30: =IF(U30<X30*0.95,U30,X30*0.95) -> 1031.669 | I30: =MIN(V30:W30) -> 180.83798 | J30: =MIN(Z30,H30*E30*PI()/30000) -> 108.03612 | K30: =IF(E30<M30,E30,M30) -> 1000 | L30: =(K30+S30*H30/B30)*$F$9/120 -> 48.53664 | M30: =MIN($L$13,MAX(AB30,AA30)) -> 2304.4332 | N30: =RESUM!E32 -> 74.257112 | O30: ='driving mode parameters'!E81 -> 0.95319559 | P30: ='driving mode parameters'!E82 -> 0.75269423 | Q30: ='driving mode parameters'!E75 -> 49 | R30: ='driving mode parameters'!E76 -> 1000 | S30: =Q30*120/$F$9-R30 -> -20 | U30: =B30/((C30^2-N30^2)^0.5)*(V30^2-N30^2)^0.5 -> 1031.669 | V30: =IF(AND($L$24>=20%,$L$24<=80%)=TRUE,((C30^2*0.9-N30^2*(1-$L$24))/$L$24)^0.5,0) -> 180.83798 | W30: =(((V30^2-N30^2)^0.5*X30/U30)^2+N30^2)^0.5 -> 511.64764 | X30: =X31 -> 3167.3633 | Y30: ='driving mode datasheet'!Y30*$M$21/'driving mode datasheet'!$M$21*E30/'driving mode datasheet'!E30 -> 838.42824 | Z30: =X30*Y30*PI()/30000 -> 278.0945 | AA30: =AC30*(D30/J30)^(1/AD30) -> 2304.4332 | AB30: =AC30*(B30*E30/AC30/H30)^(1/(1+AD30)) -> 1481.601 | AC30: =0.95*Y30*(Z30/D30)^(1/AD30) -> 3534.6958 | AD30: =AD29 -> 0.89
A31: ='driving mode datasheet'!$A31 -> E61 | B31: ='driving mode datasheet'!B31 -> 705 | C31: ='driving mode datasheet'!C31 -> 164.80705 | D31: =E31*$B31*PI()/30000 -> 90.069461 | E31: =(F31*120/$F$9-$S31) -> 1220 | F31: =$Q31*$F$21/'driving mode datasheet'!$F$21 -> 60 | G31: =IF(AC31<$L$13,AC31,$L$13) -> 4000 | H31: =IF(U31<X31*0.95,U31,X31*0.95) -> 1032.8653 | I31: =MIN(V31:W31) -> 221.75569 | J31: =MIN(Z31,H31*E31*PI()/30000) -> 131.95691 | K31: =IF(E31<M31,E31,M31) -> 1220 | L31: =(K31+S31*H31/B31)*$F$9/120 -> 59.534943 | M31: =MIN($L$13,MAX(AB31,AA31)) -> 2783.3243 | N31: =RESUM!F32 -> 89.209428 | O31: ='driving mode parameters'!F81 -> 0.95867001 | P31: ='driving mode parameters'!F82 -> 0.75622374 | Q31: ='driving mode parameters'!F75 -> 60 | R31: ='driving mode parameters'!F76 -> 1220 | S31: =Q31*120/$F$9-R31 -> -20 | U31: =B31/((C31^2-N31^2)^0.5)*(V31^2-N31^2)^0.5 -> 1032.8653 | V31: =IF(AND($L$24>=20%,$L$24<=80%)=TRUE,((C31^2*0.9-N31^2*(1-$L$24))/$L$24)^0.5,0) -> 221.75569 | W31: =(((V31^2-N31^2)^0.5*X31/U31)^2+N31^2)^0.5 -> 628.93695 | X31: =X32 -> 3167.3633 | Y31: ='driving mode datasheet'!Y31*$M$21/'driving mode datasheet'!$M$21*E31/'driving mode datasheet'!E31 -> 1018.6825 | Z31: =X31*Y31*PI()/30000 -> 337.88222 | AA31: =AC31*(D31/J31)^(1/AD31) -> 2783.3243 | AB31: =AC31*(B31*E31/AC31/H31)^(1/(1+AD31)) -> 1799.0279 | AC31: =0.95*Y31*(Z31/D31)^(1/AD31) -> 4274.8142 | AD31: =AD30 -> 0.89
A32: ='driving mode datasheet'!$A32 -> F61 | B32: ='driving mode datasheet'!B32 -> 705 | C32: ='driving mode datasheet'!C32 -> 185.40753 | D32: =E32*$B32*PI()/30000 -> 100.4053 | E32: =(F32*120/$F$9-$S32) -> 1360 | F32: =$Q32*$F$21/'driving mode datasheet'!$F$21 -> 67 | G32: =IF(AC32<$L$13,AC32,$L$13) -> 4000 | H32: =IF(U32<X32*0.95,U32,X32*0.95) -> 1032.0987 | I32: =MIN(V32:W32) -> 248.82158 | J32: =MIN(Z32,H32*E32*PI()/30000) -> 146.99033 | K32: =IF($E$32<$M$32,$E$32,$M$32) -> 1360 | L32: =(K32+S32*H32/B32)*$F$9/120 -> 66.53603 | M32: =MIN($L$13,MAX(AB32,AA32)) -> 3092.889 | N32: =RESUM!G32 -> 101.43542 | O32: ='driving mode parameters'!G81 -> 0.96105422 | P32: ='driving mode parameters'!G82 -> 0.75120167 | Q32: ='driving mode parameters'!G75 -> 67 | R32: ='driving mode parameters'!G76 -> 1360 | S32: =Q32*120/$F$9-R32 -> -20 | U32: =B32/((C32^2-N32^2)^0.5)*(V32^2-N32^2)^0.5 -> 1032.0987 | V32: =IF(AND($L$24>=20%,$L$24<=80%)=TRUE,((C32^2*0.9-N32^2*(1-$L$24))/$L$24)^0.5,0) -> 248.82158 | W32: =(((V32^2-N32^2)^0.5*X32/U32)^2+N32^2)^0.5 -> 704.60543 | X32: ='limit 480V'!K27*0.95 -> 3167.3633 | Y32: ='driving mode datasheet'!Y32*$M$21/'driving mode datasheet'!$M$21*E32/'driving mode datasheet'!E32 -> 1133.439 | Z32: =X32*Y32*PI()/30000 -> 375.9453 | AA32: =AC32*(D32/J32)^(1/AD32) -> 3092.889 | AB32: =AC32*(B32*E32/AC32/H32)^(1/(1+AD32)) -> 2002.4783 | AC32: =0.95*Y32*(Z32/D32)^(1/AD32) -> 4746.3034 | AD32: =AD31 -> 0.89 | AE32: =AB32*(J32/D32)^(1/2/AD32) -> 2480.638
A33: ='driving mode datasheet'!$A33 -> G61 | B33: ='driving mode datasheet'!B33 -> 705 | C33: ='driving mode datasheet'!C33 -> 211.95147 | D33: =E33*$B33*PI()/30000 -> 113.69424 | E33: =(F33*120/$F$9-$S33) -> 1540 | F33: =$Q33*$F$21/'driving mode datasheet'!$F$21 -> 76 | G33: =IF(AC33<$L$13,AC33,$L$13) -> 4000 | H33: =IF(U33<X33*0.95,U33,X33*0.95) -> 1031.2722 | I33: =MIN(V33:W33) -> 283.65248 | J33: =MIN(Z33,H33*E33*PI()/30000) -> 166.31163 | K33: =IF(E33<M33,E33,M33) -> 1540 | L33: =(K33+S33*H33/B33)*$F$9/120 -> 75.537203 | M33: =MIN($L$13,MAX(AB33,AA33)) -> 3491.2919 | N33: =RESUM!H32 -> 117.24327 | O33: ='driving mode parameters'!H81 -> 0.96360898 | P33: ='driving mode parameters'!H82 -> 0.74607458 | Q33: ='driving mode parameters'!H75 -> 76 | R33: ='driving mode parameters'!H76 -> 1540 | S33: =Q33*120/$F$9-R33 -> -20 | U33: =B33/((C33^2-N33^2)^0.5)*(V33^2-N33^2)^0.5 -> 1031.2722 | V33: =IF(AND($L$24>=20%,$L$24<=80%)=TRUE,((C33^2*0.9-N33^2*(1-$L$24))/$L$24)^0.5,0) -> 283.65248 | W33: =(((V33^2-N33^2)^0.5*X33/U33)^2+N33^2)^0.5 -> 801.9017 | X33: =X32 -> 3167.3633 | Y33: ='driving mode datasheet'!Y33*$M$21/'driving mode datasheet'!$M$21*E33/'driving mode datasheet'!E33 -> 1281.0186 | Z33: =X33*Y33*PI()/30000 -> 424.89532 | AA33: =AC33*(D33/J33)^(1/AD33) -> 3491.2919 | AB33: =AC33*(B33*E33/AC33/H33)^(1/(1+AD33)) -> 2264.1709 | AC33: =0.95*Y33*(Z33/D33)^(1/AD33) -> 5352.8658 | AD33: =AD32 -> 0.89
A34: ='driving mode datasheet'!$A34 -> H61 | B34: ='driving mode datasheet'!B34 -> 705 | C34: ='driving mode datasheet'!C34 -> 247.42495 | D34: =E34*$B34*PI()/30000 -> 131.41282 | E34: =(F34*120/$F$9-$S34) -> 1780 | F34: =$Q34*$F$21/'driving mode datasheet'!$F$21 -> 88 | G34: =IF(AC34<$L$13,AC34,$L$13) -> 4000 | H34: =IF(U34<X34*0.95,U34,X34*0.95) -> 1030.4449 | I34: =MIN(V34:W34) -> 330.21696 | J34: =MIN(Z34,H34*E34*PI()/30000) -> 192.07613 | K34: =IF(E34<M34,E34,M34) -> 1780 | L34: =(K34+S34*H34/B34)*$F$9/120 -> 87.538376 | M34: =MIN($L$13,MAX(AB34,AA34)) -> 4000 | N34: =RESUM!I32 -> 138.3227 | O34: ='driving mode parameters'!I81 -> 0.96569966 | P34: ='driving mode parameters'!I82 -> 0.74031356 | Q34: ='driving mode parameters'!I75 -> 88 | R34: ='driving mode parameters'!I76 -> 1780 | S34: =Q34*120/$F$9-R34 -> -20 | U34: =B34/((C34^2-N34^2)^0.5)*(V34^2-N34^2)^0.5 -> 1030.4449 | V34: =IF(AND($L$24>=20%,$L$24<=80%)=TRUE,((C34^2*0.9-N34^2*(1-$L$24))/$L$24)^0.5,0) -> 330.21696 | W34: =(((V34^2-N34^2)^0.5*X34/U34)^2+N34^2)^0.5 -> 931.99565 | X34: =X33 -> 3167.3633 | Y34: ='driving mode datasheet'!Y34*$M$21/'driving mode datasheet'!$M$21*E34/'driving mode datasheet'!E34 -> 1477.8331 | Z34: =X34*Y34*PI()/30000 -> 490.17584 | AA34: =AC34*(D34/J34)^(1/AD34) -> 4022.6835 | AB34: =AC34*(B34*E34/AC34/H34)^(1/(1+AD34)) -> 2613.1453 | AC34: =0.95*Y34*(Z34/D34)^(1/AD34) -> 6162.0393 | AD34: =AD33 -> 0.89
A35: ='driving mode datasheet'!$A35 -> E62 | B35: ='driving mode datasheet'!B35 -> 650 | C35: ='driving mode datasheet'!C35 -> 270.1745 | D35: =E35*$B35*PI()/30000 -> 142.49757 | E35: =(F35*120/$F$9-$S35) -> 2093.464 | F35: =$Q35*$F$21/'driving mode datasheet'!$F$21 -> 104 | G35: =IF(AC35<$L$13,AC35,$L$13) -> 4000 | H35: =IF(U35<X35*0.95,U35,X35*0.95) -> 949.27128 | I35: =MIN(V35:W35) -> 359.57518 | J35: =MIN(Z35,H35*E35*PI()/30000) -> 208.10593 | K35: =IF(E35<M35,E35,M35) -> 2093.464 | L35: =(K35+S35*H35/B35)*$F$9/120 -> 103.69005 | M35: =MIN($L$13,MAX(AB35,AA35)) -> 4000 | N35: =RESUM!J32 -> 152.62759 | O35: ='driving mode parameters'!J81 -> 0.9676206 | P35: ='driving mode parameters'!J82 -> 0.73662695 | Q35: ='driving mode parameters'!J75 -> 104 | R35: ='driving mode parameters'!J76 -> 2093.464 | S35: =Q35*120/$F$9-R35 -> -13.464 | U35: =B35/((C35^2-N35^2)^0.5)*(V35^2-N35^2)^0.5 -> 949.27128 | V35: =IF(AND($L$24>=20%,$L$24<=80%)=TRUE,((C35^2*0.9-N35^2*(1-$L$24))/$L$24)^0.5,0) -> 359.57518 | W35: =(((V35^2-N35^2)^0.5*X35/U35)^2+N35^2)^0.5 -> 1096.9919 | X35: =X34 -> 3167.3633 | Y35: ='driving mode datasheet'!Y35*$M$21/'driving mode datasheet'!$M$21*E35/'driving mode datasheet'!E35 -> 1800.9643 | Z35: =X35*Y35*PI()/30000 -> 597.35375 | AA35: =AC35*(D35/J35)^(1/AD35) -> 5594.6902 | AB35: =AC35*(B35*E35/AC35/H35)^(1/(1+AD35)) -> 3325.8101 | AC35: =0.95*Y35*(Z35/D35)^(1/AD35) -> 8562.1266 | AD35: =AD34 -> 0.89
A36: ='driving mode datasheet'!$A36 -> F62 | B36: ='driving mode datasheet'!B36 -> 600 | C36: ='driving mode datasheet'!C36 -> 288.62162 | D36: =E36*$B36*PI()/30000 -> 146.55027 | E36: =(F36*120/$F$9-$S36) -> 2332.42 | F36: =$Q36*$F$21/'driving mode datasheet'!$F$21 -> 116 | G36: =IF(AC36<$L$13,AC36,$L$13) -> 4000 | H36: =IF(U36<X36*0.95,U36,X36*0.95) -> 872.24221 | I36: =MIN(V36:W36) -> 378.5097 | J36: =MIN(Z36,H36*E36*PI()/30000) -> 213.04555 | K36: =IF(E36<M36,E36,M36) -> 2332.42 | L36: =(K36+S36*H36/B36)*$F$9/120 -> 115.71823 | M36: =MIN($L$13,MAX(AB36,AA36)) -> 4000 | N36: =RESUM!K32 -> 171.58262 | O36: ='driving mode parameters'!K81 -> 0.96738052 | P36: ='driving mode parameters'!K82 -> 0.70898082 | Q36: ='driving mode parameters'!K75 -> 116 | R36: ='driving mode parameters'!K76 -> 2332.42 | S36: =Q36*120/$F$9-R36 -> -12.42 | U36: =B36/((C36^2-N36^2)^0.5)*(V36^2-N36^2)^0.5 -> 872.24221 | V36: =IF(AND($L$24>=20%,$L$24<=80%)=TRUE,((C36^2*0.9-N36^2*(1-$L$24))/$L$24)^0.5,0) -> 378.5097 | W36: =(((V36^2-N36^2)^0.5*X36/U36)^2+N36^2)^0.5 -> 1237.1011 | X36: =X35 -> 3167.3633 | Y36: ='driving mode datasheet'!Y36*$M$21/'driving mode datasheet'!$M$21*E36/'driving mode datasheet'!E36 -> 2085.9462 | Z36: =X36*Y36*PI()/30000 -> 691.87814 | AA36: =AC36*(D36/J36)^(1/AD36) -> 7444.0624 | AB36: =AC36*(B36*E36/AC36/H36)^(1/(1+AD36)) -> 4028.4838 | AC36: =0.95*Y36*(Z36/D36)^(1/AD36) -> 11333.874 | AD36: =AD35 -> 0.89
A37: ='driving mode datasheet'!$A37 -> 0 | B37: ='driving mode datasheet'!B37 -> 0 | C37: ='driving mode datasheet'!C37 -> 0 | D37: =E37*$B37*PI()/30000 -> #DIV/0! | E37: =(F37*120/$F$9-$S37) -> #DIV/0! | F37: =$Q37*$F$21/'driving mode datasheet'!$F$21 -> #DIV/0! | G37: =IF(AC37<$L$13,AC37,$L$13) -> #DIV/0! | H37: =IF(U37<X37*0.95,U37,X37*0.95) -> #DIV/0! | I37: =MIN(V37:W37) -> #DIV/0! | J37: =MIN(Z37,H37*E37*PI()/30000) -> #DIV/0! | K37: =IF(E37<M37,E37,M37) -> #DIV/0! | L37: =(K37+S37*H37/B37)*$F$9/120 -> #DIV/0! | M37: =MIN($L$13,MAX(AB37,AA37)) -> #DIV/0! | N37: =RESUM!L32 -> 0 | O37: ='driving mode parameters'!L81 -> #DIV/0! | P37: ='driving mode parameters'!L82 -> #DIV/0! | Q37: ='driving mode parameters'!L75 -> #DIV/0! | R37: ='driving mode parameters'!L76 -> #DIV/0! | S37: =Q37*120/$F$9-R37 -> #DIV/0! | U37: =B37/((C37^2-N37^2)^0.5)*(V37^2-N37^2)^0.5 -> #DIV/0! | V37: =IF(AND($L$24>=20%,$L$24<=80%)=TRUE,((C37^2*0.9-N37^2*(1-$L$24))/$L$24)^0.5,0) -> 0 | W37: =(((V37^2-N37^2)^0.5*X37/U37)^2+N37^2)^0.5 -> #DIV/0! | X37: =X36 -> 3167.3633 | Y37: ='driving mode datasheet'!Y37*$M$21/'driving mode datasheet'!$M$21*E37/'driving mode datasheet'!E37 -> #DIV/0! | Z37: =X37*Y37*PI()/30000 -> #DIV/0! | AA37: =AC37*(D37/J37)^(1/AD37) -> #DIV/0! | AB37: =AC37*(B37*E37/AC37/H37)^(1/(1+AD37)) -> #DIV/0! | AC37: =0.95*Y37*(Z37/D37)^(1/AD37) -> #DIV/0! | AD37: =AD36 -> 0.89
A38: ='driving mode datasheet'!$A38 -> 0 | B38: ='driving mode datasheet'!B38 -> 0 | C38: ='driving mode datasheet'!C38 -> 0 | D38: =E38*$B38*PI()/30000 -> #DIV/0! | E38: =(F38*120/$F$9-$S38) -> #DIV/0! | F38: =$Q38*$F$21/'driving mode datasheet'!$F$21 -> #DIV/0! | G38: =IF(AC38<$L$13,AC38,$L$13) -> #DIV/0! | H38: =IF(U38<X38*0.95,U38,X38*0.95) -> #DIV/0! | I38: =MIN(V38:W38) -> #DIV/0! | J38: =MIN(Z38,H38*E38*PI()/30000) -> #DIV/0! | K38: =IF(E38<M38,E38,M38) -> #DIV/0! | L38: =(K38+S38*H38/B38)*$F$9/120 -> #DIV/0! | M38: =MIN($L$13,MAX(AB38,AA38)) -> #DIV/0! | N38: =RESUM!M32 -> 0 | O38: ='driving mode parameters'!M81 -> #DIV/0! | P38: ='driving mode parameters'!M82 -> #DIV/0! | Q38: ='driving mode parameters'!M75 -> #DIV/0! | R38: ='driving mode parameters'!M76 -> #DIV/0! | S38: =Q38*120/$F$9-R38 -> #DIV/0! | U38: =B38/((C38^2-N38^2)^0.5)*(V38^2-N38^2)^0.5 -> #DIV/0! | V38: =IF(AND($L$24>=20%,$L$24<=80%)=TRUE,((C38^2*0.9-N38^2*(1-$L$24))/$L$24)^0.5,0) -> 0 | W38: =(((V38^2-N38^2)^0.5*X38/U38)^2+N38^2)^0.5 -> #DIV/0! | X38: =X37 -> 3167.3633 | Y38: ='driving mode datasheet'!Y38*$M$21/'driving mode datasheet'!$M$21*E38/'driving mode datasheet'!E38 -> #DIV/0! | Z38: =X38*Y38*PI()/30000 -> #DIV/0! | AA38: =AC38*(D38/J38)^(1/AD38) -> #DIV/0! | AB38: =AC38*(B38*E38/AC38/H38)^(1/(1+AD38)) -> #DIV/0! | AC38: =0.95*Y38*(Z38/D38)^(1/AD38) -> #DIV/0! | AD38: =AD37 -> 0.89
A39: ='driving mode datasheet'!$A39 -> 0 | B39: ='driving mode datasheet'!B39 -> 0 | C39: ='driving mode datasheet'!C39 -> 0 | D39: =E39*$B39*PI()/30000 -> #DIV/0! | E39: =(F39*120/$F$9-$S39) -> #DIV/0! | F39: =$Q39*$F$21/'driving mode datasheet'!$F$21 -> #DIV/0! | G39: =IF(AC39<$L$13,AC39,$L$13) -> #DIV/0! | H39: =IF(U39<X39*0.95,U39,X39*0.95) -> #DIV/0! | I39: =MIN(V39:W39) -> #DIV/0! | J39: =MIN(Z39,H39*E39*PI()/30000) -> #DIV/0! | K39: =IF(E39<M39,E39,M39) -> #DIV/0! | L39: =(K39+S39*H39/B39)*$F$9/120 -> #DIV/0! | M39: =MIN($L$13,MAX(AB39,AA39)) -> #DIV/0! | N39: =RESUM!N32 -> 0 | O39: ='driving mode parameters'!N81 -> #DIV/0! | P39: ='driving mode parameters'!N82 -> #DIV/0! | Q39: ='driving mode parameters'!N75 -> #DIV/0! | R39: ='driving mode parameters'!N76 -> #DIV/0! | S39: =Q39*120/$F$9-R39 -> #DIV/0! | U39: =B39/((C39^2-N39^2)^0.5)*(V39^2-N39^2)^0.5 -> #DIV/0! | V39: =IF(AND($L$24>=20%,$L$24<=80%)=TRUE,((C39^2*0.9-N39^2*(1-$L$24))/$L$24)^0.5,0) -> 0 | W39: =(((V39^2-N39^2)^0.5*X39/U39)^2+N39^2)^0.5 -> #DIV/0! | X39: =X38 -> 3167.3633 | Y39: ='driving mode datasheet'!Y39*$M$21/'driving mode datasheet'!$M$21*E39/'driving mode datasheet'!E39 -> #DIV/0! | Z39: =X39*Y39*PI()/30000 -> #DIV/0! | AA39: =AC39*(D39/J39)^(1/AD39) -> #DIV/0! | AB39: =AC39*(B39*E39/AC39/H39)^(1/(1+AD39)) -> #DIV/0! | AC39: =0.95*Y39*(Z39/D39)^(1/AD39) -> #DIV/0! | AD39: =AD38 -> 0.89
