Workbook

Sheet RESUM
H2: =B21 -> MAC QE 200 P | N2: Codi | O2: DT-QE 200 P
N3: Edició | O3: 06
H4: - Fitxa Tècnica - | N4: Pàgina | O4: 1 de 2
N5: Data | O5: 45244
B8: =B21 -> MAC QE 200 P | C8: =C21 -> MAC QE 200 P | D8: =D21 -> MAC QE 200 P | E8: =E21 -> MAC QE 200 P | F8: =F21 -> MAC QE 200 P | G8: =G21 -> MAC QE 200 P | H8: =H21 -> MAC QE 200 P | I8: =I21 -> MAC QE 200 P | ... O8: =O21 -> 0
B9: =B22 -> A61 | C9: =C22 -> B61 | D9: =D22 -> C61 | E9: =E22 -> D61 | F9: =F22 -> E61 | G9: =G22 -> F61 | H9: =H22 -> G61 | I9: =I22 -> H61 | ... O9: =O22 -> 0
A10: Pols | B10: 6 | C10: =B10 -> 6 | D10: =C10 -> 6 | E10: =D10 -> 6 | F10: =E10 -> 6 | G10: =F10 -> 6 | H10: =G10 -> 6 | I10: =H10 -> 6 | J10: =I10 -> 6 | ... O10: =N10 -> 6
A11: Nm | B11: 705 | C11: 705 | D11: 705 | E11: 705 | F11: 705 | G11: 705 | H11: 705 | I11: 705 | J11: 650 | K11: 600
A12: rpm | B12: 540 | C12: 660 | D12: 780 | E12: 920 | F12: 1140 | G12: 1280 | H12: 1460 | I12: 1700 | J12: 2026.536 | K12: 2287.58
A13: KW | B13: 39.8466 | C13: 48.7014 | D13: 57.5562 | E13: 67.8868 | F13: 84.1206 | G13: 94.4512 | H13: 107.7334 | I13: 125.443 | J13: 137.872 | K13: 143.66002
A14: V | B14: 399.68682 | C14: 399.68682 | D14: 399.68682 | E14: 399.68682 | F14: 399.68682 | G14: 399.68682 | H14: 399.68682 | I14: 399.68682 | J14: 400 | K14: 400
A15: A | B15: 82.933162 | C15: 99.215177 | D15: 114.2232 | E15: 134.94617 | F15: 164.80705 | G15: 185.40753 | H15: 211.95147 | I15: 247.42495 | J15: 270.1745 | K15: 288.62162
A16: Hz | B16: 28 | C16: 34 | D16: 40 | E16: 47 | F16: 58 | G16: 65 | H16: 74 | I16: 86 | J16: 102 | K16: 115
A17: Cos fi | B17: 0.7551 | C17: 0.7619 | D17: 0.7753 | E17: 0.7689 | F17: 0.7746 | G17: 0.7708 | H17: 0.7668 | I17: 0.7628 | J17: 0.7606 | K17: 0.7418
A18: Rend / eff. | B18: 0.9327 | C18: 0.9421 | D18: 0.9485 | E18: 0.9541 | F18: 0.9596 | G18: 0.962 | H18: 0.9645 | I18: 0.9666 | J18: 0.9684 | K18: 0.9685
A19: J (Kg m2) | B19: 1.3150058 | C19: 1.3150058 | D19: 1.3150058 | E19: 1.3150058 | F19: 1.3150058 | G19: 1.3150058 | H19: 1.3150058 | I19: 1.3150058 | J19: 1.3150058 | K19: 1.3150058
B20: ESQUEMA EQUIVALENTE POR FASE EN ESTRELLA / PHASE STAR EQUIVALENT SCHEMA
B21: MAC QE 200 P | C21: MAC QE 200 P | D21: MAC QE 200 P | E21: MAC QE 200 P | F21: MAC QE 200 P | G21: MAC QE 200 P | H21: MAC QE 200 P | I21: MAC QE 200 P | J21: MAC QE 200 P | K21: MAC QE 200 P
B22: A61 | C22: B61 | D22: C61 | E22: D61 | F22: E61 | G22: F61 | H22: G61 | I22: H61 | J22: E62 | K22: F62
A23: Rs (mOhm) | B23: 66.724864 | C23: 45.945448 | D23: 34.278317 | E23: 24.465739 | F23: 16.532384 | G23: 13.185177 | H23: 9.9783457 | I23: 7.4138738 | J23: 5.5107948 | K23: 4.3950591
A24: Rr (mOhm) | B24: 79.917524 | C24: 55.49828 | D24: 41.684734 | E24: 29.845633 | F24: 19.979381 | G24: 15.786099 | H24: 12.086289 | I24: 8.8797249 | J24: 6.6597936 | K24: 5.2620329
A25: Rfe (Ohm) | B25: 296.49103 | C25: 241.92751 | D25: 206.96989 | E25: 167.8842 | F25: 131.21998 | G25: 112.33354 | H25: 93.892757 | I25: 75.996028 | J25: 63.208813 | K25: 53.483251
A26: Ls (mH) | B26: 1.3145781 | C26: 0.91290147 | D26: 0.68567989 | E26: 0.49093634 | F26: 0.32864453 | G26: 0.25966845 | H26: 0.1988096 | I26: 0.14606424 | J26: 0.10954818 | K26: 0.086556151
A27: Lr (mH) | B27: 1.2767794 | C27: 0.87660235 | D27: 0.64592888 | E27: 0.4659158 | F27: 0.30932047 | G27: 0.24554822 | H27: 0.18896213 | I27: 0.13956137 | J27: 0.10525608 | K27: 0.085524032
A28: Lm (mH) | B28: 25.583371 | C28: 17.994328 | D28: 13.827754 | E28: 9.8022781 | F28: 6.6258118 | G28: 5.2040803 | H28: 3.9587351 | I28: 2.8895336 | J28: 2.2234749 | K28: 1.7574929
A29: Ts (s) | B29: 0.40311733 | C29: 0.41151475 | D29: 0.42339985 | E29: 0.42071954 | F29: 0.42065658 | G29: 0.41438569 | H29: 0.41665671 | I29: 0.40944828 | J29: 0.4233551 | K29: 0.4195732
A30: Tr (s) | B30: 0.33609838 | C30: 0.3400273 | D30: 0.34721784 | E30: 0.34404342 | F30: 0.34711447 | G30: 0.34521693 | H30: 0.34317377 | I30: 0.34112487 | J30: 0.34967014 | K30: 0.35024808
A31: Kt | B31: 98.583945 | C31: 82.153287 | D31: 71.198968 | E31: 60.245635 | F31: 49.291972 | G31: 43.814977 | H31: 38.338195 | I31: 32.861315 | J31: 28.458734 | K31: 25.296589
A32: Im (A/fase) | B32: 47.379104 | C32: 55.668351 | D32: 61.730627 | E32: 74.257112 | F32: 89.209428 | G32: 101.43542 | H32: 117.24327 | I32: 138.3227 | J32: 152.62759 | K32: 171.58262

Sheet driving mode datasheet
L1: Codigo | M1: =RESUM!O2 -> DT-QE 200 P
D2: =RESUM!H2 -> MAC QE 200 P | L2: Edición | M2: 06
D3: - Hoja de Datos Técnicos Modo Motor - | L3: Página | M3: 1 de 3
D4: - Driving mode Technical Datasheet - | L4: Fecha | M4: =RESUM!O5 -> 45244
A7: Ventilador / Fan | E7: Rodamientos | G7: Delantero | H7: 6316 ZZ C3 | J7: Trasero | M7: 6312 ZZ C3
A8: Tipo de Refrigeración | C8: IC 416 | E8: Bearings | G8: Drive End | J8: Non Drive End
A9: Cooling Mode | E9: Nº de polos | F9: =RESUM!B10 -> 6 | G9: Momento de inercia | I9: =RESUM!B19 -> 1.3150058 | K9: Peso Motor | M9: 640
A10: Tensión / Voltage | C10: 3 x 400 V | D10: 3 x 460 V | E10: No of poles | G10: Rotor Inertia | K10: Motor Weight
A11: Frec. / Frequency | C11: 50 Hz | D11: 60 Hz | E11: Protección | G11: IP 54 | H11: Construcción | J11: IM B3 | K11: standard | L11: Equilibrado grado | N11: A
A12: Corriente / Current | C12: 2,6 A | D12: 2,6 A | E12: Protection Degree | H12: Mounting | J12: IM B35 | K12: on request | L12: Balancing degree
A13: Velocidad / Speed | C13: 2835 rpm | D13: 3400 rpm | E13: Nivel de ruido | G13: < 87 dB | I13: Velocidad máxima mecánica | L13: 4000
E14: Noise Level | I14: Max. Mechanical Speed
E15: Aislamiento | F15: Cl. H | G15: Incremento Temperatura | I15: Cl. F | J15: Termistor | K15: PTC155º C | L15: Termómetros | N15: 3xPt100
A16: Por favor, indicar en los pedidos la alimentación deseada para el ventilador / Please indicate the required fan supply voltage when placing your order | E16: Insulation | G16: Temperature Rise | J16: Thermistor | L16: Thermometers
E17: Ambiente | F17: < 40 ºC < 1000 m | I17: Conmutación Variador | K17: 4 kHz ; IVIC C/B acc. EN60034-25
E18: Ambient | I18: Inverter Switching
A19: Normas de referencia | C19: EN60034 | E19: Freno de Bloqueo (opcional) | H19: 300 Nm | I19: 24 Vdc | J19: 2.5 A | K19: 60 W | L19: 18 Kg | M19: J = 0.0017 Kg m2
A20: Reference Standards | E20: Holding Brake (optional)
A21: Tensión de Base del Motor | E21: Vb ± 5% | F21: 400 | H21: Tensión Máxima de Salida del Convertidor | L21: Vc | M21: 400
A22: Motor Base Voltage | H22: Inverter max. Output Voltage
F23: =IF(F21>500," Vb ha de ser / must be < 500 V"," ") | G23: =IF(M21>500," Vc ha de ser / must be < 500 V"," ") | N23: =IF(M21<F21,"Vc ha de ser / must be > Vb"," ")
B24: Servicio / Service | F24: S1 | H24: Servicio / Service S6 - | L24: 0.4 | M24: =IF(L24>80%,"max 80%","")
M25: =IF(L24<20%,"min 20%","")
A26: Bobinado Winding | B26: Nm | C26: A ± 2% | D26: KW | E26: rpm | F26: Hz | G26: Velocidad a Pot.Cte Const. Power Speed. (rpm) | H26: Nm | I26: A ± 5% | J26: KW | K26: rpm | L26: Hz | M26: Velocidad a Pot.Cte Const. Power Speed. (rpm) | N26: Corriente en vacio No Load Current (A) | O26: eff | P26: cos fi | Q26: Hz | R26: rpm | S26: rpm llisc. | U26: Nm S6 | V26: A S6 | W26: Alim | X26: Nm lim | Y26: rpm lim | Z26: KW lim | AA26: rpm lim KW s6 | AB26: rpm lim Nm s6 | AC26: rpm lim s1 | AD26: Coef
A27: =RESUM!B9 -> A61 | B27: =RESUM!B11 -> 705 | C27: =RESUM!B15 -> 82.933162 | D27: =E27*$B27*PI()/30000 -> 39.866811 | E27: =(F27*120/$F$9-$S27) -> 540 | F27: =$Q27*$F$21/400 -> 28 | G27: =IF(AC27<$L$13,AC27,$L$13) -> 1969.9355 | H27: =IF(U27<X27*0.95,U27,X27*0.95) -> 1028.6415 | I27: =MIN(V27:W27) -> 110.03693 | J27: =MIN(Z27,H27*E27*PI()/30000) -> 58.168307 | K27: =MIN(E27,M27) -> 540 | L27: =(K27+S27*H27/B27)*$F$9/120 -> 28.459066 | M27: =MIN($L$13,MAX(AB27,AA27)) -> 1288.5407 | N27: =RESUM!B32 -> 47.379104 | O27: ='driving mode parameters'!B18 -> 0.9311516 | P27: ='driving mode parameters'!B17 -> 0.74514752 | Q27: =RESUM!B16 -> 28 | R27: =RESUM!B12 -> 540 | S27: =Q27*120/$F$9-R27 -> 20 | U27: =B27/((C27^2-N27^2)^0.5)*(V27^2-N27^2)^0.5 -> 1028.6415 | V27: =IF(AND($L$24>=20%,$L$24<=80%)=TRUE,((C27^2*0.9-N27^2*(1-$L$24))/$L$24)^0.5,0) -> 110.03693 | W27: =(((V27^2-N27^2)^0.5*X27/U27)^2+N27^2)^0.5 -> 309.4545 | X27: =X28 -> 3167.3633 | Y27: =Y$32*F27/F$32*(B$32/B27)^0.5 -> 459.53003 | Z27: =X27*Y27*PI()/30000 -> 152.41945 | AA27: =AC27*(D27/J27)^(1/AD27) -> 1288.5407 | AB27: =AC27*(B27*E27/AC27/H27)^(1/(1+AD27)) -> 813.30709 | AC27: =0.95*Y27*(Z27/D27)^(1/AD27) -> 1969.9355 | AD27: ='limit 480V'!Z25 -> 0.89
A28: =RESUM!C9 -> B61 | B28: =RESUM!C11 -> 705 | C28: =RESUM!C15 -> 99.215177 | D28: =E28*$B28*PI()/30000 -> 48.726102 | E28: =(F28*120/$F$9-$S28) -> 660 | F28: =$Q28*$F$21/400 -> 34 | G28: =IF(AC28<$L$13,AC28,$L$13) -> 2374.6188 | H28: =IF(U28<X28*0.95,U28,X28*0.95) -> 1030.1527 | I28: =MIN(V28:W28) -> 132.28669 | J28: =MIN(Z28,H28*E28*PI()/30000) -> 71.199041 | K28: =IF(E28<M28,E28,M28) -> 660 | L28: =(K28+S28*H28/B28)*$F$9/120 -> 34.461209 | M28: =MIN($L$13,MAX(AB28,AA28)) -> 1550.6855 | N28: =RESUM!C32 -> 55.668351 | O28: ='driving mode parameters'!C18 -> 0.94113562 | P28: ='driving mode parameters'!C17 -> 0.75320073 | Q28: =RESUM!C16 -> 34 | R28: =RESUM!C12 -> 660 | S28: =Q28*120/$F$9-R28 -> 20 | U28: =B28/((C28^2-N28^2)^0.5)*(V28^2-N28^2)^0.5 -> 1030.1527 | V28: =IF(AND($L$24>=20%,$L$24<=80%)=TRUE,((C28^2*0.9-N28^2*(1-$L$24))/$L$24)^0.5,0) -> 132.28669 | W28: =(((V28^2-N28^2)^0.5*X28/U28)^2+N28^2)^0.5 -> 373.14465 | X28: =X29 -> 3167.3633 | Y28: =Y$32*F28/F$32*(B$32/B28)^0.5 -> 558.00075 | Z28: =X28*Y28*PI()/30000 -> 185.08076 | AA28: =AC28*(D28/J28)^(1/AD28) -> 1550.6855 | AB28: =AC28*(B28*E28/AC28/H28)^(1/(1+AD28)) -> 986.8204 | AC28: =0.95*Y28*(Z28/D28)^(1/AD28) -> 2374.6188 | AD28: =AD27 -> 0.89
A29: =RESUM!D9 -> C61 | B29: =RESUM!D11 -> 705 | C29: =RESUM!D15 -> 114.2232 | D29: =E29*$B29*PI()/30000 -> 57.585393 | E29: =(F29*120/$F$9-$S29) -> 780 | F29: =$Q29*$F$21/400 -> 40 | G29: =IF(AC29<$L$13,AC29,$L$13) -> 2779.4698 | H29: =IF(U29<X29*0.95,U29,X29*0.95) -> 1032.9768 | I29: =MIN(V29:W29) -> 153.75177 | J29: =MIN(Z29,H29*E29*PI()/30000) -> 84.374998 | K29: =IF(E29<M29,E29,M29) -> 780 | L29: =(K29+S29*H29/B29)*$F$9/120 -> 40.465215 | M29: =MIN($L$13,MAX(AB29,AA29)) -> 1809.4886 | N29: =RESUM!D32 -> 61.730627 | O29: ='driving mode parameters'!D18 -> 0.94791987 | P29: ='driving mode parameters'!D17 -> 0.76765446 | Q29: =RESUM!D16 -> 40 | R29: =RESUM!D12 -> 780 | S29: =Q29*120/$F$9-R29 -> 20 | U29: =B29/((C29^2-N29^2)^0.5)*(V29^2-N29^2)^0.5 -> 1032.9768 | V29: =IF(AND($L$24>=20%,$L$24<=80%)=TRUE,((C29^2*0.9-N29^2*(1-$L$24))/$L$24)^0.5,0) -> 153.75177 | W29: =(((V29^2-N29^2)^0.5*X29/U29)^2+N29^2)^0.5 -> 436.16503 | X29: =X30 -> 3167.3633 | Y29: =Y$32*F29/F$32*(B$32/B29)^0.5 -> 656.47147 | Z29: =X29*Y29*PI()/30000 -> 217.74208 | AA29: =AC29*(D29/J29)^(1/AD29) -> 1809.4886 | AB29: =AC29*(B29*E29/AC29/H29)^(1/(1+AD29)) -> 1159.2847 | AC29: =0.95*Y29*(Z29/D29)^(1/AD29) -> 2779.4698 | AD29: =AD28 -> 0.89
A30: =RESUM!E9 -> D61 | B30: =RESUM!E11 -> 705 | C30: =RESUM!E15 -> 134.94617 | D30: =E30*$B30*PI()/30000 -> 67.921233 | E30: =(F30*120/$F$9-$S30) -> 920 | F30: =$Q30*$F$21/400 -> 47 | G30: =IF(AC30<$L$13,AC30,$L$13) -> 3251.9201 | H30: =IF(U30<X30*0.95,U30,X30*0.95) -> 1031.669 | I30: =MIN(V30:W30) -> 180.83798 | J30: =MIN(Z30,H30*E30*PI()/30000) -> 99.393231 | K30: =IF(E30<M30,E30,M30) -> 920 | L30: =(K30+S30*H30/B30)*$F$9/120 -> 47.46336 | M30: =MIN($L$13,MAX(AB30,AA30)) -> 2120.0786 | N30: =RESUM!E32 -> 74.257112 | O30: ='driving mode parameters'!E18 -> 0.95367834 | P30: ='driving mode parameters'!E17 -> 0.76176755 | Q30: =RESUM!E16 -> 47 | R30: =RESUM!E12 -> 920 | S30: =Q30*120/$F$9-R30 -> 20 | U30: =B30/((C30^2-N30^2)^0.5)*(V30^2-N30^2)^0.5 -> 1031.669 | V30: =IF(AND($L$24>=20%,$L$24<=80%)=TRUE,((C30^2*0.9-N30^2*(1-$L$24))/$L$24)^0.5,0) -> 180.83798 | W30: =(((V30^2-N30^2)^0.5*X30/U30)^2+N30^2)^0.5 -> 511.64764 | X30: =X31 -> 3167.3633 | Y30: =Y$32*F30/F$32*(B$32/B30)^0.5 -> 771.35398 | Z30: =X30*Y30*PI()/30000 -> 255.84694 | AA30: =AC30*(D30/J30)^(1/AD30) -> 2120.0786 | AB30: =AC30*(B30*E30/AC30/H30)^(1/(1+AD30)) -> 1363.0729 | AC30: =0.95*Y30*(Z30/D30)^(1/AD30) -> 3251.9201 | AD30: =AD29 -> 0.89
A31: =RESUM!F9 -> E61 | B31: =RESUM!F11 -> 705 | C31: =RESUM!F15 -> 164.80705 | D31: =E31*$B31*PI()/30000 -> 84.163267 | E31: =(F31*120/$F$9-$S31) -> 1140 | F31: =$Q31*$F$21/400 -> 58 | G31: =IF(AC31<$L$13,AC31,$L$13) -> 3994.4986 | H31: =IF(U31<X31*0.95,U31,X31*0.95) -> 1032.8653 | I31: =MIN(V31:W31) -> 221.75569 | J31: =MIN(Z31,H31*E31*PI()/30000) -> 123.304 | K31: =IF(E31<M31,E31,M31) -> 1140 | L31: =(K31+S31*H31/B31)*$F$9/120 -> 58.465057 | M31: =MIN($L$13,MAX(AB31,AA31)) -> 2600.8112 | N31: =RESUM!F32 -> 89.209428 | O31: ='driving mode parameters'!F18 -> 0.95942955 | P31: ='driving mode parameters'!F17 -> 0.76826862 | Q31: =RESUM!F16 -> 58 | R31: =RESUM!F12 -> 1140 | S31: =Q31*120/$F$9-R31 -> 20 | U31: =B31/((C31^2-N31^2)^0.5)*(V31^2-N31^2)^0.5 -> 1032.8653 | V31: =IF(AND($L$24>=20%,$L$24<=80%)=TRUE,((C31^2*0.9-N31^2*(1-$L$24))/$L$24)^0.5,0) -> 221.75569 | W31: =(((V31^2-N31^2)^0.5*X31/U31)^2+N31^2)^0.5 -> 628.93695 | X31: =X32 -> 3167.3633 | Y31: =Y$32*F31/F$32*(B$32/B31)^0.5 -> 951.88364 | Z31: =X31*Y31*PI()/30000 -> 315.72601 | AA31: =AC31*(D31/J31)^(1/AD31) -> 2600.8112 | AB31: =AC31*(B31*E31/AC31/H31)^(1/(1+AD31)) -> 1681.0588 | AC31: =0.95*Y31*(Z31/D31)^(1/AD31) -> 3994.4986 | AD31: =AD30 -> 0.89
A32: =RESUM!G9 -> F61 | B32: =RESUM!G11 -> 705 | C32: =RESUM!G15 -> 185.40753 | D32: =E32*$B32*PI()/30000 -> 94.499107 | E32: =(F32*120/$F$9-$S32) -> 1280 | F32: =$Q32*$F$21/400 -> 65 | G32: =IF(AC32<$L$13,AC32,$L$13) -> 4000 | H32: =IF(U32<X32*0.95,U32,X32*0.95) -> 1032.0987 | I32: =MIN(V32:W32) -> 248.82158 | J32: =MIN(Z32,H32*E32*PI()/30000) -> 138.34384 | K32: =IF($E$32<$M$32,$E$32,$M$32) -> 1280 | L32: =(K32+S32*H32/B32)*$F$9/120 -> 65.46397 | M32: =MIN($L$13,MAX(AB32,AA32)) -> 2910.9544 | N32: =RESUM!G32 -> 101.43542 | O32: ='driving mode parameters'!G18 -> 0.96191261 | P32: ='driving mode parameters'!G17 -> 0.76479334 | Q32: =RESUM!G16 -> 65 | R32: =RESUM!G12 -> 1280 | S32: =Q32*120/$F$9-R32 -> 20 | U32: =B32/((C32^2-N32^2)^0.5)*(V32^2-N32^2)^0.5 -> 1032.0987 | V32: =IF(AND($L$24>=20%,$L$24<=80%)=TRUE,((C32^2*0.9-N32^2*(1-$L$24))/$L$24)^0.5,0) -> 248.82158 | W32: =(((V32^2-N32^2)^0.5*X32/U32)^2+N32^2)^0.5 -> 704.60543 | X32: ='limit 480V'!K27*0.95 -> 3167.3633 | Y32: ='limit 480V'!I27/'limit 480V'!Y27*M21 -> 1066.7661 | Z32: =X32*Y32*PI()/30000 -> 353.83087 | AA32: =AC32*(D32/J32)^(1/AD32) -> 2910.9544 | AB32: =AC32*(B32*E32/AC32/H32)^(1/(1+AD32)) -> 1884.6854 | AC32: =0.95*Y32*(Z32/D32)^(1/AD32) -> 4467.1091 | AD32: =AD31 -> 0.89 | AE32: =AB32*(J32/D32)^(1/2/AD32) -> 2334.7181
A33: =RESUM!H9 -> G61 | B33: =RESUM!H11 -> 705 | C33: =RESUM!H15 -> 211.95147 | D33: =E33*$B33*PI()/30000 -> 107.78804 | E33: =(F33*120/$F$9-$S33) -> 1460 | F33: =$Q33*$F$21/400 -> 74 | G33: =IF(AC33<$L$13,AC33,$L$13) -> 4000 | H33: =IF(U33<X33*0.95,U33,X33*0.95) -> 1031.2722 | I33: =MIN(V33:W33) -> 283.65248 | J33: =MIN(Z33,H33*E33*PI()/30000) -> 157.67207 | K33: =IF(E33<M33,E33,M33) -> 1460 | L33: =(K33+S33*H33/B33)*$F$9/120 -> 74.462797 | M33: =MIN($L$13,MAX(AB33,AA33)) -> 3309.9261 | N33: =RESUM!H32 -> 117.24327 | O33: ='driving mode parameters'!H18 -> 0.9645352 | P33: ='driving mode parameters'!H17 -> 0.76101893 | Q33: =RESUM!H16 -> 74 | R33: =RESUM!H12 -> 1460 | S33: =Q33*120/$F$9-R33 -> 20 | U33: =B33/((C33^2-N33^2)^0.5)*(V33^2-N33^2)^0.5 -> 1031.2722 | V33: =IF(AND($L$24>=20%,$L$24<=80%)=TRUE,((C33^2*0.9-N33^2*(1-$L$24))/$L$24)^0.5,0) -> 283.65248 | W33: =(((V33^2-N33^2)^0.5*X33/U33)^2+N33^2)^0.5 -> 801.9017 | X33: =X32 -> 3167.3633 | Y33: =Y$32*F33/F$32*(B$32/B33)^0.5 -> 1214.4722 | Z33: =X33*Y33*PI()/30000 -> 402.82284 | AA33: =AC33*(D33/J33)^(1/AD33) -> 3309.9261 | AB33: =AC33*(B33*E33/AC33/H33)^(1/(1+AD33)) -> 2146.5516 | AC33: =0.95*Y33*(Z33/D33)^(1/AD33) -> 5074.7949 | AD33: =AD32 -> 0.89
A34: =RESUM!I9 -> H61 | B34: =RESUM!I11 -> 705 | C34: =RESUM!I15 -> 247.42495 | D34: =E34*$B34*PI()/30000 -> 125.50663 | E34: =(F34*120/$F$9-$S34) -> 1700 | F34: =$Q34*$F$21/400 -> 86 | G34: =IF(AC34<$L$13,AC34,$L$13) -> 4000 | H34: =IF(U34<X34*0.95,U34,X34*0.95) -> 1030.4449 | I34: =MIN(V34:W34) -> 330.21696 | J34: =MIN(Z34,H34*E34*PI()/30000) -> 183.44349 | K34: =IF(E34<M34,E34,M34) -> 1700 | L34: =(K34+S34*H34/B34)*$F$9/120 -> 86.461624 | M34: =MIN($L$13,MAX(AB34,AA34)) -> 3841.8887 | N34: =RESUM!I32 -> 138.3227 | O34: ='driving mode parameters'!I18 -> 0.96669457 | P34: ='driving mode parameters'!I17 -> 0.75737901 | Q34: =RESUM!I16 -> 86 | R34: =RESUM!I12 -> 1700 | S34: =Q34*120/$F$9-R34 -> 20 | U34: =B34/((C34^2-N34^2)^0.5)*(V34^2-N34^2)^0.5 -> 1030.4449 | V34: =IF(AND($L$24>=20%,$L$24<=80%)=TRUE,((C34^2*0.9-N34^2*(1-$L$24))/$L$24)^0.5,0) -> 330.21696 | W34: =(((V34^2-N34^2)^0.5*X34/U34)^2+N34^2)^0.5 -> 931.99565 | X34: =X33 -> 3167.3633 | Y34: =Y$32*F34/F$32*(B$32/B34)^0.5 -> 1411.4137 | Z34: =X34*Y34*PI()/30000 -> 468.14546 | AA34: =AC34*(D34/J34)^(1/AD34) -> 3841.8887 | AB34: =AC34*(B34*E34/AC34/H34)^(1/(1+AD34)) -> 2495.7005 | AC34: =0.95*Y34*(Z34/D34)^(1/AD34) -> 5885.0938 | AD34: =AD33 -> 0.89
A35: =RESUM!J9 -> E62 | B35: =RESUM!J11 -> 650 | C35: =RESUM!J15 -> 270.1745 | D35: =E35*$B35*PI()/30000 -> 137.94193 | E35: =(F35*120/$F$9-$S35) -> 2026.536 | F35: =$Q35*$F$21/400 -> 102 | G35: =IF(AC35<$L$13,AC35,$L$13) -> 4000 | H35: =IF(U35<X35*0.95,U35,X35*0.95) -> 949.27128 | I35: =MIN(V35:W35) -> 359.57518 | J35: =MIN(Z35,H35*E35*PI()/30000) -> 201.45279 | K35: =IF(E35<M35,E35,M35) -> 2026.536 | L35: =(K35+S35*H35/B35)*$F$9/120 -> 102.30995 | M35: =MIN($L$13,MAX(AB35,AA35)) -> 4000 | N35: =RESUM!J32 -> 152.62759 | O35: ='driving mode parameters'!J18 -> 0.96878348 | P35: ='driving mode parameters'!J17 -> 0.76068456 | Q35: =RESUM!J16 -> 102 | R35: =RESUM!J12 -> 2026.536 | S35: =Q35*120/$F$9-R35 -> 13.464 | U35: =B35/((C35^2-N35^2)^0.5)*(V35^2-N35^2)^0.5 -> 949.27128 | V35: =IF(AND($L$24>=20%,$L$24<=80%)=TRUE,((C35^2*0.9-N35^2*(1-$L$24))/$L$24)^0.5,0) -> 359.57518 | W35: =(((V35^2-N35^2)^0.5*X35/U35)^2+N35^2)^0.5 -> 1096.9919 | X35: =X34 -> 3167.3633 | Y35: =Y$32*F35/F$32*(B$32/B35)^0.5 -> 1743.3875 | Z35: =X35*Y35*PI()/30000 -> 578.25636 | AA35: =AC35*(D35/J35)^(1/AD35) -> 5415.8281 | AB35: =AC35*(B35*E35/AC35/H35)^(1/(1+AD35)) -> 3219.484 | AC35: =0.95*Y35*(Z35/D35)^(1/AD35) -> 8288.3956 | AD35: =AD34 -> 0.89
A36: =RESUM!K9 -> F62 | B36: =RESUM!K11 -> 600 | C36: =RESUM!K15 -> 288.62162 | D36: =E36*$B36*PI()/30000 -> 143.73289 | E36: =(F36*120/$F$9-$S36) -> 2287.58 | F36: =$Q36*$F$21/400 -> 115 | G36: =IF(AC36<$L$13,AC36,$L$13) -> 4000 | H36: =IF(U36<X36*0.95,U36,X36*0.95) -> 872.24221 | I36: =MIN(V36:W36) -> 378.5097 | J36: =MIN(Z36,H36*E36*PI()/30000) -> 208.94982 | K36: =IF(E36<M36,E36,M36) -> 2287.58 | L36: =(K36+S36*H36/B36)*$F$9/120 -> 115.28177 | M36: =MIN($L$13,MAX(AB36,AA36)) -> 4000 | N36: =RESUM!K32 -> 171.58262 | O36: ='driving mode parameters'!K18 -> 0.96891187 | P36: ='driving mode parameters'!K17 -> 0.74186076 | Q36: =RESUM!K16 -> 115 | R36: =RESUM!K12 -> 2287.58 | S36: =Q36*120/$F$9-R36 -> 12.42 | U36: =B36/((C36^2-N36^2)^0.5)*(V36^2-N36^2)^0.5 -> 872.24221 | V36: =IF(AND($L$24>=20%,$L$24<=80%)=TRUE,((C36^2*0.9-N36^2*(1-$L$24))/$L$24)^0.5,0) -> 378.5097 | W36: =(((V36^2-N36^2)^0.5*X36/U36)^2+N36^2)^0.5 -> 1237.1011 | X36: =X35 -> 3167.3633 | Y36: =Y$32*F36/F$32*(B$32/B36)^0.5 -> 2045.8446 | Z36: =X36*Y36*PI()/30000 -> 678.57701 | AA36: =AC36*(D36/J36)^(1/AD36) -> 7300.9528 | AB36: =AC36*(B36*E36/AC36/H36)^(1/(1+AD36)) -> 3951.0375 | AC36: =0.95*Y36*(Z36/D36)^(1/AD36) -> 11115.984 | AD36: =AD35 -> 0.89
A37: =RESUM!L9 -> 0 | B37: =RESUM!L11 -> 0 | C37: =RESUM!L15 -> 0 | D37: =E37*$B37*PI()/30000 -> 0 | E37: =(F37*120/$F$9-$S37) -> 0 | F37: =$Q37*$F$21/400 -> 0 | G37: =IF(AC37<$L$13,AC37,$L$13) -> #DIV/0! | H37: =IF(U37<X37*0.95,U37,X37*0.95) -> #DIV/0! | I37: =MIN(V37:W37) -> #DIV/0! | J37: =MIN(Z37,H37*E37*PI()/30000) -> #DIV/0! | K37: =IF(E37<M37,E37,M37) -> #DIV/0! | L37: =(K37+S37*H37/B37)*$F$9/120 -> #DIV/0! | M37: =MIN($L$13,MAX(AB37,AA37)) -> #DIV/0! | N37: =RESUM!L32 -> 0 | O37: ='driving mode parameters'!L18 -> #DIV/0! | P37: ='driving mode parameters'!L17 -> #DIV/0! | Q37: =RESUM!L16 -> 0 | R37: =RESUM!L12 -> 0 | S37: =Q37*120/$F$9-R37 -> 0 | U37: =B37/((C37^2-N37^2)^0.5)*(V37^2-N37^2)^0.5 -> #DIV/0! | V37: =IF(AND($L$24>=20%,$L$24<=80%)=TRUE,((C37^2*0.9-N37^2*(1-$L$24))/$L$24)^0.5,0) -> 0 | W37: =(((V37^2-N37^2)^0.5*X37/U37)^2+N37^2)^0.5 -> #DIV/0! | X37: =X36 -> 3167.3633 | Y37: =Y$32*F37/F$32*(B$32/B37)^0.5 -> #DIV/0! | Z37: =X37*Y37*PI()/30000 -> #DIV/0! | AA37: =AC37*(D37/J37)^(1/AD37) -> #DIV/0! | AB37: =AC37*(B37*E37/AC37/H37)^(1/(1+AD37)) -> #DIV/0! | AC37: =0.95*Y37*(Z37/D37)^(1/AD37) -> #DIV/0! | AD37: =AD36 -> 0.89
A38: =RESUM!M9 -> 0 | B38: =RESUM!M11 -> 0 | C38: =RESUM!M15 -> 0 | D38: =E38*$B38*PI()/30000 -> 0 | E38: =(F38*120/$F$9-$S38) -> 0 | F38: =$Q38*$F$21/400 -> 0 | G38: =IF(AC38<$L$13,AC38,$L$13) -> #DIV/0! | H38: =IF(U38<X38*0.95,U38,X38*0.95) -> #DIV/0! | I38: =MIN(V38:W38) -> #DIV/0! | J38: =MIN(Z38,H38*E38*PI()/30000) -> #DIV/0! | K38: =IF(E38<M38,E38,M38) -> #DIV/0! | L38: =(K38+S38*H38/B38)*$F$9/120 -> #DIV/0! | M38: =MIN($L$13,MAX(AB38,AA38)) -> #DIV/0! | N38: =RESUM!M32 -> 0 | O38: ='driving mode parameters'!M18 -> #DIV/0! | P38: ='driving mode parameters'!M17 -> #DIV/0! | Q38: =RESUM!M16 -> 0 | R38: =RESUM!M12 -> 0 | S38: =Q38*120/$F$9-R38 -> 0 | U38: =B38/((C38^2-N38^2)^0.5)*(V38^2-N38^2)^0.5 -> #DIV/0! | V38: =IF(AND($L$24>=20%,$L$24<=80%)=TRUE,((C38^2*0.9-N38^2*(1-$L$24))/$L$24)^0.5,0) -> 0 | W38: =(((V38^2-N38^2)^0.5*X38/U38)^2+N38^2)^0.5 -> #DIV/0! | X38: =X37 -> 3167.3633 | Y38: =Y$32*F38/F$32*(B$32/B38)^0.5 -> #DIV/0! | Z38: =X38*Y38*PI()/30000 -> #DIV/0! | AA38: =AC38*(D38/J38)^(1/AD38) -> #DIV/0! | AB38: =AC38*(B38*E38/AC38/H38)^(1/(1+AD38)) -> #DIV/0! | AC38: =0.95*Y38*(Z38/D38)^(1/AD38) -> #DIV/0! | AD38: =AD37 -> 0.89
A39: =RESUM!N9 -> 0 | B39: =RESUM!N11 -> 0 | C39: =RESUM!N15 -> 0 | D39: =E39*$B39*PI()/30000 -> 0 | E39: =(F39*120/$F$9-$S39) -> 0 | F39: =$Q39*$F$21/400 -> 0 | G39: =IF(AC39<$L$13,AC39,$L$13) -> #DIV/0! | H39: =IF(U39<X39*0.95,U39,X39*0.95) -> #DIV/0! | I39: =MIN(V39:W39) -> #DIV/0! | J39: =MIN(Z39,H39*E39*PI()/30000) -> #DIV/0! | K39: =IF(E39<M39,E39,M39) -> #DIV/0! | L39: =(K39+S39*H39/B39)*$F$9/120 -> #DIV/0! | M39: =MIN($L$13,MAX(AB39,AA39)) -> #DIV/0! | N39: =RESUM!N32 -> 0 | O39: ='driving mode parameters'!N18 -> #DIV/0! | P39: ='driving mode parameters'!N17 -> #DIV/0! | Q39: =RESUM!N16 -> 0 | R39: =RESUM!N12 -> 0 | S39: =Q39*120/$F$9-R39 -> 0 | U39: =B39/((C39^2-N39^2)^0.5)*(V39^2-N39^2)^0.5 -> #DIV/0! | V39: =IF(AND($L$24>=20%,$L$24<=80%)=TRUE,((C39^2*0.9-N39^2*(1-$L$24))/$L$24)^0.5,0) -> 0 | W39: =(((V39^2-N39^2)^0.5*X39/U39)^2+N39^2)^0.5 -> #DIV/0! | X39: =X38 -> 3167.3633 | Y39: =Y$32*F39/F$32*(B$32/B39)^0.5 -> #DIV/0! | Z39: =X39*Y39*PI()/30000 -> #DIV/0! | AA39: =AC39*(D39/J39)^(1/AD39) -> #DIV/0! | AB39: =AC39*(B39*E39/AC39/H39)^(1/(1+AD39)) -> #DIV/0! | AC39: =0.95*Y39*(Z39/D39)^(1/AD39) -> #DIV/0! | AD39: =AD38 -> 0.89
A40: =RESUM!O9 -> 0 | B40: =RESUM!O11 -> 0 | C40: =RESUM!O15 -> 0 | D40: =E40*$B40*PI()/30000 -> 0 | E40: =(F40*120/$F$9-$S40) -> 0 | F40: =$Q40*$F$21/400 -> 0 | G40: =IF(AC40<$L$13,AC40,$L$13) -> #DIV/0! | H40: =IF(U40<X40*0.95,U40,X40*0.95) -> #DIV/0! | I40: =MIN(V40:W40) -> #DIV/0! | J40: =MIN(Z40,H40*E40*PI()/30000) -> #DIV/0! | K40: =IF(E40<M40,E40,M40) -> #DIV/0! | L40: =(K40+S40*H40/B40)*$F$9/120 -> #DIV/0! | M40: =MIN($L$13,MAX(AB40,AA40)) -> #DIV/0! | N40: =RESUM!O32 -> 0 | O40: ='driving mode parameters'!O18 -> #DIV/0! | P40: ='driving mode parameters'!O17 -> #DIV/0! | Q40: =RESUM!O16 -> 0 | R40: =RESUM!O12 -> 0 | S40: =Q40*120/$F$9-R40 -> 0 | U40: =B40/((C40^2-N40^2)^0.5)*(V40^2-N40^2)^0.5 -> #DIV/0! | V40: =IF(AND($L$24>=20%,$L$24<=80%)=TRUE,((C40^2*0.9-N40^2*(1-$L$24))/$L$24)^0.5,0) -> 0 | W40: =(((V40^2-N40^2)^0.5*X40/U40)^2+N40^2)^0.5 -> #DIV/0! | X40: =X39 -> 3167.3633 | Y40: =Y$32*F40/F$32*(B$32/B40)^0.5 -> #DIV/0! | Z40: =X40*Y40*PI()/30000 -> #DIV/0! | AA40: =AC40*(D40/J40)^(1/AD40) -> #DIV/0! | AB40: =AC40*(B40*E40/AC40/H40)^(1/(1+AD40)) -> #DIV/0! | AC40: =0.95*Y40*(Z40/D40)^(1/AD40) -> #DIV/0! | AD40: =AD39 -> 0.89
A41: Otras Velocidades disponibles bajo consulta / Other speeds available on request | H41: La tensión para el servicio S6 es mayor que Vb / Voltage for S6 duty is bigger than Vb
A72: Elabora: | E72: Revisa: | K72: Aprueba:
D74: =M4 -> 45244 | J74: =D74 -> 45244 | N74: =J74 -> 45244
D76: =D2 -> MAC QE 200 P
D77: - Hoja de Curvas Características Modo Motor - | L77: Página | M77: 2 de 3
D78: - Driving Mode Power and Torque Diagrams - | L78: Fecha | M78: =M4 -> 45244
A81: Tensión de Base del Motor | E81: Vb ± 5% | F81: =F21 -> 400 | H81: Tensión Máxima de Salida del Convertidor | L81: Vc | M81: =M21 -> 400
A82: Motor Base Voltage | H82: Inverter max. Output Voltage
F83: =IF(F81>500," LA TENSIÓN DE BASE HA DE SER INFERIOR O IGUAL A 500 V"," ") | G83: =IF(M81>500," LA TENSIÓN MÁXIMA HA DE SER INFERIOR O IGUAL A 500 V"," ") | N83: =IF(M81<F81," LA TENSIÓN MÁXIMA HA DE SER SUPERIOR O IGUAL A LA DE BASE"," ")
B84: Servicio / Service | F84: =F24 -> S1 | H84: =H24 -> Servicio / Service S6 - | L84: =L24 -> 0.4
K85: =H29 -> 1032.9768 | L85: =L29 -> 40.465215
A86: Bobinado Winding | B86: Nm | C86: A ± 2% | D86: KW | E86: rpm | F86: Hz | G86: Velocidad a Pot.Cte Const. Power Speed. (rpm) | H86: Nm | I86: A ± 5% | J86: KW | K86: rpm | L86: Hz | M86: Velocidad a Pot.Cte Const. Power Speed. (rpm) | N86: Corriente en vacio No Load Current (A) | O86: =O26 -> eff | P86: =P26 -> cos fi | Q86: =Q26 -> Hz | R86: =R26 -> rpm | S86: =S26 -> rpm llisc. | U86: =U26 -> Nm S6 | V86: =V26 -> A S6 | W86: =W26 -> Alim | X86: =X26 -> Nm lim | Y86: =Y26 -> rpm lim | Z86: =Z26 -> KW lim | AA86: =AA26 -> rpm lim KW s6 | AB86: =AB26 -> rpm lim Nm s6 | AC86: =AC26 -> rpm lim s1 | AD86: coef
A87: B61 | B87: =VLOOKUP($A$87,$A$27:$Y$40,2,FALSE) -> 705 | C87: =VLOOKUP($A$87,$A$27:$Y$40,3,FALSE) -> 99.215177 | D87: =VLOOKUP($A$87,$A$27:$Y$40,4,FALSE) -> 48.726102 | E87: =VLOOKUP($A$87,$A$27:$Y$40,5,FALSE) -> 660 | F87: =VLOOKUP($A$87,$A$27:$Y$40,6,FALSE) -> 34 | G87: =VLOOKUP($A$87,$A$27:$Y$40,7,FALSE) -> 2374.6188 | H87: =VLOOKUP($A$87,$A$27:$Y$40,8,FALSE) -> 1030.1527 | I87: =VLOOKUP($A$87,$A$27:$Y$40,9,FALSE) -> 132.28669 | J87: =VLOOKUP($A$87,$A$27:$Y$40,10,FALSE) -> 71.199041 | K87: =VLOOKUP($A$87,$A$27:$Y$40,11,FALSE) -> 660 | L87: =VLOOKUP($A$87,$A$27:$Y$40,12,FALSE) -> 34.461209 | M87: =VLOOKUP($A$87,$A$27:$Y$40,13,FALSE) -> 1550.6855 | N87: =VLOOKUP($A$87,$A$27:$Y$40,14,FALSE) -> 55.668351 | O87: =VLOOKUP($A$87,$A$27:$Y$40,15,FALSE) -> 0.94113562 | P87: =VLOOKUP($A$87,$A$27:$Y$40,16,FALSE) -> 0.75320073 | Q87: =VLOOKUP($A$87,$A$27:$Y$40,17,FALSE) -> 34 | R87: =VLOOKUP($A$87,$A$27:$Y$40,18,FALSE) -> 660 | S87: =VLOOKUP($A$87,$A$27:$Y$40,19,FALSE) -> 20 | U87: =VLOOKUP($A$87,$A$27:$Y$40,21,FALSE) -> 1030.1527 | V87: =VLOOKUP($A$87,$A$27:$Y$40,22,FALSE) -> 132.28669 | W87: =VLOOKUP($A$87,$A$27:$Y$40,23,FALSE) -> 373.14465 | X87: =VLOOKUP($A$87,$A$27:$Y$40,24,FALSE) -> 3167.3633 | Y87: =VLOOKUP($A$87,$A$27:$Y$40,25,FALSE) -> 558.00075 | Z87: =VLOOKUP($A$87,$A$27:$AD$40,26,FALSE) -> 185.08076 | AA87: =VLOOKUP($A$87,$A$27:$AD$40,27,FALSE) -> 1550.6855 | AB87: =VLOOKUP($A$87,$A$27:$AD$40,28,FALSE) -> 986.8204 | AC87: =VLOOKUP($A$87,$A$27:$AD$40,29,FALSE) -> 2374.6188 | AD87: =VLOOKUP($A$87,$A$27:$AD$40,30,FALSE) -> 0.89
A88: =IF(O87=0,"ESTE BOBINADO NO EXISTE / THIS WINDING DOESN'T EXIST","")
A89: Carga / Load
A91: rpm | B91: Nm 1 | C91: Nm 2
P99: rpm S1 | Q99: kW S1 | R99: Nm S1 | S99: rpm S6 | T99: kW S6 | U99: Nm S6 | V99: rpm limit | W99: KW limit | X99: Nm Limit
P100: 10 | Q100: =IF($D$87<W100*0.9,$D$87,W100*0.9) -> 0.20006481 | R100: =B87 -> 705 | S100: =P100 -> 10 | T100: =U100*V100*PI()/30000 -> 1.0787734 | U100: =H87 -> 1030.1527 | V100: =P100 -> 10 | W100: =X100*V100*PI()/30000 -> 0.22229423 | X100: 212.27535
P101: =E87 -> 660 | Q101: =R101*P101*PI()/30000 -> 48.726102 | R101: =B87 -> 705 | S101: =K87 -> 660 | T101: =U101*S101*PI()/30000 -> 71.199041 | U101: =H87 -> 1030.1527 | V101: =Y87 -> 558.00075 | W101: =X101*V101*PI()/30000 -> 12.404035 | X101: =X100 -> 212.27535
P102: =P101 -> 660 | Q102: =R102*P102*PI()/30000 -> 48.726102 | R102: =R101*P101/P102 -> 705 | S102: =S101 -> 660 | T102: =U102*S102*PI()/30000 -> 71.199041 | U102: =U101*S101/S102 -> 1030.1527 | V102: =V101 -> 558.00075 | W102: =X102*V102*PI()/30000 -> 12.404035 | X102: =X101 -> 212.27535
P103: =P102+($P$112-$P$102)/10 -> 831.46188 | Q103: =R103*P103*PI()/30000 -> 48.726102 | R103: =R102*P102/P103 -> 559.61675 | S103: =S102+($S$112-$S$102)/10 -> 749.06855 | T103: =U103*S103*PI()/30000 -> 71.199041 | U103: =U102*S102/S103 -> 907.66161 | V103: =IF(V102*1.1>MIN($L$13,$D$112),MIN($L$13,$D$112),V102*1.1) -> 613.80083 | W103: =X103*V103*PI()/30000 -> 11.39524 | X103: =X102*(V102/V103)^(1+$AD$87) -> 177.28313
P104: =P103+($P$112-$P$102)/10 -> 1002.9238 | Q104: =R104*P104*PI()/30000 -> 48.726102 | R104: =R103*P103/P104 -> 463.94354 | S104: =S103+($S$112-$S$102)/10 -> 838.13709 | T104: =U104*S104*PI()/30000 -> 71.199041 | U104: =U103*S103/S104 -> 811.20471 | V104: =IF(V103*1.1>MIN($L$13,$D$112),MIN($L$13,$D$112),V103*1.1) -> 675.18091 | W104: =X104*V104*PI()/30000 -> 10.468489 | X104: =X103*(V103/V104)^(1+$AD$87) -> 148.05914
P105: =P104+($P$112-$P$102)/10 -> 1174.3857 | Q105: =R105*P105*PI()/30000 -> 48.726102 | R105: =R104*P104/P105 -> 396.20716 | S105: =S104+($S$112-$S$102)/10 -> 927.20564 | T105: =U105*S105*PI()/30000 -> 71.199041 | U105: =U104*S104/S105 -> 733.27936 | V105: =IF(V104*1.1>MIN($L$13,$D$112),MIN($L$13,$D$112),V104*1.1) -> 742.699 | W105: =X105*V105*PI()/30000 -> 9.6171083 | X105: =X104*(V104/V105)^(1+$AD$87) -> 123.65254
P106: =P105+($P$112-$P$102)/10 -> 1345.8475 | Q106: =R106*P106*PI()/30000 -> 48.726102 | R106: =R105*P105/P106 -> 345.7301 | S106: =S105+($S$112-$S$102)/10 -> 1016.2742 | T106: =U106*S106*PI()/30000 -> 71.199041 | U106: =U105*S105/S106 -> 669.01312 | V106: =IF(V105*1.1>MIN($L$13,$D$112),MIN($L$13,$D$112),V105*1.1) -> 816.9689 | W106: =X106*V106*PI()/30000 -> 8.8349688 | X106: =X105*(V105/V106)^(1+$AD$87) -> 103.26922
P107: =P106+($P$112-$P$102)/10 -> 1517.3094 | Q107: =R107*P107*PI()/30000 -> 48.726102 | R107: =R106*P106/P107 -> 306.66125 | S107: =S106+($S$112-$S$102)/10 -> 1105.3427 | T107: =U107*S107*PI()/30000 -> 71.199041 | U107: =U106*S106/S107 -> 615.10402 | V107: =IF(V106*1.1>MIN($L$13,$D$112),MIN($L$13,$D$112),V106*1.1) -> 898.66579 | W107: =X107*V107*PI()/30000 -> 8.116439 | X107: =X106*(V106/V107)^(1+$AD$87) -> 86.245948
P108: =P107+($P$112-$P$102)/10 -> 1688.7713 | Q108: =R108*P108*PI()/30000 -> 48.726102 | R108: =R107*P107/P108 -> 275.52576 | S108: =S107+($S$112-$S$102)/10 -> 1194.4113 | T108: =U108*S108*PI()/30000 -> 71.199041 | U108: =U107*S107/S108 -> 569.23505 | V108: =IF(V107*1.1>MIN($L$13,$D$112),MIN($L$13,$D$112),V107*1.1) -> 988.53237 | W108: =X108*V108*PI()/30000 -> 7.4563458 | X108: =X107*(V107/V108)^(1+$AD$87) -> 72.028857
P109: =P108+($P$112-$P$102)/10 -> 1860.2332 | Q109: =R109*P109*PI()/30000 -> 48.726102 | R109: =R108*P108/P109 -> 250.12993 | S109: =S108+($S$112-$S$102)/10 -> 1283.4798 | T109: =U109*S109*PI()/30000 -> 71.199041 | U109: =U108*S108/S109 -> 529.73233 | V109: =IF(V108*1.1>MIN($L$13,$D$112),MIN($L$13,$D$112),V108*1.1) -> 1087.3856 | W109: =X109*V109*PI()/30000 -> 6.8499366 | X109: =X108*(V108/V109)^(1+$AD$87) -> 60.155363
P110: =P109+($P$112-$P$102)/10 -> 2031.6951 | Q110: =R110*P110*PI()/30000 -> 48.726102 | R110: =R109*P109/P110 -> 229.02059 | S110: =S109+($S$112-$S$102)/10 -> 1372.5484 | T110: =U110*S110*PI()/30000 -> 71.199041 | U110: =U109*S109/S110 -> 495.3565 | V110: =IF(V109*1.1>MIN($L$13,$D$112),MIN($L$13,$D$112),V109*1.1) -> 1196.1242 | W110: =X110*V110*PI()/30000 -> 6.2928454 | X110: =X109*(V109/V110)^(1+$AD$87) -> 50.239138
P111: =P110+($P$112-$P$102)/10 -> 2203.157 | Q111: =R111*P111*PI()/30000 -> 48.726102 | R111: =R110*P110/P111 -> 211.19694 | S111: =S110+($S$112-$S$102)/10 -> 1461.6169 | T111: =U111*S111*PI()/30000 -> 71.199041 | U111: =U110*S110/S111 -> 465.17029 | V111: =IF(V110*1.1>MIN($L$13,$D$112),MIN($L$13,$D$112),V110*1.1) -> 1315.7366 | W111: =X111*V111*PI()/30000 -> 5.7810612 | X111: =X110*(V110/V111)^(1+$AD$87) -> 41.957538
A112: Speed range | B112: Nnom x | C112: 4 | D112: =TRUNC(E87*C112,-1) -> 2640 | P112: =IF(G87>E87*C112,E87*C112,G87) -> 2374.6188 | Q112: =R112*P112*PI()/30000 -> 48.726102 | R112: =R106*P106/P112 -> 195.94724 | S112: =M87 -> 1550.6855 | T112: =U112*S112*PI()/30000 -> 71.199041 | U112: =U106*S106/S112 -> 438.45175 | V112: =IF(V111*1.1>MIN($L$13,$D$112),MIN($L$13,$D$112),V111*1.1) -> 1447.3102 | W112: =X112*V112*PI()/30000 -> 5.3108995 | X112: =X111*(V111/V112)^(1+$AD$87) -> 35.041108 | Z112: 4000
A113: Carga / Load | P113: =P112 -> 2374.6188 | Q113: =R113*P113*PI()/30000 -> 48.726102 | R113: =R112*(P112/P113)^2 -> 195.94724 | S113: =S112 -> 1550.6855 | T113: =U113*S113*PI()/30000 -> 71.199041 | U113: =U112 -> 438.45175 | V113: =IF(V112*1.1>MIN($L$13,$D$112),MIN($L$13,$D$112),V112*1.1) -> 1592.0413 | W113: =X113*V113*PI()/30000 -> 4.878975 | X113: =X112*(V112/V113)^(1+$AD$87) -> 29.264806
P114: =IF(P113*1.1>MIN($L$13,$D$112),MIN($L$13,$D$112),P113*1.1) -> 2612.0807 | Q114: =R114*P114*PI()/30000 -> 44.763309 | R114: =R113*(P113/P114)^(1+$AD$87) -> 163.64659 | S114: =IF(S113*1.1>MIN($L$13,$D$112),MIN($L$13,$D$112),S113*1.1) -> 1705.754 | T114: =U114*S114*PI()/30000 -> 65.40857 | U114: =U113*(S113/S114)^(1+$AD$87) -> 366.1758 | V114: =IF(V113*1.1>MIN($L$13,$D$112),MIN($L$13,$D$112),V113*1.1) -> 1751.2454 | W114: =X114*V114*PI()/30000 -> 4.482178 | X114: =X113*(V113/V114)^(1+$AD$87) -> 24.440691
A115: rpm | B115: KW 1 | C115: KW 2 | P115: =IF(P114*1.1>MIN($L$13,$D$112),MIN($L$13,$D$112),P114*1.1) -> 2640 | Q115: =R115*P115*PI()/30000 -> 44.341742 | R115: =R114*(P114/P115)^(1+$AD$87) -> 160.39108 | S115: =IF(S114*1.1>MIN($L$13,$D$112),MIN($L$13,$D$112),S114*1.1) -> 1876.3294 | T115: =U115*S115*PI()/30000 -> 60.089026 | U115: =U114*(S114/S115)^(1+$AD$87) -> 305.81407 | V115: =IF(V114*1.1>MIN($L$13,$D$112),MIN($L$13,$D$112),V114*1.1) -> 1926.3699 | W115: =X115*V115*PI()/30000 -> 4.1176517 | X115: =X114*(V114/V115)^(1+$AD$87) -> 20.4118
P116: =IF(P115*1.1>MIN($L$13,$D$112),MIN($L$13,$D$112),P115*1.1) -> 2640 | Q116: =R116*P116*PI()/30000 -> 44.341742 | R116: =R115*(P115/P116)^(1+$AD$87) -> 160.39108 | S116: =IF(S115*1.1>MIN($L$13,$D$112),MIN($L$13,$D$112),S115*1.1) -> 2063.9623 | T116: =U116*S116*PI()/30000 -> 55.20211 | U116: =U115*(S115/S116)^(1+$AD$87) -> 255.40258 | V116: =IF(V115*1.1>MIN($L$13,$D$112),MIN($L$13,$D$112),V115*1.1) -> 2119.0069 | W116: =X116*V116*PI()/30000 -> 3.7827716 | X116: =X115*(V115/V116)^(1+$AD$87) -> 17.047046
P117: =IF(P116*1.1>MIN($L$13,$D$112),MIN($L$13,$D$112),P116*1.1) -> 2640 | Q117: =R117*P117*PI()/30000 -> 44.341742 | R117: =R116*(P116/P117)^(1+$AD$87) -> 160.39108 | S117: =IF(S116*1.1>MIN($L$13,$D$112),MIN($L$13,$D$112),S116*1.1) -> 2270.3586 | T117: =U117*S117*PI()/30000 -> 50.712636 | U117: =U116*(S116/S117)^(1+$AD$87) -> 213.30111 | V117: =IF(V116*1.1>MIN($L$13,$D$112),MIN($L$13,$D$112),V116*1.1) -> 2330.9076 | W117: =X117*V117*PI()/30000 -> 3.4751266 | X117: =X116*(V116/V117)^(1+$AD$87) -> 14.23695
P118: =IF(P117*1.1>MIN($L$13,$D$112),MIN($L$13,$D$112),P117*1.1) -> 2640 | Q118: =R118*P118*PI()/30000 -> 44.341742 | R118: =R117*(P117/P118)^(1+$AD$87) -> 160.39108 | S118: =IF(S117*1.1>MIN($L$13,$D$112),MIN($L$13,$D$112),S117*1.1) -> 2497.3944 | T118: =U118*S118*PI()/30000 -> 46.588282 | U118: =U117*(S117/S118)^(1+$AD$87) -> 178.13979 | V118: =IF(V117*1.1>MIN($L$13,$D$112),MIN($L$13,$D$112),V117*1.1) -> 2563.9984 | W118: =X118*V118*PI()/30000 -> 3.1925017 | X118: =X117*(V117/V118)^(1+$AD$87) -> 11.89008
P119: =IF(P118*1.1>MIN($L$13,$D$112),MIN($L$13,$D$112),P118*1.1) -> 2640 | Q119: =R119*P119*PI()/30000 -> 44.341742 | R119: =R118*(P118/P119)^(1+$AD$87) -> 160.39108 | S119: =IF(S118*1.1>MIN($L$13,$D$112),MIN($L$13,$D$112),S118*1.1) -> 2640 | T119: =U119*S119*PI()/30000 -> 44.341742 | U119: =U118*(S118/S119)^(1+$AD$87) -> 160.39108 | V119: =IF(V118*1.1>MIN($L$13,$D$112),MIN($L$13,$D$112),V118*1.1) -> 2640 | W119: =X119*V119*PI()/30000 -> 3.1105733 | X119: =X118*(V118/V119)^(1+$AD$87) -> 11.251434
P120: =IF(P119*1.1>MIN($L$13,$D$112),MIN($L$13,$D$112),P119*1.1) -> 2640 | Q120: =R120*P120*PI()/30000 -> 44.341742 | R120: =R119*(P119/P120)^(1+$AD$87) -> 160.39108 | S120: =IF(S119*1.1>MIN($L$13,$D$112),MIN($L$13,$D$112),S119*1.1) -> 2640 | T120: =U120*S120*PI()/30000 -> 44.341742 | U120: =U119*(S119/S120)^(1+$AD$87) -> 160.39108 | V120: =IF(V119*1.1>MIN($L$13,$D$112),MIN($L$13,$D$112),V119*1.1) -> 2640 | W120: =X120*V120*PI()/30000 -> 3.1105733 | X120: =X119*(V119/V120)^(1+$AD$87) -> 11.251434
P121: =IF(P120*1.1>MIN($L$13,$D$112),MIN($L$13,$D$112),P120*1.1) -> 2640 | Q121: =R121*P121*PI()/30000 -> 44.341742 | R121: =R120*(P120/P121)^(1+$AD$87) -> 160.39108 | S121: =IF(S120*1.1>MIN($L$13,$D$112),MIN($L$13,$D$112),S120*1.1) -> 2640 | T121: =U121*S121*PI()/30000 -> 44.341742 | U121: =U120*(S120/S121)^(1+$AD$87) -> 160.39108 | V121: =IF(V120*1.1>MIN($L$13,$D$112),MIN($L$13,$D$112),V120*1.1) -> 2640 | W121: =X121*V121*PI()/30000 -> 3.1105733 | X121: =X120*(V120/V121)^(1+$AD$87) -> 11.251434
P122: =IF(P121*1.1>MIN($L$13,$D$112),MIN($L$13,$D$112),P121*1.1) -> 2640 | Q122: =R122*P122*PI()/30000 -> 44.341742 | R122: =R121*(P121/P122)^(1+$AD$87) -> 160.39108 | S122: =IF(S121*1.1>MIN($L$13,$D$112),MIN($L$13,$D$112),S121*1.1) -> 2640 | T122: =U122*S122*PI()/30000 -> 44.341742 | U122: =U121*(S121/S122)^(1+$AD$87) -> 160.39108 | V122: =IF(V121*1.1>MIN($L$13,$D$112),MIN($L$13,$D$112),V121*1.1) -> 2640 | W122: =X122*V122*PI()/30000 -> 3.1105733 | X122: =X121*(V121/V122)^(1+$AD$87) -> 11.251434
P123: =IF(P122*1.1>MIN($L$13,$D$112),MIN($L$13,$D$112),P122*1.1) -> 2640 | Q123: =R123*P123*PI()/30000 -> 44.341742 | R123: =R122*(P122/P123)^(1+$AD$87) -> 160.39108 | S123: =IF(S122*1.1>MIN($L$13,$D$112),MIN($L$13,$D$112),S122*1.1) -> 2640 | T123: =U123*S123*PI()/30000 -> 44.341742 | U123: =U122*(S122/S123)^(1+$AD$87) -> 160.39108 | V123: =IF(V122*1.1>MIN($L$13,$D$112),MIN($L$13,$D$112),V122*1.1) -> 2640 | W123: =X123*V123*PI()/30000 -> 3.1105733 | X123: =X122*(V122/V123)^(1+$AD$87) -> 11.251434
P124: =IF(P123*1.1>MIN($L$13,$D$112),MIN($L$13,$D$112),P123*1.1) -> 2640 | Q124: =R124*P124*PI()/30000 -> 44.341742 | R124: =R123*(P123/P124)^(1+$AD$87) -> 160.39108 | S124: =IF(S123*1.1>MIN($L$13,$D$112),MIN($L$13,$D$112),S123*1.1) -> 2640 | T124: =U124*S124*PI()/30000 -> 44.341742 | U124: =U123*(S123/S124)^(1+$AD$87) -> 160.39108 | V124: =IF(V123*1.1>MIN($L$13,$D$112),MIN($L$13,$D$112),V123*1.1) -> 2640 | W124: =X124*V124*PI()/30000 -> 3.1105733 | X124: =X123*(V123/V124)^(1+$AD$87) -> 11.251434
P125: =IF(P124*1.1>MIN($L$13,$D$112),MIN($L$13,$D$112),P124*1.1) -> 2640 | Q125: =R125*P125*PI()/30000 -> 44.341742 | R125: =R124*(P124/P125)^(1+$AD$87) -> 160.39108 | S125: =IF(S124*1.1>MIN($L$13,$D$112),MIN($L$13,$D$112),S124*1.1) -> 2640 | T125: =U125*S125*PI()/30000 -> 44.341742 | U125: =U124*(S124/S125)^(1+$AD$87) -> 160.39108 | V125: =IF(V124*1.1>MIN($L$13,$D$112),MIN($L$13,$D$112),V124*1.1) -> 2640 | W125: =X125*V125*PI()/30000 -> 3.1105733 | X125: =X124*(V124/V125)^(1+$AD$87) -> 11.251434
P126: =IF(P125*1.1>MIN($L$13,$D$112),MIN($L$13,$D$112),P125*1.1) -> 2640 | Q126: =R126*P126*PI()/30000 -> 44.341742 | R126: =R125*(P125/P126)^(1+$AD$87) -> 160.39108 | S126: =IF(S125*1.1>MIN($L$13,$D$112),MIN($L$13,$D$112),S125*1.1) -> 2640 | T126: =U126*S126*PI()/30000 -> 44.341742 | U126: =U125*(S125/S126)^(1+$AD$87) -> 160.39108 | V126: =IF(V125*1.1>MIN($L$13,$D$112),MIN($L$13,$D$112),V125*1.1) -> 2640 | W126: =X126*V126*PI()/30000 -> 3.1105733 | X126: =X125*(V125/V126)^(1+$AD$87) -> 11.251434
P127: =IF(P126*1.1>MIN($L$13,$D$112),MIN($L$13,$D$112),P126*1.1) -> 2640 | Q127: =R127*P127*PI()/30000 -> 44.341742 | R127: =R126*(P126/P127)^(1+$AD$87) -> 160.39108 | S127: =IF(S126*1.1>MIN($L$13,$D$112),MIN($L$13,$D$112),S126*1.1) -> 2640 | T127: =U127*S127*PI()/30000 -> 44.341742 | U127: =U126*(S126/S127)^(1+$AD$87) -> 160.39108 | V127: =IF(V126*1.1>MIN($L$13,$D$112),MIN($L$13,$D$112),V126*1.1) -> 2640 | W127: =X127*V127*PI()/30000 -> 3.1105733 | X127: =X126*(V126/V127)^(1+$AD$87) -> 11.251434
... P131: =IF(P130*1.1>MIN($L$13,$D$112),MIN($L$13,$D$112),P130*1.1) -> 2640 | Q131: =R131*P131*PI()/30000 -> 44.341742 | R131: =R130*(P130/P131)^(1+$AD$87) -> 160.39108 | S131: =IF(S130*1.1>MIN($L$13,$D$112),MIN($L$13,$D$112),S130*1.1) -> 2640 | T131: =U131*S131*PI()/30000 -> 44.341742 | U131: =U130*(S130/S131)^(1+$AD$87) -> 160.39108 | V131: =IF(V130*1.1>MIN($L$13,$D$112),MIN($L$13,$D$112),V130*1.1) -> 2640 | W131: =X131*V131*PI()/30000 -> 3.1105733 | X131: =X130*(V130/V131)^(1+$AD$87) -> 11.251434
A136: =MAX(A112,IF(A116="",0,MAX(A116:A135))) -> 0
D139: =D76 -> MAC QE 200 P
D140: - Placa de Características en Modo Motor- | L140: Página | M140: 3 de 3
D141: - Driving Mode Nameplate - | L141: Fecha | M141: =M78 -> 45244
C145: =D76 -> MAC QE 200 P | G145: =A87 -> B61 | I145: =F9 -> 6 | J145: Pole | K145: EN60034
C146: Nr: | G146: DATE | K146: =J11 -> IM B3
C147: Pn | D147: =D87 -> 48.726102 | F147: kW | G147: Mn | H147: =B87 -> 705 | J147: Nm | K147: =G11 -> IP 54
C148: Un | D148: =IF(RIGHT(G145)="1","Y","D") -> Y | E148: =F81 -> 400 | F148: V | G148: Fn | H148: =F87 -> 34 | J148: Hz | K148: =C8 -> IC 416
C149: In | D149: =C87 -> 99.215177 | F149: A | G149: Cos fi | H149: =P87 -> 0.75320073 | I149: Eff. | J149: =O87 -> 0.94113562 | K149: =I15 -> Cl. F
C150: Nn | D150: =E87 -> 660 | F150: rpm | G150: Nmax | H150: =L13 -> 4000 | J150: rpm | K150: =F24 -> S1
C151: FAN | D151: =C10 -> 3 x 400 V | F151: =C12 -> 2,6 A | H151: =C11 -> 50 Hz | I151: BRAKE | J151: Nm | K151: Nm | L151: Vdc | M151: Vdc
C152: MADE IN SPAIN

Sheet driving mode parameters
H2: =RESUM!H2 -> MAC QE 200 P
H4: Parámetros modo motor / Driving mode parameters
N5: Fecha - Date | O5: =RESUM!O5 -> 45244
B8: =RESUM!B8 -> MAC QE 200 P | C8: =RESUM!C8 -> MAC QE 200 P | D8: =RESUM!D8 -> MAC QE 200 P | E8: =RESUM!E8 -> MAC QE 200 P | F8: =RESUM!F8 -> MAC QE 200 P | G8: =RESUM!G8 -> MAC QE 200 P | H8: =RESUM!H8 -> MAC QE 200 P | I8: =RESUM!I8 -> MAC QE 200 P | ... O8: =RESUM!O8 -> 0
B9: =RESUM!B9 -> A61 | C9: =RESUM!C9 -> B61 | D9: =RESUM!D9 -> C61 | E9: =RESUM!E9 -> D61 | F9: =RESUM!F9 -> E61 | G9: =RESUM!G9 -> F61 | H9: =RESUM!H9 -> G61 | I9: =RESUM!I9 -> H61 | ... O9: =RESUM!O9 -> 0
A10: Poles | B10: =RESUM!B10 -> 6 | C10: =RESUM!C10 -> 6 | D10: =RESUM!D10 -> 6 | E10: =RESUM!E10 -> 6 | F10: =RESUM!F10 -> 6 | G10: =RESUM!G10 -> 6 | H10: =RESUM!H10 -> 6 | I10: =RESUM!I10 -> 6 | ... O10: =RESUM!O10 -> 6
A11: Nm | B11: =RESUM!B11 -> 705 | C11: =RESUM!C11 -> 705 | D11: =RESUM!D11 -> 705 | E11: =RESUM!E11 -> 705 | F11: =RESUM!F11 -> 705 | G11: =RESUM!G11 -> 705 | H11: =RESUM!H11 -> 705 | I11: =RESUM!I11 -> 705 | ... O11: =RESUM!O11 -> 0
A12: rpm | B12: ='driving mode datasheet'!E27 -> 540 | C12: ='driving mode datasheet'!E28 -> 660 | D12: ='driving mode datasheet'!E29 -> 780 | E12: ='driving mode datasheet'!E30 -> 920 | F12: ='driving mode datasheet'!E31 -> 1140 | G12: ='driving mode datasheet'!E32 -> 1280 | H12: ='driving mode datasheet'!E33 -> 1460 | I12: ='driving mode datasheet'!E34 -> 1700 | J12: ='driving mode datasheet'!E35 -> 2026.536 | K12: ='driving mode datasheet'!E36 -> 2287.58 | L12: ='driving mode datasheet'!E37 -> 0 | M12: ='driving mode datasheet'!E38 -> 0 | N12: ='driving mode datasheet'!E39 -> 0 | O12: ='driving mode datasheet'!E40 -> 0 | U12: =RESUM!C10 -> 6 | V12: =RESUM!D10 -> 6
A13: KW | B13: =B11*B12*PI()/30000 -> 39.866811 | C13: =C11*C12*PI()/30000 -> 48.726102 | D13: =D11*D12*PI()/30000 -> 57.585393 | E13: =E11*E12*PI()/30000 -> 67.921233 | F13: =F11*F12*PI()/30000 -> 84.163267 | G13: =G11*G12*PI()/30000 -> 94.499107 | H13: =H11*H12*PI()/30000 -> 107.78804 | I13: =I11*I12*PI()/30000 -> 125.50663 | ... O13: =O11*O12*PI()/30000 -> 0
A14: V | B14: ='driving mode datasheet'!F21 -> 400 | C14: =B14 -> 400 | D14: =C14 -> 400 | E14: =D14 -> 400 | F14: =E14 -> 400 | G14: =F14 -> 400 | H14: =G14 -> 400 | I14: =H14 -> 400 | J14: =I14 -> 400 | ... O14: =N14 -> 400
A15: A | B15: =RESUM!B15 -> 82.933162 | C15: =RESUM!C15 -> 99.215177 | D15: =RESUM!D15 -> 114.2232 | E15: =RESUM!E15 -> 134.94617 | F15: =RESUM!F15 -> 164.80705 | G15: =RESUM!G15 -> 185.40753 | H15: =RESUM!H15 -> 211.95147 | I15: =RESUM!I15 -> 247.42495 | ... O15: =RESUM!O15 -> 0
A16: Hz | B16: ='driving mode datasheet'!F27 -> 28 | C16: ='driving mode datasheet'!F28 -> 34 | D16: ='driving mode datasheet'!F29 -> 40 | E16: ='driving mode datasheet'!F30 -> 47 | F16: ='driving mode datasheet'!F31 -> 58 | G16: ='driving mode datasheet'!F32 -> 65 | H16: ='driving mode datasheet'!F33 -> 74 | I16: ='driving mode datasheet'!F34 -> 86 | J16: ='driving mode datasheet'!F35 -> 102 | K16: ='driving mode datasheet'!F36 -> 115 | L16: ='driving mode datasheet'!F37 -> 0 | M16: ='driving mode datasheet'!F38 -> 0 | N16: ='driving mode datasheet'!F39 -> 0 | O16: ='driving mode datasheet'!F40 -> 0
A17: Cos fi | B17: =B13/B18*1000/B14/B15/3^0.5 -> 0.74514752 | C17: =C13/C18*1000/C14/C15/3^0.5 -> 0.75320073 | D17: =D13/D18*1000/D14/D15/3^0.5 -> 0.76765446 | E17: =E13/E18*1000/E14/E15/3^0.5 -> 0.76176755 | F17: =F13/F18*1000/F14/F15/3^0.5 -> 0.76826862 | G17: =G13/G18*1000/G14/G15/3^0.5 -> 0.76479334 | H17: =H13/H18*1000/H14/H15/3^0.5 -> 0.76101893 | I17: =I13/I18*1000/I14/I15/3^0.5 -> 0.75737901 | ... O17: =O13/O18*1000/O14/O15/3^0.5 -> #DIV/0!
A18: Rend / eff. | B18: =B13*1000/(B13*1000+3*B23/1000*B15^2+3*B24/1000*(B15^2-B32^2)+3*(2*PI()*B16*B28/1000*B32)^2/B25) -> 0.9311516 | C18: =C13*1000/(C13*1000+3*C23/1000*C15^2+3*C24/1000*(C15^2-C32^2)+3*(2*PI()*C16*C28/1000*C32)^2/C25) -> 0.94113562 | D18: =D13*1000/(D13*1000+3*D23/1000*D15^2+3*D24/1000*(D15^2-D32^2)+3*(2*PI()*D16*D28/1000*D32)^2/D25) -> 0.94791987 | E18: =E13*1000/(E13*1000+3*E23/1000*E15^2+3*E24/1000*(E15^2-E32^2)+3*(2*PI()*E16*E28/1000*E32)^2/E25) -> 0.95367834 | F18: =F13*1000/(F13*1000+3*F23/1000*F15^2+3*F24/1000*(F15^2-F32^2)+3*(2*PI()*F16*F28/1000*F32)^2/F25) -> 0.95942955 | G18: =G13*1000/(G13*1000+3*G23/1000*G15^2+3*G24/1000*(G15^2-G32^2)+3*(2*PI()*G16*G28/1000*G32)^2/G25) -> 0.96191261 | H18: =H13*1000/(H13*1000+3*H23/1000*H15^2+3*H24/1000*(H15^2-H32^2)+3*(2*PI()*H16*H28/1000*H32)^2/H25) -> 0.9645352 | I18: =I13*1000/(I13*1000+3*I23/1000*I15^2+3*I24/1000*(I15^2-I32^2)+3*(2*PI()*I16*I28/1000*I32)^2/I25) -> 0.96669457 | ... O18: =O13*1000/(O13*1000+3*O23/1000*O15^2+3*O24/1000*(O15^2-O32^2)+3*(2*PI()*O16*O28/1000*O32)^2/O25) -> #DIV/0!
A19: J (Kg m2) | B19: =RESUM!B19 -> 1.3150058 | C19: =RESUM!C19 -> 1.3150058 | D19: =RESUM!D19 -> 1.3150058 | E19: =RESUM!E19 -> 1.3150058 | F19: =RESUM!F19 -> 1.3150058 | G19: =RESUM!G19 -> 1.3150058 | H19: =RESUM!H19 -> 1.3150058 | I19: =RESUM!I19 -> 1.3150058 | ... O19: =RESUM!O19 -> 0
B20: ESQUEMA EQUIVALENTE POR FASE EN ESTRELLA / PHASE STAR EQUIVALENT SCHEMA
B21: =RESUM!B21 -> MAC QE 200 P | C21: =RESUM!C21 -> MAC QE 200 P | D21: =RESUM!D21 -> MAC QE 200 P | E21: =RESUM!E21 -> MAC QE 200 P | F21: =RESUM!F21 -> MAC QE 200 P | G21: =RESUM!G21 -> MAC QE 200 P | H21: =RESUM!H21 -> MAC QE 200 P | I21: =RESUM!I21 -> MAC QE 200 P | ... O21: =RESUM!O21 -> 0
B22: =RESUM!B22 -> A61 | C22: =RESUM!C22 -> B61 | D22: =RESUM!D22 -> C61 | E22: =RESUM!E22 -> D61 | F22: =RESUM!F22 -> E61 | G22: =RESUM!G22 -> F61 | H22: =RESUM!H22 -> G61 | I22: =RESUM!I22 -> H61 | ... O22: =RESUM!O22 -> 0
A23: Rs (mOhm) | B23: =RESUM!B23 -> 66.724864 | C23: =RESUM!C23 -> 45.945448 | D23: =RESUM!D23 -> 34.278317 | E23: =RESUM!E23 -> 24.465739 | F23: =RESUM!F23 -> 16.532384 | G23: =RESUM!G23 -> 13.185177 | H23: =RESUM!H23 -> 9.9783457 | I23: =RESUM!I23 -> 7.4138738 | ... O23: =RESUM!O23 -> 0
A24: Rr (mOhm) | B24: =RESUM!B24 -> 79.917524 | C24: =RESUM!C24 -> 55.49828 | D24: =RESUM!D24 -> 41.684734 | E24: =RESUM!E24 -> 29.845633 | F24: =RESUM!F24 -> 19.979381 | G24: =RESUM!G24 -> 15.786099 | H24: =RESUM!H24 -> 12.086289 | I24: =RESUM!I24 -> 8.8797249 | ... O24: =RESUM!O24 -> 0
A25: Rfe (Ohm) | B25: =RESUM!B25 -> 296.49103 | C25: =RESUM!C25 -> 241.92751 | D25: =RESUM!D25 -> 206.96989 | E25: =RESUM!E25 -> 167.8842 | F25: =RESUM!F25 -> 131.21998 | G25: =RESUM!G25 -> 112.33354 | H25: =RESUM!H25 -> 93.892757 | I25: =RESUM!I25 -> 75.996028 | ... O25: =RESUM!O25 -> 0
A26: Ls (mH) | B26: =RESUM!B26 -> 1.3145781 | C26: =RESUM!C26 -> 0.91290147 | D26: =RESUM!D26 -> 0.68567989 | E26: =RESUM!E26 -> 0.49093634 | F26: =RESUM!F26 -> 0.32864453 | G26: =RESUM!G26 -> 0.25966845 | H26: =RESUM!H26 -> 0.1988096 | I26: =RESUM!I26 -> 0.14606424 | ... O26: =RESUM!O26 -> 0
A27: Lr (mH) | B27: =RESUM!B27 -> 1.2767794 | C27: =RESUM!C27 -> 0.87660235 | D27: =RESUM!D27 -> 0.64592888 | E27: =RESUM!E27 -> 0.4659158 | F27: =RESUM!F27 -> 0.30932047 | G27: =RESUM!G27 -> 0.24554822 | H27: =RESUM!H27 -> 0.18896213 | I27: =RESUM!I27 -> 0.13956137 | ... O27: =RESUM!O27 -> 0
A28: Lm (mH) | B28: =RESUM!B28 -> 25.583371 | C28: =RESUM!C28 -> 17.994328 | D28: =RESUM!D28 -> 13.827754 | E28: =RESUM!E28 -> 9.8022781 | F28: =RESUM!F28 -> 6.6258118 | G28: =RESUM!G28 -> 5.2040803 | H28: =RESUM!H28 -> 3.9587351 | I28: =RESUM!I28 -> 2.8895336 | ... O28: =RESUM!O28 -> 0
A29: Ts (s) | B29: =RESUM!B29 -> 0.40311733 | C29: =RESUM!C29 -> 0.41151475 | D29: =RESUM!D29 -> 0.42339985 | E29: =RESUM!E29 -> 0.42071954 | F29: =RESUM!F29 -> 0.42065658 | G29: =RESUM!G29 -> 0.41438569 | H29: =RESUM!H29 -> 0.41665671 | I29: =RESUM!I29 -> 0.40944828 | ... O29: =RESUM!O29 -> 0
A30: Tr (s) | B30: =RESUM!B30 -> 0.33609838 | C30: =RESUM!C30 -> 0.3400273 | D30: =RESUM!D30 -> 0.34721784 | E30: =RESUM!E30 -> 0.34404342 | F30: =RESUM!F30 -> 0.34711447 | G30: =RESUM!G30 -> 0.34521693 | H30: =RESUM!H30 -> 0.34317377 | I30: =RESUM!I30 -> 0.34112487 | ... O30: =RESUM!O30 -> 0
A31: Kt | B31: =RESUM!B31 -> 98.583945 | C31: =RESUM!C31 -> 82.153287 | D31: =RESUM!D31 -> 71.198968 | E31: =RESUM!E31 -> 60.245635 | F31: =RESUM!F31 -> 49.291972 | G31: =RESUM!G31 -> 43.814977 | H31: =RESUM!H31 -> 38.338195 | I31: =RESUM!I31 -> 32.861315 | ... O31: =RESUM!O31 -> 0
A32: Im (A/fase) | B32: =RESUM!B32 -> 47.379104 | C32: =RESUM!C32 -> 55.668351 | D32: =RESUM!D32 -> 61.730627 | E32: =RESUM!E32 -> 74.257112 | F32: =RESUM!F32 -> 89.209428 | G32: =RESUM!G32 -> 101.43542 | H32: =RESUM!H32 -> 117.24327 | I32: =RESUM!I32 -> 138.3227 | ... O32: =RESUM!O32 -> 0
B33: =RESUM!B33 -> 0 | C33: =RESUM!C33 -> 0 | D33: =RESUM!D33 -> 0 | E33: =RESUM!E33 -> 0 | F33: =RESUM!F33 -> 0 | G33: =RESUM!G33 -> 0 | H33: =RESUM!H33 -> 0 | I33: =RESUM!I33 -> 0 | ... O33: =RESUM!O33 -> 0
A61: s rpm | B61: =B16*120/B10-B12 -> 20 | C61: =C16*120/U12-C12 -> 20 | D61: =D16*120/V12-D12 -> 20 | E61: =E16*120/E10-E12 -> 20 | F61: =F16*120/F10-F12 -> 20 | G61: =G16*120/G10-G12 -> 20 | H61: =H16*120/H10-H12 -> 20 | I61: =I16*120/I10-I12 -> 20 | J61: =J16*120/J10-J12 -> 13.464 | K61: =K16*120/K10-K12 -> 12.42 | L61: =L16*120/L10-L12 -> 0 | M61: =M16*120/M10-M12 -> 0
A62: MODO GENERADOR a fnom
A63: E | B63: =2*PI()*B16*B28/1000*B32 -> 213.24679 | C63: =2*PI()*C16*C28/1000*C32 -> 213.99458 | D63: =2*PI()*D16*D28/1000*D32 -> 214.53206 | E63: =2*PI()*E16*E28/1000*E32 -> 214.95265 | F63: =2*PI()*F16*F28/1000*F32 -> 215.40596 | G63: =2*PI()*G16*G28/1000*G32 -> 215.58912 | H63: =2*PI()*H16*H28/1000*H32 -> 215.80225 | I63: =2*PI()*I16*I28/1000*I32 -> 215.97303 | ... O63: =2*PI()*O16*O28/1000*O32 -> 0
A64: urq | B64: =B23/1000*(B15^2-B32^2)^0.5 -> 4.5417678 | C64: =C23/1000*(C15^2-C32^2)^0.5 -> 3.7733176 | D64: =D23/1000*(D15^2-D32^2)^0.5 -> 3.294335 | E64: =E23/1000*(E15^2-E32^2)^0.5 -> 2.7567525 | F64: =F23/1000*(F15^2-F32^2)^0.5 -> 2.2909758 | G64: =G23/1000*(G15^2-G32^2)^0.5 -> 2.0463297 | H64: =H23/1000*(H15^2-H32^2)^0.5 -> 1.7618899 | I64: =I23/1000*(I15^2-I32^2)^0.5 -> 1.5209457 | ... O64: =O23/1000*(O15^2-O32^2)^0.5 -> 0
A65: urd | B65: =B23/1000*B32 -> 3.1613643 | C65: =C23/1000*C32 -> 2.5577073 | D65: =D23/1000*D32 -> 2.116022 | E65: =E23/1000*E32 -> 1.8167551 | F65: =F23/1000*F32 -> 1.4748445 | G65: =G23/1000*G32 -> 1.337444 | H65: =H23/1000*H32 -> 1.1698939 | I65: =I23/1000*I32 -> 1.025507 | ... O65: =O23/1000*O32 -> 0
A66: exd | B66: =2*PI()*B16*B26/1000*B32 -> 10.957492 | C66: =2*PI()*C16*C26/1000*C32 -> 10.85653 | D66: =2*PI()*D16*D26/1000*D32 -> 10.638048 | E66: =2*PI()*E16*E26/1000*E32 -> 10.765667 | F66: =2*PI()*F16*F26/1000*F32 -> 10.684274 | G66: =2*PI()*G16*G26/1000*G32 -> 10.757269 | H66: =2*PI()*H16*H26/1000*H32 -> 10.837694 | I66: =2*PI()*I16*I26/1000*I32 -> 10.91731 | ... O66: =2*PI()*O16*O26/1000*O32 -> 0
A67: exq | B67: =2*PI()*B16*B26/1000*(B15^2-B32^2)^0.5 -> 15.742059 | C67: =2*PI()*C16*C26/1000*(C15^2-C32^2)^0.5 -> 16.01635 | D67: =2*PI()*D16*D26/1000*(D15^2-D32^2)^0.5 -> 16.561877 | E67: =2*PI()*E16*E26/1000*(E15^2-E32^2)^0.5 -> 16.335873 | F67: =2*PI()*F16*F26/1000*(F15^2-F32^2)^0.5 -> 16.596606 | G67: =2*PI()*G16*G26/1000*(G15^2-G32^2)^0.5 -> 16.458947 | H67: =2*PI()*H16*H26/1000*(H15^2-H32^2)^0.5 -> 16.321842 | I67: =2*PI()*I16*I26/1000*(I15^2-I32^2)^0.5 -> 16.191636 | ... O67: =2*PI()*O16*O26/1000*(O15^2-O32^2)^0.5 -> 0
A68: Vq | B68: =B63+B66-B64 -> 219.66252 | C68: =C63+C66-C64 -> 221.07779 | D68: =D63+D66-D64 -> 221.87578 | E68: =E63+E66-E64 -> 222.96156 | F68: =F63+F66-F64 -> 223.79926 | G68: =G63+G66-G64 -> 224.30006 | H68: =H63+H66-H64 -> 224.87806 | I68: =I63+I66-I64 -> 225.36939 | ... O68: =O63+O66-O64 -> 0
A69: Vd | B69: =B65-B67 -> -12.580695 | C69: =C65-C67 -> -13.458643 | D69: =D65-D67 -> -14.445855 | E69: =E65-E67 -> -14.519118 | F69: =F65-F67 -> -15.121761 | G69: =G65-G67 -> -15.121503 | H69: =H65-H67 -> -15.151948 | I69: =I65-I67 -> -15.166129 | ... O69: =O65-O67 -> 0
A70: V | B70: =3^0.5*(B68^2+B69^2)^0.5 -> 381.09013 | C70: =3^0.5*(C68^2+C69^2)^0.5 -> 383.62687 | D70: =3^0.5*(D68^2+D69^2)^0.5 -> 385.11379 | E70: =3^0.5*(E68^2+E69^2)^0.5 -> 386.9987 | F70: =3^0.5*(F68^2+F69^2)^0.5 -> 388.51554 | G70: =3^0.5*(G68^2+G69^2)^0.5 -> 389.38095 | H70: =3^0.5*(H68^2+H69^2)^0.5 -> 390.38336 | I70: =3^0.5*(I68^2+I69^2)^0.5 -> 391.2341 | ... O70: =3^0.5*(O68^2+O69^2)^0.5 -> 0
A72: Correcció a | B72: =B14 -> 400
A73: E | B73: =B63*B74/B16 -> 223.8282 | C73: =C63*C74/C16 -> 223.12783 | D73: =D63*D74/D16 -> 222.8246 | E73: =E63*E74/E16 -> 222.17403 | F73: =F63*F74/F16 -> 221.77333 | G73: =G63*G74/G16 -> 221.46858 | H73: =H63*H74/H16 -> 221.11829 | I73: =I63*I74/I16 -> 220.81207 | ... O73: =O63*O74/O16 -> #DIV/0!
A74: Hz gen | B74: =B16*B14/B70 -> 29.389373 | C74: =C16*C14/C70 -> 35.451114 | D74: =D16*D14/D70 -> 41.546163 | E74: =E16*E14/E70 -> 48.578975 | F74: =F16*F14/F70 -> 59.714471 | G74: =G16*G14/G70 -> 66.772655 | H74: =H16*H14/H70 -> 75.822905 | I74: =I16*I14/I70 -> 87.926895 | ... O74: =O16*O14/O70 -> #DIV/0!
A75: Hz gen adoptat | B75: =ROUND(B74,0) -> 29 | C75: =ROUND(C74,0) -> 35 | D75: =ROUND(D74,0) -> 42 | E75: =ROUND(E74,0) -> 49 | F75: =ROUND(F74,0) -> 60 | G75: =ROUND(G74,0) -> 67 | H75: =ROUND(H74,0) -> 76 | I75: =ROUND(I74,0) -> 88 | ... O75: =ROUND(O74,0) -> #DIV/0!
A76: rpm gen | B76: =B75*120/B10+B61 -> 600 | C76: =C75*120/U12+C61 -> 720 | D76: =D75*120/V12+D61 -> 860 | E76: =E75*120/E10+E61 -> 1000 | F76: =F75*120/F10+F61 -> 1220 | G76: =G75*120/G10+G61 -> 1360 | H76: =H75*120/H10+H61 -> 1540 | I76: =I75*120/I10+I61 -> 1780 | J76: =J75*120/J10+J61 -> 2093.464 | K76: =K75*120/K10+K61 -> 2332.42 | L76: =L75*120/L10+L61 -> #DIV/0! | ... O76: =O75*120/O10+O61 -> #DIV/0!
A77: Nm gen | B77: =B11 -> 705 | C77: =C11 -> 705 | D77: =D11 -> 705 | E77: =E11 -> 705 | F77: =F11 -> 705 | G77: =G11 -> 705 | H77: =H11 -> 705 | I77: =I11 -> 705 | ... O77: =O11 -> 0
A78: KW abs | B78: =B76*B77*PI()/30000 -> 44.296456 | C78: =C76*C77*PI()/30000 -> 53.155748 | D78: =D76*D77*PI()/30000 -> 63.491588 | E78: =E76*E77*PI()/30000 -> 73.827427 | F78: =F76*F77*PI()/30000 -> 90.069461 | G78: =G76*G77*PI()/30000 -> 100.4053 | H78: =H76*H77*PI()/30000 -> 113.69424 | I78: =I76*I77*PI()/30000 -> 131.41282 | ... O78: =O76*O77*PI()/30000 -> #DIV/0!
A79: KW perd. | B79: =(3*B23/1000*B15^2+3*B73^2/B25+3*B24/1000*(B15^2-B32^2)+100)/1000 -> 3.0945073 | C79: =(3*C23/1000*C15^2+3*C73^2/C25+3*C24/1000*(C15^2-C32^2)+100)/1000 -> 3.1971354 | D79: =(3*D23/1000*D15^2+3*D73^2/D25+3*D24/1000*(D15^2-D32^2)+100)/1000 -> 3.316397 | E79: =(3*E23/1000*E15^2+3*E73^2/E25+3*E24/1000*(E15^2-E32^2)+100)/1000 -> 3.4554492 | F79: =(3*F23/1000*F15^2+3*F73^2/F25+3*F24/1000*(F15^2-F32^2)+100)/1000 -> 3.7225702 | G79: =(3*G23/1000*G15^2+3*G73^2/G25+3*G24/1000*(G15^2-G32^2)+100)/1000 -> 3.910363 | H79: =(3*H23/1000*H15^2+3*H73^2/H25+3*H24/1000*(H15^2-H32^2)+100)/1000 -> 4.1374498 | I79: =(3*I23/1000*I15^2+3*I73^2/I25+3*I24/1000*(I15^2-I32^2)+100)/1000 -> 4.5075041 | ... O79: =(3*O23/1000*O15^2+3*O73^2/O25+3*O24/1000*(O15^2-O32^2)+100)/1000 -> #DIV/0!
A80: KW out | B80: =B78-B79 -> 41.201949 | C80: =C78-C79 -> 49.958612 | D80: =D78-D79 -> 60.175191 | E80: =E78-E79 -> 70.371978 | F80: =F78-F79 -> 86.346891 | G80: =G78-G79 -> 96.494938 | H80: =H78-H79 -> 109.55679 | I80: =I78-I79 -> 126.90532 | ... O80: =O78-O79 -> #DIV/0!
A81: eff gen. | B81: =B80/B78 -> 0.93014097 | C81: =C80/C78 -> 0.93985344 | D81: =D80/D78 -> 0.94776636 | E81: =E80/E78 -> 0.95319559 | F81: =F80/F78 -> 0.95867001 | G81: =G80/G78 -> 0.96105422 | H81: =H80/H78 -> 0.96360898 | I81: =I80/I78 -> 0.96569966 | ... O81: =O80/O78 -> #DIV/0!
A82: Cos fi gen | B82: =B80*1000/3^0.5/B14/B15 -> 0.71708216 | C82: =C80*1000/3^0.5/C14/C15 -> 0.72679451 | D82: =D80*1000/3^0.5/D14/D15 -> 0.76040076 | E82: =E80*1000/3^0.5/E14/E15 -> 0.75269423 | F82: =F80*1000/3^0.5/F14/F15 -> 0.75622374 | G82: =G80*1000/3^0.5/G14/G15 -> 0.75120167 | H82: =H80*1000/3^0.5/H14/H15 -> 0.74607458 | I82: =I80*1000/3^0.5/I14/I15 -> 0.74031356 | ... O82: =O80*1000/3^0.5/O14/O15 -> #DIV/0!

Sheet absorbing mode datasheet
L1: Codigo | M1: ='driving mode datasheet'!M1 -> DT-QE 200 P
D2: =RESUM!H2 -> MAC QE 200 P | L2: Edición | M2: ='driving mode datasheet'!M2 -> 06
D3: - Hoja de Datos Técnicos Modo Generador - | L3: Página | M3: ='driving mode datasheet'!M3 -> 1 de 3
D4: - Absorbing Mode Technical Datasheet - | L4: Fecha | M4: ='driving mode datasheet'!M4 -> 45244
A7: Ventilador / Fan | E7: Rodamientos | G7: Delantero | H7: ='driving mode datasheet'!H7 -> 6316 ZZ C3 | J7: ='driving mode datasheet'!J7 -> Trasero | M7: ='driving mode datasheet'!M7 -> 6312 ZZ C3
A8: Tipo de Refrigeración | C8: ='driving mode datasheet'!C8 -> IC 416 | E8: Bearings | G8: Drive End | J8: ='driving mode datasheet'!J8 -> Non Drive End
A9: Cooling Mode | E9: Nº de polos | F9: ='driving mode datasheet'!F9 -> 6 | G9: Momento de inercia | I9: ='driving mode datasheet'!I9 -> 1.3150058 | K9: Peso Motor | M9: ='driving mode datasheet'!M9 -> 640
A10: Tensión / Voltage | C10: 3 x 400 V | D10: 3 x 460 V | E10: No of poles | G10: Rotor Inertia | K10: Motor Weight
A11: Frec. / Frequency | C11: 50 Hz | D11: 60 Hz | E11: Protección | G11: ='driving mode datasheet'!G11 -> IP 54 | H11: Construcción | J11: ='driving mode datasheet'!J11 -> IM B3 | K11: standard | L11: Equilibrado grado | N11: ='driving mode datasheet'!N11 -> A
A12: Corriente / Current | C12: 2,6 A | D12: 2,6 A | E12: Protection Degree | H12: Mounting | J12: ='driving mode datasheet'!J12 -> IM B35 | K12: on request | L12: Balancing degree
A13: Velocidad / Speed | C13: 2835 rpm | D13: 3400 rpm | E13: Nivel de ruido | G13: ='driving mode datasheet'!G13 -> < 87 dB | I13: Velocidad máxima mecánica | L13: ='driving mode datasheet'!L13 -> 4000
E14: Noise Level | I14: Max. Mechanical Speed
E15: Aislamiento | F15: ='driving mode datasheet'!F15 -> Cl. H | G15: Incremento Temperatura | I15: ='driving mode datasheet'!I15 -> Cl. F | J15: Termistor | K15: ='driving mode datasheet'!K15 -> PTC155º C | L15: Termómetros | N15: ='driving mode datasheet'!N15 -> 3xPt100
A16: Por favor, indicar en los pedidos la alimentación deseada para el ventilador / Please indicate the required fan supply voltage when placing your order | E16: Insulation | G16: Temperature Rise | J16: Thermistor | L16: Thermometers
E17: Ambiente | F17: ='driving mode datasheet'!F17 -> < 40 ºC < 1000 m | I17: Conmutación Variador | K17: ='driving mode datasheet'!K17 -> 4 kHz ; IVIC C/B acc. EN60034-25
E18: Ambient | I18: Inverter Switching
A19: Normas de referencia | C19: ='driving mode datasheet'!C19 -> EN60034 | E19: Freno de Bloqueo (opcional) | H19: ='driving mode datasheet'!H19 -> 300 Nm | I19: ='driving mode datasheet'!I19 -> 24 Vdc | J19: ='driving mode datasheet'!J19 -> 2.5 A | K19: ='driving mode datasheet'!K19 -> 60 W | L19: ='driving mode datasheet'!L19 -> 18 Kg | M19: ='driving mode datasheet'!M19 -> J = 0.0017 Kg m2
A20: Reference Standards | E20: Holding Brake (optional)
A21: Tensión de Base del Motor | E21: Vb ± 5% | F21: 400 | H21: Tensión Máxima de Salida del Convertidor | L21: Vc | M21: 400
A22: Motor Base Voltage | H22: Inverter max. Output Voltage
F23: =IF(F21>500," Vb ha de ser / must be < 500 V"," ") | G23: =IF(M21>500," Vc ha de ser / must be < 500 V"," ") | N23: =IF(M21<F21,"Vc ha de ser / must be > Vb"," ")
B24: Servicio / Service | F24: S1 | H24: Servicio / Service S6 - | L24: 0.4 | M24: =IF(L24>80%,"max 80%","")
M25: =IF(L24<20%,"min 20%","")
A26: Bobinado Winding | B26: Nm | C26: A ± 2% | D26: KW | E26: rpm | F26: Hz | G26: Velocidad a Pot.Cte Const. Power Speed. (rpm) | H26: Nm | I26: A ± 5% | J26: KW | K26: rpm | L26: Hz | M26: Velocidad a Pot.Cte Const. Power Speed. (rpm) | N26: Corriente en vacio No Load Current (A) | O26: eff | P26: cos fi | Q26: Hz | R26: rpm | S26: rpm llisc. | U26: Nm S6 | V26: A S6 | W26: Alim | X26: Nm lim | Y26: rpm lim | Z26: KW lim | AA26: rpm lim KW s6 | AB26: rpm lim Nm s6 | AC26: rpm lim s1 | AD26: coef.
A27: ='driving mode datasheet'!$A27 -> A61 | B27: ='driving mode datasheet'!B27 -> 705 | C27: ='driving mode datasheet'!C27 -> 82.933162 | D27: =E27*$B27*PI()/30000 -> 44.296456 | E27: =(F27*120/$F$9-$S27) -> 600 | F27: =$Q27*$F$21/'driving mode datasheet'!$F$21 -> 29 | G27: =IF(AC27<$L$13,AC27,$L$13) -> 2188.8172 | H27: =IF(U27<X27*0.95,U27,X27*0.95) -> 1028.6415 | I27: =MIN(V27:W27) -> 110.03693 | J27: =MIN(Z27,H27*E27*PI()/30000) -> 64.631452 | K27: =MIN(E27,M27) -> 600 | L27: =(K27+S27*H27/B27)*$F$9/120 -> 28.540934 | M27: =MIN($L$13,MAX(AB27,AA27)) -> 1431.7119 | N27: =RESUM!B32 -> 47.379104 | O27: ='driving mode parameters'!B81 -> 0.93014097 | P27: ='driving mode parameters'!B82 -> 0.71708216 | Q27: ='driving mode parameters'!B75 -> 29 | R27: ='driving mode parameters'!B76 -> 600 | S27: =Q27*120/$F$9-R27 -> -20 | U27: =B27/((C27^2-N27^2)^0.5)*(V27^2-N27^2)^0.5 -> 1028.6415 | V27: =IF(AND($L$24>=20%,$L$24<=80%)=TRUE,((C27^2*0.9-N27^2*(1-$L$24))/$L$24)^0.5,0) -> 110.03693 | W27: =(((V27^2-N27^2)^0.5*X27/U27)^2+N27^2)^0.5 -> 309.4545 | X27: =X28 -> 3167.3633 | Y27: ='driving mode datasheet'!Y27*$M$21/'driving mode datasheet'!$M$21*E27/'driving mode datasheet'!E27 -> 510.58892 | Z27: =X27*Y27*PI()/30000 -> 169.35495 | AA27: =AC27*(D27/J27)^(1/AD27) -> 1431.7119 | AB27: =AC27*(B27*E27/AC27/H27)^(1/(1+AD27)) -> 903.67454 | AC27: =0.95*Y27*(Z27/D27)^(1/AD27) -> 2188.8172 | AD27: ='limit 480V'!Z25 -> 0.89
A28: ='driving mode datasheet'!$A28 -> B61 | B28: ='driving mode datasheet'!B28 -> 705 | C28: ='driving mode datasheet'!C28 -> 99.215177 | D28: =E28*$B28*PI()/30000 -> 53.155748 | E28: =(F28*120/$F$9-$S28) -> 720 | F28: =$Q28*$F$21/'driving mode datasheet'!$F$21 -> 35 | G28: =IF(AC28<$L$13,AC28,$L$13) -> 2590.4933 | H28: =IF(U28<X28*0.95,U28,X28*0.95) -> 1030.1527 | I28: =MIN(V28:W28) -> 132.28669 | J28: =MIN(Z28,H28*E28*PI()/30000) -> 77.671681 | K28: =IF(E28<M28,E28,M28) -> 720 | L28: =(K28+S28*H28/B28)*$F$9/120 -> 34.538791 | M28: =MIN($L$13,MAX(AB28,AA28)) -> 1691.6569 | N28: =RESUM!C32 -> 55.668351 | O28: ='driving mode parameters'!C81 -> 0.93985344 | P28: ='driving mode parameters'!C82 -> 0.72679451 | Q28: ='driving mode parameters'!C75 -> 35 | R28: ='driving mode parameters'!C76 -> 720 | S28: =Q28*120/$F$9-R28 -> -20 | U28: =B28/((C28^2-N28^2)^0.5)*(V28^2-N28^2)^0.5 -> 1030.1527 | V28: =IF(AND($L$24>=20%,$L$24<=80%)=TRUE,((C28^2*0.9-N28^2*(1-$L$24))/$L$24)^0.5,0) -> 132.28669 | W28: =(((V28^2-N28^2)^0.5*X28/U28)^2+N28^2)^0.5 -> 373.14465 | X28: =X29 -> 3167.3633 | Y28: ='driving mode datasheet'!Y28*$M$21/'driving mode datasheet'!$M$21*E28/'driving mode datasheet'!E28 -> 608.72809 | Z28: =X28*Y28*PI()/30000 -> 201.90629 | AA28: =AC28*(D28/J28)^(1/AD28) -> 1691.6569 | AB28: =AC28*(B28*E28/AC28/H28)^(1/(1+AD28)) -> 1076.5313 | AC28: =0.95*Y28*(Z28/D28)^(1/AD28) -> 2590.4933 | AD28: =AD27 -> 0.89
A29: ='driving mode datasheet'!$A29 -> C61 | B29: ='driving mode datasheet'!B29 -> 705 | C29: ='driving mode datasheet'!C29 -> 114.2232 | D29: =E29*$B29*PI()/30000 -> 63.491588 | E29: =(F29*120/$F$9-$S29) -> 860 | F29: =$Q29*$F$21/'driving mode datasheet'!$F$21 -> 42 | G29: =IF(AC29<$L$13,AC29,$L$13) -> 3064.5436 | H29: =IF(U29<X29*0.95,U29,X29*0.95) -> 1032.9768 | I29: =MIN(V29:W29) -> 153.75177 | J29: =MIN(Z29,H29*E29*PI()/30000) -> 93.028844 | K29: =IF(E29<M29,E29,M29) -> 860 | L29: =(K29+S29*H29/B29)*$F$9/120 -> 41.534785 | M29: =MIN($L$13,MAX(AB29,AA29)) -> 1995.0772 | N29: =RESUM!D32 -> 61.730627 | O29: ='driving mode parameters'!D81 -> 0.94776636 | P29: ='driving mode parameters'!D82 -> 0.76040076 | Q29: ='driving mode parameters'!D75 -> 42 | R29: ='driving mode parameters'!D76 -> 860 | S29: =Q29*120/$F$9-R29 -> -20 | U29: =B29/((C29^2-N29^2)^0.5)*(V29^2-N29^2)^0.5 -> 1032.9768 | V29: =IF(AND($L$24>=20%,$L$24<=80%)=TRUE,((C29^2*0.9-N29^2*(1-$L$24))/$L$24)^0.5,0) -> 153.75177 | W29: =(((V29^2-N29^2)^0.5*X29/U29)^2+N29^2)^0.5 -> 436.16503 | X29: =X30 -> 3167.3633 | Y29: ='driving mode datasheet'!Y29*$M$21/'driving mode datasheet'!$M$21*E29/'driving mode datasheet'!E29 -> 723.80188 | Z29: =X29*Y29*PI()/30000 -> 240.0746 | AA29: =AC29*(D29/J29)^(1/AD29) -> 1995.0772 | AB29: =AC29*(B29*E29/AC29/H29)^(1/(1+AD29)) -> 1278.1857 | AC29: =0.95*Y29*(Z29/D29)^(1/AD29) -> 3064.5436 | AD29: =AD28 -> 0.89
A30: ='driving mode datasheet'!$A30 -> D61 | B30: ='driving mode datasheet'!B30 -> 705 | C30: ='driving mode datasheet'!C30 -> 134.94617 | D30: =E30*$B30*PI()/30000 -> 73.827427 | E30: =(F30*120/$F$9-$S30) -> 1000 | F30: =$Q30*$F$21/'driving mode datasheet'!$F$21 -> 49 | G30: =IF(AC30<$L$13,AC30,$L$13) -> 3534.6958 | H30: =IF(U30<X30*0.95,U30,X30*0.95) -> 1031.669 | I30: =MIN(V30:W30) -> 180.83798 | J30: =MIN(Z30,H30*E30*PI()/30000) -> 108.03612 | K30: =IF(E30<M30,E30,M30) -> 1000 | L30: =(K30+S30*H30/B30)*$F$9/120 -> 48.53664 | M30: =MIN($L$13,MAX(AB30,AA30)) -> 2304.4332 | N30: =RESUM!E32 -> 74.257112 | O30: ='driving mode parameters'!E81 -> 0.95319559 | P30: ='driving mode parameters'!E82 -> 0.75269423 | Q30: ='driving mode parameters'!E75 -> 49 | R30: ='driving mode parameters'!E76 -> 1000 | S30: =Q30*120/$F$9-R30 -> -20 | U30: =B30/((C30^2-N30^2)^0.5)*(V30^2-N30^2)^0.5 -> 1031.669 | V30: =IF(AND($L$24>=20%,$L$24<=80%)=TRUE,((C30^2*0.9-N30^2*(1-$L$24))/$L$24)^0.5,0) -> 180.83798 | W30: =(((V30^2-N30^2)^0.5*X30/U30)^2+N30^2)^0.5 -> 511.64764 | X30: =X31 -> 3167.3633 | Y30: ='driving mode datasheet'!Y30*$M$21/'driving mode datasheet'!$M$21*E30/'driving mode datasheet'!E30 -> 838.42824 | Z30: =X30*Y30*PI()/30000 -> 278.0945 | AA30: =AC30*(D30/J30)^(1/AD30) -> 2304.4332 | AB30: =AC30*(B30*E30/AC30/H30)^(1/(1+AD30)) -> 1481.601 | AC30: =0.95*Y30*(Z30/D30)^(1/AD30) -> 3534.6958 | AD30: =AD29 -> 0.89
A31: ='driving mode datasheet'!$A31 -> E61 | B31: ='driving mode datasheet'!B31 -> 705 | C31: ='driving mode datasheet'!C31 -> 164.80705 | D31: =E31*$B31*PI()/30000 -> 90.069461 | E31: =(F31*120/$F$9-$S31) -> 1220 | F31: =$Q31*$F$21/'driving mode datasheet'!$F$21 -> 60 | G31: =IF(AC31<$L$13,AC31,$L$13) -> 4000 | H31: =IF(U31<X31*0.95,U31,X31*0.95) -> 1032.8653 | I31: =MIN(V31:W31) -> 221.75569 | J31: =MIN(Z31,H31*E31*PI()/30000) -> 131.95691 | K31: =IF(E31<M31,E31,M31) -> 1220 | L31: =(K31+S31*H31/B31)*$F$9/120 -> 59.534943 | M31: =MIN($L$13,MAX(AB31,AA31)) -> 2783.3243 | N31: =RESUM!F32 -> 89.209428 | O31: ='driving mode parameters'!F81 -> 0.95867001 | P31: ='driving mode parameters'!F82 -> 0.75622374 | Q31: ='driving mode parameters'!F75 -> 60 | R31: ='driving mode parameters'!F76 -> 1220 | S31: =Q31*120/$F$9-R31 -> -20 | U31: =B31/((C31^2-N31^2)^0.5)*(V31^2-N31^2)^0.5 -> 1032.8653 | V31: =IF(AND($L$24>=20%,$L$24<=80%)=TRUE,((C31^2*0.9-N31^2*(1-$L$24))/$L$24)^0.5,0) -> 221.75569 | W31: =(((V31^2-N31^2)^0.5*X31/U31)^2+N31^2)^0.5 -> 628.93695 | X31: =X32 -> 3167.3633 | Y31: ='driving mode datasheet'!Y31*$M$21/'driving mode datasheet'!$M$21*E31/'driving mode datasheet'!E31 -> 1018.6825 | Z31: =X31*Y31*PI()/30000 -> 337.88222 | AA31: =AC31*(D31/J31)^(1/AD31) -> 2783.3243 | AB31: =AC31*(B31*E31/AC31/H31)^(1/(1+AD31)) -> 1799.0279 | AC31: =0.95*Y31*(Z31/D31)^(1/AD31) -> 4274.8142 | AD31: =AD30 -> 0.89
A32: ='driving mode datasheet'!$A32 -> F61 | B32: ='driving mode datasheet'!B32 -> 705 | C32: ='driving mode datasheet'!C32 -> 185.40753 | D32: =E32*$B32*PI()/30000 -> 100.4053 | E32: =(F32*120/$F$9-$S32) -> 1360 | F32: =$Q32*$F$21/'driving mode datasheet'!$F$21 -> 67 | G32: =IF(AC32<$L$13,AC32,$L$13) -> 4000 | H32: =IF(U32<X32*0.95,U32,X32*0.95) -> 1032.0987 | I32: =MIN(V32:W32) -> 248.82158 | J32: =MIN(Z32,H32*E32*PI()/30000) -> 146.99033 | K32: =IF($E$32<$M$32,$E$32,$M$32) -> 1360 | L32: =(K32+S32*H32/B32)*$F$9/120 -> 66.53603 | M32: =MIN($L$13,MAX(AB32,AA32)) -> 3092.889 | N32: =RESUM!G32 -> 101.43542 | O32: ='driving mode parameters'!G81 -> 0.96105422 | P32: ='driving mode parameters'!G82 -> 0.75120167 | Q32: ='driving mode parameters'!G75 -> 67 | R32: ='driving mode parameters'!G76 -> 1360 | S32: =Q32*120/$F$9-R32 -> -20 | U32: =B32/((C32^2-N32^2)^0.5)*(V32^2-N32^2)^0.5 -> 1032.0987 | V32: =IF(AND($L$24>=20%,$L$24<=80%)=TRUE,((C32^2*0.9-N32^2*(1-$L$24))/$L$24)^0.5,0) -> 248.82158 | W32: =(((V32^2-N32^2)^0.5*X32/U32)^2+N32^2)^0.5 -> 704.60543 | X32: ='limit 480V'!K27*0.95 -> 3167.3633 | Y32: ='driving mode datasheet'!Y32*$M$21/'driving mode datasheet'!$M$21*E32/'driving mode datasheet'!E32 -> 1133.439 | Z32: =X32*Y32*PI()/30000 -> 375.9453 | AA32: =AC32*(D32/J32)^(1/AD32) -> 3092.889 | AB32: =AC32*(B32*E32/AC32/H32)^(1/(1+AD32)) -> 2002.4783 | AC32: =0.95*Y32*(Z32/D32)^(1/AD32) -> 4746.3034 | AD32: =AD31 -> 0.89 | AE32: =AB32*(J32/D32)^(1/2/AD32) -> 2480.638
A33: ='driving mode datasheet'!$A33 -> G61 | B33: ='driving mode datasheet'!B33 -> 705 | C33: ='driving mode datasheet'!C33 -> 211.95147 | D33: =E33*$B33*PI()/30000 -> 113.69424 | E33: =(F33*120/$F$9-$S33) -> 1540 | F33: =$Q33*$F$21/'driving mode datasheet'!$F$21 -> 76 | G33: =IF(AC33<$L$13,AC33,$L$13) -> 4000 | H33: =IF(U33<X33*0.95,U33,X33*0.95) -> 1031.2722 | I33: =MIN(V33:W33) -> 283.65248 | J33: =MIN(Z33,H33*E33*PI()/30000) -> 166.31163 | K33: =IF(E33<M33,E33,M33) -> 1540 | L33: =(K33+S33*H33/B33)*$F$9/120 -> 75.537203 | M33: =MIN($L$13,MAX(AB33,AA33)) -> 3491.2919 | N33: =RESUM!H32 -> 117.24327 | O33: ='driving mode parameters'!H81 -> 0.96360898 | P33: ='driving mode parameters'!H82 -> 0.74607458 | Q33: ='driving mode parameters'!H75 -> 76 | R33: ='driving mode parameters'!H76 -> 1540 | S33: =Q33*120/$F$9-R33 -> -20 | U33: =B33/((C33^2-N33^2)^0.5)*(V33^2-N33^2)^0.5 -> 1031.2722 | V33: =IF(AND($L$24>=20%,$L$24<=80%)=TRUE,((C33^2*0.9-N33^2*(1-$L$24))/$L$24)^0.5,0) -> 283.65248 | W33: =(((V33^2-N33^2)^0.5*X33/U33)^2+N33^2)^0.5 -> 801.9017 | X33: =X32 -> 3167.3633 | Y33: ='driving mode datasheet'!Y33*$M$21/'driving mode datasheet'!$M$21*E33/'driving mode datasheet'!E33 -> 1281.0186 | Z33: =X33*Y33*PI()/30000 -> 424.89532 | AA33: =AC33*(D33/J33)^(1/AD33) -> 3491.2919 | AB33: =AC33*(B33*E33/AC33/H33)^(1/(1+AD33)) -> 2264.1709 | AC33: =0.95*Y33*(Z33/D33)^(1/AD33) -> 5352.8658 | AD33: =AD32 -> 0.89
A34: ='driving mode datasheet'!$A34 -> H61 | B34: ='driving mode datasheet'!B34 -> 705 | C34: ='driving mode datasheet'!C34 -> 247.42495 | D34: =E34*$B34*PI()/30000 -> 131.41282 | E34: =(F34*120/$F$9-$S34) -> 1780 | F34: =$Q34*$F$21/'driving mode datasheet'!$F$21 -> 88 | G34: =IF(AC34<$L$13,AC34,$L$13) -> 4000 | H34: =IF(U34<X34*0.95,U34,X34*0.95) -> 1030.4449 | I34: =MIN(V34:W34) -> 330.21696 | J34: =MIN(Z34,H34*E34*PI()/30000) -> 192.07613 | K34: =IF(E34<M34,E34,M34) -> 1780 | L34: =(K34+S34*H34/B34)*$F$9/120 -> 87.538376 | M34: =MIN($L$13,MAX(AB34,AA34)) -> 4000 | N34: =RESUM!I32 -> 138.3227 | O34: ='driving mode parameters'!I81 -> 0.96569966 | P34: ='driving mode parameters'!I82 -> 0.74031356 | Q34: ='driving mode parameters'!I75 -> 88 | R34: ='driving mode parameters'!I76 -> 1780 | S34: =Q34*120/$F$9-R34 -> -20 | U34: =B34/((C34^2-N34^2)^0.5)*(V34^2-N34^2)^0.5 -> 1030.4449 | V34: =IF(AND($L$24>=20%,$L$24<=80%)=TRUE,((C34^2*0.9-N34^2*(1-$L$24))/$L$24)^0.5,0) -> 330.21696 | W34: =(((V34^2-N34^2)^0.5*X34/U34)^2+N34^2)^0.5 -> 931.99565 | X34: =X33 -> 3167.3633 | Y34: ='driving mode datasheet'!Y34*$M$21/'driving mode datasheet'!$M$21*E34/'driving mode datasheet'!E34 -> 1477.8331 | Z34: =X34*Y34*PI()/30000 -> 490.17584 | AA34: =AC34*(D34/J34)^(1/AD34) -> 4022.6835 | AB34: =AC34*(B34*E34/AC34/H34)^(1/(1+AD34)) -> 2613.1453 | AC34: =0.95*Y34*(Z34/D34)^(1/AD34) -> 6162.0393 | AD34: =AD33 -> 0.89
A35: ='driving mode datasheet'!$A35 -> E62 | B35: ='driving mode datasheet'!B35 -> 650 | C35: ='driving mode datasheet'!C35 -> 270.1745 | D35: =E35*$B35*PI()/30000 -> 142.49757 | E35: =(F35*120/$F$9-$S35) -> 2093.464 | F35: =$Q35*$F$21/'driving mode datasheet'!$F$21 -> 104 | G35: =IF(AC35<$L$13,AC35,$L$13) -> 4000 | H35: =IF(U35<X35*0.95,U35,X35*0.95) -> 949.27128 | I35: =MIN(V35:W35) -> 359.57518 | J35: =MIN(Z35,H35*E35*PI()/30000) -> 208.10593 | K35: =IF(E35<M35,E35,M35) -> 2093.464 | L35: =(K35+S35*H35/B35)*$F$9/120 -> 103.69005 | M35: =MIN($L$13,MAX(AB35,AA35)) -> 4000 | N35: =RESUM!J32 -> 152.62759 | O35: ='driving mode parameters'!J81 -> 0.9676206 | P35: ='driving mode parameters'!J82 -> 0.73662695 | Q35: ='driving mode parameters'!J75 -> 104 | R35: ='driving mode parameters'!J76 -> 2093.464 | S35: =Q35*120/$F$9-R35 -> -13.464 | U35: =B35/((C35^2-N35^2)^0.5)*(V35^2-N35^2)^0.5 -> 949.27128 | V35: =IF(AND($L$24>=20%,$L$24<=80%)=TRUE,((C35^2*0.9-N35^2*(1-$L$24))/$L$24)^0.5,0) -> 359.57518 | W35: =(((V35^2-N35^2)^0.5*X35/U35)^2+N35^2)^0.5 -> 1096.9919 | X35: =X34 -> 3167.3633 | Y35: ='driving mode datasheet'!Y35*$M$21/'driving mode datasheet'!$M$21*E35/'driving mode datasheet'!E35 -> 1800.9643 | Z35: =X35*Y35*PI()/30000 -> 597.35375 | AA35: =AC35*(D35/J35)^(1/AD35) -> 5594.6902 | AB35: =AC35*(B35*E35/AC35/H35)^(1/(1+AD35)) -> 3325.8101 | AC35: =0.95*Y35*(Z35/D35)^(1/AD35) -> 8562.1266 | AD35: =AD34 -> 0.89
A36: ='driving mode datasheet'!$A36 -> F62 | B36: ='driving mode datasheet'!B36 -> 600 | C36: ='driving mode datasheet'!C36 -> 288.62162 | D36: =E36*$B36*PI()/30000 -> 146.55027 | E36: =(F36*120/$F$9-$S36) -> 2332.42 | F36: =$Q36*$F$21/'driving mode datasheet'!$F$21 -> 116 | G36: =IF(AC36<$L$13,AC36,$L$13) -> 4000 | H36: =IF(U36<X36*0.95,U36,X36*0.95) -> 872.24221 | I36: =MIN(V36:W36) -> 378.5097 | J36: =MIN(Z36,H36*E36*PI()/30000) -> 213.04555 | K36: =IF(E36<M36,E36,M36) -> 2332.42 | L36: =(K36+S36*H36/B36)*$F$9/120 -> 115.71823 | M36: =MIN($L$13,MAX(AB36,AA36)) -> 4000 | N36: =RESUM!K32 -> 171.58262 | O36: ='driving mode parameters'!K81 -> 0.96738052 | P36: ='driving mode parameters'!K82 -> 0.70898082 | Q36: ='driving mode parameters'!K75 -> 116 | R36: ='driving mode parameters'!K76 -> 2332.42 | S36: =Q36*120/$F$9-R36 -> -12.42 | U36: =B36/((C36^2-N36^2)^0.5)*(V36^2-N36^2)^0.5 -> 872.24221 | V36: =IF(AND($L$24>=20%,$L$24<=80%)=TRUE,((C36^2*0.9-N36^2*(1-$L$24))/$L$24)^0.5,0) -> 378.5097 | W36: =(((V36^2-N36^2)^0.5*X36/U36)^2+N36^2)^0.5 -> 1237.1011 | X36: =X35 -> 3167.3633 | Y36: ='driving mode datasheet'!Y36*$M$21/'driving mode datasheet'!$M$21*E36/'driving mode datasheet'!E36 -> 2085.9462 | Z36: =X36*Y36*PI()/30000 -> 691.87814 | AA36: =AC36*(D36/J36)^(1/AD36) -> 7444.0624 | AB36: =AC36*(B36*E36/AC36/H36)^(1/(1+AD36)) -> 4028.4838 | AC36: =0.95*Y36*(Z36/D36)^(1/AD36) -> 11333.874 | AD36: =AD35 -> 0.89
A37: ='driving mode datasheet'!$A37 -> 0 | B37: ='driving mode datasheet'!B37 -> 0 | C37: ='driving mode datasheet'!C37 -> 0 | D37: =E37*$B37*PI()/30000 -> #DIV/0! | E37: =(F37*120/$F$9-$S37) -> #DIV/0! | F37: =$Q37*$F$21/'driving mode datasheet'!$F$21 -> #DIV/0! | G37: =IF(AC37<$L$13,AC37,$L$13) -> #DIV/0! | H37: =IF(U37<X37*0.95,U37,X37*0.95) -> #DIV/0! | I37: =MIN(V37:W37) -> #DIV/0! | J37: =MIN(Z37,H37*E37*PI()/30000) -> #DIV/0! | K37: =IF(E37<M37,E37,M37) -> #DIV/0! | L37: =(K37+S37*H37/B37)*$F$9/120 -> #DIV/0! | M37: =MIN($L$13,MAX(AB37,AA37)) -> #DIV/0! | N37: =RESUM!L32 -> 0 | O37: ='driving mode parameters'!L81 -> #DIV/0! | P37: ='driving mode parameters'!L82 -> #DIV/0! | Q37: ='driving mode parameters'!L75 -> #DIV/0! | R37: ='driving mode parameters'!L76 -> #DIV/0! | S37: =Q37*120/$F$9-R37 -> #DIV/0! | U37: =B37/((C37^2-N37^2)^0.5)*(V37^2-N37^2)^0.5 -> #DIV/0! | V37: =IF(AND($L$24>=20%,$L$24<=80%)=TRUE,((C37^2*0.9-N37^2*(1-$L$24))/$L$24)^0.5,0) -> 0 | W37: =(((V37^2-N37^2)^0.5*X37/U37)^2+N37^2)^0.5 -> #DIV/0! | X37: =X36 -> 3167.3633 | Y37: ='driving mode datasheet'!Y37*$M$21/'driving mode datasheet'!$M$21*E37/'driving mode datasheet'!E37 -> #DIV/0! | Z37: =X37*Y37*PI()/30000 -> #DIV/0! | AA37: =AC37*(D37/J37)^(1/AD37) -> #DIV/0! | AB37: =AC37*(B37*E37/AC37/H37)^(1/(1+AD37)) -> #DIV/0! | AC37: =0.95*Y37*(Z37/D37)^(1/AD37) -> #DIV/0! | AD37: =AD36 -> 0.89
A38: ='driving mode datasheet'!$A38 -> 0 | B38: ='driving mode datasheet'!B38 -> 0 | C38: ='driving mode datasheet'!C38 -> 0 | D38: =E38*$B38*PI()/30000 -> #DIV/0! | E38: =(F38*120/$F$9-$S38) -> #DIV/0! | F38: =$Q38*$F$21/'driving mode datasheet'!$F$21 -> #DIV/0! | G38: =IF(AC38<$L$13,AC38,$L$13) -> #DIV/0! | H38: =IF(U38<X38*0.95,U38,X38*0.95) -> #DIV/0! | I38: =MIN(V38:W38) -> #DIV/0! | J38: =MIN(Z38,H38*E38*PI()/30000) -> #DIV/0! | K38: =IF(E38<M38,E38,M38) -> #DIV/0! | L38: =(K38+S38*H38/B38)*$F$9/120 -> #DIV/0! | M38: =MIN($L$13,MAX(AB38,AA38)) -> #DIV/0! | N38: =RESUM!M32 -> 0 | O38: ='driving mode parameters'!M81 -> #DIV/0! | P38: ='driving mode parameters'!M82 -> #DIV/0! | Q38: ='driving mode parameters'!M75 -> #DIV/0! | R38: ='driving mode parameters'!M76 -> #DIV/0! | S38: =Q38*120/$F$9-R38 -> #DIV/0! | U38: =B38/((C38^2-N38^2)^0.5)*(V38^2-N38^2)^0.5 -> #DIV/0! | V38: =IF(AND($L$24>=20%,$L$24<=80%)=TRUE,((C38^2*0.9-N38^2*(1-$L$24))/$L$24)^0.5,0) -> 0 | W38: =(((V38^2-N38^2)^0.5*X38/U38)^2+N38^2)^0.5 -> #DIV/0! | X38: =X37 -> 3167.3633 | Y38: ='driving mode datasheet'!Y38*$M$21/'driving mode datasheet'!$M$21*E38/'driving mode datasheet'!E38 -> #DIV/0! | Z38: =X38*Y38*PI()/30000 -> #DIV/0! | AA38: =AC38*(D38/J38)^(1/AD38) -> #DIV/0! | AB38: =AC38*(B38*E38/AC38/H38)^(1/(1+AD38)) -> #DIV/0! | AC38: =0.95*Y38*(Z38/D38)^(1/AD38) -> #DIV/0! | AD38: =AD37 -> 0.89
A39: ='driving mode datasheet'!$A39 -> 0 | B39: ='driving mode datasheet'!B39 -> 0 | C39: ='driving mode datasheet'!C39 -> 0 | D39: =E39*$B39*PI()/30000 -> #DIV/0! | E39: =(F39*120/$F$9-$S39) -> #DIV/0! | F39: =$Q39*$F$21/'driving mode datasheet'!$F$21 -> #DIV/0! | G39: =IF(AC39<$L$13,AC39,$L$13) -> #DIV/0! | H39: =IF(U39<X39*0.95,U39,X39*0.95) -> #DIV/0! | I39: =MIN(V39:W39) -> #DIV/0! | J39: =MIN(Z39,H39*E39*PI()/30000) -> #DIV/0! | K39: =IF(E39<M39,E39,M39) -> #DIV/0! | L39: =(K39+S39*H39/B39)*$F$9/120 -> #DIV/0! | M39: =MIN($L$13,MAX(AB39,AA39)) -> #DIV/0! | N39: =RESUM!N32 -> 0 | O39: ='driving mode parameters'!N81 -> #DIV/0! | P39: ='driving mode parameters'!N82 -> #DIV/0! | Q39: ='driving mode parameters'!N75 -> #DIV/0! | R39: ='driving mode parameters'!N76 -> #DIV/0! | S39: =Q39*120/$F$9-R39 -> #DIV/0! | U39: =B39/((C39^2-N39^2)^0.5)*(V39^2-N39^2)^0.5 -> #DIV/0! | V39: =IF(AND($L$24>=20%,$L$24<=80%)=TRUE,((C39^2*0.9-N39^2*(1-$L$24))/$L$24)^0.5,0) -> 0 | W39: =(((V39^2-N39^2)^0.5*X39/U39)^2+N39^2)^0.5 -> #DIV/0! | X39: =X38 -> 3167.3633 | Y39: ='driving mode datasheet'!Y39*$M$21/'driving mode datasheet'!$M$21*E39/'driving mode datasheet'!E39 -> #DIV/0! | Z39: =X39*Y39*PI()/30000 -> #DIV/0! | AA39: =AC39*(D39/J39)^(1/AD39) -> #DIV/0! | AB39: =AC39*(B39*E39/AC39/H39)^(1/(1+AD39)) -> #DIV/0! | AC39: =0.95*Y39*(Z39/D39)^(1/AD39) -> #DIV/0! | AD39: =AD38 -> 0.89
A40: ='driving mode datasheet'!$A40 -> 0 | B40: ='driving mode datasheet'!B40 -> 0 | C40: ='driving mode datasheet'!C40 -> 0 | D40: =E40*$B40*PI()/30000 -> #DIV/0! | E40: =(F40*120/$F$9-$S40) -> #DIV/0! | F40: =$Q40*$F$21/'driving mode datasheet'!$F$21 -> #DIV/0! | G40: =IF(AC40<$L$13,AC40,$L$13) -> #DIV/0! | H40: =IF(U40<X40*0.95,U40,X40*0.95) -> #DIV/0! | I40: =MIN(V40:W40) -> #DIV/0! | J40: =MIN(Z40,H40*E40*PI()/30000) -> #DIV/0! | K40: =IF(E40<M40,E40,M40) -> #DIV/0! | L40: =(K40+S40*H40/B40)*$F$9/120 -> #DIV/0! | M40: =MIN($L$13,MAX(AB40,AA40)) -> #DIV/0! | N40: =RESUM!O32 -> 0 | O40: ='driving mode parameters'!O81 -> #DIV/0! | P40: ='driving mode parameters'!O82 -> #DIV/0! | Q40: ='driving mode parameters'!O75 -> #DIV/0! | R40: ='driving mode parameters'!O76 -> #DIV/0! | S40: =Q40*120/$F$9-R40 -> #DIV/0! | U40: =B40/((C40^2-N40^2)^0.5)*(V40^2-N40^2)^0.5 -> #DIV/0! | V40: =IF(AND($L$24>=20%,$L$24<=80%)=TRUE,((C40^2*0.9-N40^2*(1-$L$24))/$L$24)^0.5,0) -> 0 | W40: =(((V40^2-N40^2)^0.5*X40/U40)^2+N40^2)^0.5 -> #DIV/0! | X40: =X39 -> 3167.3633 | Y40: ='driving mode datasheet'!Y40*$M$21/'driving mode datasheet'!$M$21*E40/'driving mode datasheet'!E40 -> #DIV/0! | Z40: =X40*Y40*PI()/30000 -> #DIV/0! | AA40: =AC40*(D40/J40)^(1/AD40) -> #DIV/0! | AB40: =AC40*(B40*E40/AC40/H40)^(1/(1+AD40)) -> #DIV/0! | AC40: =0.95*Y40*(Z40/D40)^(1/AD40) -> #DIV/0! | AD40: =AD39 -> 0.89
A41: Otras Velocidades disponibles bajo consulta / Other speeds available on request | H41: La tensión para el servicio S6 es mayor que Vb / Voltage for S6 duty is bigger than Vb
A72: Elabora: | E72: Revisa: | K72: Aprueba:
D74: =M4 -> 45244 | J74: =D74 -> 45244 | N74: =J74 -> 45244
D76: =D2 -> MAC QE 200 P
D77: - Hoja de Curvas Características Modo Generador- | L77: Página | M77: ='driving mode datasheet'!M77 -> 2 de 3
D78: - Absorbing Mode Power and Torque Diagrams - | L78: Fecha | M78: ='driving mode datasheet'!M78 -> 45244
A81: Tensión de Base del Motor | E81: Vb ± 5% | F81: =F21 -> 400 | H81: Tensión Máxima de Salida del Convertidor | L81: Vc | M81: =M21 -> 400
A82: Motor Base Voltage | H82: Inverter max. Output Voltage
F83: =IF(F81>500," LA TENSIÓN DE BASE HA DE SER INFERIOR O IGUAL A 500 V"," ") | G83: =IF(M81>500," LA TENSIÓN MÁXIMA HA DE SER INFERIOR O IGUAL A 500 V"," ") | N83: =IF(M81<F81," LA TENSIÓN MÁXIMA HA DE SER SUPERIOR O IGUAL A LA DE BASE"," ")
B84: Servicio / Service | F84: =F24 -> S1 | H84: =H24 -> Servicio / Service S6 - | L84: =L24 -> 0.4
K85: =H29 -> 1032.9768 | L85: =L29 -> 41.534785
A86: Bobinado Winding | B86: Nm | C86: A ± 2% | D86: KW | E86: rpm | F86: Hz | G86: Velocidad a Pot.Cte Const. Power Speed. (rpm) | H86: Nm | I86: A ± 5% | J86: KW | K86: rpm | L86: Hz | M86: Velocidad a Pot.Cte Const. Power Speed. (rpm) | N86: Corriente en vacio No Load Current (A) | O86: eff | P86: cos fi | Q86: Hz | R86: rpm | S86: rpm llisc. | U86: Nm S6 | V86: A S6 | W86: Alim | X86: Nm lim | Y86: rpm lim | Z86: KW lim | AA86: rpm lim KW s6 | AB86: rpm lim Nm s6 | AC86: =AC26 -> rpm lim s1 | AD86: =AD26 -> coef.
A87: G61 | B87: =VLOOKUP($A$87,$A$27:$Y$40,2,FALSE) -> 705 | C87: =VLOOKUP($A$87,$A$27:$Y$40,3,FALSE) -> 211.95147 | D87: =VLOOKUP($A$87,$A$27:$Y$40,4,FALSE) -> 113.69424 | E87: =VLOOKUP($A$87,$A$27:$Y$40,5,FALSE) -> 1540 | F87: =VLOOKUP($A$87,$A$27:$Y$40,6,FALSE) -> 76 | G87: =VLOOKUP($A$87,$A$27:$Y$40,7,FALSE) -> 4000 | H87: =VLOOKUP($A$87,$A$27:$Y$40,8,FALSE) -> 1031.2722 | I87: =VLOOKUP($A$87,$A$27:$Y$40,9,FALSE) -> 283.65248 | J87: =VLOOKUP($A$87,$A$27:$Y$40,10,FALSE) -> 166.31163 | K87: =VLOOKUP($A$87,$A$27:$Y$40,11,FALSE) -> 1540 | L87: =VLOOKUP($A$87,$A$27:$Y$40,12,FALSE) -> 75.537203 | M87: =VLOOKUP($A$87,$A$27:$Y$40,13,FALSE) -> 3491.2919 | N87: =VLOOKUP($A$87,$A$27:$Y$40,14,FALSE) -> 117.24327 | O87: =VLOOKUP($A$87,$A$27:$Y$40,15,FALSE) -> 0.96360898 | P87: =VLOOKUP($A$87,$A$27:$Y$40,16,FALSE) -> 0.74607458 | Q87: =VLOOKUP($A$87,$A$27:$Y$40,17,FALSE) -> 76 | R87: =VLOOKUP($A$87,$A$27:$Y$40,18,FALSE) -> 1540 | S87: =VLOOKUP($A$87,$A$27:$Y$40,19,FALSE) -> -20 | U87: =VLOOKUP($A$87,$A$27:$Y$40,21,FALSE) -> 1031.2722 | V87: =VLOOKUP($A$87,$A$27:$Y$40,22,FALSE) -> 283.65248 | W87: =VLOOKUP($A$87,$A$27:$Y$40,23,FALSE) -> 801.9017 | X87: =VLOOKUP($A$87,$A$27:$Y$40,24,FALSE) -> 3167.3633 | Y87: =VLOOKUP($A$87,$A$27:$Y$40,25,FALSE) -> 1281.0186 | Z87: =VLOOKUP($A$87,$A$27:$AD$40,26,FALSE) -> 424.89532 | AA87: =VLOOKUP($A$87,$A$27:$AD$40,27,FALSE) -> 3491.2919 | AB87: =VLOOKUP($A$87,$A$27:$AD$40,28,FALSE) -> 2264.1709 | AC87: =VLOOKUP($A$87,$A$27:$AD$40,29,FALSE) -> 5352.8658 | AD87: =VLOOKUP($A$87,$A$27:$AD$40,30,FALSE) -> 0.89
A88: =IF(O87=0,"ESTE BOBINADO NO EXISTE / THIS WINDING DOESN'T EXIST","")
A89: Carga / Load
A91: rpm | B91: Nm 1 | C91: Nm 2
P99: rpm S1 | Q99: kW S1 | R99: Nm S1 | S99: rpm S6 | T99: kW S6 | U99: Nm S6 | V99: rpm limit | W99: KW limit | X99: Nm Limit
P100: 10 | Q100: =IF($D$87<W100*0.9,$D$87,W100*0.9) -> 0.20006481 | R100: =B87 -> 705 | S100: =P100 -> 10 | T100: =U100*V100*PI()/30000 -> 1.0799457 | U100: =H87 -> 1031.2722 | V100: =P100 -> 10 | W100: =X100*V100*PI()/30000 -> 0.22229423 | X100: 212.27535
P101: =E87 -> 1540 | Q101: =R101*P101*PI()/30000 -> 113.69424 | R101: =B87 -> 705 | S101: =K87 -> 1540 | T101: =U101*S101*PI()/30000 -> 166.31163 | U101: =H87 -> 1031.2722 | V101: =Y87 -> 1281.0186 | W101: =X101*V101*PI()/30000 -> 28.476306 | X101: =X100 -> 212.27535
P102: =P101 -> 1540 | Q102: =R102*P102*PI()/30000 -> 113.69424 | R102: =R101*P101/P102 -> 705 | S102: =S101 -> 1540 | T102: =U102*S102*PI()/30000 -> 166.31163 | U102: =U101*S101/S102 -> 1031.2722 | V102: =V101 -> 1281.0186 | W102: =X102*V102*PI()/30000 -> 28.476306 | X102: =X101 -> 212.27535
P103: =P102+($P$112-$P$102)/10 -> 1786 | Q103: =R103*P103*PI()/30000 -> 113.69424 | R103: =R102*P102/P103 -> 607.89474 | S103: =S102+($S$112-$S$102)/10 -> 1735.1292 | T103: =U103*S103*PI()/30000 -> 166.31163 | U103: =U102*S102/S103 -> 915.29733 | V103: =IF(V102*1.1>MIN($L$13,$D$112),MIN($L$13,$D$112),V102*1.1) -> 1409.1205 | W103: =X103*V103*PI()/30000 -> 26.160386 | X103: =X102*(V102/V103)^(1+$AD$87) -> 177.28313
P104: =P103+($P$112-$P$102)/10 -> 2032 | Q104: =R104*P104*PI()/30000 -> 113.69424 | R104: =R103*P103/P104 -> 534.30118 | S104: =S103+($S$112-$S$102)/10 -> 1930.2584 | T104: =U104*S104*PI()/30000 -> 166.31163 | U104: =U103*S103/S104 -> 822.77022 | V104: =IF(V103*1.1>MIN($L$13,$D$112),MIN($L$13,$D$112),V103*1.1) -> 1550.0326 | W104: =X104*V104*PI()/30000 -> 24.032816 | X104: =X103*(V103/V104)^(1+$AD$87) -> 148.05914
P105: =P104+($P$112-$P$102)/10 -> 2278 | Q105: =R105*P105*PI()/30000 -> 113.69424 | R105: =R104*P104/P105 -> 476.60228 | S105: =S104+($S$112-$S$102)/10 -> 2125.3876 | T105: =U105*S105*PI()/30000 -> 166.31163 | U105: =U104*S104/S105 -> 747.23271 | V105: =IF(V104*1.1>MIN($L$13,$D$112),MIN($L$13,$D$112),V104*1.1) -> 1705.0358 | W105: =X105*V105*PI()/30000 -> 22.078277 | X105: =X104*(V104/V105)^(1+$AD$87) -> 123.65254
P106: =P105+($P$112-$P$102)/10 -> 2524 | Q106: =R106*P106*PI()/30000 -> 113.69424 | R106: =R105*P105/P106 -> 430.15055 | S106: =S105+($S$112-$S$102)/10 -> 2320.5168 | T106: =U106*S106*PI()/30000 -> 166.31163 | U106: =U105*S105/S106 -> 684.3989 | V106: =IF(V105*1.1>MIN($L$13,$D$112),MIN($L$13,$D$112),V105*1.1) -> 1875.5394 | W106: =X106*V106*PI()/30000 -> 20.282696 | X106: =X105*(V105/V106)^(1+$AD$87) -> 103.26922
P107: =P106+($P$112-$P$102)/10 -> 2770 | Q107: =R107*P107*PI()/30000 -> 113.69424 | R107: =R106*P106/P107 -> 391.94946 | S107: =S106+($S$112-$S$102)/10 -> 2515.6459 | T107: =U107*S107*PI()/30000 -> 166.31163 | U107: =U106*S106/S107 -> 631.31265 | V107: =IF(V106*1.1>MIN($L$13,$D$112),MIN($L$13,$D$112),V106*1.1) -> 2063.0933 | W107: =X107*V107*PI()/30000 -> 18.633146 | X107: =X106*(V106/V107)^(1+$AD$87) -> 86.245948
P108: =P107+($P$112-$P$102)/10 -> 3016 | Q108: =R108*P108*PI()/30000 -> 113.69424 | R108: =R107*P107/P108 -> 359.98011 | S108: =S107+($S$112-$S$102)/10 -> 2710.7751 | T108: =U108*S108*PI()/30000 -> 166.31163 | U108: =U107*S107/S108 -> 585.869 | V108: =IF(V107*1.1>MIN($L$13,$D$112),MIN($L$13,$D$112),V107*1.1) -> 2269.4027 | W108: =X108*V108*PI()/30000 -> 17.117751 | X108: =X107*(V107/V108)^(1+$AD$87) -> 72.028857
P109: =P108+($P$112-$P$102)/10 -> 3262 | Q109: =R109*P109*PI()/30000 -> 113.69424 | R109: =R108*P108/P109 -> 332.83262 | S109: =S108+($S$112-$S$102)/10 -> 2905.9043 | T109: =U109*S109*PI()/30000 -> 166.31163 | U109: =U108*S108/S109 -> 546.52836 | V109: =IF(V108*1.1>MIN($L$13,$D$112),MIN($L$13,$D$112),V108*1.1) -> 2496.3429 | W109: =X109*V109*PI()/30000 -> 15.7256 | X109: =X108*(V108/V109)^(1+$AD$87) -> 60.155363
P110: =P109+($P$112-$P$102)/10 -> 3508 | Q110: =R110*P110*PI()/30000 -> 113.69424 | R110: =R109*P109/P110 -> 309.49259 | S110: =S109+($S$112-$S$102)/10 -> 3101.0335 | T110: =U110*S110*PI()/30000 -> 166.31163 | U110: =U109*S109/S110 -> 512.13865 | V110: =IF(V109*1.1>MIN($L$13,$D$112),MIN($L$13,$D$112),V109*1.1) -> 2745.9772 | W110: =X110*V110*PI()/30000 -> 14.446669 | X110: =X109*(V109/V110)^(1+$AD$87) -> 50.239138
P111: =P110+($P$112-$P$102)/10 -> 3754 | Q111: =R111*P111*PI()/30000 -> 113.69424 | R111: =R110*P110/P111 -> 289.21151 | S111: =S110+($S$112-$S$102)/10 -> 3296.1627 | T111: =U111*S111*PI()/30000 -> 166.31163 | U111: =U110*S110/S111 -> 481.82061 | V111: =IF(V110*1.1>MIN($L$13,$D$112),MIN($L$13,$D$112),V110*1.1) -> 3020.575 | W111: =X111*V111*PI()/30000 -> 13.271751 | X111: =X110*(V110/V111)^(1+$AD$87) -> 41.957538
A112: Speed range | B112: Nnom x | C112: 4 | D112: =TRUNC(E87*C112,-1) -> 6160 | P112: =IF(G87>E87*C112,E87*C112,G87) -> 4000 | Q112: =R112*P112*PI()/30000 -> 113.69424 | R112: =R106*P106/P112 -> 271.425 | S112: =M87 -> 3491.2919 | T112: =U112*S112*PI()/30000 -> 166.31163 | U112: =U106*S106/S112 -> 454.89153 | V112: =IF(V111*1.1>MIN($L$13,$D$112),MIN($L$13,$D$112),V111*1.1) -> 3322.6325 | W112: =X112*V112*PI()/30000 -> 12.192387 | X112: =X111*(V111/V112)^(1+$AD$87) -> 35.041108 | Z112: 4000
A113: Carga / Load | P113: =P112 -> 4000 | Q113: =R113*P113*PI()/30000 -> 113.69424 | R113: =R112*(P112/P113)^2 -> 271.425 | S113: =S112 -> 3491.2919 | T113: =U113*S113*PI()/30000 -> 166.31163 | U113: =U112 -> 454.89153 | V113: =IF(V112*1.1>MIN($L$13,$D$112),MIN($L$13,$D$112),V112*1.1) -> 3654.8957 | W113: =X113*V113*PI()/30000 -> 11.200806 | X113: =X112*(V112/V113)^(1+$AD$87) -> 29.264806
P114: =IF(P113*1.1>MIN($L$13,$D$112),MIN($L$13,$D$112),P113*1.1) -> 4000 | Q114: =R114*P114*PI()/30000 -> 113.69424 | R114: =R113*(P113/P114)^(1+$AD$87) -> 271.425 | S114: =IF(S113*1.1>MIN($L$13,$D$112),MIN($L$13,$D$112),S113*1.1) -> 3840.4211 | T114: =U114*S114*PI()/30000 -> 152.78585 | U114: =U113*(S113/S114)^(1+$AD$87) -> 379.90559 | V114: =IF(V113*1.1>MIN($L$13,$D$112),MIN($L$13,$D$112),V113*1.1) -> 4000 | W114: =X114*V114*PI()/30000 -> 10.336526 | X114: =X113*(V113/V114)^(1+$AD$87) -> 24.676638
A115: rpm | B115: KW 1 | C115: KW 2 | P115: =IF(P114*1.1>MIN($L$13,$D$112),MIN($L$13,$D$112),P114*1.1) -> 4000 | Q115: =R115*P115*PI()/30000 -> 113.69424 | R115: =R114*(P114/P115)^(1+$AD$87) -> 271.425 | S115: =IF(S114*1.1>MIN($L$13,$D$112),MIN($L$13,$D$112),S114*1.1) -> 4000 | T115: =U115*S115*PI()/30000 -> 147.34891 | U115: =U114*(S114/S115)^(1+$AD$87) -> 351.7696 | V115: =IF(V114*1.1>MIN($L$13,$D$112),MIN($L$13,$D$112),V114*1.1) -> 4000 | W115: =X115*V115*PI()/30000 -> 10.336526 | X115: =X114*(V114/V115)^(1+$AD$87) -> 24.676638
P116: =IF(P115*1.1>MIN($L$13,$D$112),MIN($L$13,$D$112),P115*1.1) -> 4000 | Q116: =R116*P116*PI()/30000 -> 113.69424 | R116: =R115*(P115/P116)^(1+$AD$87) -> 271.425 | S116: =IF(S115*1.1>MIN($L$13,$D$112),MIN($L$13,$D$112),S115*1.1) -> 4000 | T116: =U116*S116*PI()/30000 -> 147.34891 | U116: =U115*(S115/S116)^(1+$AD$87) -> 351.7696 | V116: =IF(V115*1.1>MIN($L$13,$D$112),MIN($L$13,$D$112),V115*1.1) -> 4000 | W116: =X116*V116*PI()/30000 -> 10.336526 | X116: =X115*(V115/V116)^(1+$AD$87) -> 24.676638
P117: =IF(P116*1.1>MIN($L$13,$D$112),MIN($L$13,$D$112),P116*1.1) -> 4000 | Q117: =R117*P117*PI()/30000 -> 113.69424 | R117: =R116*(P116/P117)^(1+$AD$87) -> 271.425 | S117: =IF(S116*1.1>MIN($L$13,$D$112),MIN($L$13,$D$112),S116*1.1) -> 4000 | T117: =U117*S117*PI()/30000 -> 147.34891 | U117: =U116*(S116/S117)^(1+$AD$87) -> 351.7696 | V117: =IF(V116*1.1>MIN($L$13,$D$112),MIN($L$13,$D$112),V116*1.1) -> 4000 | W117: =X117*V117*PI()/30000 -> 10.336526 | X117: =X116*(V116/V117)^(1+$AD$87) -> 24.676638
P118: =IF(P117*1.1>MIN($L$13,$D$112),MIN($L$13,$D$112),P117*1.1) -> 4000 | Q118: =R118*P118*PI()/30000 -> 113.69424 | R118: =R117*(P117/P118)^(1+$AD$87) -> 271.425 | S118: =IF(S117*1.1>MIN($L$13,$D$112),MIN($L$13,$D$112),S117*1.1) -> 4000 | T118: =U118*S118*PI()/30000 -> 147.34891 | U118: =U117*(S117/S118)^(1+$AD$87) -> 351.7696 | V118: =IF(V117*1.1>MIN($L$13,$D$112),MIN($L$13,$D$112),V117*1.1) -> 4000 | W118: =X118*V118*PI()/30000 -> 10.336526 | X118: =X117*(V117/V118)^(1+$AD$87) -> 24.676638
P119: =IF(P118*1.1>MIN($L$13,$D$112),MIN($L$13,$D$112),P118*1.1) -> 4000 | Q119: =R119*P119*PI()/30000 -> 113.69424 | R119: =R118*(P118/P119)^(1+$AD$87) -> 271.425 | S119: =IF(S118*1.1>MIN($L$13,$D$112),MIN($L$13,$D$112),S118*1.1) -> 4000 | T119: =U119*S119*PI()/30000 -> 147.34891 | U119: =U118*(S118/S119)^(1+$AD$87) -> 351.7696 | V119: =IF(V118*1.1>MIN($L$13,$D$112),MIN($L$13,$D$112),V118*1.1) -> 4000 | W119: =X119*V119*PI()/30000 -> 10.336526 | X119: =X118*(V118/V119)^(1+$AD$87) -> 24.676638
P120: =IF(P119*1.1>MIN($L$13,$D$112),MIN($L$13,$D$112),P119*1.1) -> 4000 | Q120: =R120*P120*PI()/30000 -> 113.69424 | R120: =R119*(P119/P120)^(1+$AD$87) -> 271.425 | S120: =IF(S119*1.1>MIN($L$13,$D$112),MIN($L$13,$D$112),S119*1.1) -> 4000 | T120: =U120*S120*PI()/30000 -> 147.34891 | U120: =U119*(S119/S120)^(1+$AD$87) -> 351.7696 | V120: =IF(V119*1.1>MIN($L$13,$D$112),MIN($L$13,$D$112),V119*1.1) -> 4000 | W120: =X120*V120*PI()/30000 -> 10.336526 | X120: =X119*(V119/V120)^(1+$AD$87) -> 24.676638
P121: =IF(P120*1.1>MIN($L$13,$D$112),MIN($L$13,$D$112),P120*1.1) -> 4000 | Q121: =R121*P121*PI()/30000 -> 113.69424 | R121: =R120*(P120/P121)^(1+$AD$87) -> 271.425 | S121: =IF(S120*1.1>MIN($L$13,$D$112),MIN($L$13,$D$112),S120*1.1) -> 4000 | T121: =U121*S121*PI()/30000 -> 147.34891 | U121: =U120*(S120/S121)^(1+$AD$87) -> 351.7696 | V121: =IF(V120*1.1>MIN($L$13,$D$112),MIN($L$13,$D$112),V120*1.1) -> 4000 | W121: =X121*V121*PI()/30000 -> 10.336526 | X121: =X120*(V120/V121)^(1+$AD$87) -> 24.676638
P122: =IF(P121*1.1>MIN($L$13,$D$112),MIN($L$13,$D$112),P121*1.1) -> 4000 | Q122: =R122*P122*PI()/30000 -> 113.69424 | R122: =R121*(P121/P122)^(1+$AD$87) -> 271.425 | S122: =IF(S121*1.1>MIN($L$13,$D$112),MIN($L$13,$D$112),S121*1.1) -> 4000 | T122: =U122*S122*PI()/30000 -> 147.34891 | U122: =U121*(S121/S122)^(1+$AD$87) -> 351.7696 | V122: =IF(V121*1.1>MIN($L$13,$D$112),MIN($L$13,$D$112),V121*1.1) -> 4000 | W122: =X122*V122*PI()/30000 -> 10.336526 | X122: =X121*(V121/V122)^(1+$AD$87) -> 24.676638
P123: =IF(P122*1.1>MIN($L$13,$D$112),MIN($L$13,$D$112),P122*1.1) -> 4000 | Q123: =R123*P123*PI()/30000 -> 113.69424 | R123: =R122*(P122/P123)^(1+$AD$87) -> 271.425 | S123: =IF(S122*1.1>MIN($L$13,$D$112),MIN($L$13,$D$112),S122*1.1) -> 4000 | T123: =U123*S123*PI()/30000 -> 147.34891 | U123: =U122*(S122/S123)^(1+$AD$87) -> 351.7696 | V123: =IF(V122*1.1>MIN($L$13,$D$112),MIN($L$13,$D$112),V122*1.1) -> 4000 | W123: =X123*V123*PI()/30000 -> 10.336526 | X123: =X122*(V122/V123)^(1+$AD$87) -> 24.676638
P124: =IF(P123*1.1>MIN($L$13,$D$112),MIN($L$13,$D$112),P123*1.1) -> 4000 | Q124: =R124*P124*PI()/30000 -> 113.69424 | R124: =R123*(P123/P124)^(1+$AD$87) -> 271.425 | S124: =IF(S123*1.1>MIN($L$13,$D$112),MIN($L$13,$D$112),S123*1.1) -> 4000 | T124: =U124*S124*PI()/30000 -> 147.34891 | U124: =U123*(S123/S124)^(1+$AD$87) -> 351.7696 | V124: =IF(V123*1.1>MIN($L$13,$D$112),MIN($L$13,$D$112),V123*1.1) -> 4000 | W124: =X124*V124*PI()/30000 -> 10.336526 | X124: =X123*(V123/V124)^(1+$AD$87) -> 24.676638
P125: =IF(P124*1.1>MIN($L$13,$D$112),MIN($L$13,$D$112),P124*1.1) -> 4000 | Q125: =R125*P125*PI()/30000 -> 113.69424 | R125: =R124*(P124/P125)^(1+$AD$87) -> 271.425 | S125: =IF(S124*1.1>MIN($L$13,$D$112),MIN($L$13,$D$112),S124*1.1) -> 4000 | T125: =U125*S125*PI()/30000 -> 147.34891 | U125: =U124*(S124/S125)^(1+$AD$87) -> 351.7696 | V125: =IF(V124*1.1>MIN($L$13,$D$112),MIN($L$13,$D$112),V124*1.1) -> 4000 | W125: =X125*V125*PI()/30000 -> 10.336526 | X125: =X124*(V124/V125)^(1+$AD$87) -> 24.676638
P126: =IF(P125*1.1>MIN($L$13,$D$112),MIN($L$13,$D$112),P125*1.1) -> 4000 | Q126: =R126*P126*PI()/30000 -> 113.69424 | R126: =R125*(P125/P126)^(1+$AD$87) -> 271.425 | S126: =IF(S125*1.1>MIN($L$13,$D$112),MIN($L$13,$D$112),S125*1.1) -> 4000 | T126: =U126*S126*PI()/30000 -> 147.34891 | U126: =U125*(S125/S126)^(1+$AD$87) -> 351.7696 | V126: =IF(V125*1.1>MIN($L$13,$D$112),MIN($L$13,$D$112),V125*1.1) -> 4000 | W126: =X126*V126*PI()/30000 -> 10.336526 | X126: =X125*(V125/V126)^(1+$AD$87) -> 24.676638
P127: =IF(P126*1.1>MIN($L$13,$D$112),MIN($L$13,$D$112),P126*1.1) -> 4000 | Q127: =R127*P127*PI()/30000 -> 113.69424 | R127: =R126*(P126/P127)^(1+$AD$87) -> 271.425 | S127: =IF(S126*1.1>MIN($L$13,$D$112),MIN($L$13,$D$112),S126*1.1) -> 4000 | T127: =U127*S127*PI()/30000 -> 147.34891 | U127: =U126*(S126/S127)^(1+$AD$87) -> 351.7696 | V127: =IF(V126*1.1>MIN($L$13,$D$112),MIN($L$13,$D$112),V126*1.1) -> 4000 | W127: =X127*V127*PI()/30000 -> 10.336526 | X127: =X126*(V126/V127)^(1+$AD$87) -> 24.676638
... P131: =IF(P130*1.1>MIN($L$13,$D$112),MIN($L$13,$D$112),P130*1.1) -> 4000 | Q131: =R131*P131*PI()/30000 -> 113.69424 | R131: =R130*(P130/P131)^(1+$AD$87) -> 271.425 | S131: =IF(S130*1.1>MIN($L$13,$D$112),MIN($L$13,$D$112),S130*1.1) -> 4000 | T131: =U131*S131*PI()/30000 -> 147.34891 | U131: =U130*(S130/S131)^(1+$AD$87) -> 351.7696 | V131: =IF(V130*1.1>MIN($L$13,$D$112),MIN($L$13,$D$112),V130*1.1) -> 4000 | W131: =X131*V131*PI()/30000 -> 10.336526 | X131: =X130*(V130/V131)^(1+$AD$87) -> 24.676638
A136: =MAX(A112,IF(A116="",0,MAX(A116:A135))) -> 0
D139: =D76 -> MAC QE 200 P
D140: - Placa de Características en Modo Generador- | L140: Página | M140: ='driving mode datasheet'!M140 -> 3 de 3
D141: - Absorbing Mode Nameplate - | L141: Fecha | M141: ='driving mode datasheet'!M141 -> 45244
C145: =D76 -> MAC QE 200 P | G145: =A87 -> G61 | H145: abs. | I145: =F9 -> 6 | J145: Pole | K145: EN60034
C146: Nr: | G146: DATE | K146: =J11 -> IM B3
C147: Pn | D147: =D87 -> 113.69424 | F147: kW | G147: Mn | H147: =B87 -> 705 | J147: Nm | K147: =G11 -> IP 54
C148: Un | D148: =IF(RIGHT(G145)="1","Y","D") -> Y | E148: =F81 -> 400 | F148: V | G148: Fn | H148: =F87 -> 76 | J148: Hz | K148: =C8 -> IC 416
C149: In | D149: =C87 -> 211.95147 | F149: A | G149: Cos fi | H149: =P87 -> 0.74607458 | I149: Eff. | J149: =O87 -> 0.96360898 | K149: =I15 -> Cl. F
C150: Nn | D150: =E87 -> 1540 | F150: rpm | G150: Nmax | H150: =L13 -> 4000 | J150: rpm | K150: =F24 -> S1
C151: FAN | D151: =C10 -> 3 x 400 V | F151: =C12 -> 2,6 A | H151: =C11 -> 50 Hz | I151: BRAKE | J151: Nm | K151: Nm | L151: Vdc | M151: Vdc
C152: MADE IN SPAIN

Sheet absorbing mode parameters
H2: =RESUM!H2 -> MAC QE 200 P
H4: Parámetros modo generador / Absorbing mode parameters
N5: Fecha - Date | O5: =RESUM!O5 -> 45244
B8: ='driving mode parameters'!B8 -> MAC QE 200 P | C8: ='driving mode parameters'!C8 -> MAC QE 200 P | D8: ='driving mode parameters'!D8 -> MAC QE 200 P | E8: ='driving mode parameters'!E8 -> MAC QE 200 P | F8: ='driving mode parameters'!F8 -> MAC QE 200 P | G8: ='driving mode parameters'!G8 -> MAC QE 200 P | H8: ='driving mode parameters'!H8 -> MAC QE 200 P | I8: ='driving mode parameters'!I8 -> MAC QE 200 P | ... O8: ='driving mode parameters'!O8 -> 0
B9: ='driving mode parameters'!B9 -> A61 | C9: ='driving mode parameters'!C9 -> B61 | D9: ='driving mode parameters'!D9 -> C61 | E9: ='driving mode parameters'!E9 -> D61 | F9: ='driving mode parameters'!F9 -> E61 | G9: ='driving mode parameters'!G9 -> F61 | H9: ='driving mode parameters'!H9 -> G61 | I9: ='driving mode parameters'!I9 -> H61 | ... O9: ='driving mode parameters'!O9 -> 0
A10: ='driving mode parameters'!A10 -> Poles | B10: ='driving mode parameters'!B10 -> 6 | C10: ='driving mode parameters'!U12 -> 6 | D10: ='driving mode parameters'!V12 -> 6 | E10: ='driving mode parameters'!E10 -> 6 | F10: ='driving mode parameters'!F10 -> 6 | G10: ='driving mode parameters'!G10 -> 6 | H10: ='driving mode parameters'!H10 -> 6 | I10: ='driving mode parameters'!I10 -> 6 | J10: ='driving mode parameters'!J10 -> 6 | K10: ='driving mode parameters'!K10 -> 6 | L10: ='driving mode parameters'!L10 -> 6 | ... O10: ='driving mode parameters'!O10 -> 6
A11: Nm | B11: ='absorbing mode datasheet'!B27 -> 705 | C11: ='absorbing mode datasheet'!B28 -> 705 | D11: ='absorbing mode datasheet'!B29 -> 705 | E11: ='absorbing mode datasheet'!B30 -> 705 | F11: ='absorbing mode datasheet'!B31 -> 705 | G11: ='absorbing mode datasheet'!B32 -> 705 | H11: ='absorbing mode datasheet'!B33 -> 705 | I11: ='absorbing mode datasheet'!B34 -> 705 | J11: ='absorbing mode datasheet'!B35 -> 650 | K11: ='absorbing mode datasheet'!B36 -> 600 | L11: ='absorbing mode datasheet'!B37 -> 0 | M11: ='absorbing mode datasheet'!B40 -> 0 | N11: ='absorbing mode datasheet'!B41 -> 0 | O11: ='absorbing mode datasheet'!B42 -> 0
A12: rpm | B12: ='absorbing mode datasheet'!E27 -> 600 | C12: ='absorbing mode datasheet'!E28 -> 720 | D12: ='absorbing mode datasheet'!E29 -> 860 | E12: ='absorbing mode datasheet'!E30 -> 1000 | F12: ='absorbing mode datasheet'!E31 -> 1220 | G12: ='absorbing mode datasheet'!E32 -> 1360 | H12: ='absorbing mode datasheet'!E33 -> 1540 | I12: ='absorbing mode datasheet'!E34 -> 1780 | J12: ='absorbing mode datasheet'!E35 -> 2093.464 | K12: ='absorbing mode datasheet'!E36 -> 2332.42 | L12: ='absorbing mode datasheet'!E37 -> #DIV/0! | M12: ='absorbing mode datasheet'!E40 -> #DIV/0! | N12: ='absorbing mode datasheet'!E41 -> 0 | O12: ='absorbing mode datasheet'!E42 -> 0
A13: KW | B13: =B12*B11*PI()/30000 -> 44.296456 | C13: =C12*C11*PI()/30000 -> 53.155748 | D13: =D12*D11*PI()/30000 -> 63.491588 | E13: =E12*E11*PI()/30000 -> 73.827427 | F13: =F12*F11*PI()/30000 -> 90.069461 | G13: =G12*G11*PI()/30000 -> 100.4053 | H13: =H12*H11*PI()/30000 -> 113.69424 | I13: =I12*I11*PI()/30000 -> 131.41282 | ... O13: =O12*O11*PI()/30000 -> 0
A14: V | B14: ='absorbing mode datasheet'!$F$21 -> 400 | C14: ='absorbing mode datasheet'!$F$21 -> 400 | D14: ='absorbing mode datasheet'!$F$21 -> 400 | E14: ='absorbing mode datasheet'!$F$21 -> 400 | F14: ='absorbing mode datasheet'!$F$21 -> 400 | G14: ='absorbing mode datasheet'!$F$21 -> 400 | H14: ='absorbing mode datasheet'!$F$21 -> 400 | I14: ='absorbing mode datasheet'!$F$21 -> 400 | ... O14: ='absorbing mode datasheet'!$F$21 -> 400
A15: A | B15: ='absorbing mode datasheet'!C27 -> 82.933162 | C15: ='absorbing mode datasheet'!C28 -> 99.215177 | D15: ='absorbing mode datasheet'!C29 -> 114.2232 | E15: ='absorbing mode datasheet'!C30 -> 134.94617 | F15: ='absorbing mode datasheet'!C31 -> 164.80705 | G15: ='absorbing mode datasheet'!C32 -> 185.40753 | H15: ='absorbing mode datasheet'!C33 -> 211.95147 | I15: ='absorbing mode datasheet'!C34 -> 247.42495 | J15: ='absorbing mode datasheet'!C35 -> 270.1745 | K15: ='absorbing mode datasheet'!C36 -> 288.62162 | L15: ='absorbing mode datasheet'!C37 -> 0 | M15: ='absorbing mode datasheet'!C40 -> 0 | N15: ='absorbing mode datasheet'!C41 -> 0 | O15: ='absorbing mode datasheet'!C42 -> 0
A16: Hz | B16: ='absorbing mode datasheet'!F27 -> 29 | C16: ='absorbing mode datasheet'!F28 -> 35 | D16: ='absorbing mode datasheet'!F29 -> 42 | E16: ='absorbing mode datasheet'!F30 -> 49 | F16: ='absorbing mode datasheet'!F31 -> 60 | G16: ='absorbing mode datasheet'!F32 -> 67 | H16: ='absorbing mode datasheet'!F33 -> 76 | I16: ='absorbing mode datasheet'!F34 -> 88 | J16: ='absorbing mode datasheet'!F35 -> 104 | K16: ='absorbing mode datasheet'!F36 -> 116 | L16: ='absorbing mode datasheet'!F37 -> #DIV/0! | M16: ='absorbing mode datasheet'!F40 -> #DIV/0! | N16: ='absorbing mode datasheet'!F41 -> 0 | O16: ='absorbing mode datasheet'!F42 -> 0
A17: Cos fi | B17: =B13*B18*1000/B14/B15/3^0.5 -> 0.71905479 | C17: =C13*C18*1000/C14/C15/3^0.5 -> 0.72847643 | D17: =D13*D18*1000/D14/D15/3^0.5 -> 0.76146463 | E17: =E13*E18*1000/E14/E15/3^0.5 -> 0.75359958 | F17: =F13*F18*1000/F14/F15/3^0.5 -> 0.75700513 | G17: =G13*G18*1000/G14/G15/3^0.5 -> 0.7519106 | H17: =H13*H18*1000/H14/H15/3^0.5 -> 0.74670582 | I17: =I13*I18*1000/I14/I15/3^0.5 -> 0.74087824 | ... O17: =O13*O18*1000/O14/O15/3^0.5 -> #DIV/0!
A18: Rend / eff. | B18: =(B13*1000-3*B23/1000*B15^2-3*B24/1000*(B15^2-B32^2)-3*(2*PI()*B16*B28/1000*B32)^2/B25)/B13/1000 -> 0.93269971 | C18: =(C13*1000-3*C23/1000*C15^2-3*C24/1000*(C15^2-C32^2)-3*(2*PI()*C16*C28/1000*C32)^2/C25)/C13/1000 -> 0.94202841 | D18: =(D13*1000-3*D23/1000*D15^2-3*D24/1000*(D15^2-D32^2)-3*(2*PI()*D16*D28/1000*D32)^2/D25)/D13/1000 -> 0.94909237 | E18: =(E13*1000-3*E23/1000*E15^2-3*E24/1000*(E15^2-E32^2)-3*(2*PI()*E16*E28/1000*E32)^2/E25)/E13/1000 -> 0.95434211 | F18: =(F13*1000-3*F23/1000*F15^2-3*F24/1000*(F15^2-F32^2)-3*(2*PI()*F16*F28/1000*F32)^2/F25)/F13/1000 -> 0.95966059 | G18: =(G13*1000-3*G23/1000*G15^2-3*G24/1000*(G15^2-G32^2)-3*(2*PI()*G16*G28/1000*G32)^2/G25)/G13/1000 -> 0.96196119 | H18: =(H13*1000-3*H23/1000*H15^2-3*H24/1000*(H15^2-H32^2)-3*(2*PI()*H16*H28/1000*H32)^2/H25)/H13/1000 -> 0.96442427 | I18: =(I13*1000-3*I23/1000*I15^2-3*I24/1000*(I15^2-I32^2)-3*(2*PI()*I16*I28/1000*I32)^2/I25)/I13/1000 -> 0.96643626 | ... O18: =(O13*1000-3*O23/1000*O15^2-3*O24/1000*(O15^2-O32^2)-3*(2*PI()*O16*O28/1000*O32)^2/O25)/O13/1000 -> #DIV/0!
A19: J (Kg m2) | B19: ='driving mode parameters'!B19 -> 1.3150058 | C19: ='driving mode parameters'!C19 -> 1.3150058 | D19: ='driving mode parameters'!D19 -> 1.3150058 | E19: ='driving mode parameters'!E19 -> 1.3150058 | F19: ='driving mode parameters'!F19 -> 1.3150058 | G19: ='driving mode parameters'!G19 -> 1.3150058 | H19: ='driving mode parameters'!H19 -> 1.3150058 | I19: ='driving mode parameters'!I19 -> 1.3150058 | ... O19: ='driving mode parameters'!O19 -> 0
B20: ='driving mode parameters'!B20 -> ESQUEMA EQUIVALENTE POR FASE EN ESTRELLA / PHASE STAR EQUIVALENT SCHEMA
B21: ='driving mode parameters'!B21 -> MAC QE 200 P | C21: ='driving mode parameters'!C21 -> MAC QE 200 P | D21: ='driving mode parameters'!D21 -> MAC QE 200 P | E21: ='driving mode parameters'!E21 -> MAC QE 200 P | F21: ='driving mode parameters'!F21 -> MAC QE 200 P | G21: ='driving mode parameters'!G21 -> MAC QE 200 P | H21: ='driving mode parameters'!H21 -> MAC QE 200 P | I21: ='driving mode parameters'!I21 -> MAC QE 200 P | ... O21: ='driving mode parameters'!O21 -> 0
B22: ='driving mode parameters'!B22 -> A61 | C22: ='driving mode parameters'!C22 -> B61 | D22: ='driving mode parameters'!D22 -> C61 | E22: ='driving mode parameters'!E22 -> D61 | F22: ='driving mode parameters'!F22 -> E61 | G22: ='driving mode parameters'!G22 -> F61 | H22: ='driving mode parameters'!H22 -> G61 | I22: ='driving mode parameters'!I22 -> H61 | ... O22: ='driving mode parameters'!O22 -> 0
A23: Rs (mOhm) | B23: ='driving mode parameters'!B23 -> 66.724864 | C23: ='driving mode parameters'!C23 -> 45.945448 | D23: ='driving mode parameters'!D23 -> 34.278317 | E23: ='driving mode parameters'!E23 -> 24.465739 | F23: ='driving mode parameters'!F23 -> 16.532384 | G23: ='driving mode parameters'!G23 -> 13.185177 | H23: ='driving mode parameters'!H23 -> 9.9783457 | I23: ='driving mode parameters'!I23 -> 7.4138738 | ... O23: ='driving mode parameters'!O23 -> 0
A24: Rr (mOhm) | B24: ='driving mode parameters'!B24 -> 79.917524 | C24: ='driving mode parameters'!C24 -> 55.49828 | D24: ='driving mode parameters'!D24 -> 41.684734 | E24: ='driving mode parameters'!E24 -> 29.845633 | F24: ='driving mode parameters'!F24 -> 19.979381 | G24: ='driving mode parameters'!G24 -> 15.786099 | H24: ='driving mode parameters'!H24 -> 12.086289 | I24: ='driving mode parameters'!I24 -> 8.8797249 | ... O24: ='driving mode parameters'!O24 -> 0
A25: Rfe (Ohm) | B25: ='driving mode parameters'!B25 -> 296.49103 | C25: ='driving mode parameters'!C25 -> 241.92751 | D25: ='driving mode parameters'!D25 -> 206.96989 | E25: ='driving mode parameters'!E25 -> 167.8842 | F25: ='driving mode parameters'!F25 -> 131.21998 | G25: ='driving mode parameters'!G25 -> 112.33354 | H25: ='driving mode parameters'!H25 -> 93.892757 | I25: ='driving mode parameters'!I25 -> 75.996028 | ... O25: ='driving mode parameters'!O25 -> 0
A26: Ls (mH) | B26: ='driving mode parameters'!B26 -> 1.3145781 | C26: ='driving mode parameters'!C26 -> 0.91290147 | D26: ='driving mode parameters'!D26 -> 0.68567989 | E26: ='driving mode parameters'!E26 -> 0.49093634 | F26: ='driving mode parameters'!F26 -> 0.32864453 | G26: ='driving mode parameters'!G26 -> 0.25966845 | H26: ='driving mode parameters'!H26 -> 0.1988096 | I26: ='driving mode parameters'!I26 -> 0.14606424 | ... O26: ='driving mode parameters'!O26 -> 0
A27: Lr (mH) | B27: ='driving mode parameters'!B27 -> 1.2767794 | C27: ='driving mode parameters'!C27 -> 0.87660235 | D27: ='driving mode parameters'!D27 -> 0.64592888 | E27: ='driving mode parameters'!E27 -> 0.4659158 | F27: ='driving mode parameters'!F27 -> 0.30932047 | G27: ='driving mode parameters'!G27 -> 0.24554822 | H27: ='driving mode parameters'!H27 -> 0.18896213 | I27: ='driving mode parameters'!I27 -> 0.13956137 | ... O27: ='driving mode parameters'!O27 -> 0
A28: Lm (mH) | B28: ='driving mode parameters'!B28 -> 25.583371 | C28: ='driving mode parameters'!C28 -> 17.994328 | D28: ='driving mode parameters'!D28 -> 13.827754 | E28: ='driving mode parameters'!E28 -> 9.8022781 | F28: ='driving mode parameters'!F28 -> 6.6258118 | G28: ='driving mode parameters'!G28 -> 5.2040803 | H28: ='driving mode parameters'!H28 -> 3.9587351 | I28: ='driving mode parameters'!I28 -> 2.8895336 | ... O28: ='driving mode parameters'!O28 -> 0
A29: Ts (s) | B29: ='driving mode parameters'!B29 -> 0.40311733 | C29: ='driving mode parameters'!C29 -> 0.41151475 | D29: ='driving mode parameters'!D29 -> 0.42339985 | E29: ='driving mode parameters'!E29 -> 0.42071954 | F29: ='driving mode parameters'!F29 -> 0.42065658 | G29: ='driving mode parameters'!G29 -> 0.41438569 | H29: ='driving mode parameters'!H29 -> 0.41665671 | I29: ='driving mode parameters'!I29 -> 0.40944828 | ... O29: ='driving mode parameters'!O29 -> 0
A30: Tr (s) | B30: ='driving mode parameters'!B30 -> 0.33609838 | C30: ='driving mode parameters'!C30 -> 0.3400273 | D30: ='driving mode parameters'!D30 -> 0.34721784 | E30: ='driving mode parameters'!E30 -> 0.34404342 | F30: ='driving mode parameters'!F30 -> 0.34711447 | G30: ='driving mode parameters'!G30 -> 0.34521693 | H30: ='driving mode parameters'!H30 -> 0.34317377 | I30: ='driving mode parameters'!I30 -> 0.34112487 | ... O30: ='driving mode parameters'!O30 -> 0
A31: Kt | B31: ='driving mode parameters'!B31 -> 98.583945 | C31: ='driving mode parameters'!C31 -> 82.153287 | D31: ='driving mode parameters'!D31 -> 71.198968 | E31: ='driving mode parameters'!E31 -> 60.245635 | F31: ='driving mode parameters'!F31 -> 49.291972 | G31: ='driving mode parameters'!G31 -> 43.814977 | H31: ='driving mode parameters'!H31 -> 38.338195 | I31: ='driving mode parameters'!I31 -> 32.861315 | ... O31: ='driving mode parameters'!O31 -> 0
A32: Im (A/fase) | B32: ='driving mode parameters'!B32 -> 47.379104 | C32: ='driving mode parameters'!C32 -> 55.668351 | D32: ='driving mode parameters'!D32 -> 61.730627 | E32: ='driving mode parameters'!E32 -> 74.257112 | F32: ='driving mode parameters'!F32 -> 89.209428 | G32: ='driving mode parameters'!G32 -> 101.43542 | H32: ='driving mode parameters'!H32 -> 117.24327 | I32: ='driving mode parameters'!I32 -> 138.3227 | ... O32: ='driving mode parameters'!O32 -> 0
A33: L/min | B33: =RESUM!B33 -> 0 | C33: =RESUM!C33 -> 0 | D33: =RESUM!D33 -> 0 | E33: =RESUM!E33 -> 0 | F33: =RESUM!F33 -> 0 | G33: =RESUM!G33 -> 0 | H33: =RESUM!H33 -> 0 | I33: =RESUM!I33 -> 0 | ... O33: =RESUM!O33 -> 0
A61: s rpm | B61: =B16*20-B12 -> -20 | C61: =C16*20-C12 -> -20 | D61: =D16*20-D12 -> -20 | E61: =E16*20-E12 -> -20 | F61: =F16*20-F12 -> -20 | G61: =G16*20-G12 -> -20 | H61: =H16*20-H12 -> -20 | I61: =I16*20-I12 -> -20 | ... L61: =L16*20-L12 -> #DIV/0!
A62: MODO GENERADOR a fnom
A63: E | B63: =2*PI()*B16*B28/1000*B32 -> 220.86275 | C63: =2*PI()*C16*C28/1000*C32 -> 220.28854 | D63: =2*PI()*D16*D28/1000*D32 -> 225.25867 | E63: =2*PI()*E16*E28/1000*E32 -> 224.09957 | F63: =2*PI()*F16*F28/1000*F32 -> 222.83375 | G63: =2*PI()*G16*G28/1000*G32 -> 222.22263 | H63: =2*PI()*H16*H28/1000*H32 -> 221.63475 | I63: =2*PI()*I16*I28/1000*I32 -> 220.99566 | ... L63: =2*PI()*L16*L28/1000*L32 -> #DIV/0!
A64: urq | B64: =B23/1000*(B15^2-B32^2)^0.5 -> 4.5417678 | C64: =C23/1000*(C15^2-C32^2)^0.5 -> 3.7733176 | D64: =D23/1000*(D15^2-D32^2)^0.5 -> 3.294335 | E64: =E23/1000*(E15^2-E32^2)^0.5 -> 2.7567525 | F64: =F23/1000*(F15^2-F32^2)^0.5 -> 2.2909758 | G64: =G23/1000*(G15^2-G32^2)^0.5 -> 2.0463297 | H64: =H23/1000*(H15^2-H32^2)^0.5 -> 1.7618899 | I64: =I23/1000*(I15^2-I32^2)^0.5 -> 1.5209457 | ... L64: =L23/1000*(L15^2-L32^2)^0.5 -> 0
A65: urd | B65: =B23/1000*B32 -> 3.1613643 | C65: =C23/1000*C32 -> 2.5577073 | D65: =D23/1000*D32 -> 2.116022 | E65: =E23/1000*E32 -> 1.8167551 | F65: =F23/1000*F32 -> 1.4748445 | G65: =G23/1000*G32 -> 1.337444 | H65: =H23/1000*H32 -> 1.1698939 | I65: =I23/1000*I32 -> 1.025507 | ... L65: =L23/1000*L32 -> 0
A66: exd | B66: =2*PI()*B16*B26/1000*B32 -> 11.348831 | C66: =2*PI()*C16*C26/1000*C32 -> 11.17584 | D66: =2*PI()*D16*D26/1000*D32 -> 11.169951 | E66: =2*PI()*E16*E26/1000*E32 -> 11.223781 | F66: =2*PI()*F16*F26/1000*F32 -> 11.052697 | G66: =2*PI()*G16*G26/1000*G32 -> 11.088262 | H66: =2*PI()*H16*H26/1000*H32 -> 11.130604 | I66: =2*PI()*I16*I26/1000*I32 -> 11.171201 | ... L66: =2*PI()*L16*L26/1000*L32 -> #DIV/0!
A67: exq | B67: =2*PI()*B16*B26/1000*(B15^2-B32^2)^0.5 -> 16.304275 | C67: =2*PI()*C16*C26/1000*(C15^2-C32^2)^0.5 -> 16.487419 | D67: =2*PI()*D16*D26/1000*(D15^2-D32^2)^0.5 -> 17.389971 | E67: =2*PI()*E16*E26/1000*(E15^2-E32^2)^0.5 -> 17.031016 | F67: =2*PI()*F16*F26/1000*(F15^2-F32^2)^0.5 -> 17.168902 | G67: =2*PI()*G16*G26/1000*(G15^2-G32^2)^0.5 -> 16.965376 | H67: =2*PI()*H16*H26/1000*(H15^2-H32^2)^0.5 -> 16.762972 | I67: =2*PI()*I16*I26/1000*(I15^2-I32^2)^0.5 -> 16.568185 | ... L67: =2*PI()*L16*L26/1000*(L15^2-L32^2)^0.5 -> #DIV/0!
A68: Vq | B68: =B63+B66-B64 -> 227.66981 | C68: =C63+C66-C64 -> 227.69106 | D68: =D63+D66-D64 -> 233.13428 | E68: =E63+E66-E64 -> 232.5666 | F68: =F63+F66-F64 -> 231.59547 | G68: =G63+G66-G64 -> 231.26456 | H68: =H63+H66-H64 -> 231.00346 | I68: =I63+I66-I64 -> 230.64591 | ... L68: =L63+L66-L64 -> #DIV/0!
A69: Vd | B69: =B65-B67 -> -13.142911 | C69: =C65-C67 -> -13.929712 | D69: =D65-D67 -> -15.273949 | E69: =E65-E67 -> -15.214261 | F69: =F65-F67 -> -15.694058 | G69: =G65-G67 -> -15.627932 | H69: =H65-H67 -> -15.593079 | I69: =I65-I67 -> -15.542678 | ... L69: =L65-L67 -> #DIV/0!
A70: V | B70: =3^0.5*(B68^2+B69^2)^0.5 -> 394.9922 | C70: =3^0.5*(C68^2+C69^2)^0.5 -> 395.10982 | D70: =3^0.5*(D68^2+D69^2)^0.5 -> 404.66611 | E70: =3^0.5*(E68^2+E69^2)^0.5 -> 403.6782 | F70: =3^0.5*(F68^2+F69^2)^0.5 -> 402.05509 | G70: =3^0.5*(G68^2+G69^2)^0.5 -> 401.47551 | H70: =3^0.5*(H68^2+H69^2)^0.5 -> 401.02023 | I70: =3^0.5*(I68^2+I69^2)^0.5 -> 400.39647 | ... L70: =3^0.5*(L68^2+L69^2)^0.5 -> #DIV/0!
A72: Correcció a | B72: =B14 -> 400
A73: E | B73: =B63*B74/B16 -> 223.6629 | C73: =C63*C74/C16 -> 223.015 | D73: =D63*D74/D16 -> 222.66126 | E73: =E63*E74/E16 -> 222.05764 | F73: =F63*F74/F16 -> 221.69474 | G73: =G63*G74/G16 -> 221.40591 | H73: =H63*H74/H16 -> 221.07089 | I73: =I63*I74/I16 -> 220.77683 | ... K73: =K63*K74/K16 -> 220.67476
A74: Hz gen | B74: =B16*B14/B70 -> 29.367668 | C74: =C16*C14/C70 -> 35.433187 | D74: =D16*D14/D70 -> 41.515708 | E74: =E16*E14/E70 -> 48.553526 | F74: =F16*F14/F70 -> 59.693312 | G74: =G16*G14/G70 -> 66.75376 | H74: =H16*H14/H70 -> 75.806649 | I74: =I16*I14/I70 -> 87.912863 | ... K74: =K16*K14/K70 -> 116.46781
A75: Hz gen adoptat | B75: =ROUND(B74,0) -> 29 | C75: =ROUND(C74,0) -> 35 | D75: =ROUND(D74,0) -> 42 | E75: =ROUND(E74,0) -> 49 | F75: =ROUND(F74,0) -> 60 | G75: =ROUND(G74,0) -> 67 | H75: =ROUND(H74,0) -> 76 | I75: =ROUND(I74,0) -> 88 | ... K75: =ROUND(K74,0) -> 116
A76: rpm gen | B76: =B75*20+B61 -> 560 | C76: =C75*20+C61 -> 680 | D76: =D75*20+D61 -> 820 | E76: =E75*20+E61 -> 960 | F76: =F75*20+F61 -> 1180 | G76: =G75*20+G61 -> 1320 | H76: =H75*20+H61 -> 1500 | I76: =I75*20+I61 -> 1740 | ... K76: =K75*20+K61 -> 2307.58
A77: Nm gen | B77: =B11 -> 705 | C77: =C11 -> 705 | D77: =D11 -> 705 | E77: =E11 -> 705 | F77: =F11 -> 705 | G77: =G11 -> 705 | H77: =H11 -> 705 | I77: =I11 -> 705 | ... K77: =K11 -> 600
A78: KW abs | B78: =B76*B77*PI()/30000 -> 41.343359 | C78: =C76*C77*PI()/30000 -> 50.202651 | D78: =D76*D77*PI()/30000 -> 60.53849 | E78: =E76*E77*PI()/30000 -> 70.87433 | F78: =F76*F77*PI()/30000 -> 87.116364 | G78: =G76*G77*PI()/30000 -> 97.452204 | H78: =H76*H77*PI()/30000 -> 110.74114 | I78: =I76*I77*PI()/30000 -> 128.45972 | ... K78: =K76*K77*PI()/30000 -> 144.98953
A79: KW perd. | B79: =(3*B23/1000*B15^2+3*B73^2/B25+3*B24/1000*(B15^2-B32^2)+100)/1000 -> 3.0937589 | C79: =(3*C23/1000*C15^2+3*C73^2/C25+3*C24/1000*(C15^2-C32^2)+100)/1000 -> 3.1965112 | D79: =(3*D23/1000*D15^2+3*D73^2/D25+3*D24/1000*(D15^2-D32^2)+100)/1000 -> 3.3153423 | E79: =(3*E23/1000*E15^2+3*E73^2/E25+3*E24/1000*(E15^2-E32^2)+100)/1000 -> 3.4545253 | F79: =(3*F23/1000*F15^2+3*F73^2/F25+3*F24/1000*(F15^2-F32^2)+100)/1000 -> 3.7217735 | G79: =(3*G23/1000*G15^2+3*G73^2/G25+3*G24/1000*(G15^2-G32^2)+100)/1000 -> 3.9096217 | H79: =(3*H23/1000*H15^2+3*H73^2/H25+3*H24/1000*(H15^2-H32^2)+100)/1000 -> 4.13678 | I79: =(3*I23/1000*I15^2+3*I73^2/I25+3*I24/1000*(I15^2-I32^2)+100)/1000 -> 4.5068898 | ... K79: =(3*K23/1000*K15^2+3*K73^2/K25+3*K24/1000*(K15^2-K32^2)+100)/1000 -> 4.7801734
A80: KW out | B80: =B78-B79 -> 38.2496 | C80: =C78-C79 -> 47.006139 | D80: =D78-D79 -> 57.223148 | E80: =E78-E79 -> 67.419805 | F80: =F78-F79 -> 83.394591 | G80: =G78-G79 -> 93.542582 | H80: =H78-H79 -> 106.60436 | I80: =I78-I79 -> 123.95283 | ... K80: =K78-K79 -> 140.20935
A81: eff gen. | B81: =B80/B78 -> 0.92516915 | C81: =C80/C78 -> 0.93632784 | D81: =D80/D78 -> 0.94523579 | E81: =E80/E78 -> 0.95125844 | F81: =F80/F78 -> 0.95727814 | G81: =G80/G78 -> 0.95988165 | H81: =H80/H78 -> 0.9626446 | I81: =I80/I78 -> 0.96491593 | ... K81: =K80/K78 -> 0.96703091
A82: Cos fi gen | B82: =B80*1000/3^0.5/B14/B15 -> 0.66569924 | C82: =C80*1000/3^0.5/C14/C15 -> 0.68384213 | D82: =D80*1000/3^0.5/D14/D15 -> 0.72309742 | E82: =E80*1000/3^0.5/E14/E15 -> 0.72111797 | F82: =F80*1000/3^0.5/F14/F15 -> 0.73036757 | G82: =G80*1000/3^0.5/G14/G15 -> 0.72821793 | H82: =H80*1000/3^0.5/H14/H15 -> 0.72596874 | I82: =I80*1000/3^0.5/I14/I15 -> 0.72308998 | ... K82: =K80*1000/3^0.5/K14/K15 -> 0.70117675

Sheet limit 480V
B1: =RESUM!G8 -> MAC QE 200 P | E1: Corba parell-velocitat a Nnom | P1: =P6/O6 -> 2.5983533 | S1: =S6/R6 -> 2.5983533 | AA1: diagrama vectorial
B2: =RESUM!G9 -> F61 | E2: V/f | F2: f | G2: s pu | H2: s rpm | I2: rpm | J2: Kweix | K2: Meix | L2: Im | M2: Ir | N2: is | O2: Rs Im | P2: Rs Ir | Q2: Rs Is | R2: w Ls Im | S2: w Ls Ir | T2: w Ls Is | U2: E | V2: Vs (m) | W2: Vs (r) | X2: Vs | Y2: Vs (f-f) | AA2: eix m | AB2: eix r
B3: =RESUM!G10 -> 6 | E3: =X3/F3 -> 3.6133117 | F3: =$B$9-B27/120*$B$3 -> 64 | G3: =H3/I3 -> 7.8125e-10 | H3: 1e-06 | I3: =F3*120/$B3-$H3 -> 1280 | J3: =3*(1-G3)/G3*$B$17/1000*M3^2/1000 -> 6.6899578e-06 | K3: =J3/I3*1000*30/PI() -> 4.9909681e-05 | L3: =B25 -> 101.43542 | M3: =U3/$B$17*1000*G3 -> 1.0505305e-05 | N3: =(L3^2+M3^2)^0.5 -> 101.43542 | O3: =$B$16*L3/1000 -> 1.337444 | P3: =$B$16*M3/1000 -> 1.3851431e-07 | Q3: =N3*$B$16/1000 -> 1.337444 | R3: =2*PI()*F3*$B$19*L3/1000 -> 18.97572 | S3: =2*PI()*F3*$B$19*M3/1000 -> 1.9652478e-06 | T3: =2*PI()*F3*$B$19*N3/1000 -> 18.97572 | U3: =$B$21*2*PI()*F3*L3/1000 -> 212.27236 | V3: =O3-S3 -> 1.337442 | W3: =P3+R3+U3 -> 231.24808 | X3: =(W3^2+V3^2)^0.5 -> 231.25195 | Y3: =X3*3^0.5 -> 400.54013 | AA3: 0 | AB3: 0
A4: Nm | B4: =RESUM!G11 -> 705 | E4: =X4/F4 -> 3.6463437 | F4: =$F$3+H4/120*$B$3 -> 64.5 | G4: =H4/I4 -> 0.0078125 | H4: =H5/2 -> 10 | I4: =I3 -> 1280 | J4: =3*(1-G4)/G4*$B$17/1000*M4^2/1000 -> 67.418116 | K4: =J4/I4*1000*30/PI() -> 502.9653 | L4: =L3 -> 101.43542 | M4: =U4/$B$17*1000*G4 -> 105.87378 | N4: =(L4^2+M4^2)^0.5 -> 146.62333 | O4: =$B$16*L4/1000 -> 1.337444 | P4: =$B$16*M4/1000 -> 1.3959646 | Q4: =N4*$B$16/1000 -> 1.9332546 | R4: =2*PI()*F4*$B$19*L4/1000 -> 19.123967 | S4: =2*PI()*F4*$B$19*M4/1000 -> 19.960747 | T4: =2*PI()*F4*$B$19*N4/1000 -> 27.6434 | U4: =$B$21*2*PI()*F4*L4/1000 -> 213.93074 | V4: =O4-S4 -> -18.623303 | W4: =P4+R4+U4 -> 234.45067 | X4: =(W4^2+V4^2)^0.5 -> 235.18917 | Y4: =X4*3^0.5 -> 407.35959 | Z4: E | AA4: 0 | AB4: =U9 -> 211.13251
A5: rpm | B5: =RESUM!G12 -> 1280 | D5: Nominal | E5: =X5/F5 -> 3.7059499 | F5: =$F$3+H5/120*$B$3 -> 65 | G5: =H5/I5 -> 0.015625 | H5: =B27 -> 20 | I5: =I4 -> 1280 | J5: =3*(1-G5)/G5*$B$17/1000*M5^2/1000 -> 135.85659 | K5: =J5/I5*1000*30/PI() -> 1013.5429 | L5: =L4 -> 101.43542 | M5: =U5/$B$17*1000*G5 -> 213.38901 | N5: =(L5^2+M5^2)^0.5 -> 236.27106 | O5: =$B$16*L5/1000 -> 1.337444 | P5: =$B$16*M5/1000 -> 2.813572 | Q5: =N5*$B$16/1000 -> 3.1152758 | R5: =2*PI()*F5*$B$19*L5/1000 -> 19.272215 | S5: =2*PI()*F5*$B$19*M5/1000 -> 40.542831 | T5: =2*PI()*F5*$B$19*N5/1000 -> 44.890304 | U5: =$B$21*1*2*PI()*F5*L5/1000 -> 215.58912 | V5: =O5-S5 -> -39.205387 | W5: =P5+R5+U5 -> 237.6749 | X5: =(W5^2+V5^2)^0.5 -> 240.88674 | Y5: =X5*3^0.5 -> 417.22808 | Z5: Rs im | AA5: =AA4+O9 -> 1.2914564 | AB5: =AB4+0 -> 211.13251
A6: KW | B6: =RESUM!G13 -> 94.4512 | E6: =X6/F6 -> 3.7102563 | F6: =$F$3+H6/120*$B$3 -> 65.230769 | G6: =H6/I6 -> 0.019230769 | H6: =H5+($H$18-$H$5)/13 -> 24.615385 | I6: =I5 -> 1280 | J6: =3*(1-G6)/G6*$B$17/1000*M6^2/1000 -> 164.90852 | K6: =J6/I6*1000*30/PI() -> 1230.2815 | L6: =L5+(L$18-L$5)/13 -> 100.56346 | M6: =U6/$B$17*1000*G6 -> 261.2994 | N6: =(L6^2+M6^2)^0.5 -> 279.98284 | O6: =$B$16*L6/1000 -> 1.3259471 | P6: =$B$16*M6/1000 -> 3.445279 | Q6: =N6*$B$16/1000 -> 3.6916234 | R6: =2*PI()*F6*$B$19*L6/1000 -> 19.174382 | S6: =2*PI()*F6*$B$19*M6/1000 -> 49.821819 | T6: =2*PI()*F6*$B$19*N6/1000 -> 53.384179 | U6: =$B$21*1*2*PI()*F6*L6/1000 -> 214.4947 | V6: =O6-S6 -> -48.495872 | W6: =P6+R6+U6 -> 237.11437 | X6: =(W6^2+V6^2)^0.5 -> 242.02287 | Y6: =X6*3^0.5 -> 419.19592 | Z6: Rs Ir | AA6: =AA5+0 -> 1.2914564 | AB6: =AB5+P9 -> 216.43138
A7: V | B7: =RESUM!G14 -> 399.68682 | E7: =X7/F7 -> 3.7194498 | F7: =$F$3+H7/120*$B$3 -> 65.461538 | G7: =H7/I7 -> 0.022836538 | H7: =H6+($H$18-$H$5)/13 -> 29.230769 | I7: =I6 -> 1280 | J7: =3*(1-G7)/G7*$B$17/1000*M7^2/1000 -> 193.09916 | K7: =J7/I7*1000*30/PI() -> 1440.5947 | L7: =L6+(L$18-L$5)/13 -> 99.691507 | M7: =U7/$B$17*1000*G7 -> 308.6908 | N7: =(L7^2+M7^2)^0.5 -> 324.38929 | O7: =$B$16*L7/1000 -> 1.3144502 | P7: =$B$16*M7/1000 -> 4.070143 | Q7: =N7*$B$16/1000 -> 4.2771303 | R7: =2*PI()*F7*$B$19*L7/1000 -> 19.075373 | S7: =2*PI()*F7*$B$19*M7/1000 -> 59.066136 | T7: =2*PI()*F7*$B$19*N7/1000 -> 62.069947 | U7: =$B$21*1*2*PI()*F7*L7/1000 -> 213.38713 | V7: =O7-S7 -> -57.751686 | W7: =P7+R7+U7 -> 236.53265 | X7: =(W7^2+V7^2)^0.5 -> 243.4809 | Y7: =X7*3^0.5 -> 421.7213 | Z7: wLs Ir | AA7: =AA6-S9 -> -76.148146 | AB7: =AB6 -> 216.43138
A8: A | B8: =RESUM!G15 -> 185.40753 | E8: =X8/F8 -> 3.7333205 | F8: =$F$3+H8/120*$B$3 -> 65.692308 | G8: =H8/I8 -> 0.026442308 | H8: =H7+($H$18-$H$5)/13 -> 33.846154 | I8: =I7 -> 1280 | J8: =3*(1-G8)/G8*$B$17/1000*M8^2/1000 -> 220.42965 | K8: =J8/I8*1000*30/PI() -> 1644.4907 | L8: =L7+(L$18-L$5)/13 -> 98.819551 | M8: =U8/$B$17*1000*G8 -> 355.55419 | N8: =(L8^2+M8^2)^0.5 -> 369.03128 | O8: =$B$16*L8/1000 -> 1.3029533 | P8: =$B$16*M8/1000 -> 4.6880451 | Q8: =N8*$B$16/1000 -> 4.8657429 | R8: =2*PI()*F8*$B$19*L8/1000 -> 18.975187 | S8: =2*PI()*F8*$B$19*M8/1000 -> 68.272999 | T8: =2*PI()*F8*$B$19*N8/1000 -> 70.86085 | U8: =$B$21*1*2*PI()*F8*L8/1000 -> 212.2664 | V8: =O8-S8 -> -66.970046 | W8: =P8+R8+U8 -> 235.92963 | X8: =(W8^2+V8^2)^0.5 -> 245.25044 | Y8: =X8*3^0.5 -> 424.78622 | Z8: wLs Im | AA8: =AA7 -> -76.148146 | AB8: =AB7+R9 -> 235.3052 | AC8: =(AB8^2+AA8^2)^0.5 -> 247.31979
A9: Hz | B9: =RESUM!G16 -> 65 | E9: =X9/F9 -> 3.7516421 | F9: =$F$3+H9/120*$B$3 -> 65.923077 | G9: =H9/I9 -> 0.030048077 | H9: =H8+($H$18-$H$5)/13 -> 38.461538 | I9: =I8 -> 1280 | J9: =3*(1-G9)/G9*$B$17/1000*M9^2/1000 -> 246.9014 | K9: =J9/I9*1000*30/PI() -> 1841.9803 | L9: =L8+(L$18-L$5)/13 -> 97.947596 | M9: =U9/$B$17*1000*G9 -> 401.88055 | N9: =(L9^2+M9^2)^0.5 -> 413.64442 | O9: =$B$16*L9/1000 -> 1.2914564 | P9: =$B$16*M9/1000 -> 5.2988663 | Q9: =N9*$B$16/1000 -> 5.453975 | R9: =2*PI()*F9*$B$19*L9/1000 -> 18.873825 | S9: =2*PI()*F9*$B$19*M9/1000 -> 77.439603 | T9: =2*PI()*F9*$B$19*N9/1000 -> 79.70642 | U9: =$B$21*1*2*PI()*F9*L9/1000 -> 211.13251 | V9: =O9-S9 -> -76.148146 | W9: =P9+R9+U9 -> 235.3052 | X9: =(W9^2+V9^2)^0.5 -> 247.31979 | Y9: =X9*3^0.5 -> 428.37044 | Z9: Vs | AA9: 0 | AB9: 0
A10: Cos fi | B10: =RESUM!G17 -> 0.7708 | E10: =X10/F10 -> 3.7741742 | F10: =$F$3+H10/120*$B$3 -> 66.153846 | G10: =H10/I10 -> 0.033653846 | H10: =H9+($H$18-$H$5)/13 -> 43.076923 | I10: =I9 -> 1280 | J10: =3*(1-G10)/G10*$B$17/1000*M10^2/1000 -> 272.5162 | K10: =J10/I10*1000*30/PI() -> 2033.0766 | L10: =L9+(L$18-L$5)/13 -> 97.075641 | M10: =U10/$B$17*1000*G10 -> 447.66086 | N10: =(L10^2+M10^2)^0.5 -> 458.06541 | O10: =$B$16*L10/1000 -> 1.2799596 | P10: =$B$16*M10/1000 -> 5.9024878 | Q10: =N10*$B$16/1000 -> 6.0396737 | R10: =2*PI()*F10*$B$19*L10/1000 -> 18.771286 | S10: =2*PI()*F10*$B$19*M10/1000 -> 86.563116 | T10: =2*PI()*F10*$B$19*N10/1000 -> 88.575021 | U10: =$B$21*1*2*PI()*F10*L10/1000 -> 209.98546 | V10: =O10-S10 -> -85.283157 | W10: =P10+R10+U10 -> 234.65924 | X10: =(W10^2+V10^2)^0.5 -> 249.67614 | Y10: =X10*3^0.5 -> 432.45175
A11: Rend / eff. | B11: =RESUM!G18 -> 0.962 | E11: =X11/F11 -> 3.800666 | F11: =$F$3+H11/120*$B$3 -> 66.384615 | G11: =H11/I11 -> 0.037259615 | H11: =H10+($H$18-$H$5)/13 -> 47.692308 | I11: =I10 -> 1280 | J11: =3*(1-G11)/G11*$B$17/1000*M11^2/1000 -> 297.27613 | K11: =J11/I11*1000*30/PI() -> 2217.7952 | L11: =L10+(L$18-L$5)/13 -> 96.203686 | M11: =U11/$B$17*1000*G11 -> 492.8861 | N11: =(L11^2+M11^2)^0.5 -> 502.18707 | O11: =$B$16*L11/1000 -> 1.2684627 | P11: =$B$16*M11/1000 -> 6.4987907 | Q11: =N11*$B$16/1000 -> 6.6214257 | R11: =2*PI()*F11*$B$19*L11/1000 -> 18.667571 | S11: =2*PI()*F11*$B$19*M11/1000 -> 95.640685 | T11: =2*PI()*F11*$B$19*N11/1000 -> 97.445466 | U11: =$B$21*1*2*PI()*F11*L11/1000 -> 208.82525 | V11: =O11-S11 -> -94.372222 | W11: =P11+R11+U11 -> 233.99161 | X11: =(W11^2+V11^2)^0.5 -> 252.30575 | Y11: =X11*3^0.5 -> 437.00638
A12: J (Kg m2) | B12: =RESUM!G19 -> 1.3150058 | E12: =X12/F12 -> 3.8308594 | F12: =$F$3+H12/120*$B$3 -> 66.615385 | G12: =H12/I12 -> 0.040865385 | H12: =H11+($H$18-$H$5)/13 -> 52.307692 | I12: =I11 -> 1280 | J12: =3*(1-G12)/G12*$B$17/1000*M12^2/1000 -> 321.1836 | K12: =J12/I12*1000*30/PI() -> 2396.1542 | L12: =L11+(L$18-L$5)/13 -> 95.331731 | M12: =U12/$B$17*1000*G12 -> 537.54727 | N12: =(L12^2+M12^2)^0.5 -> 545.93516 | O12: =$B$16*L12/1000 -> 1.2569658 | P12: =$B$16*M12/1000 -> 7.0876561 | Q12: =N12*$B$16/1000 -> 7.198252 | R12: =2*PI()*F12*$B$19*L12/1000 -> 18.56268 | S12: =2*PI()*F12*$B$19*M12/1000 -> 104.66943 | T12: =2*PI()*F12*$B$19*N12/1000 -> 106.30269 | U12: =$B$21*1*2*PI()*F12*L12/1000 -> 207.65188 | V12: =O12-S12 -> -103.41246 | W12: =P12+R12+U12 -> 233.30222 | X12: =(W12^2+V12^2)^0.5 -> 255.19417 | Y12: =X12*3^0.5 -> 442.00927
B13: =RESUM!G20 -> 0 | E13: =X13/F13 -> 3.8644914 | F13: =$F$3+H13/120*$B$3 -> 66.846154 | G13: =H13/I13 -> 0.044471154 | H13: =H12+($H$18-$H$5)/13 -> 56.923077 | I13: =I12 -> 1280 | J13: =3*(1-G13)/G13*$B$17/1000*M13^2/1000 -> 344.24135 | K13: =J13/I13*1000*30/PI() -> 2568.174 | L13: =L12+(L$18-L$5)/13 -> 94.459776 | M13: =U13/$B$17*1000*G13 -> 581.63533 | N13: =(L13^2+M13^2)^0.5 -> 589.25573 | O13: =$B$16*L13/1000 -> 1.2454689 | P13: =$B$16*M13/1000 -> 7.668965 | Q13: =N13*$B$16/1000 -> 7.7694413 | R13: =2*PI()*F13*$B$19*L13/1000 -> 18.456613 | S13: =2*PI()*F13*$B$19*M13/1000 -> 113.64645 | T13: =2*PI()*F13*$B$19*N13/1000 -> 115.13541 | U13: =$B$21*1*2*PI()*F13*L13/1000 -> 206.46536 | V13: =O13-S13 -> -112.40098 | W13: =P13+R13+U13 -> 232.59094 | X13: =(W13^2+V13^2)^0.5 -> 258.32639 | Y13: =X13*3^0.5 -> 447.43443
B14: =RESUM!G21 -> MAC QE 200 P | E14: =X14/F14 -> 3.9012977 | F14: =$F$3+H14/120*$B$3 -> 67.076923 | G14: =H14/I14 -> 0.048076923 | H14: =H13+($H$18-$H$5)/13 -> 61.538462 | I14: =I13 -> 1280 | J14: =3*(1-G14)/G14*$B$17/1000*M14^2/1000 -> 366.45244 | K14: =J14/I14*1000*30/PI() -> 2733.8774 | L14: =L13+(L$18-L$5)/13 -> 93.587821 | M14: =U14/$B$17*1000*G14 -> 625.14128 | N14: =(L14^2+M14^2)^0.5 -> 632.10783 | O14: =$B$16*L14/1000 -> 1.233972 | P14: =$B$16*M14/1000 -> 8.2425987 | Q14: =N14*$B$16/1000 -> 8.3344538 | R14: =2*PI()*F14*$B$19*L14/1000 -> 18.349369 | S14: =2*PI()*F14*$B$19*M14/1000 -> 122.56881 | T14: =2*PI()*F14*$B$19*N14/1000 -> 123.93471 | U14: =$B$21*1*2*PI()*F14*L14/1000 -> 205.26567 | V14: =O14-S14 -> -121.33484 | W14: =P14+R14+U14 -> 231.85764 | X14: =(W14^2+V14^2)^0.5 -> 261.68704 | Y14: =X14*3^0.5 -> 453.25525
B15: =RESUM!G22 -> F61 | E15: =X15/F15 -> 3.941014 | F15: =$F$3+H15/120*$B$3 -> 67.307692 | G15: =H15/I15 -> 0.051682692 | H15: =H14+($H$18-$H$5)/13 -> 66.153846 | I15: =I14 -> 1280 | J15: =3*(1-G15)/G15*$B$17/1000*M15^2/1000 -> 387.82025 | K15: =J15/I15*1000*30/PI() -> 2893.2895 | L15: =L14+(L$18-L$5)/13 -> 92.715865 | M15: =U15/$B$17*1000*G15 -> 668.0561 | N15: =(L15^2+M15^2)^0.5 -> 674.45918 | O15: =$B$16*L15/1000 -> 1.2224751 | P15: =$B$16*M15/1000 -> 8.8084382 | Q15: =N15*$B$16/1000 -> 8.892864 | R15: =2*PI()*F15*$B$19*L15/1000 -> 18.240949 | S15: =2*PI()*F15*$B$19*M15/1000 -> 131.43357 | T15: =2*PI()*F15*$B$19*N15/1000 -> 132.69331 | U15: =$B$21*1*2*PI()*F15*L15/1000 -> 204.05283 | V15: =O15-S15 -> -130.21109 | W15: =P15+R15+U15 -> 231.10221 | X15: =(W15^2+V15^2)^0.5 -> 265.26056 | Y15: =X15*3^0.5 -> 459.44476
A16: Rs (mOhm) | B16: =RESUM!G23 -> 13.185177 | E16: =X16/F16 -> 3.983379 | F16: =$F$3+H16/120*$B$3 -> 67.538462 | G16: =H16/I16 -> 0.055288462 | H16: =H15+($H$18-$H$5)/13 -> 70.769231 | I16: =I15 -> 1280 | J16: =3*(1-G16)/G16*$B$17/1000*M16^2/1000 -> 408.34848 | K16: =J16/I16*1000*30/PI() -> 3046.4381 | L16: =L15+(L$18-L$5)/13 -> 91.84391 | M16: =U16/$B$17*1000*G16 -> 710.37077 | N16: =(L16^2+M16^2)^0.5 -> 716.28342 | O16: =$B$16*L16/1000 -> 1.2109783 | P16: =$B$16*M16/1000 -> 9.3663646 | Q16: =N16*$B$16/1000 -> 9.444324 | R16: =2*PI()*F16*$B$19*L16/1000 -> 18.131352 | S16: =2*PI()*F16*$B$19*M16/1000 -> 140.23774 | T16: =2*PI()*F16*$B$19*N16/1000 -> 141.40499 | U16: =$B$21*1*2*PI()*F16*L16/1000 -> 202.82682 | V16: =O16-S16 -> -139.02676 | W16: =P16+R16+U16 -> 230.32454 | X16: =(W16^2+V16^2)^0.5 -> 269.03129 | Y16: =X16*3^0.5 -> 465.97586
A17: Rr (mOhm) | B17: =RESUM!G24 -> 15.786099 | E17: =X17/F17 -> 4.0281359 | F17: =$F$3+H17/120*$B$3 -> 67.769231 | G17: =H17/I17 -> 0.058894231 | H17: =H16+($H$18-$H$5)/13 -> 75.384615 | I17: =I16 -> 1280 | J17: =3*(1-G17)/G17*$B$17/1000*M17^2/1000 -> 428.04115 | K17: =J17/I17*1000*30/PI() -> 3193.353 | L17: =L16+(L$18-L$5)/13 -> 90.971955 | M17: =U17/$B$17*1000*G17 -> 752.07627 | N17: =(L17^2+M17^2)^0.5 -> 757.55833 | O17: =$B$16*L17/1000 -> 1.1994814 | P17: =$B$16*M17/1000 -> 9.9162591 | Q17: =N17*$B$16/1000 -> 9.9885409 | R17: =2*PI()*F17*$B$19*L17/1000 -> 18.020579 | S17: =2*PI()*F17*$B$19*M17/1000 -> 148.97833 | T17: =2*PI()*F17*$B$19*N17/1000 -> 150.06427 | U17: =$B$21*1*2*PI()*F17*L17/1000 -> 201.58766 | V17: =O17-S17 -> -147.77885 | W17: =P17+R17+U17 -> 229.5245 | X17: =(W17^2+V17^2)^0.5 -> 272.98367 | Y17: =X17*3^0.5 -> 472.82159
A18: Rfe (Ohm) | B18: =RESUM!G25 -> 112.33354 | E18: =X18/F18 -> 4.0750336 | F18: =$F$3+H18/120*$B$3 -> 68 | G18: =H18/I18 -> 0.0625 | H18: 80 | I18: =I12 -> 1280 | J18: =3*(1-G18)/G18*$B$17/1000*M18^2/1000 -> 446.90258 | K18: =J18/I18*1000*30/PI() -> 3334.0666 | L18: 90.1 | M18: =U18/$B$17*1000*G18 -> 793.16359 | N18: =(L18^2+M18^2)^0.5 -> 798.26467 | O18: =$B$16*L18/1000 -> 1.1879845 | P18: =$B$16*M18/1000 -> 10.458003 | Q18: =N18*$B$16/1000 -> 10.525261 | R18: =2*PI()*F18*$B$19*L18/1000 -> 17.90863 | S18: =2*PI()*F18*$B$19*M18/1000 -> 157.65231 | T18: =2*PI()*F18*$B$19*N18/1000 -> 158.66622 | U18: =$B$21*1*2*PI()*F18*L18/1000 -> 200.33534 | V18: =O18-S18 -> -156.46433 | W18: =P18+R18+U18 -> 228.70197 | X18: =(W18^2+V18^2)^0.5 -> 277.10229 | Y18: =X18*3^0.5 -> 479.95524
A19: Ls (mH) | B19: =RESUM!G26+B20*B26/B8 -> 0.46520974 | C19: concentrada a l'estator | D19: maxim | E19: =X19/F19 -> 4.0452887 | F19: =$F$3+H19/120*$B$3 -> 68.5 | G19: =H19/I19 -> 0.0703125 | H19: =H18+10 -> 90 | I19: =I18 -> 1280 | J19: =3*(1-G19)/G19*$B$17/1000*M19^2/1000 -> 453.57042 | K19: =J19/I19*1000*30/PI() -> 3383.8113 | L19: 85.31 | M19: =U19/$B$17*1000*G19 -> 851.08337 | N19: =(L19^2+M19^2)^0.5 -> 855.34829 | O19: =$B$16*L19/1000 -> 1.1248275 | P19: =$B$16*M19/1000 -> 11.221685 | Q19: =N19*$B$16/1000 -> 11.277919 | R19: =2*PI()*F19*$B$19*L19/1000 -> 17.081231 | S19: =2*PI()*F19*$B$19*M19/1000 -> 170.40853 | T19: =2*PI()*F19*$B$19*N19/1000 -> 171.26248 | U19: =$B$21*1*2*PI()*F19*L19/1000 -> 191.07962 | V19: =O19-S19 -> -169.28371 | W19: =P19+R19+U19 -> 219.38254 | X19: =(W19^2+V19^2)^0.5 -> 277.10228 | Y19: =X19*3^0.5 -> 479.95522
B20: =RESUM!G27 -> 0.24554822 | E20: =X20/F20 -> 4.0163722 | F20: =$F$3+H20/120*$B$3 -> 69 | G20: =H20/I20 -> 0.078125 | H20: =H19+10 -> 100 | I20: =I19 -> 1280 | J20: =3*(1-G20)/G20*$B$17/1000*M20^2/1000 -> 453.50929 | K20: =J20/I20*1000*30/PI() -> 3383.3553 | L20: 80.68 | M20: =U20/$B$17*1000*G20 -> 900.85327 | N20: =(L20^2+M20^2)^0.5 -> 904.45889 | O20: =$B$16*L20/1000 -> 1.0637801 | P20: =$B$16*M20/1000 -> 11.87791 | Q20: =N20*$B$16/1000 -> 11.925451 | R20: =2*PI()*F20*$B$19*L20/1000 -> 16.272101 | S20: =2*PI()*F20*$B$19*M20/1000 -> 181.69033 | T20: =2*PI()*F20*$B$19*N20/1000 -> 182.41754 | U20: =$B$21*1*2*PI()*F20*L20/1000 -> 182.02827 | V20: =O20-S20 -> -180.62655 | W20: =P20+R20+U20 -> 210.17828 | X20: =(W20^2+V20^2)^0.5 -> 277.12968 | Y20: =X20*3^0.5 -> 480.00269
A21: Lm (mH) | B21: =RESUM!G28 -> 5.2040803 | E21: =X21/F21 -> 4.008775 | F21: =$F$3+H21/120*$B$3 -> 69.5 | G21: =H21/I21 -> 0.0859375 | H21: =H20+10 -> 110 | I21: =I20 -> 1280 | J21: =3*(1-G21)/G21*$B$17/1000*M21^2/1000 -> 452.89901 | K21: =J21/I21*1000*30/PI() -> 3378.8023 | L21: =L20*0.95 -> 76.646 | M21: =U21/$B$17*1000*G21 -> 948.21335 | N21: =(L21^2+M21^2)^0.5 -> 951.30603 | O21: =$B$16*L21/1000 -> 1.0105911 | P21: =$B$16*M21/1000 -> 12.502361 | Q21: =N21*$B$16/1000 -> 12.543139 | R21: =2*PI()*F21*$B$19*L21/1000 -> 15.570514 | S21: =2*PI()*F21*$B$19*M21/1000 -> 192.62805 | T21: =2*PI()*F21*$B$19*N21/1000 -> 193.25632 | U21: =$B$21*1*2*PI()*F21*L21/1000 -> 174.17995 | V21: =O21-S21 -> -191.61746 | W21: =P21+R21+U21 -> 202.25282 | X21: =(W21^2+V21^2)^0.5 -> 278.60986 | Y21: =X21*3^0.5 -> 482.56644
A22: Ts (s) | B22: =RESUM!G29 -> 0.41438569 | E22: =X22/F22 -> 4.0024898 | F22: =$F$3+H22/120*$B$3 -> 70 | G22: =H22/I22 -> 0.09375 | H22: =H21+10 -> 120 | I22: =I21 -> 1280 | J22: =3*(1-G22)/G22*$B$17/1000*M22^2/1000 -> 448.47242 | K22: =J22/I22*1000*30/PI() -> 3345.7782 | L22: =L21*0.95 -> 72.8137 | M22: =U22/$B$17*1000*G22 -> 989.76357 | N22: =(L22^2+M22^2)^0.5 -> 992.43829 | O22: =$B$16*L22/1000 -> 0.96006155 | P22: =$B$16*M22/1000 -> 13.050208 | Q22: =N22*$B$16/1000 -> 13.085475 | R22: =2*PI()*F22*$B$19*L22/1000 -> 14.898406 | S22: =2*PI()*F22*$B$19*M22/1000 -> 202.51545 | T22: =2*PI()*F22*$B$19*N22/1000 -> 203.06273 | U22: =$B$21*1*2*PI()*F22*L22/1000 -> 166.66139 | V22: =O22-S22 -> -201.55539 | W22: =P22+R22+U22 -> 194.61 | X22: =(W22^2+V22^2)^0.5 -> 280.17428 | Y22: =X22*3^0.5 -> 485.2761
A23: Tr (s) | B23: =RESUM!G30 -> 0.34521693 | E23: =X23/F23 -> 3.996088 | F23: =$F$3+H23/120*$B$3 -> 70.5 | G23: =H23/I23 -> 0.1015625 | H23: =H22+10 -> 130 | I23: =I22 -> 1280 | J23: =3*(1-G23)/G23*$B$17/1000*M23^2/1000 -> 440.92737 | K23: =J23/I23*1000*30/PI() -> 3289.4893 | L23: =L22*0.95 -> 69.173015 | M23: =U23/$B$17*1000*G23 -> 1025.9076 | N23: =(L23^2+M23^2)^0.5 -> 1028.237 | O23: =$B$16*L23/1000 -> 0.91205847 | P23: =$B$16*M23/1000 -> 13.526774 | Q23: =N23*$B$16/1000 -> 13.557487 | R23: =2*PI()*F23*$B$19*L23/1000 -> 14.254582 | S23: =2*PI()*F23*$B$19*M23/1000 -> 211.41025 | T23: =2*PI()*F23*$B$19*N23/1000 -> 211.89027 | U23: =$B$21*1*2*PI()*F23*L23/1000 -> 159.45924 | V23: =O23-S23 -> -210.49819 | W23: =P23+R23+U23 -> 187.24059 | X23: =(W23^2+V23^2)^0.5 -> 281.7242 | Y23: =X23*3^0.5 -> 487.96064
A24: Kt | B24: =RESUM!G31 -> 43.814977 | Z24: coef.
A25: Im (A/fase) | B25: =RESUM!G32 -> 101.43542 | E25: Limit 480V | Z25: 0.89
A26: Ir (A) | B26: =(B8^2-B25^2)^0.5 -> 155.19926 | E26: V/f | F26: f | G26: s pu | H26: s rpm | I26: rpm | J26: Kweix | K26: Meix | L26: Im | M26: Ir | N26: is | O26: Rs Im | P26: Rs Ir | Q26: Rs Is | R26: w Ls Im | S26: w Ls Ir | T26: w Ls Is | U26: E | V26: Vs (m) | W26: Vs (r) | X26: Vs | Y26: Vs (f-f) | Z26: KW eix
A27: s rpm | B27: =B9*120/B3-B5 -> 20 | E27: =X27/F27 -> 4.0750336 | F27: =F18 -> 68 | G27: =H27/I27 -> 0.0625 | H27: =H18 -> 80 | I27: =F27*120/$B$3-H27 -> 1280 | J27: =3*(1-G27)/G27*$B$17/1000*M27^2/1000 -> 446.90258 | K27: =J27/I27*1000*30/PI() -> 3334.0666 | L27: =L18 -> 90.1 | M27: =U27/$B$17*1000*G27 -> 793.16359 | N27: =(L27^2+M27^2)^0.5 -> 798.26467 | O27: =$B$16*L27/1000 -> 1.1879845 | P27: =$B$16*M27/1000 -> 10.458003 | Q27: =N27*$B$16/1000 -> 10.525261 | R27: =2*PI()*F27*$B$19*L27/1000 -> 17.90863 | S27: =2*PI()*F27*$B$19*M27/1000 -> 157.65231 | T27: =2*PI()*F27*$B$19*N27/1000 -> 158.66622 | U27: =$B$21*2*PI()*F27*L27/1000 -> 200.33534 | V27: =O27-S27 -> -156.46433 | W27: =P27+R27+U27 -> 228.70197 | X27: =(W27^2+V27^2)^0.5 -> 277.10229 | Y27: =X27*3^0.5 -> 479.95524 | Z27: =J27 -> 446.90258
A28: s Hz | B28: =B27/120*B3 -> 1 | E28: =X28/F28 -> 3.623452 | F28: =F27+($F$49-$F$27)/22 -> 76.195455 | G28: =H28/I28 -> 0.055687633 | H28: =H27+($H$49-$H$27)/22 -> 80.386364 | I28: =F28*120/$B$3-H28 -> 1443.5227 | J28: =3*(1-G28)/G28*$B$17/1000*M28^2/1000 -> 401.08462 | K28: =J28/I28*1000*30/PI() -> 2653.2841 | L28: =L27*F27/F28 -> 80.408996 | M28: =U28/$B$17*1000*G28 -> 706.71044 | N28: =(L28^2+M28^2)^0.5 -> 711.27017 | O28: =$B$16*L28/1000 -> 1.0602069 | P28: =$B$16*M28/1000 -> 9.3181026 | Q28: =N28*$B$16/1000 -> 9.3782234 | R28: =2*PI()*F28*$B$19*L28/1000 -> 17.90863 | S28: =2*PI()*F28*$B$19*M28/1000 -> 157.39801 | T28: =2*PI()*F28*$B$19*N28/1000 -> 158.41355 | U28: =$B$21*2*PI()*F28*L28/1000 -> 200.33534 | V28: =O28-S28 -> -156.3378 | W28: =P28+R28+U28 -> 227.56207 | X28: =(W28^2+V28^2)^0.5 -> 276.09057 | Y28: =X28*3^0.5 -> 478.2029 | Z28: =Z27*(I27/I28)^Z$25 -> 401.55285
E29: =X29/F29 -> 3.2630194 | F29: =F28+($F$49-$F$27)/22 -> 84.390909 | G29: =H29/I29 -> 0.050261632 | H29: =H28+($H$49-$H$27)/22 -> 80.772727 | I29: =F29*120/$B$3-H29 -> 1607.0455 | J29: =3*(1-G29)/G29*$B$17/1000*M29^2/1000 -> 364.08446 | K29: =J29/I29*1000*30/PI() -> 2163.4425 | L29: =L28*F28/F29 -> 72.600237 | M29: =U29/$B$17*1000*G29 -> 637.85114 | N29: =(L29^2+M29^2)^0.5 -> 641.96953 | O29: =$B$16*L29/1000 -> 0.957247 | P29: =$B$16*M29/1000 -> 8.4101805 | Q29: =N29*$B$16/1000 -> 8.4644821 | R29: =2*PI()*F29*$B$19*L29/1000 -> 17.90863 | S29: =2*PI()*F29*$B$19*M29/1000 -> 157.34164 | T29: =2*PI()*F29*$B$19*N29/1000 -> 158.35754 | U29: =$B$21*2*PI()*F29*L29/1000 -> 200.33534 | V29: =O29-S29 -> -156.38439 | W29: =P29+R29+U29 -> 226.65415 | X29: =(W29^2+V29^2)^0.5 -> 275.36917 | Y29: =X29*3^0.5 -> 476.9534 | Z29: =Z28*(I28/I29)^Z$25 -> 364.97631
E30: =X30/F30 -> 2.9686645 | F30: =F29+($F$49-$F$27)/22 -> 92.586364 | G30: =H30/I30 -> 0.045837879 | H30: =H29+($H$49-$H$27)/22 -> 81.159091 | I30: =F30*120/$B$3-H30 -> 1770.5682 | J30: =3*(1-G30)/G30*$B$17/1000*M30^2/1000 -> 333.58634 | K30: =J30/I30*1000*30/PI() -> 1799.1484 | L30: =L29*F29/F30 -> 66.173892 | M30: =U30/$B$17*1000*G30 -> 581.71099 | N30: =(L30^2+M30^2)^0.5 -> 585.46278 | O30: =$B$16*L30/1000 -> 0.8725145 | P30: =$B$16*M30/1000 -> 7.6699626 | Q30: =N30*$B$16/1000 -> 7.7194306 | R30: =2*PI()*F30*$B$19*L30/1000 -> 17.90863 | S30: =2*PI()*F30*$B$19*M30/1000 -> 157.42836 | T30: =2*PI()*F30*$B$19*N30/1000 -> 158.4437 | U30: =$B$21*2*PI()*F30*L30/1000 -> 200.33534 | V30: =O30-S30 -> -156.55584 | W30: =P30+R30+U30 -> 225.91393 | X30: =(W30^2+V30^2)^0.5 -> 274.85785 | Y30: =X30*3^0.5 -> 476.06775 | Z30: =Z29*(I29/I30)^Z$25 -> 334.81852
E31: =X31/F31 -> 2.7237407 | F31: =F30+($F$49-$F$27)/22 -> 100.78182 | G31: =H31/I31 -> 0.042162162 | H31: =H30+($H$49-$H$27)/22 -> 81.545455 | I31: =F31*120/$B$3-H31 -> 1934.0909 | J31: =3*(1-G31)/G31*$B$17/1000*M31^2/1000 -> 308.01824 | K31: =J31/I31*1000*30/PI() -> 1520.7959 | L31: =L30*F30/F31 -> 60.792712 | M31: =U31/$B$17*1000*G31 -> 535.06387 | N31: =(L31^2+M31^2)^0.5 -> 538.50636 | O31: =$B$16*L31/1000 -> 0.80156269 | P31: =$B$16*M31/1000 -> 7.0549121 | Q31: =N31*$B$16/1000 -> 7.1003019 | R31: =2*PI()*F31*$B$19*L31/1000 -> 17.90863 | S31: =2*PI()*F31*$B$19*M31/1000 -> 157.62187 | T31: =2*PI()*F31*$B$19*N31/1000 -> 158.63598 | U31: =$B$21*2*PI()*F31*L31/1000 -> 200.33534 | V31: =O31-S31 -> -156.82031 | W31: =P31+R31+U31 -> 225.29888 | X31: =(W31^2+V31^2)^0.5 -> 274.50354 | Y31: =X31*3^0.5 -> 475.45408 | Z31: =Z30*(I30/I31)^Z$25 -> 309.50332
E32: =X32/F32 -> 2.5167612 | F32: =F31+($F$49-$F$27)/22 -> 108.97727 | G32: =H32/I32 -> 0.039059537 | H32: =H31+($H$49-$H$27)/22 -> 81.931818 | I32: =F32*120/$B$3-H32 -> 2097.6136 | J32: =3*(1-G32)/G32*$B$17/1000*M32^2/1000 -> 286.27614 | K32: =J32/I32*1000*30/PI() -> 1303.2599 | L32: =L31*F31/F32 -> 56.220897 | M32: =U32/$B$17*1000*G32 -> 495.68965 | N32: =(L32^2+M32^2)^0.5 -> 498.86773 | O32: =$B$16*L32/1000 -> 0.7412825 | P32: =$B$16*M32/1000 -> 6.5357559 | Q32: =N32*$B$16/1000 -> 6.5776595 | R32: =2*PI()*F32*$B$19*L32/1000 -> 17.90863 | S32: =2*PI()*F32*$B$19*M32/1000 -> 157.89721 | T32: =2*PI()*F32*$B$19*N32/1000 -> 158.90956 | U32: =$B$21*2*PI()*F32*L32/1000 -> 200.33534 | V32: =O32-S32 -> -157.15592 | W32: =P32+R32+U32 -> 224.77972 | X32: =(W32^2+V32^2)^0.5 -> 274.26977 | Y32: =X32*3^0.5 -> 475.04918 | Z32: =Z31*(I31/I32)^Z$25 -> 287.93473
E33: =X33/F33 -> 2.3395429 | F33: =F32+($F$49-$F$27)/22 -> 117.17273 | G33: =H33/I33 -> 0.036405669 | H33: =H32+($H$49-$H$27)/22 -> 82.318182 | I33: =F33*120/$B$3-H33 -> 2261.1364 | J33: =3*(1-G33)/G33*$B$17/1000*M33^2/1000 -> 267.56224 | K33: =J33/I33*1000*30/PI() -> 1129.9766 | L33: =L32*F32/F33 -> 52.288618 | M33: =U33/$B$17*1000*G33 -> 462.01042 | N33: =(L33^2+M33^2)^0.5 -> 464.95992 | O33: =$B$16*L33/1000 -> 0.68943471 | P33: =$B$16*M33/1000 -> 6.0916893 | Q33: =N33*$B$16/1000 -> 6.130579 | R33: =2*PI()*F33*$B$19*L33/1000 -> 17.90863 | S33: =2*PI()*F33*$B$19*M33/1000 -> 158.23661 | T33: =2*PI()*F33*$B$19*N33/1000 -> 159.2468 | U33: =$B$21*2*PI()*F33*L33/1000 -> 200.33534 | V33: =O33-S33 -> -157.54717 | W33: =P33+R33+U33 -> 224.33566 | X33: =(W33^2+V33^2)^0.5 -> 274.13062 | Y33: =X33*3^0.5 -> 474.80817 | Z33: =Z32*(I32/I33)^Z$25 -> 269.3264
E34: =X34/F34 -> 2.1860984 | F34: =F33+($F$49-$F$27)/22 -> 125.36818 | G34: =H34/I34 -> 0.034109762 | H34: =H33+($H$49-$H$27)/22 -> 82.704545 | I34: =F34*120/$B$3-H34 -> 2424.6591 | J34: =3*(1-G34)/G34*$B$17/1000*M34^2/1000 -> 251.28585 | K34: =J34/I34*1000*30/PI() -> 989.6662 | L34: =L33*F33/F34 -> 48.870454 | M34: =U34/$B$17*1000*G34 -> 432.87395 | N34: =(L34^2+M34^2)^0.5 -> 435.62389 | O34: =$B$16*L34/1000 -> 0.64436561 | P34: =$B$16*M34/1000 -> 5.7075198 | Q34: =N34*$B$16/1000 -> 5.7437783 | R34: =2*PI()*F34*$B$19*L34/1000 -> 17.90863 | S34: =2*PI()*F34*$B$19*M34/1000 -> 158.62712 | T34: =2*PI()*F34*$B$19*N34/1000 -> 159.63484 | U34: =$B$21*2*PI()*F34*L34/1000 -> 200.33534 | V34: =O34-S34 -> -157.98275 | W34: =P34+R34+U34 -> 223.95149 | X34: =(W34^2+V34^2)^0.5 -> 274.06718 | Y34: =X34*3^0.5 -> 474.69828 | Z34: =Z33*(I33/I34)^Z$25 -> 253.09912
E35: =X35/F35 -> 2.0519456 | F35: =F34+($F$49-$F$27)/22 -> 133.56364 | G35: =H35/I35 -> 0.032103969 | H35: =H34+($H$49-$H$27)/22 -> 83.090909 | I35: =F35*120/$B$3-H35 -> 2588.1818 | J35: =3*(1-G35)/G35*$B$17/1000*M35^2/1000 -> 237.00036 | K35: =J35/I35*1000*30/PI() -> 874.43113 | L35: =L34*F34/F35 -> 45.871767 | M35: =U35/$B$17*1000*G35 -> 407.41919 | N35: =(L35^2+M35^2)^0.5 -> 409.99343 | O35: =$B$16*L35/1000 -> 0.60482739 | P35: =$B$16*M35/1000 -> 5.3718943 | Q35: =N35*$B$16/1000 -> 5.4058362 | R35: =2*PI()*F35*$B$19*L35/1000 -> 17.90863 | S35: =2*PI()*F35*$B$19*M35/1000 -> 159.05905 | T35: =2*PI()*F35*$B$19*N35/1000 -> 160.06405 | U35: =$B$21*2*PI()*F35*L35/1000 -> 200.33534 | V35: =O35-S35 -> -158.45422 | W35: =P35+R35+U35 -> 223.61586 | X35: =(W35^2+V35^2)^0.5 -> 274.06531 | Y35: =X35*3^0.5 -> 474.69504 | Z35: =Z34*(I34/I35)^Z$25 -> 238.81653
E36: =X36/F36 -> 1.9336625 | F36: =F35+($F$49-$F$27)/22 -> 141.75909 | G36: =H36/I36 -> 0.030336568 | H36: =H35+($H$49-$H$27)/22 -> 83.477273 | I36: =F36*120/$B$3-H36 -> 2751.7045 | J36: =3*(1-G36)/G36*$B$17/1000*M36^2/1000 -> 224.36186 | K36: =J36/I36*1000*30/PI() -> 778.60757 | L36: =L35*F35/F36 -> 43.219803 | M36: =U36/$B$17*1000*G36 -> 384.98978 | N36: =(L36^2+M36^2)^0.5 -> 387.40816 | O36: =$B$16*L36/1000 -> 0.56986077 | P36: =$B$16*M36/1000 -> 5.0761586 | Q36: =N36*$B$16/1000 -> 5.1080453 | R36: =2*PI()*F36*$B$19*L36/1000 -> 17.90863 | S36: =2*PI()*F36*$B$19*M36/1000 -> 159.52501 | T36: =2*PI()*F36*$B$19*N36/1000 -> 160.5271 | U36: =$B$21*2*PI()*F36*L36/1000 -> 200.33534 | V36: =O36-S36 -> -158.95515 | W36: =P36+R36+U36 -> 223.32013 | X36: =(W36^2+V36^2)^0.5 -> 274.11424 | Y36: =X36*3^0.5 -> 474.7798 | Z36: =Z35*(I35/I36)^Z$25 -> 226.14351
E37: =X37/F37 -> 1.8285917 | F37: =F36+($F$49-$F$27)/22 -> 149.95455 | G37: =H37/I37 -> 0.028767444 | H37: =H36+($H$49-$H$27)/22 -> 83.863636 | I37: =F37*120/$B$3-H37 -> 2915.2273 | J37: =3*(1-G37)/G37*$B$17/1000*M37^2/1000 -> 213.10129 | K37: =J37/I37*1000*30/PI() -> 698.0476 | L37: =L36*F36/F37 -> 40.857714 | M37: =U37/$B$17*1000*G37 -> 365.07662 | N37: =(L37^2+M37^2)^0.5 -> 367.35581 | O37: =$B$16*L37/1000 -> 0.53871621 | P37: =$B$16*M37/1000 -> 4.8136 | Q37: =N37*$B$16/1000 -> 4.8436516 | R37: =2*PI()*F37*$B$19*L37/1000 -> 17.90863 | S37: =2*PI()*F37*$B$19*M37/1000 -> 160.01928 | T37: =2*PI()*F37*$B$19*N37/1000 -> 161.01829 | U37: =$B$21*2*PI()*F37*L37/1000 -> 200.33534 | V37: =O37-S37 -> -159.48057 | W37: =P37+R37+U37 -> 223.05757 | X37: =(W37^2+V37^2)^0.5 -> 274.20563 | Y37: =X37*3^0.5 -> 474.93809 | Z37: =Z36*(I36/I37)^Z$25 -> 214.8183
E38: =X38/F38 -> 1.7346374 | F38: =F37+($F$49-$F$27)/22 -> 158.15 | G38: =H38/I38 -> 0.027365002 | H38: =H37+($H$49-$H$27)/22 -> 84.25 | I38: =F38*120/$B$3-H38 -> 3078.75 | J38: =3*(1-G38)/G38*$B$17/1000*M38^2/1000 -> 203.0051 | K38: =J38/I38*1000*30/PI() -> 629.65681 | L38: =L37*F37/F38 -> 38.740436 | M38: =U38/$B$17*1000*G38 -> 347.27877 | N38: =(L38^2+M38^2)^0.5 -> 349.43292 | O38: =$B$16*L38/1000 -> 0.51079953 | P38: =$B$16*M38/1000 -> 4.5789322 | Q38: =N38*$B$16/1000 -> 4.6073351 | R38: =2*PI()*F38*$B$19*L38/1000 -> 17.90863 | S38: =2*PI()*F38*$B$19*M38/1000 -> 160.53735 | T38: =2*PI()*F38*$B$19*N38/1000 -> 161.53316 | U38: =$B$21*2*PI()*F38*L38/1000 -> 200.33534 | V38: =O38-S38 -> -160.02655 | W38: =P38+R38+U38 -> 222.8229 | X38: =(W38^2+V38^2)^0.5 -> 274.3329 | Y38: =X38*3^0.5 -> 475.15853 | Z38: =Z37*(I37/I38)^Z$25 -> 204.63339
E39: =X39/F39 -> 1.6501251 | F39: =F38+($F$49-$F$27)/22 -> 166.34545 | G39: =H39/I39 -> 0.026104024 | H39: =H38+($H$49-$H$27)/22 -> 84.636364 | I39: =F39*120/$B$3-H39 -> 3242.2727 | J39: =3*(1-G39)/G39*$B$17/1000*M39^2/1000 -> 193.90169 | K39: =J39/I39*1000*30/PI() -> 571.08852 | L39: =L38*F38/F39 -> 36.831785 | M39: =U39/$B$17*1000*G39 -> 331.27618 | N39: =(L39^2+M39^2)^0.5 -> 333.31739 | O39: =$B$16*L39/1000 -> 0.48563362 | P39: =$B$16*M39/1000 -> 4.3679352 | Q39: =N39*$B$16/1000 -> 4.394849 | R39: =2*PI()*F39*$B$19*L39/1000 -> 17.90863 | S39: =2*PI()*F39*$B$19*M39/1000 -> 161.07562 | T39: =2*PI()*F39*$B$19*N39/1000 -> 162.06811 | U39: =$B$21*2*PI()*F39*L39/1000 -> 200.33534 | V39: =O39-S39 -> -160.58998 | W39: =P39+R39+U39 -> 222.6119 | X39: =(W39^2+V39^2)^0.5 -> 274.49081 | Y39: =X39*3^0.5 -> 475.43202 | Z39: =Z38*(I38/I39)^Z$25 -> 195.42209
E40: =X40/F40 -> 1.5737004 | F40: =F39+($F$49-$F$27)/22 -> 174.54091 | G40: =H40/I40 -> 0.024964132 | H40: =H39+($H$49-$H$27)/22 -> 85.022727 | I40: =F40*120/$B$3-H40 -> 3405.7955 | J40: =3*(1-G40)/G40*$B$17/1000*M40^2/1000 -> 185.65157 | K40: =J40/I40*1000*30/PI() -> 520.53682 | L40: =L39*F39/F40 -> 35.102372 | M40: =U40/$B$17*1000*G40 -> 316.81025 | N40: =(L40^2+M40^2)^0.5 -> 318.74898 | O40: =$B$16*L40/1000 -> 0.46283101 | P40: =$B$16*M40/1000 -> 4.1771993 | Q40: =N40*$B$16/1000 -> 4.2027618 | R40: =2*PI()*F40*$B$19*L40/1000 -> 17.90863 | S40: =2*PI()*F40*$B$19*M40/1000 -> 161.63117 | T40: =2*PI()*F40*$B$19*N40/1000 -> 162.62028 | U40: =$B$21*2*PI()*F40*L40/1000 -> 200.33534 | V40: =O40-S40 -> -161.16834 | W40: =P40+R40+U40 -> 222.42117 | X40: =(W40^2+V40^2)^0.5 -> 274.6751 | Y40: =X40*3^0.5 -> 475.75123 | Z40: =Z39*(I39/I40)^Z$25 -> 187.04893
... E48: =X48/F48 -> 1.1527675 | F48: =F47+($F$49-$F$27)/22 -> 240.10455 | G48: =H48/I48 -> 0.018691994 | H48: =H47+($H$49-$H$27)/22 -> 88.113636 | I48: =F48*120/$B$3-H48 -> 4713.9773 | J48: =3*(1-G48)/G48*$B$17/1000*M48^2/1000 -> 139.90156 | K48: =J48/I48*1000*30/PI() -> 283.40431 | L48: =L47*F47/F48 -> 25.517218 | M48: =U48/$B$17*1000*G48 -> 237.21295 | N48: =(L48^2+M48^2)^0.5 -> 238.58146 | O48: =$B$16*L48/1000 -> 0.33644904 | P48: =$B$16*M48/1000 -> 3.1276948 | Q48: =N48*$B$16/1000 -> 3.1457388 | R48: =2*PI()*F48*$B$19*L48/1000 -> 17.90863 | S48: =2*PI()*F48*$B$19*M48/1000 -> 166.48206 | T48: =2*PI()*F48*$B$19*N48/1000 -> 167.44251 | U48: =$B$21*2*PI()*F48*L48/1000 -> 200.33534 | V48: =O48-S48 -> -166.14561 | W48: =P48+R48+U48 -> 221.37166 | X48: =(W48^2+V48^2)^0.5 -> 276.78471 | Y48: =X48*3^0.5 -> 479.40518 | Z48: =Z47*(I47/I48)^Z$25 -> 140.06024
D49: limit PC | E49: =X49/F49 -> 1.1160007 | F49: 248.3 | G49: =H49/I49 -> 0.018144541 | H49: 88.5 | I49: =F49*120/$B$3-H49 -> 4877.5 | J49: =3*(1-G49)/G49*$B$17/1000*M49^2/1000 -> 135.87987 | K49: =J49/I49*1000*30/PI() -> 266.02915 | L49: =L48*F48/F49 -> 24.67499 | M49: =U49/$B$17*1000*G49 -> 230.26543 | N49: =(L49^2+M49^2)^0.5 -> 231.58373 | O49: =$B$16*L49/1000 -> 0.32534412 | P49: =$B$16*M49/1000 -> 3.0360906 | Q49: =N49*$B$16/1000 -> 3.0534726 | R49: =2*PI()*F49*$B$19*L49/1000 -> 17.90863 | S49: =2*PI()*F49*$B$19*M49/1000 -> 167.12219 | T49: =2*PI()*F49*$B$19*N49/1000 -> 168.07899 | U49: =$B$21*2*PI()*F49*L49/1000 -> 200.33534 | V49: =O49-S49 -> -166.79685 | W49: =P49+R49+U49 -> 221.28006 | X49: =(W49^2+V49^2)^0.5 -> 277.10297 | Y49: =X49*3^0.5 -> 479.95641 | Z49: =Z48*(I48/I49)^Z$25 -> 135.87331
E50: =X50/F50 -> 1.06211 | F50: =F49*1.05 -> 260.715 | G50: =H50/I50 -> 0.017265598 | H50: =H49 -> 88.5 | I50: =F50*120/$B$3-H50 -> 5125.8 | J50: =3*(1-G50)/G50*$B$17/1000*M50^2/1000 -> 129.41343 | K50: =J50/I50*1000*30/PI() -> 241.09548 | L50: =L49*F49/F50 -> 23.49999 | M50: =U50/$B$17*1000*G50 -> 219.11109 | N50: =(L50^2+M50^2)^0.5 -> 220.36769 | O50: =$B$16*L50/1000 -> 0.30985154 | P50: =$B$16*M50/1000 -> 2.8890186 | Q50: =N50*$B$16/1000 -> 2.9055871 | R50: =2*PI()*F50*$B$19*L50/1000 -> 17.90863 | S50: =2*PI()*F50*$B$19*M50/1000 -> 166.97792 | T50: =2*PI()*F50*$B$19*N50/1000 -> 167.93554 | U50: =$B$21*2*PI()*F50*L50/1000 -> 200.33534 | V50: =O50-S50 -> -166.66807 | W50: =P50+R50+U50 -> 221.13299 | X50: =(W50^2+V50^2)^0.5 -> 276.908 | Y50: =X50*3^0.5 -> 479.61873 | Z50: =Z49*(I49/I50)^Z$25 -> 129.99955
E51: =X51/F51 -> 1.0108562 | F51: =F50*1.05 -> 273.75075 | G51: =H51/I51 -> 0.016429918 | H51: =H50 -> 88.5 | I51: =F51*120/$B$3-H51 -> 5386.515 | J51: =3*(1-G51)/G51*$B$17/1000*M51^2/1000 -> 123.25436 | K51: =J51/I51*1000*30/PI() -> 218.50722 | L51: =L50*F50/F51 -> 22.380943 | M51: =U51/$B$17*1000*G51 -> 208.5058 | N51: =(L51^2+M51^2)^0.5 -> 209.70355 | O51: =$B$16*L51/1000 -> 0.29509671 | P51: =$B$16*M51/1000 -> 2.749186 | Q51: =N51*$B$16/1000 -> 2.7649785 | R51: =2*PI()*F51*$B$19*L51/1000 -> 17.90863 | S51: =2*PI()*F51*$B$19*M51/1000 -> 166.84075 | T51: =2*PI()*F51*$B$19*N51/1000 -> 167.79915 | U51: =$B$21*2*PI()*F51*L51/1000 -> 200.33534 | V51: =O51-S51 -> -166.54565 | W51: =P51+R51+U51 -> 220.99315 | X51: =(W51^2+V51^2)^0.5 -> 276.72266 | Y51: =X51*3^0.5 -> 479.2977 | Z51: =Z50*(I50/I51)^Z$25 -> 124.38435
E52: =X52/F52 -> 0.96210715 | F52: =F51*1.05 -> 287.43829 | G52: =H52/I52 -> 0.015635308 | H52: =H51 -> 88.5 | I52: =F52*120/$B$3-H52 -> 5660.2658 | J52: =3*(1-G52)/G52*$B$17/1000*M52^2/1000 -> 117.38809 | K52: =J52/I52*1000*30/PI() -> 198.04259 | L52: =L51*F51/F52 -> 21.315184 | M52: =U52/$B$17*1000*G52 -> 198.42172 | N52: =(L52^2+M52^2)^0.5 -> 199.56331 | O52: =$B$16*L52/1000 -> 0.28104448 | P52: =$B$16*M52/1000 -> 2.6162255 | Q52: =N52*$B$16/1000 -> 2.6312776 | R52: =2*PI()*F52*$B$19*L52/1000 -> 17.90863 | S52: =2*PI()*F52*$B$19*M52/1000 -> 166.71032 | T52: =2*PI()*F52*$B$19*N52/1000 -> 167.66946 | U52: =$B$21*2*PI()*F52*L52/1000 -> 200.33534 | V52: =O52-S52 -> -166.42927 | W52: =P52+R52+U52 -> 220.86019 | X52: =(W52^2+V52^2)^0.5 -> 276.54643 | Y52: =X52*3^0.5 -> 478.99247 | Z52: =Z51*(I51/I52)^Z$25 -> 119.01589
E53: =X53/F53 -> 0.91573732 | F53: =F52*1.05 -> 301.8102 | G53: =H53/I53 -> 0.014879691 | H53: =H52 -> 88.5 | I53: =F53*120/$B$3-H53 -> 5947.704 | J53: =3*(1-G53)/G53*$B$17/1000*M53^2/1000 -> 111.80076 | K53: =J53/I53*1000*30/PI() -> 179.50097 | L53: =L52*F52/F53 -> 20.300175 | M53: =U53/$B$17*1000*G53 -> 188.83247 | N53: =(L53^2+M53^2)^0.5 -> 189.92051 | O53: =$B$16*L53/1000 -> 0.26766141 | P53: =$B$16*M53/1000 -> 2.4897896 | Q53: =N53*$B$16/1000 -> 2.5041356 | R53: =2*PI()*F53*$B$19*L53/1000 -> 17.90863 | S53: =2*PI()*F53*$B$19*M53/1000 -> 166.58629 | T53: =2*PI()*F53*$B$19*N53/1000 -> 167.54614 | U53: =$B$21*2*PI()*F53*L53/1000 -> 200.33534 | V53: =O53-S53 -> -166.31863 | W53: =P53+R53+U53 -> 220.73376 | X53: =(W53^2+V53^2)^0.5 -> 276.37887 | Y53: =X53*3^0.5 -> 478.70224 | Z53: =Z52*(I52/I53)^Z$25 -> 113.88298
E54: =X54/F54 -> 0.87162797 | F54: =F53*1.05 -> 316.90071 | G54: =H54/I54 -> 0.014161101 | H54: =H53 -> 88.5 | I54: =F54*120/$B$3-H54 -> 6249.5142 | J54: =3*(1-G54)/G54*$B$17/1000*M54^2/1000 -> 106.47914 | K54: =J54/I54*1000*30/PI() -> 162.70079 | L54: =L53*F53/F54 -> 19.3335 | M54: =U54/$B$17*1000*G54 -> 179.71311 | N54: =(L54^2+M54^2)^0.5 -> 180.75007 | O54: =$B$16*L54/1000 -> 0.25491563 | P54: =$B$16*M54/1000 -> 2.3695492 | Q54: =N54*$B$16/1000 -> 2.3832217 | R54: =2*PI()*F54*$B$19*L54/1000 -> 17.90863 | S54: =2*PI()*F54*$B$19*M54/1000 -> 166.46834 | T54: =2*PI()*F54*$B$19*N54/1000 -> 167.42887 | U54: =$B$21*2*PI()*F54*L54/1000 -> 200.33534 | V54: =O54-S54 -> -166.21342 | W54: =P54+R54+U54 -> 220.61352 | X54: =(W54^2+V54^2)^0.5 -> 276.21952 | Y54: =X54*3^0.5 -> 478.42625 | Z54: =Z53*(I53/I54)^Z$25 -> 108.97492
E55: =X55/F55 -> 0.82966647 | F55: =F54*1.05 -> 332.74575 | G55: =H55/I55 -> 0.013477674 | H55: =H54 -> 88.5 | I55: =F55*120/$B$3-H55 -> 6566.415 | J55: =3*(1-G55)/G55*$B$17/1000*M55^2/1000 -> 101.41062 | K55: =J55/I55*1000*30/PI() -> 147.47775 | L55: =L54*F54/F55 -> 18.412857 | M55: =U55/$B$17*1000*G55 -> 171.04 | N55: =(L55^2+M55^2)^0.5 -> 172.02824 | O55: =$B$16*L55/1000 -> 0.24277679 | P55: =$B$16*M55/1000 -> 2.2551928 | Q55: =N55*$B$16/1000 -> 2.2682229 | R55: =2*PI()*F55*$B$19*L55/1000 -> 17.90863 | S55: =2*PI()*F55*$B$19*M55/1000 -> 166.35616 | T55: =2*PI()*F55*$B$19*N55/1000 -> 167.31733 | U55: =$B$21*2*PI()*F55*L55/1000 -> 200.33534 | V55: =O55-S55 -> -166.11338 | W55: =P55+R55+U55 -> 220.49916 | X55: =(W55^2+V55^2)^0.5 -> 276.06799 | Y55: =X55*3^0.5 -> 478.16378 | Z55: =Z54*(I54/I55)^Z$25 -> 104.28156
E56: =X56/F56 -> 0.78974605 | F56: =F55*1.05 -> 349.38303 | G56: =H56/I56 -> 0.012827647 | H56: =H55 -> 88.5 | I56: =F56*120/$B$3-H56 -> 6899.1607 | J56: =3*(1-G56)/G56*$B$17/1000*M56^2/1000 -> 96.583194 | K56: =J56/I56*1000*30/PI() -> 133.68315 | L56: =L55*F55/F56 -> 17.536055 | M56: =U56/$B$17*1000*G56 -> 162.79076 | N56: =(L56^2+M56^2)^0.5 -> 163.73254 | O56: =$B$16*L56/1000 -> 0.23121599 | P56: =$B$16*M56/1000 -> 2.1464251 | Q56: =N56*$B$16/1000 -> 2.1588426 | R56: =2*PI()*F56*$B$19*L56/1000 -> 17.90863 | S56: =2*PI()*F56*$B$19*M56/1000 -> 166.24946 | T56: =2*PI()*F56*$B$19*N56/1000 -> 167.21125 | U56: =$B$21*2*PI()*F56*L56/1000 -> 200.33534 | V56: =O56-S56 -> -166.01824 | W56: =P56+R56+U56 -> 220.39039 | X56: =(W56^2+V56^2)^0.5 -> 275.92387 | Y56: =X56*3^0.5 -> 477.91416 | Z56: =Z55*(I55/I56)^Z$25 -> 99.793227
E58: Corba parell-velocitat a N1 | P58: =P63/O63 -> 2.5120872 | S58: =S63/R63 -> 2.5120872
E59: V/f | F59: f | G59: s pu | H59: s rpm | I59: rpm | J59: Kweix | K59: Meix | L59: Im | M59: Ir | N59: is | O59: Rs Im | P59: Rs Ir | Q59: Rs Is | R59: w Ls Im | S59: w Ls Ir | T59: w Ls Is | U59: E | V59: Vs (m) | W59: Vs (r) | X59: Vs | Y59: Vs (f-f)
E60: =X60/F60 -> 0.87895376 | F60: =F$71-$H$71/120*$B$3+H60/120*$B$3 -> 243.875 | G60: =H60/I60 -> 2.0502307e-10 | H60: 1e-06 | I60: =I61 -> 4877.5 | J60: =3*(1-G60)/G60*$B$17/1000*M60^2/1000 -> 1.5085004e-06 | K60: =J60/I60*1000*30/PI() -> 2.9533813e-06 | L60: =L61 -> 24.67499 | M60: =U60/$B$17*1000*G60 -> 2.5555009e-06 | N60: =(L60^2+M60^2)^0.5 -> 24.67499 | O60: =$B$16*L60/1000 -> 0.32534412 | P60: =$B$16*M60/1000 -> 3.3694733e-08 | Q60: =N60*$B$16/1000 -> 0.32534412 | R60: =2*PI()*F60*$B$19*L60/1000 -> 17.589477 | S60: =2*PI()*F60*$B$19*M60/1000 -> 1.8216795e-06 | T60: =2*PI()*F60*$B$19*N60/1000 -> 17.589477 | U60: =$B$21*2*PI()*F60*L60/1000 -> 196.76513 | V60: =O60-S60 -> 0.3253423 | W60: =P60+R60+U60 -> 214.3546 | X60: =(W60^2+V60^2)^0.5 -> 214.35485 | Y60: =X60*3^0.5 -> 371.27349
E61: =X61/F61 -> 0.88203078 | F61: =F$71-$H$71/120*$B$3+H61/120*$B$3 -> 244.27727 | G61: =H61/I61 -> 0.0016495039 | H61: =H60+($H$71-$H$60)/11 -> 8.0454555 | I61: =I62 -> 4877.5 | J61: =3*(1-G61)/G61*$B$17/1000*M61^2/1000 -> 12.156559 | K61: =J61/I61*1000*30/PI() -> 23.800427 | L61: =L62 -> 24.67499 | M61: =U61/$B$17*1000*G61 -> 20.594083 | N61: =(L61^2+M61^2)^0.5 -> 32.139872 | O61: =$B$16*L61/1000 -> 0.32534412 | P61: =$B$16*M61/1000 -> 0.27153663 | Q61: =N61*$B$16/1000 -> 0.42376991 | R61: =2*PI()*F61*$B$19*L61/1000 -> 17.618491 | S61: =2*PI()*F61*$B$19*M61/1000 -> 14.704633 | T61: =2*PI()*F61*$B$19*N61/1000 -> 22.948583 | U61: =$B$21*2*PI()*F61*L61/1000 -> 197.08969 | V61: =O61-S61 -> -14.379288 | W61: =P61+R61+U61 -> 214.97972 | X61: =(W61^2+V61^2)^0.5 -> 215.46007 | Y61: =X61*3^0.5 -> 373.18779
E62: =X62/F62 -> 0.88920996 | F62: =F$71-$H$71/120*$B$3+H62/120*$B$3 -> 244.67955 | G62: =H62/I62 -> 0.0032990077 | H62: =H61+($H$71-$H$60)/11 -> 16.09091 | I62: =I63 -> 4877.5 | J62: =3*(1-G62)/G62*$B$17/1000*M62^2/1000 -> 24.352956 | K62: =J62/I62*1000*30/PI() -> 47.678851 | L62: =L63 -> 24.67499 | M62: =U62/$B$17*1000*G62 -> 41.255991 | N62: =(L62^2+M62^2)^0.5 -> 48.071945 | O62: =$B$16*L62/1000 -> 0.32534412 | P62: =$B$16*M62/1000 -> 0.54396756 | Q62: =N62*$B$16/1000 -> 0.63383713 | R62: =2*PI()*F62*$B$19*L62/1000 -> 17.647505 | S62: =2*PI()*F62*$B$19*M62/1000 -> 29.506205 | T62: =2*PI()*F62*$B$19*N62/1000 -> 34.380962 | U62: =$B$21*2*PI()*F62*L62/1000 -> 197.41425 | V62: =O62-S62 -> -29.180861 | W62: =P62+R62+U62 -> 215.60573 | X62: =(W62^2+V62^2)^0.5 -> 217.57149 | Y62: =X62*3^0.5 -> 376.84487
E63: =X63/F63 -> 0.90043307 | F63: =F$71-$H$71/120*$B$3+H63/120*$B$3 -> 245.08182 | G63: =H63/I63 -> 0.0049485114 | H63: =H62+($H$71-$H$60)/11 -> 24.136364 | I63: =I64 -> 4877.5 | J63: =3*(1-G63)/G63*$B$17/1000*M63^2/1000 -> 36.588992 | K63: =J63/I63*1000*30/PI() -> 71.634882 | L63: =L64 -> 24.67499 | M63: =U63/$B$17*1000*G63 -> 61.985727 | N63: =(L63^2+M63^2)^0.5 -> 66.716456 | O63: =$B$16*L63/1000 -> 0.32534412 | P63: =$B$16*M63/1000 -> 0.81729281 | Q63: =N63*$B$16/1000 -> 0.87966831 | R63: =2*PI()*F63*$B$19*L63/1000 -> 17.676519 | S63: =2*PI()*F63*$B$19*M63/1000 -> 44.404957 | T63: =2*PI()*F63*$B$19*N63/1000 -> 47.793928 | U63: =$B$21*2*PI()*F63*L63/1000 -> 197.73882 | V63: =O63-S63 -> -44.079613 | W63: =P63+R63+U63 -> 216.23263 | X63: =(W63^2+V63^2)^0.5 -> 220.67978 | Y63: =X63*3^0.5 -> 382.22858
E64: =X64/F64 -> 0.91559079 | F64: =F$71-$H$71/120*$B$3+H64/120*$B$3 -> 245.48409 | G64: =H64/I64 -> 0.0065980151 | H64: =H63+($H$71-$H$60)/11 -> 32.181819 | I64: =I65 -> 4877.5 | J64: =3*(1-G64)/G64*$B$17/1000*M64^2/1000 -> 48.864467 | K64: =J64/I64*1000*30/PI() -> 95.668127 | L64: =L65 -> 24.67499 | M64: =U64/$B$17*1000*G64 -> 82.783292 | N64: =(L64^2+M64^2)^0.5 -> 86.382455 | O64: =$B$16*L64/1000 -> 0.32534412 | P64: =$B$16*M64/1000 -> 1.0915124 | Q64: =N64*$B$16/1000 -> 1.138968 | R64: =2*PI()*F64*$B$19*L64/1000 -> 17.705533 | S64: =2*PI()*F64*$B$19*M64/1000 -> 59.40113 | T64: =2*PI()*F64*$B$19*N64/1000 -> 61.983709 | U64: =$B$21*2*PI()*F64*L64/1000 -> 198.06338 | V64: =O64-S64 -> -59.075786 | W64: =P64+R64+U64 -> 216.86043 | X64: =(W64^2+V64^2)^0.5 -> 224.76297 | Y64: =X64*3^0.5 -> 389.30089
E65: =X65/F65 -> 0.93453036 | F65: =F$71-$H$71/120*$B$3+H65/120*$B$3 -> 245.88636 | G65: =H65/I65 -> 0.0082475189 | H65: =H64+($H$71-$H$60)/11 -> 40.227273 | I65: =I66 -> 4877.5 | J65: =3*(1-G65)/G65*$B$17/1000*M65^2/1000 -> 61.179177 | K65: =J65/I65*1000*30/PI() -> 119.77819 | L65: =L66 -> 24.67499 | M65: =U65/$B$17*1000*G65 -> 103.64868 | N65: =(L65^2+M65^2)^0.5 -> 106.54532 | O65: =$B$16*L65/1000 -> 0.32534412 | P65: =$B$16*M65/1000 -> 1.3666263 | Q65: =N65*$B$16/1000 -> 1.4048189 | R65: =2*PI()*F65*$B$19*L65/1000 -> 17.734547 | S65: =2*PI()*F65*$B$19*M65/1000 -> 74.494962 | T65: =2*PI()*F65*$B$19*N65/1000 -> 76.576847 | U65: =$B$21*2*PI()*F65*L65/1000 -> 198.38795 | V65: =O65-S65 -> -74.169618 | W65: =P65+R65+U65 -> 217.48912 | X65: =(W65^2+V65^2)^0.5 -> 229.78827 | Y65: =X65*3^0.5 -> 398.00496
E66: =X66/F66 -> 0.95706519 | F66: =F$71-$H$71/120*$B$3+H66/120*$B$3 -> 246.28864 | G66: =H66/I66 -> 0.0098970226 | H66: =H65+($H$71-$H$60)/11 -> 48.272728 | I66: =I67 -> 4877.5 | J66: =3*(1-G66)/G66*$B$17/1000*M66^2/1000 -> 73.532919 | K66: =J66/I66*1000*30/PI() -> 143.96467 | L66: =L67 -> 24.67499 | M66: =U66/$B$17*1000*G66 -> 124.58191 | N66: =(L66^2+M66^2)^0.5 -> 127.00199 | O66: =$B$16*L66/1000 -> 0.32534412 | P66: =$B$16*M66/1000 -> 1.6426345 | Q66: =N66*$B$16/1000 -> 1.6745438 | R66: =2*PI()*F66*$B$19*L66/1000 -> 17.763561 | S66: =2*PI()*F66*$B$19*M66/1000 -> 89.686692 | T66: =2*PI()*F66*$B$19*N66/1000 -> 91.428917 | U66: =$B$21*2*PI()*F66*L66/1000 -> 198.71251 | V66: =O66-S66 -> -89.361348 | W66: =P66+R66+U66 -> 218.11871 | X66: =(W66^2+V66^2)^0.5 -> 235.71428 | Y66: =X66*3^0.5 -> 408.26911
E67: =X67/F67 -> 0.98298505 | F67: =F$71-$H$71/120*$B$3+H67/120*$B$3 -> 246.69091 | G67: =H67/I67 -> 0.011546526 | H67: =H66+($H$71-$H$60)/11 -> 56.318182 | I67: =I68 -> 4877.5 | J67: =3*(1-G67)/G67*$B$17/1000*M67^2/1000 -> 85.925487 | K67: =J67/I67*1000*30/PI() -> 168.22716 | L67: =L68 -> 24.67499 | M67: =U67/$B$17*1000*G67 -> 145.58295 | N67: =(L67^2+M67^2)^0.5 -> 147.65924 | O67: =$B$16*L67/1000 -> 0.32534412 | P67: =$B$16*M67/1000 -> 1.9195371 | Q67: =N67*$B$16/1000 -> 1.9469133 | R67: =2*PI()*F67*$B$19*L67/1000 -> 17.792574 | S67: =2*PI()*F67*$B$19*M67/1000 -> 104.97656 | T67: =2*PI()*F67*$B$19*N67/1000 -> 106.47372 | U67: =$B$21*2*PI()*F67*L67/1000 -> 199.03708 | V67: =O67-S67 -> -104.65122 | W67: =P67+R67+U67 -> 218.74919 | X67: =(W67^2+V67^2)^0.5 -> 242.49347 | Y67: =X67*3^0.5 -> 420.01102
E68: =X68/F68 -> 1.012066 | F68: =F$71-$H$71/120*$B$3+H68/120*$B$3 -> 247.09318 | G68: =H68/I68 -> 0.01319603 | H68: =H67+($H$71-$H$60)/11 -> 64.363637 | I68: =I69 -> 4877.5 | J68: =3*(1-G68)/G68*$B$17/1000*M68^2/1000 -> 98.356675 | K68: =J68/I68*1000*30/PI() -> 192.56526 | L68: =L69 -> 24.67499 | M68: =U68/$B$17*1000*G68 -> 166.65183 | N68: =(L68^2+M68^2)^0.5 -> 168.46866 | O68: =$B$16*L68/1000 -> 0.32534412 | P68: =$B$16*M68/1000 -> 2.197334 | Q68: =N68*$B$16/1000 -> 2.2212891 | R68: =2*PI()*F68*$B$19*L68/1000 -> 17.821588 | S68: =2*PI()*F68*$B$19*M68/1000 -> 120.3648 | T68: =2*PI()*F68*$B$19*N68/1000 -> 121.67701 | U68: =$B$21*2*PI()*F68*L68/1000 -> 199.36164 | V68: =O68-S68 -> -120.03946 | W68: =P68+R68+U68 -> 219.38057 | X68: =(W68^2+V68^2)^0.5 -> 250.0746 | Y68: =X68*3^0.5 -> 433.14191
E69: =X69/F69 -> 1.0440789 | F69: =F$71-$H$71/120*$B$3+H69/120*$B$3 -> 247.49545 | G69: =H69/I69 -> 0.014845534 | H69: =H68+($H$71-$H$60)/11 -> 72.409091 | I69: =I70 -> 4877.5 | J69: =3*(1-G69)/G69*$B$17/1000*M69^2/1000 -> 110.82627 | K69: =J69/I69*1000*30/PI() -> 216.97857 | L69: =L70 -> 24.67499 | M69: =U69/$B$17*1000*G69 -> 187.78854 | N69: =(L69^2+M69^2)^0.5 -> 189.40272 | O69: =$B$16*L69/1000 -> 0.32534412 | P69: =$B$16*M69/1000 -> 2.4760252 | Q69: =N69*$B$16/1000 -> 2.4973084 | R69: =2*PI()*F69*$B$19*L69/1000 -> 17.850602 | S69: =2*PI()*F69*$B$19*M69/1000 -> 135.85167 | T69: =2*PI()*F69*$B$19*N69/1000 -> 137.01941 | U69: =$B$21*2*PI()*F69*L69/1000 -> 199.68621 | V69: =O69-S69 -> -135.52632 | W69: =P69+R69+U69 -> 220.01284 | X69: =(W69^2+V69^2)^0.5 -> 258.40478 | Y69: =X69*3^0.5 -> 447.57021
E70: =X70/F70 -> 1.0787969 | F70: =F$71-$H$71/120*$B$3+H70/120*$B$3 -> 247.89773 | G70: =H70/I70 -> 0.016495038 | H70: =H69+($H$71-$H$60)/11 -> 80.454546 | I70: =I71 -> 4877.5 | J70: =3*(1-G70)/G70*$B$17/1000*M70^2/1000 -> 123.33408 | K70: =J70/I70*1000*30/PI() -> 241.46667 | L70: =L71 -> 24.67499 | M70: =U70/$B$17*1000*G70 -> 208.99307 | N70: =(L70^2+M70^2)^0.5 -> 210.44467 | O70: =$B$16*L70/1000 -> 0.32534412 | P70: =$B$16*M70/1000 -> 2.7556107 | Q70: =N70*$B$16/1000 -> 2.7747503 | R70: =2*PI()*F70*$B$19*L70/1000 -> 17.879616 | S70: =2*PI()*F70*$B$19*M70/1000 -> 151.43738 | T70: =2*PI()*F70*$B$19*N70/1000 -> 152.48922 | U70: =$B$21*2*PI()*F70*L70/1000 -> 200.01077 | V70: =O70-S70 -> -151.11204 | W70: =P70+R70+U70 -> 220.646 | X70: =(W70^2+V70^2)^0.5 -> 267.43131 | Y70: =X70*3^0.5 -> 463.20462
D71: maxim | E71: =X71/F71 -> 1.1160007 | F71: =F49 -> 248.3 | G71: =H71/I71 -> 0.018144541 | H71: =H49 -> 88.5 | I71: =F71*120/$B$3-H71 -> 4877.5 | J71: =3*(1-G71)/G71*$B$17/1000*M71^2/1000 -> 135.87987 | K71: =J71/I71*1000*30/PI() -> 266.02915 | L71: =L49 -> 24.67499 | M71: =U71/$B$17*1000*G71 -> 230.26543 | N71: =(L71^2+M71^2)^0.5 -> 231.58373 | O71: =$B$16*L71/1000 -> 0.32534412 | P71: =$B$16*M71/1000 -> 3.0360906 | Q71: =N71*$B$16/1000 -> 3.0534726 | R71: =2*PI()*F71*$B$19*L71/1000 -> 17.90863 | S71: =2*PI()*F71*$B$19*M71/1000 -> 167.12219 | T71: =2*PI()*F71*$B$19*N71/1000 -> 168.07899 | U71: =$B$21*2*PI()*F71*L71/1000 -> 200.33534 | V71: =O71-S71 -> -166.79685 | W71: =P71+R71+U71 -> 221.28006 | X71: =(W71^2+V71^2)^0.5 -> 277.10297 | Y71: =X71*3^0.5 -> 479.95641
E72: =X72/F72 -> 1.1160457 | F72: =F71 -> 248.3 | G72: =H72/I72 -> 0.019169657 | H72: =H71+5 -> 93.5 | I72: =I71 -> 4877.5 | J72: =3*(1-G72)/G72*$B$17/1000*M72^2/1000 -> 137.48322 | K72: =J72/I72*1000*30/PI() -> 269.16823 | L72: 24.16 | M72: =U72/$B$17*1000*G72 -> 238.19741 | N72: =(L72^2+M72^2)^0.5 -> 239.41953 | O72: =$B$16*L72/1000 -> 0.31855389 | P72: =$B$16*M72/1000 -> 3.1406751 | Q72: =N72*$B$16/1000 -> 3.156789 | R72: =2*PI()*F72*$B$19*L72/1000 -> 17.53486 | S72: =2*PI()*F72*$B$19*M72/1000 -> 172.87907 | T72: =2*PI()*F72*$B$19*N72/1000 -> 173.76606 | U72: =$B$21*2*PI()*F72*L72/1000 -> 196.15415 | V72: =O72-S72 -> -172.56051 | W72: =P72+R72+U72 -> 216.82969 | X72: =(W72^2+V72^2)^0.5 -> 277.11414 | Y72: =X72*3^0.5 -> 479.97577
E73: =X73/F73 -> 1.1160543 | F73: =F72 -> 248.3 | G73: =H73/I73 -> 0.020194772 | H73: =H72+5 -> 98.5 | I73: =I72 -> 4877.5 | J73: =3*(1-G73)/G73*$B$17/1000*M73^2/1000 -> 138.64002 | K73: =J73/I73*1000*30/PI() -> 271.43303 | L73: 23.65 | M73: =U73/$B$17*1000*G73 -> 245.63818 | N73: =(L73^2+M73^2)^0.5 -> 246.77406 | O73: =$B$16*L73/1000 -> 0.31182945 | P73: =$B$16*M73/1000 -> 3.2387829 | Q73: =N73*$B$16/1000 -> 3.2537598 | R73: =2*PI()*F73*$B$19*L73/1000 -> 17.164712 | S73: =2*PI()*F73*$B$19*M73/1000 -> 178.27943 | T73: =2*PI()*F73*$B$19*N73/1000 -> 179.10384 | U73: =$B$21*2*PI()*F73*L73/1000 -> 192.01348 | V73: =O73-S73 -> -177.96761 | W73: =P73+R73+U73 -> 212.41698 | X73: =(W73^2+V73^2)^0.5 -> 277.11629 | Y73: =X73*3^0.5 -> 479.9795
E74: =X74/F74 -> 1.130227 | F74: =F73 -> 248.3 | G74: =H74/I74 -> 0.022245003 | H74: =H73+10 -> 108.5 | I74: =I73 -> 4877.5 | J74: =3*(1-G74)/G74*$B$17/1000*M74^2/1000 -> 143.38901 | K74: =J74/I74*1000*30/PI() -> 280.73074 | L74: =L73*0.97 -> 22.9405 | M74: =U74/$B$17*1000*G74 -> 262.45878 | N74: =(L74^2+M74^2)^0.5 -> 263.45944 | O74: =$B$16*L74/1000 -> 0.30247456 | P74: =$B$16*M74/1000 -> 3.4605656 | Q74: =N74*$B$16/1000 -> 3.4737595 | R74: =2*PI()*F74*$B$19*L74/1000 -> 16.649771 | S74: =2*PI()*F74*$B$19*M74/1000 -> 190.4875 | T74: =2*PI()*F74*$B$19*N74/1000 -> 191.21376 | U74: =$B$21*2*PI()*F74*L74/1000 -> 186.25308 | V74: =O74-S74 -> -190.18503 | W74: =P74+R74+U74 -> 206.36341 | X74: =(W74^2+V74^2)^0.5 -> 280.63536 | Y74: =X74*3^0.5 -> 486.0747
E75: =X75/F75 -> 1.1447909 | F75: =F74 -> 248.3 | G75: =H75/I75 -> 0.024295233 | H75: =H74+10 -> 118.5 | I75: =I74 -> 4877.5 | J75: =3*(1-G75)/G75*$B$17/1000*M75^2/1000 -> 147.04028 | K75: =J75/I75*1000*30/PI() -> 287.8793 | L75: =L74*0.97 -> 22.252285 | M75: =U75/$B$17*1000*G75 -> 278.04907 | N75: =(L75^2+M75^2)^0.5 -> 278.93808 | O75: =$B$16*L75/1000 -> 0.29340033 | P75: =$B$16*M75/1000 -> 3.6661264 | Q75: =N75*$B$16/1000 -> 3.6778481 | R75: =2*PI()*F75*$B$19*L75/1000 -> 16.150278 | S75: =2*PI()*F75*$B$19*M75/1000 -> 201.80264 | T75: =2*PI()*F75*$B$19*N75/1000 -> 202.44786 | U75: =$B$21*2*PI()*F75*L75/1000 -> 180.66549 | V75: =O75-S75 -> -201.50924 | W75: =P75+R75+U75 -> 200.48189 | X75: =(W75^2+V75^2)^0.5 -> 284.25158 | Y75: =X75*3^0.5 -> 492.33818
E82: corba a pnom
E83: V/f | F83: f | G83: s pu | H83: s rpm | I83: rpm | J83: Kweix | K83: Meix | L83: Im | M83: Ir | N83: is | O83: Rs Im | P83: Rs Ir | Q83: Rs Is | R83: w Ls Im | S83: w Ls Ir | T83: w Ls Is | U83: E | V83: Vs (m) | W83: Vs (r) | X83: Vs | Y83: Vs (f-f)
E84: =X84/F84 -> 3.7059499 | F84: =F5 -> 65 | G84: =H84/I84 -> 0.015625 | H84: =H5 -> 20 | I84: =F84*120/$B$3-H84 -> 1280 | J84: =J5 -> 135.85659 | K84: =J84/I84*1000*30/PI() -> 1013.5429 | L84: =L5 -> 101.43542 | M84: =M5 -> 213.38901 | N84: =(L84^2+M84^2)^0.5 -> 236.27106 | O84: =$B$16*L84/1000 -> 1.337444 | P84: =$B$16*M84/1000 -> 2.813572 | Q84: =N84*$B$16/1000 -> 3.1152758 | R84: =2*PI()*F84*$B$19*L84/1000 -> 19.272215 | S84: =2*PI()*F84*$B$19*M84/1000 -> 40.542831 | T84: =2*PI()*F84*$B$19*N84/1000 -> 44.890304 | U84: =$B$21*2*PI()*F84*L84/1000 -> 215.58912 | V84: =O84-S84 -> -39.205387 | W84: =P84+R84+U84 -> 237.6749 | X84: =(W84^2+V84^2)^0.5 -> 240.88674 | Y84: =X84*3^0.5 -> 417.22808
E85: =X85/F85 -> 3.0876921 | F85: =IF(F84*1.2>$F$92,$F$92,F84*1.2) -> 78 | G85: =H85/I85 -> 0.015625 | H85: =H84*F85/F84 -> 24 | I85: =F85*120/$B$3-H85 -> 1536 | J85: =J84 -> 135.85659 | K85: =J85/I85*1000*30/PI() -> 844.61907 | L85: =L84*F84/F85/1.053 -> 80.274942 | M85: =M84*J85/J84 -> 213.38901 | N85: =(L85^2+M85^2)^0.5 -> 227.98889 | O85: =$B$16*L85/1000 -> 1.0584394 | P85: =$B$16*M85/1000 -> 2.813572 | Q85: =N85*$B$16/1000 -> 3.006074 | R85: =2*PI()*F85*$B$19*L85/1000 -> 18.302199 | S85: =2*PI()*F85*$B$19*M85/1000 -> 48.651397 | T85: =2*PI()*F85*$B$19*N85/1000 -> 51.980082 | U85: =$B$21*1.05*2*PI()*F85*L85/1000 -> 214.9749 | V85: =O85-S85 -> -47.592958 | W85: =P85+R85+U85 -> 236.09067 | X85: =(W85^2+V85^2)^0.5 -> 240.83998 | Y85: =X85*3^0.5 -> 417.14708
E86: =X86/F86 -> 2.4744825 | F86: =IF(F85*1.2>$F$92,$F$92,F85*1.2) -> 93.6 | G86: =H86/I86 -> 0.015625 | H86: =H85*F86/F85 -> 28.8 | I86: =F86*120/$B$3-H86 -> 1843.2 | J86: =J85 -> 135.85659 | K86: =J86/I86*1000*30/PI() -> 703.84922 | L86: =L85*F85/F86/1.053 -> 63.528761 | M86: =M85*J86/J85 -> 213.38901 | N86: =(L86^2+M86^2)^0.5 -> 222.64495 | O86: =$B$16*L86/1000 -> 0.83763798 | P86: =$B$16*M86/1000 -> 2.813572 | Q86: =N86*$B$16/1000 -> 2.9356132 | R86: =2*PI()*F86*$B$19*L86/1000 -> 17.381005 | S86: =2*PI()*F86*$B$19*M86/1000 -> 58.381676 | T86: =2*PI()*F86*$B$19*N86/1000 -> 60.914034 | U86: =$B$21*1.05*2*PI()*F86*L86/1000 -> 204.1547 | V86: =O86-S86 -> -57.544038 | W86: =P86+R86+U86 -> 224.34928 | X86: =(W86^2+V86^2)^0.5 -> 231.61156 | Y86: =X86*3^0.5 -> 401.163
E87: =X87/F87 -> 1.996158 | F87: =IF(F86*1.2>$F$92,$F$92,F86*1.2) -> 112.32 | G87: =H87/I87 -> 0.015625 | H87: =H86*F87/F86 -> 34.56 | I87: =F87*120/$B$3-H87 -> 2211.84 | J87: =J86 -> 135.85659 | K87: =J87/I87*1000*30/PI() -> 586.54102 | L87: =L86*F86/F87/1.053 -> 50.276006 | M87: =M86*J87/J86 -> 213.38901 | N87: =(L87^2+M87^2)^0.5 -> 219.23172 | O87: =$B$16*L87/1000 -> 0.66289805 | P87: =$B$16*M87/1000 -> 2.813572 | Q87: =N87*$B$16/1000 -> 2.8906091 | R87: =2*PI()*F87*$B$19*L87/1000 -> 16.506178 | S87: =2*PI()*F87*$B$19*M87/1000 -> 70.058012 | T87: =2*PI()*F87*$B$19*N87/1000 -> 71.976239 | U87: =$B$21*1.05*2*PI()*F87*L87/1000 -> 193.87911 | V87: =O87-S87 -> -69.395114 | W87: =P87+R87+U87 -> 213.19886 | X87: =(W87^2+V87^2)^0.5 -> 224.20847 | Y87: =X87*3^0.5 -> 388.34045
E88: =X88/F88 -> 1.6259978 | F88: =IF(F87*1.2>$F$92,$F$92,F87*1.2) -> 134.784 | G88: =H88/I88 -> 0.015625 | H88: =H87*F88/F87 -> 41.472 | I88: =F88*120/$B$3-H88 -> 2654.208 | J88: =J87 -> 135.85659 | K88: =J88/I88*1000*30/PI() -> 488.78418 | L88: =L87*F87/F88/1.053 -> 39.787912 | M88: =M87*J88/J87 -> 213.38901 | N88: =(L88^2+M88^2)^0.5 -> 217.06669 | O88: =$B$16*L88/1000 -> 0.52461068 | P88: =$B$16*M88/1000 -> 2.813572 | Q88: =N88*$B$16/1000 -> 2.8620628 | R88: =2*PI()*F88*$B$19*L88/1000 -> 15.675383 | S88: =2*PI()*F88*$B$19*M88/1000 -> 84.069614 | T88: =2*PI()*F88*$B$19*N88/1000 -> 85.518522 | U88: =$B$21*1.05*2*PI()*F88*L88/1000 -> 184.12071 | V88: =O88-S88 -> -83.545003 | W88: =P88+R88+U88 -> 202.60967 | X88: =(W88^2+V88^2)^0.5 -> 219.15849 | Y88: =X88*3^0.5 -> 379.59365
E89: =X89/F89 -> 1.3428166 | F89: =IF(F88*1.2>$F$92,$F$92,F88*1.2) -> 161.7408 | G89: =H89/I89 -> 0.015625 | H89: =H88*F89/F88 -> 49.7664 | I89: =F89*120/$B$3-H89 -> 3185.0496 | J89: =J88 -> 135.85659 | K89: =J89/I89*1000*30/PI() -> 407.32015 | L89: =L88*F88/F89/1.053 -> 31.487743 | M89: =M88*J89/J88 -> 213.38901 | N89: =(L89^2+M89^2)^0.5 -> 215.69967 | O89: =$B$16*L89/1000 -> 0.41517148 | P89: =$B$16*M89/1000 -> 2.813572 | Q89: =N89*$B$16/1000 -> 2.8440384 | R89: =2*PI()*F89*$B$19*L89/1000 -> 14.886403 | S89: =2*PI()*F89*$B$19*M89/1000 -> 100.88354 | T89: =2*PI()*F89*$B$19*N89/1000 -> 101.97594 | U89: =$B$21*1.05*2*PI()*F89*L89/1000 -> 174.85348 | V89: =O89-S89 -> -100.46837 | W89: =P89+R89+U89 -> 192.55345 | X89: =(W89^2+V89^2)^0.5 -> 217.18823 | Y89: =X89*3^0.5 -> 376.18104
E90: =X90/F90 -> 1.1295875 | F90: =IF(F89*1.2>$F$92,$F$92,F89*1.2) -> 194.08896 | G90: =H90/I90 -> 0.015625 | H90: =H89*F90/F89 -> 59.71968 | I90: =F90*120/$B$3-H90 -> 3822.0595 | J90: =J89 -> 135.85659 | K90: =J90/I90*1000*30/PI() -> 339.43346 | L90: =L89*F89/F90/1.053 -> 24.919075 | M90: =M89*J90/J89 -> 213.38901 | N90: =(L90^2+M90^2)^0.5 -> 214.83908 | O90: =$B$16*L90/1000 -> 0.32856242 | P90: =$B$16*M90/1000 -> 2.813572 | Q90: =N90*$B$16/1000 -> 2.8326914 | R90: =2*PI()*F90*$B$19*L90/1000 -> 14.137135 | S90: =2*PI()*F90*$B$19*M90/1000 -> 121.06024 | T90: =2*PI()*F90*$B$19*N90/1000 -> 121.8829 | U90: =$B$21*1.05*2*PI()*F90*L90/1000 -> 166.05269 | V90: =O90-S90 -> -120.73168 | W90: =P90+R90+U90 -> 183.00339 | X90: =(W90^2+V90^2)^0.5 -> 219.24046 | Y90: =X90*3^0.5 -> 379.73562
E91: =X91/F91 -> 0.97229645 | F91: =IF(F90*1.2>$F$92,$F$92,F90*1.2) -> 232.90675 | G91: =H91/I91 -> 0.015625 | H91: =H90*F91/F90 -> 71.663616 | I91: =F91*120/$B$3-H91 -> 4586.4714 | J91: =J90 -> 135.85659 | K91: =J91/I91*1000*30/PI() -> 282.86122 | L91: =L90*F90/F91/1.053 -> 19.720699 | M91: =M90*J91/J90 -> 213.38901 | N91: =(L91^2+M91^2)^0.5 -> 214.29833 | O91: =$B$16*L91/1000 -> 0.26002091 | P91: =$B$16*M91/1000 -> 2.813572 | Q91: =N91*$B$16/1000 -> 2.8255615 | R91: =2*PI()*F91*$B$19*L91/1000 -> 13.425579 | S91: =2*PI()*F91*$B$19*M91/1000 -> 145.27229 | T91: =2*PI()*F91*$B$19*N91/1000 -> 145.89135 | U91: =$B$21*1.05*2*PI()*F91*L91/1000 -> 157.69486 | V91: =O91-S91 -> -145.01227 | W91: =P91+R91+U91 -> 173.93401 | X91: =(W91^2+V91^2)^0.5 -> 226.45441 | Y91: =X91*3^0.5 -> 392.23054
E92: =E47 -> 1.1921733 | F92: =F49 -> 248.3 | G92: =G49 -> 0.018144541 | H92: =H49 -> 88.5 | I92: =F92*120/$B$3-H92 -> 4877.5 | J92: =J49 -> 135.87987 | K92: =K49 -> 266.02915 | L92: =L49 -> 24.67499 | M92: =M49 -> 230.26543 | N92: =N49 -> 231.58373 | O92: =O49 -> 0.32534412 | P92: =P49 -> 3.0360906 | Q92: =Q49 -> 3.0534726 | ... Y92: =Y49 -> 479.95641
H100: ,
